BEGIN:VCALENDAR
VERSION:2.0
PRODID:-//AFLabs urnik izvoz - fmf//aflabs.si//SI
DTSTAMP:20260422T170204Z
NAME:UL FMF urnik
REFRESH-INTERVAL:PT1H
SOURCE:https://urnik.fmf.uni-lj.si/teacher/1885?day=2026-04-06&export=1
URL:https://urnik.fmf.uni-lj.si/teacher/1885?day=2026-04-06&export=1
X-PUBLISHED-TTL:PT1H
X-WR-CALNAME:UL FMF urnik
X-WR-TIMEZONE:Europe/Ljubljana
BEGIN:VTIMEZONE
TZID:Europe/Ljubljana
BEGIN:DAYLIGHT
DTSTART:20260329T020000
RDATE:20260329T020000
RDATE:20270328T020000
TZNAME:CEST
TZOFFSETFROM:+0100
TZOFFSETTO:+0200
END:DAYLIGHT
BEGIN:STANDARD
DTSTART:20261025T030000
RDATE:20261025T030000
RDATE:20271031T030000
TZNAME:CET
TZOFFSETFROM:+0200
TZOFFSETTO:+0100
END:STANDARD
END:VTIMEZONE
BEGIN:VEVENT
SUMMARY:Numerično reševanje parcialnih diferencialnih enačb (FM-M\, IŠ
 RM-M\, MAT-M\, PM-5)\, Vaje (V)
DTSTART;TZID=Europe/Ljubljana:20260218T080000
DTEND;TZID=Europe/Ljubljana:20260218T100000
DTSTAMP:20260422T170204Z
UID:fmf-AFLABS-URNIK:premaknjeno-srecanje:248209
ATTENDEE:5. letnik (PM)
ATTENDEE:magistrski študij (FM)
ATTENDEE:magistrski študij (IŠRM)
ATTENDEE:magistrski študij (M)
CATEGORIES:Entry,Standard
COLOR:darkgreen
DESCRIPTION:Predmet: Numerično reševanje parcialnih diferencialnih enač
 b (FM-M\, IŠRM-M\, MAT-M\, PM-5)\, Vaje (V)\nLetniki: magistrski študij 
 (FM)\, magistrski študij (IŠRM)\, magistrski študij (M)\, 5. letnik (PM
 )\nIzvajalci: Domen Gradišek\nProstor: 3.06
LOCATION:3.06
ORGANIZER:Domen Gradišek
RELATED-TO:fmf-AFLABS-URNIK:srecanje:17186
X-WR-TIMEZONE:Europe/Ljubljana
END:VEVENT
BEGIN:VEVENT
SUMMARY:Numerično reševanje parcialnih diferencialnih enačb (FM-M\, IŠ
 RM-M\, MAT-M\, PM-5)\, Vaje (V)
DTSTART;TZID=Europe/Ljubljana:20260225T080000
DTEND;TZID=Europe/Ljubljana:20260225T100000
DTSTAMP:20260422T170204Z
UID:fmf-AFLABS-URNIK:premaknjeno-srecanje:248210
ATTENDEE:5. letnik (PM)
ATTENDEE:magistrski študij (FM)
ATTENDEE:magistrski študij (IŠRM)
ATTENDEE:magistrski študij (M)
CATEGORIES:Entry,Standard
COLOR:darkgreen
DESCRIPTION:Predmet: Numerično reševanje parcialnih diferencialnih enač
 b (FM-M\, IŠRM-M\, MAT-M\, PM-5)\, Vaje (V)\nLetniki: magistrski študij 
 (FM)\, magistrski študij (IŠRM)\, magistrski študij (M)\, 5. letnik (PM
 )\nIzvajalci: Domen Gradišek\nProstor: 3.06
LOCATION:3.06
ORGANIZER:Domen Gradišek
RELATED-TO:fmf-AFLABS-URNIK:srecanje:17186
X-WR-TIMEZONE:Europe/Ljubljana
END:VEVENT
BEGIN:VEVENT
SUMMARY:Numerično reševanje parcialnih diferencialnih enačb (FM-M\, IŠ
 RM-M\, MAT-M\, PM-5)\, Vaje (V)
DTSTART;TZID=Europe/Ljubljana:20260304T080000
DTEND;TZID=Europe/Ljubljana:20260304T100000
DTSTAMP:20260422T170204Z
UID:fmf-AFLABS-URNIK:premaknjeno-srecanje:248211
ATTENDEE:5. letnik (PM)
ATTENDEE:magistrski študij (FM)
ATTENDEE:magistrski študij (IŠRM)
ATTENDEE:magistrski študij (M)
CATEGORIES:Entry,Standard
COLOR:darkgreen
DESCRIPTION:Predmet: Numerično reševanje parcialnih diferencialnih enač
 b (FM-M\, IŠRM-M\, MAT-M\, PM-5)\, Vaje (V)\nLetniki: magistrski študij 
 (FM)\, magistrski študij (IŠRM)\, magistrski študij (M)\, 5. letnik (PM
 )\nIzvajalci: Domen Gradišek\nProstor: 3.06
LOCATION:3.06
ORGANIZER:Domen Gradišek
RELATED-TO:fmf-AFLABS-URNIK:srecanje:17186
X-WR-TIMEZONE:Europe/Ljubljana
END:VEVENT
BEGIN:VEVENT
SUMMARY:Numerično reševanje parcialnih diferencialnih enačb (FM-M\, IŠ
 RM-M\, MAT-M\, PM-5)\, Vaje (V)
DTSTART;TZID=Europe/Ljubljana:20260311T080000
DTEND;TZID=Europe/Ljubljana:20260311T100000
DTSTAMP:20260422T170204Z
UID:fmf-AFLABS-URNIK:premaknjeno-srecanje:248212
ATTENDEE:5. letnik (PM)
ATTENDEE:magistrski študij (FM)
ATTENDEE:magistrski študij (IŠRM)
ATTENDEE:magistrski študij (M)
CATEGORIES:Entry,Standard
COLOR:darkgreen
DESCRIPTION:Predmet: Numerično reševanje parcialnih diferencialnih enač
 b (FM-M\, IŠRM-M\, MAT-M\, PM-5)\, Vaje (V)\nLetniki: magistrski študij 
 (FM)\, magistrski študij (IŠRM)\, magistrski študij (M)\, 5. letnik (PM
 )\nIzvajalci: Domen Gradišek\nProstor: 3.06
LOCATION:3.06
ORGANIZER:Domen Gradišek
RELATED-TO:fmf-AFLABS-URNIK:srecanje:17186
X-WR-TIMEZONE:Europe/Ljubljana
END:VEVENT
BEGIN:VEVENT
SUMMARY:Numerično reševanje parcialnih diferencialnih enačb (FM-M\, IŠ
 RM-M\, MAT-M\, PM-5)\, Vaje (V)
DTSTART;TZID=Europe/Ljubljana:20260318T080000
DTEND;TZID=Europe/Ljubljana:20260318T100000
DTSTAMP:20260422T170204Z
UID:fmf-AFLABS-URNIK:premaknjeno-srecanje:248213
ATTENDEE:5. letnik (PM)
ATTENDEE:magistrski študij (FM)
ATTENDEE:magistrski študij (IŠRM)
ATTENDEE:magistrski študij (M)
CATEGORIES:Entry,Standard
COLOR:darkgreen
DESCRIPTION:Predmet: Numerično reševanje parcialnih diferencialnih enač
 b (FM-M\, IŠRM-M\, MAT-M\, PM-5)\, Vaje (V)\nLetniki: magistrski študij 
 (FM)\, magistrski študij (IŠRM)\, magistrski študij (M)\, 5. letnik (PM
 )\nIzvajalci: Domen Gradišek\nProstor: 3.06
LOCATION:3.06
ORGANIZER:Domen Gradišek
RELATED-TO:fmf-AFLABS-URNIK:srecanje:17186
X-WR-TIMEZONE:Europe/Ljubljana
END:VEVENT
BEGIN:VEVENT
SUMMARY:Numerično reševanje parcialnih diferencialnih enačb (FM-M\, IŠ
 RM-M\, MAT-M\, PM-5)\, Vaje (V)
DTSTART;TZID=Europe/Ljubljana:20260325T080000
DTEND;TZID=Europe/Ljubljana:20260325T100000
DTSTAMP:20260422T170204Z
UID:fmf-AFLABS-URNIK:premaknjeno-srecanje:248214
ATTENDEE:5. letnik (PM)
ATTENDEE:magistrski študij (FM)
ATTENDEE:magistrski študij (IŠRM)
ATTENDEE:magistrski študij (M)
CATEGORIES:Entry,Standard
COLOR:darkgreen
DESCRIPTION:Predmet: Numerično reševanje parcialnih diferencialnih enač
 b (FM-M\, IŠRM-M\, MAT-M\, PM-5)\, Vaje (V)\nLetniki: magistrski študij 
 (FM)\, magistrski študij (IŠRM)\, magistrski študij (M)\, 5. letnik (PM
 )\nIzvajalci: Domen Gradišek\nProstor: 3.06
LOCATION:3.06
ORGANIZER:Domen Gradišek
RELATED-TO:fmf-AFLABS-URNIK:srecanje:17186
X-WR-TIMEZONE:Europe/Ljubljana
END:VEVENT
BEGIN:VEVENT
SUMMARY:Numerično reševanje parcialnih diferencialnih enačb (FM-M\, IŠ
 RM-M\, MAT-M\, PM-5)\, Vaje (V)
DTSTART;TZID=Europe/Ljubljana:20260401T080000
DTEND;TZID=Europe/Ljubljana:20260401T100000
DTSTAMP:20260422T170204Z
UID:fmf-AFLABS-URNIK:premaknjeno-srecanje:248215
ATTENDEE:5. letnik (PM)
ATTENDEE:magistrski študij (FM)
ATTENDEE:magistrski študij (IŠRM)
ATTENDEE:magistrski študij (M)
CATEGORIES:Entry,Standard
COLOR:darkgreen
DESCRIPTION:Predmet: Numerično reševanje parcialnih diferencialnih enač
 b (FM-M\, IŠRM-M\, MAT-M\, PM-5)\, Vaje (V)\nLetniki: magistrski študij 
 (FM)\, magistrski študij (IŠRM)\, magistrski študij (M)\, 5. letnik (PM
 )\nIzvajalci: Domen Gradišek\nProstor: 3.06
LOCATION:3.06
ORGANIZER:Domen Gradišek
RELATED-TO:fmf-AFLABS-URNIK:srecanje:17186
X-WR-TIMEZONE:Europe/Ljubljana
END:VEVENT
BEGIN:VEVENT
SUMMARY:Numerično reševanje parcialnih diferencialnih enačb (FM-M\, IŠ
 RM-M\, MAT-M\, PM-5)\, Vaje (V)
DTSTART;TZID=Europe/Ljubljana:20260408T080000
DTEND;TZID=Europe/Ljubljana:20260408T100000
DTSTAMP:20260422T170204Z
UID:fmf-AFLABS-URNIK:premaknjeno-srecanje:248216
ATTENDEE:5. letnik (PM)
ATTENDEE:magistrski študij (FM)
ATTENDEE:magistrski študij (IŠRM)
ATTENDEE:magistrski študij (M)
CATEGORIES:Entry,Standard
COLOR:darkgreen
DESCRIPTION:Predmet: Numerično reševanje parcialnih diferencialnih enač
 b (FM-M\, IŠRM-M\, MAT-M\, PM-5)\, Vaje (V)\nLetniki: magistrski študij 
 (FM)\, magistrski študij (IŠRM)\, magistrski študij (M)\, 5. letnik (PM
 )\nIzvajalci: Domen Gradišek\nProstor: 3.06
LOCATION:3.06
ORGANIZER:Domen Gradišek
RELATED-TO:fmf-AFLABS-URNIK:srecanje:17186
X-WR-TIMEZONE:Europe/Ljubljana
END:VEVENT
BEGIN:VEVENT
SUMMARY:Numerično reševanje parcialnih diferencialnih enačb (FM-M\, IŠ
 RM-M\, MAT-M\, PM-5)\, Vaje (V)
DTSTART;TZID=Europe/Ljubljana:20260415T080000
DTEND;TZID=Europe/Ljubljana:20260415T100000
DTSTAMP:20260422T170204Z
UID:fmf-AFLABS-URNIK:premaknjeno-srecanje:248217
ATTENDEE:5. letnik (PM)
ATTENDEE:magistrski študij (FM)
ATTENDEE:magistrski študij (IŠRM)
ATTENDEE:magistrski študij (M)
CATEGORIES:Entry,Standard
COLOR:darkgreen
DESCRIPTION:Predmet: Numerično reševanje parcialnih diferencialnih enač
 b (FM-M\, IŠRM-M\, MAT-M\, PM-5)\, Vaje (V)\nLetniki: magistrski študij 
 (FM)\, magistrski študij (IŠRM)\, magistrski študij (M)\, 5. letnik (PM
 )\nIzvajalci: Domen Gradišek\nProstor: 3.06
LOCATION:3.06
ORGANIZER:Domen Gradišek
RELATED-TO:fmf-AFLABS-URNIK:srecanje:17186
X-WR-TIMEZONE:Europe/Ljubljana
END:VEVENT
BEGIN:VEVENT
SUMMARY:Numerično reševanje parcialnih diferencialnih enačb (FM-M\, IŠ
 RM-M\, MAT-M\, PM-5)\, Vaje (V)
DTSTART;TZID=Europe/Ljubljana:20260422T080000
DTEND;TZID=Europe/Ljubljana:20260422T100000
DTSTAMP:20260422T170204Z
UID:fmf-AFLABS-URNIK:premaknjeno-srecanje:248218
ATTENDEE:5. letnik (PM)
ATTENDEE:magistrski študij (FM)
ATTENDEE:magistrski študij (IŠRM)
ATTENDEE:magistrski študij (M)
CATEGORIES:Entry,Standard
COLOR:darkgreen
DESCRIPTION:Predmet: Numerično reševanje parcialnih diferencialnih enač
 b (FM-M\, IŠRM-M\, MAT-M\, PM-5)\, Vaje (V)\nLetniki: magistrski študij 
 (FM)\, magistrski študij (IŠRM)\, magistrski študij (M)\, 5. letnik (PM
 )\nIzvajalci: Domen Gradišek\nProstor: 3.06
LOCATION:3.06
ORGANIZER:Domen Gradišek
RELATED-TO:fmf-AFLABS-URNIK:srecanje:17186
X-WR-TIMEZONE:Europe/Ljubljana
END:VEVENT
BEGIN:VEVENT
SUMMARY:Numerično reševanje parcialnih diferencialnih enačb (FM-M\, IŠ
 RM-M\, MAT-M\, PM-5)\, Vaje (V)
DTSTART;TZID=Europe/Ljubljana:20260429T080000
DTEND;TZID=Europe/Ljubljana:20260429T100000
DTSTAMP:20260422T170204Z
UID:fmf-AFLABS-URNIK:premaknjeno-srecanje:248219
ATTENDEE:5. letnik (PM)
ATTENDEE:magistrski študij (FM)
ATTENDEE:magistrski študij (IŠRM)
ATTENDEE:magistrski študij (M)
CATEGORIES:Entry,Standard
COLOR:darkgreen
DESCRIPTION:Predmet: Numerično reševanje parcialnih diferencialnih enač
 b (FM-M\, IŠRM-M\, MAT-M\, PM-5)\, Vaje (V)\nLetniki: magistrski študij 
 (FM)\, magistrski študij (IŠRM)\, magistrski študij (M)\, 5. letnik (PM
 )\nIzvajalci: Domen Gradišek\nProstor: 3.06
LOCATION:3.06
ORGANIZER:Domen Gradišek
RELATED-TO:fmf-AFLABS-URNIK:srecanje:17186
X-WR-TIMEZONE:Europe/Ljubljana
END:VEVENT
BEGIN:VEVENT
SUMMARY:Numerično reševanje parcialnih diferencialnih enačb (FM-M\, IŠ
 RM-M\, MAT-M\, PM-5)\, Vaje (V)
DTSTART;TZID=Europe/Ljubljana:20260506T080000
DTEND;TZID=Europe/Ljubljana:20260506T100000
DTSTAMP:20260422T170204Z
UID:fmf-AFLABS-URNIK:premaknjeno-srecanje:248220
ATTENDEE:5. letnik (PM)
ATTENDEE:magistrski študij (FM)
ATTENDEE:magistrski študij (IŠRM)
ATTENDEE:magistrski študij (M)
CATEGORIES:Entry,Standard
COLOR:darkgreen
DESCRIPTION:Predmet: Numerično reševanje parcialnih diferencialnih enač
 b (FM-M\, IŠRM-M\, MAT-M\, PM-5)\, Vaje (V)\nLetniki: magistrski študij 
 (FM)\, magistrski študij (IŠRM)\, magistrski študij (M)\, 5. letnik (PM
 )\nIzvajalci: Domen Gradišek\nProstor: 3.06
LOCATION:3.06
ORGANIZER:Domen Gradišek
RELATED-TO:fmf-AFLABS-URNIK:srecanje:17186
X-WR-TIMEZONE:Europe/Ljubljana
END:VEVENT
BEGIN:VEVENT
SUMMARY:Numerično reševanje parcialnih diferencialnih enačb (FM-M\, IŠ
 RM-M\, MAT-M\, PM-5)\, Vaje (V)
DTSTART;TZID=Europe/Ljubljana:20260513T080000
DTEND;TZID=Europe/Ljubljana:20260513T100000
DTSTAMP:20260422T170204Z
UID:fmf-AFLABS-URNIK:premaknjeno-srecanje:248221
ATTENDEE:5. letnik (PM)
ATTENDEE:magistrski študij (FM)
ATTENDEE:magistrski študij (IŠRM)
ATTENDEE:magistrski študij (M)
CATEGORIES:Entry,Standard
COLOR:darkgreen
DESCRIPTION:Predmet: Numerično reševanje parcialnih diferencialnih enač
 b (FM-M\, IŠRM-M\, MAT-M\, PM-5)\, Vaje (V)\nLetniki: magistrski študij 
 (FM)\, magistrski študij (IŠRM)\, magistrski študij (M)\, 5. letnik (PM
 )\nIzvajalci: Domen Gradišek\nProstor: 3.06
LOCATION:3.06
ORGANIZER:Domen Gradišek
RELATED-TO:fmf-AFLABS-URNIK:srecanje:17186
X-WR-TIMEZONE:Europe/Ljubljana
END:VEVENT
BEGIN:VEVENT
SUMMARY:Numerično reševanje parcialnih diferencialnih enačb (FM-M\, IŠ
 RM-M\, MAT-M\, PM-5)\, Vaje (V)
DTSTART;TZID=Europe/Ljubljana:20260520T080000
DTEND;TZID=Europe/Ljubljana:20260520T100000
DTSTAMP:20260422T170204Z
UID:fmf-AFLABS-URNIK:premaknjeno-srecanje:248222
ATTENDEE:5. letnik (PM)
ATTENDEE:magistrski študij (FM)
ATTENDEE:magistrski študij (IŠRM)
ATTENDEE:magistrski študij (M)
CATEGORIES:Entry,Standard
COLOR:darkgreen
DESCRIPTION:Predmet: Numerično reševanje parcialnih diferencialnih enač
 b (FM-M\, IŠRM-M\, MAT-M\, PM-5)\, Vaje (V)\nLetniki: magistrski študij 
 (FM)\, magistrski študij (IŠRM)\, magistrski študij (M)\, 5. letnik (PM
 )\nIzvajalci: Domen Gradišek\nProstor: 3.06
LOCATION:3.06
ORGANIZER:Domen Gradišek
RELATED-TO:fmf-AFLABS-URNIK:srecanje:17186
X-WR-TIMEZONE:Europe/Ljubljana
END:VEVENT
BEGIN:VEVENT
SUMMARY:Numerično reševanje parcialnih diferencialnih enačb (FM-M\, IŠ
 RM-M\, MAT-M\, PM-5)\, Vaje (V)
DTSTART;TZID=Europe/Ljubljana:20260527T080000
DTEND;TZID=Europe/Ljubljana:20260527T100000
DTSTAMP:20260422T170204Z
UID:fmf-AFLABS-URNIK:premaknjeno-srecanje:248223
ATTENDEE:5. letnik (PM)
ATTENDEE:magistrski študij (FM)
ATTENDEE:magistrski študij (IŠRM)
ATTENDEE:magistrski študij (M)
CATEGORIES:Entry,Standard
COLOR:darkgreen
DESCRIPTION:Predmet: Numerično reševanje parcialnih diferencialnih enač
 b (FM-M\, IŠRM-M\, MAT-M\, PM-5)\, Vaje (V)\nLetniki: magistrski študij 
 (FM)\, magistrski študij (IŠRM)\, magistrski študij (M)\, 5. letnik (PM
 )\nIzvajalci: Domen Gradišek\nProstor: 3.06
LOCATION:3.06
ORGANIZER:Domen Gradišek
RELATED-TO:fmf-AFLABS-URNIK:srecanje:17186
X-WR-TIMEZONE:Europe/Ljubljana
END:VEVENT
BEGIN:VEVENT
SUMMARY:Numerično reševanje parcialnih diferencialnih enačb (FM-M\, IŠ
 RM-M\, MAT-M\, PM-5)\, Vaje (V)
DTSTART;TZID=Europe/Ljubljana:20260603T080000
DTEND;TZID=Europe/Ljubljana:20260603T100000
DTSTAMP:20260422T170204Z
UID:fmf-AFLABS-URNIK:premaknjeno-srecanje:248224
ATTENDEE:5. letnik (PM)
ATTENDEE:magistrski študij (FM)
ATTENDEE:magistrski študij (IŠRM)
ATTENDEE:magistrski študij (M)
CATEGORIES:Entry,Standard
COLOR:darkgreen
DESCRIPTION:Predmet: Numerično reševanje parcialnih diferencialnih enač
 b (FM-M\, IŠRM-M\, MAT-M\, PM-5)\, Vaje (V)\nLetniki: magistrski študij 
 (FM)\, magistrski študij (IŠRM)\, magistrski študij (M)\, 5. letnik (PM
 )\nIzvajalci: Domen Gradišek\nProstor: 3.06
LOCATION:3.06
ORGANIZER:Domen Gradišek
RELATED-TO:fmf-AFLABS-URNIK:srecanje:17186
X-WR-TIMEZONE:Europe/Ljubljana
END:VEVENT
BEGIN:VEVENT
SUMMARY:Rezervacija ()\, Vaje (V)
DTSTART;TZID=Europe/Ljubljana:20260218T080000
DTEND;TZID=Europe/Ljubljana:20260218T090000
DTSTAMP:20260422T170204Z
UID:fmf-AFLABS-URNIK:premaknjeno-srecanje:251606
CATEGORIES:Entry,Standard
COLOR:darkgreen
DESCRIPTION:Predmet: Rezervacija ()\, Vaje (V)\nLetniki: \nIzvajalci: Dome
 n Gradišek\nProstor: P.01
LOCATION:P.01
ORGANIZER:Domen Gradišek
RELATED-TO:fmf-AFLABS-URNIK:srecanje:17458
X-WR-TIMEZONE:Europe/Ljubljana
END:VEVENT
BEGIN:VEVENT
SUMMARY:Rezervacija ()\, Vaje (V)
DTSTART;TZID=Europe/Ljubljana:20260225T080000
DTEND;TZID=Europe/Ljubljana:20260225T090000
DTSTAMP:20260422T170204Z
UID:fmf-AFLABS-URNIK:premaknjeno-srecanje:251607
CATEGORIES:Entry,Standard
COLOR:darkgreen
DESCRIPTION:Predmet: Rezervacija ()\, Vaje (V)\nLetniki: \nIzvajalci: Dome
 n Gradišek\nProstor: P.01
LOCATION:P.01
ORGANIZER:Domen Gradišek
RELATED-TO:fmf-AFLABS-URNIK:srecanje:17458
X-WR-TIMEZONE:Europe/Ljubljana
END:VEVENT
BEGIN:VEVENT
SUMMARY:Rezervacija ()\, Vaje (V)
DTSTART;TZID=Europe/Ljubljana:20260304T080000
DTEND;TZID=Europe/Ljubljana:20260304T090000
DTSTAMP:20260422T170204Z
UID:fmf-AFLABS-URNIK:premaknjeno-srecanje:251608
CATEGORIES:Entry,Standard
COLOR:darkgreen
DESCRIPTION:Predmet: Rezervacija ()\, Vaje (V)\nLetniki: \nIzvajalci: Dome
 n Gradišek\nProstor: P.01
LOCATION:P.01
ORGANIZER:Domen Gradišek
RELATED-TO:fmf-AFLABS-URNIK:srecanje:17458
X-WR-TIMEZONE:Europe/Ljubljana
END:VEVENT
BEGIN:VEVENT
SUMMARY:Rezervacija ()\, Vaje (V)
DTSTART;TZID=Europe/Ljubljana:20260311T080000
DTEND;TZID=Europe/Ljubljana:20260311T090000
DTSTAMP:20260422T170204Z
UID:fmf-AFLABS-URNIK:premaknjeno-srecanje:251609
CATEGORIES:Entry,Standard
COLOR:darkgreen
DESCRIPTION:Predmet: Rezervacija ()\, Vaje (V)\nLetniki: \nIzvajalci: Dome
 n Gradišek\nProstor: P.01
LOCATION:P.01
ORGANIZER:Domen Gradišek
RELATED-TO:fmf-AFLABS-URNIK:srecanje:17458
X-WR-TIMEZONE:Europe/Ljubljana
END:VEVENT
BEGIN:VEVENT
SUMMARY:Rezervacija ()\, Vaje (V)
DTSTART;TZID=Europe/Ljubljana:20260318T080000
DTEND;TZID=Europe/Ljubljana:20260318T090000
DTSTAMP:20260422T170204Z
UID:fmf-AFLABS-URNIK:premaknjeno-srecanje:251610
CATEGORIES:Entry,Standard
COLOR:darkgreen
DESCRIPTION:Predmet: Rezervacija ()\, Vaje (V)\nLetniki: \nIzvajalci: Dome
 n Gradišek\nProstor: P.01
LOCATION:P.01
ORGANIZER:Domen Gradišek
RELATED-TO:fmf-AFLABS-URNIK:srecanje:17458
X-WR-TIMEZONE:Europe/Ljubljana
END:VEVENT
BEGIN:VEVENT
SUMMARY:Rezervacija ()\, Vaje (V)
DTSTART;TZID=Europe/Ljubljana:20260325T080000
DTEND;TZID=Europe/Ljubljana:20260325T090000
DTSTAMP:20260422T170204Z
UID:fmf-AFLABS-URNIK:premaknjeno-srecanje:251611
CATEGORIES:Entry,Standard
COLOR:darkgreen
DESCRIPTION:Predmet: Rezervacija ()\, Vaje (V)\nLetniki: \nIzvajalci: Dome
 n Gradišek\nProstor: P.01
LOCATION:P.01
ORGANIZER:Domen Gradišek
RELATED-TO:fmf-AFLABS-URNIK:srecanje:17458
X-WR-TIMEZONE:Europe/Ljubljana
END:VEVENT
BEGIN:VEVENT
SUMMARY:Rezervacija ()\, Vaje (V)
DTSTART;TZID=Europe/Ljubljana:20260401T080000
DTEND;TZID=Europe/Ljubljana:20260401T090000
DTSTAMP:20260422T170204Z
UID:fmf-AFLABS-URNIK:premaknjeno-srecanje:251612
CATEGORIES:Entry,Standard
COLOR:darkgreen
DESCRIPTION:Predmet: Rezervacija ()\, Vaje (V)\nLetniki: \nIzvajalci: Dome
 n Gradišek\nProstor: P.01
LOCATION:P.01
ORGANIZER:Domen Gradišek
RELATED-TO:fmf-AFLABS-URNIK:srecanje:17458
X-WR-TIMEZONE:Europe/Ljubljana
END:VEVENT
BEGIN:VEVENT
SUMMARY:Rezervacija ()\, Vaje (V)
DTSTART;TZID=Europe/Ljubljana:20260408T080000
DTEND;TZID=Europe/Ljubljana:20260408T090000
DTSTAMP:20260422T170204Z
UID:fmf-AFLABS-URNIK:premaknjeno-srecanje:251613
CATEGORIES:Entry,Standard
COLOR:darkgreen
DESCRIPTION:Predmet: Rezervacija ()\, Vaje (V)\nLetniki: \nIzvajalci: Dome
 n Gradišek\nProstor: P.01
LOCATION:P.01
ORGANIZER:Domen Gradišek
RELATED-TO:fmf-AFLABS-URNIK:srecanje:17458
X-WR-TIMEZONE:Europe/Ljubljana
END:VEVENT
BEGIN:VEVENT
SUMMARY:Rezervacija ()\, Vaje (V)
DTSTART;TZID=Europe/Ljubljana:20260415T080000
DTEND;TZID=Europe/Ljubljana:20260415T090000
DTSTAMP:20260422T170204Z
UID:fmf-AFLABS-URNIK:premaknjeno-srecanje:251614
CATEGORIES:Entry,Standard
COLOR:darkgreen
DESCRIPTION:Predmet: Rezervacija ()\, Vaje (V)\nLetniki: \nIzvajalci: Dome
 n Gradišek\nProstor: P.01
LOCATION:P.01
ORGANIZER:Domen Gradišek
RELATED-TO:fmf-AFLABS-URNIK:srecanje:17458
X-WR-TIMEZONE:Europe/Ljubljana
END:VEVENT
BEGIN:VEVENT
SUMMARY:Rezervacija ()\, Vaje (V)
DTSTART;TZID=Europe/Ljubljana:20260422T080000
DTEND;TZID=Europe/Ljubljana:20260422T090000
DTSTAMP:20260422T170204Z
UID:fmf-AFLABS-URNIK:premaknjeno-srecanje:251615
CATEGORIES:Entry,Standard
COLOR:darkgreen
DESCRIPTION:Predmet: Rezervacija ()\, Vaje (V)\nLetniki: \nIzvajalci: Dome
 n Gradišek\nProstor: P.01
LOCATION:P.01
ORGANIZER:Domen Gradišek
RELATED-TO:fmf-AFLABS-URNIK:srecanje:17458
X-WR-TIMEZONE:Europe/Ljubljana
END:VEVENT
BEGIN:VEVENT
SUMMARY:Rezervacija ()\, Vaje (V)
DTSTART;TZID=Europe/Ljubljana:20260429T080000
DTEND;TZID=Europe/Ljubljana:20260429T090000
DTSTAMP:20260422T170204Z
UID:fmf-AFLABS-URNIK:premaknjeno-srecanje:251616
CATEGORIES:Entry,Standard
COLOR:darkgreen
DESCRIPTION:Predmet: Rezervacija ()\, Vaje (V)\nLetniki: \nIzvajalci: Dome
 n Gradišek\nProstor: P.01
LOCATION:P.01
ORGANIZER:Domen Gradišek
RELATED-TO:fmf-AFLABS-URNIK:srecanje:17458
X-WR-TIMEZONE:Europe/Ljubljana
END:VEVENT
BEGIN:VEVENT
SUMMARY:Rezervacija ()\, Vaje (V)
DTSTART;TZID=Europe/Ljubljana:20260506T080000
DTEND;TZID=Europe/Ljubljana:20260506T090000
DTSTAMP:20260422T170204Z
UID:fmf-AFLABS-URNIK:premaknjeno-srecanje:251617
CATEGORIES:Entry,Standard
COLOR:darkgreen
DESCRIPTION:Predmet: Rezervacija ()\, Vaje (V)\nLetniki: \nIzvajalci: Dome
 n Gradišek\nProstor: P.01
LOCATION:P.01
ORGANIZER:Domen Gradišek
RELATED-TO:fmf-AFLABS-URNIK:srecanje:17458
X-WR-TIMEZONE:Europe/Ljubljana
END:VEVENT
BEGIN:VEVENT
SUMMARY:Rezervacija ()\, Vaje (V)
DTSTART;TZID=Europe/Ljubljana:20260513T080000
DTEND;TZID=Europe/Ljubljana:20260513T090000
DTSTAMP:20260422T170204Z
UID:fmf-AFLABS-URNIK:premaknjeno-srecanje:251618
CATEGORIES:Entry,Standard
COLOR:darkgreen
DESCRIPTION:Predmet: Rezervacija ()\, Vaje (V)\nLetniki: \nIzvajalci: Dome
 n Gradišek\nProstor: P.01
LOCATION:P.01
ORGANIZER:Domen Gradišek
RELATED-TO:fmf-AFLABS-URNIK:srecanje:17458
X-WR-TIMEZONE:Europe/Ljubljana
END:VEVENT
BEGIN:VEVENT
SUMMARY:Rezervacija ()\, Vaje (V)
DTSTART;TZID=Europe/Ljubljana:20260520T080000
DTEND;TZID=Europe/Ljubljana:20260520T090000
DTSTAMP:20260422T170204Z
UID:fmf-AFLABS-URNIK:premaknjeno-srecanje:251619
CATEGORIES:Entry,Standard
COLOR:darkgreen
DESCRIPTION:Predmet: Rezervacija ()\, Vaje (V)\nLetniki: \nIzvajalci: Dome
 n Gradišek\nProstor: P.01
LOCATION:P.01
ORGANIZER:Domen Gradišek
RELATED-TO:fmf-AFLABS-URNIK:srecanje:17458
X-WR-TIMEZONE:Europe/Ljubljana
END:VEVENT
BEGIN:VEVENT
SUMMARY:Rezervacija ()\, Vaje (V)
DTSTART;TZID=Europe/Ljubljana:20260527T080000
DTEND;TZID=Europe/Ljubljana:20260527T090000
DTSTAMP:20260422T170204Z
UID:fmf-AFLABS-URNIK:premaknjeno-srecanje:251620
CATEGORIES:Entry,Standard
COLOR:darkgreen
DESCRIPTION:Predmet: Rezervacija ()\, Vaje (V)\nLetniki: \nIzvajalci: Dome
 n Gradišek\nProstor: P.01
LOCATION:P.01
ORGANIZER:Domen Gradišek
RELATED-TO:fmf-AFLABS-URNIK:srecanje:17458
X-WR-TIMEZONE:Europe/Ljubljana
END:VEVENT
BEGIN:VEVENT
SUMMARY:Rezervacija ()\, Vaje (V)
DTSTART;TZID=Europe/Ljubljana:20260603T080000
DTEND;TZID=Europe/Ljubljana:20260603T090000
DTSTAMP:20260422T170204Z
UID:fmf-AFLABS-URNIK:premaknjeno-srecanje:251621
CATEGORIES:Entry,Standard
COLOR:darkgreen
DESCRIPTION:Predmet: Rezervacija ()\, Vaje (V)\nLetniki: \nIzvajalci: Dome
 n Gradišek\nProstor: P.01
LOCATION:P.01
ORGANIZER:Domen Gradišek
RELATED-TO:fmf-AFLABS-URNIK:srecanje:17458
X-WR-TIMEZONE:Europe/Ljubljana
END:VEVENT
END:VCALENDAR
