BEGIN:VCALENDAR
VERSION:2.0
PRODID:-//AFLabs urnik izvoz - fmf//aflabs.si//SI
DTSTAMP:20260424T173434Z
NAME:UL FMF urnik
REFRESH-INTERVAL:PT1H
SOURCE:https://urnik.fmf.uni-lj.si/teacher/1889?day=2026-02-02&export=1
URL:https://urnik.fmf.uni-lj.si/teacher/1889?day=2026-02-02&export=1
X-PUBLISHED-TTL:PT1H
X-WR-CALNAME:UL FMF urnik
X-WR-TIMEZONE:Europe/Ljubljana
BEGIN:VTIMEZONE
TZID:Europe/Ljubljana
BEGIN:DAYLIGHT
DTSTART:20260329T020000
RDATE:20260329T020000
RDATE:20270328T020000
TZNAME:CEST
TZOFFSETFROM:+0100
TZOFFSETTO:+0200
END:DAYLIGHT
BEGIN:STANDARD
DTSTART:20261025T030000
RDATE:20261025T030000
RDATE:20271031T030000
TZNAME:CET
TZOFFSETFROM:+0200
TZOFFSETTO:+0100
END:STANDARD
END:VTIMEZONE
BEGIN:VEVENT
SUMMARY:Izbrana poglavja iz računalniške matematike / Logika v računaln
 ištvu (FM-M\, IŠRM-M\, MAT-M\, PM-5)\, Vaje (V)\, [1]
DTSTART;TZID=Europe/Ljubljana:20260220T080000
DTEND;TZID=Europe/Ljubljana:20260220T100000
DTSTAMP:20260424T173434Z
UID:fmf-AFLABS-URNIK:premaknjeno-srecanje:238250
ATTENDEE:5. letnik (PM)
ATTENDEE:magistrski študij (FM)
ATTENDEE:magistrski študij (IŠRM)
ATTENDEE:magistrski študij (M)
CATEGORIES:Entry,Standard
COLOR:darkgreen
DESCRIPTION:Predmet: Izbrana poglavja iz računalniške matematike / Logik
 a v računalništvu (FM-M\, IŠRM-M\, MAT-M\, PM-5)\, Vaje (V)\, [1]\nLetn
 iki: magistrski študij (FM)\, magistrski študij (IŠRM)\, magistrski št
 udij (M)\, 5. letnik (PM)\nIzvajalci: Luna Strah\nProstor: 3.11
LOCATION:3.11
ORGANIZER:Luna Strah
RELATED-TO:fmf-AFLABS-URNIK:srecanje:16917
X-WR-TIMEZONE:Europe/Ljubljana
END:VEVENT
BEGIN:VEVENT
SUMMARY:Izbrana poglavja iz računalniške matematike / Logika v računaln
 ištvu (FM-M\, IŠRM-M\, MAT-M\, PM-5)\, Vaje (V)\, [1]
DTSTART;TZID=Europe/Ljubljana:20260227T080000
DTEND;TZID=Europe/Ljubljana:20260227T100000
DTSTAMP:20260424T173434Z
UID:fmf-AFLABS-URNIK:premaknjeno-srecanje:238251
ATTENDEE:5. letnik (PM)
ATTENDEE:magistrski študij (FM)
ATTENDEE:magistrski študij (IŠRM)
ATTENDEE:magistrski študij (M)
CATEGORIES:Entry,Standard
COLOR:darkgreen
DESCRIPTION:Predmet: Izbrana poglavja iz računalniške matematike / Logik
 a v računalništvu (FM-M\, IŠRM-M\, MAT-M\, PM-5)\, Vaje (V)\, [1]\nLetn
 iki: magistrski študij (FM)\, magistrski študij (IŠRM)\, magistrski št
 udij (M)\, 5. letnik (PM)\nIzvajalci: Luna Strah\nProstor: 3.11
LOCATION:3.11
ORGANIZER:Luna Strah
RELATED-TO:fmf-AFLABS-URNIK:srecanje:16917
X-WR-TIMEZONE:Europe/Ljubljana
END:VEVENT
BEGIN:VEVENT
SUMMARY:Izbrana poglavja iz računalniške matematike / Logika v računaln
 ištvu (FM-M\, IŠRM-M\, MAT-M\, PM-5)\, Vaje (V)\, [1]
DTSTART;TZID=Europe/Ljubljana:20260306T080000
DTEND;TZID=Europe/Ljubljana:20260306T100000
DTSTAMP:20260424T173434Z
UID:fmf-AFLABS-URNIK:premaknjeno-srecanje:238252
ATTENDEE:5. letnik (PM)
ATTENDEE:magistrski študij (FM)
ATTENDEE:magistrski študij (IŠRM)
ATTENDEE:magistrski študij (M)
CATEGORIES:Entry,Standard
COLOR:darkgreen
DESCRIPTION:Predmet: Izbrana poglavja iz računalniške matematike / Logik
 a v računalništvu (FM-M\, IŠRM-M\, MAT-M\, PM-5)\, Vaje (V)\, [1]\nLetn
 iki: magistrski študij (FM)\, magistrski študij (IŠRM)\, magistrski št
 udij (M)\, 5. letnik (PM)\nIzvajalci: Luna Strah\nProstor: 3.11
LOCATION:3.11
ORGANIZER:Luna Strah
RELATED-TO:fmf-AFLABS-URNIK:srecanje:16917
X-WR-TIMEZONE:Europe/Ljubljana
END:VEVENT
BEGIN:VEVENT
SUMMARY:Izbrana poglavja iz računalniške matematike / Logika v računaln
 ištvu (FM-M\, IŠRM-M\, MAT-M\, PM-5)\, Vaje (V)\, [2]
DTSTART;TZID=Europe/Ljubljana:20260220T140000
DTEND;TZID=Europe/Ljubljana:20260220T160000
DTSTAMP:20260424T173434Z
UID:fmf-AFLABS-URNIK:premaknjeno-srecanje:238264
ATTENDEE:5. letnik (PM)
ATTENDEE:magistrski študij (FM)
ATTENDEE:magistrski študij (IŠRM)
ATTENDEE:magistrski študij (M)
CATEGORIES:Entry,Standard
COLOR:darkgreen
DESCRIPTION:Predmet: Izbrana poglavja iz računalniške matematike / Logik
 a v računalništvu (FM-M\, IŠRM-M\, MAT-M\, PM-5)\, Vaje (V)\, [2]\nLetn
 iki: magistrski študij (FM)\, magistrski študij (IŠRM)\, magistrski št
 udij (M)\, 5. letnik (PM)\nIzvajalci: Luna Strah\nProstor: 3.11
LOCATION:3.11
ORGANIZER:Luna Strah
RELATED-TO:fmf-AFLABS-URNIK:srecanje:16918
X-WR-TIMEZONE:Europe/Ljubljana
END:VEVENT
BEGIN:VEVENT
SUMMARY:Izbrana poglavja iz računalniške matematike / Logika v računaln
 ištvu (FM-M\, IŠRM-M\, MAT-M\, PM-5)\, Vaje (V)\, [2]
DTSTART;TZID=Europe/Ljubljana:20260227T140000
DTEND;TZID=Europe/Ljubljana:20260227T160000
DTSTAMP:20260424T173434Z
UID:fmf-AFLABS-URNIK:premaknjeno-srecanje:238265
ATTENDEE:5. letnik (PM)
ATTENDEE:magistrski študij (FM)
ATTENDEE:magistrski študij (IŠRM)
ATTENDEE:magistrski študij (M)
CATEGORIES:Entry,Standard
COLOR:darkgreen
DESCRIPTION:Predmet: Izbrana poglavja iz računalniške matematike / Logik
 a v računalništvu (FM-M\, IŠRM-M\, MAT-M\, PM-5)\, Vaje (V)\, [2]\nLetn
 iki: magistrski študij (FM)\, magistrski študij (IŠRM)\, magistrski št
 udij (M)\, 5. letnik (PM)\nIzvajalci: Luna Strah\nProstor: 3.11
LOCATION:3.11
ORGANIZER:Luna Strah
RELATED-TO:fmf-AFLABS-URNIK:srecanje:16918
X-WR-TIMEZONE:Europe/Ljubljana
END:VEVENT
BEGIN:VEVENT
SUMMARY:Izbrana poglavja iz računalniške matematike / Logika v računaln
 ištvu (FM-M\, IŠRM-M\, MAT-M\, PM-5)\, Vaje (V)\, [2]
DTSTART;TZID=Europe/Ljubljana:20260306T140000
DTEND;TZID=Europe/Ljubljana:20260306T160000
DTSTAMP:20260424T173434Z
UID:fmf-AFLABS-URNIK:premaknjeno-srecanje:238266
ATTENDEE:5. letnik (PM)
ATTENDEE:magistrski študij (FM)
ATTENDEE:magistrski študij (IŠRM)
ATTENDEE:magistrski študij (M)
CATEGORIES:Entry,Standard
COLOR:darkgreen
DESCRIPTION:Predmet: Izbrana poglavja iz računalniške matematike / Logik
 a v računalništvu (FM-M\, IŠRM-M\, MAT-M\, PM-5)\, Vaje (V)\, [2]\nLetn
 iki: magistrski študij (FM)\, magistrski študij (IŠRM)\, magistrski št
 udij (M)\, 5. letnik (PM)\nIzvajalci: Luna Strah\nProstor: 3.11
LOCATION:3.11
ORGANIZER:Luna Strah
RELATED-TO:fmf-AFLABS-URNIK:srecanje:16918
X-WR-TIMEZONE:Europe/Ljubljana
END:VEVENT
BEGIN:VEVENT
SUMMARY:Alternativni termin vaj
DTSTART;TZID=Europe/Ljubljana:20260218T120000
DTEND;TZID=Europe/Ljubljana:20260218T140000
DTSTAMP:20260424T173434Z
UID:fmf-AFLABS-URNIK:rezervacija:27117
ATTENDEE:5. letnik (PM)
ATTENDEE:magistrski študij (FM)
ATTENDEE:magistrski študij (IŠRM)
ATTENDEE:magistrski študij (M)
CATEGORIES:Reservation
COLOR:royalblue
DESCRIPTION:Predmeti: Izbrana poglavja iz računalniške matematike / Logi
 ka v računalništvu (FM-M\, IŠRM-M\, MAT-M\, PM-5)\nLetniki: magistrski 
 študij (FM)\, magistrski študij (IŠRM)\, magistrski študij (M)\, 5. le
 tnik (PM)\nIzvajalci: Luna Strah\nProstori: P.01
LOCATION:P.01
ORGANIZER:Luna Strah
X-WR-TIMEZONE:Europe/Ljubljana
END:VEVENT
BEGIN:VEVENT
SUMMARY:Alternativni termin vaj
DTSTART;TZID=Europe/Ljubljana:20260225T120000
DTEND;TZID=Europe/Ljubljana:20260225T140000
DTSTAMP:20260424T173434Z
UID:fmf-AFLABS-URNIK:rezervacija:27118
ATTENDEE:5. letnik (PM)
ATTENDEE:magistrski študij (FM)
ATTENDEE:magistrski študij (IŠRM)
ATTENDEE:magistrski študij (M)
CATEGORIES:Reservation
COLOR:royalblue
DESCRIPTION:Predmeti: Izbrana poglavja iz računalniške matematike / Logi
 ka v računalništvu (FM-M\, IŠRM-M\, MAT-M\, PM-5)\nLetniki: magistrski 
 študij (FM)\, magistrski študij (IŠRM)\, magistrski študij (M)\, 5. le
 tnik (PM)\nIzvajalci: Luna Strah\nProstori: P.01
LOCATION:P.01
ORGANIZER:Luna Strah
X-WR-TIMEZONE:Europe/Ljubljana
END:VEVENT
BEGIN:VEVENT
SUMMARY:Alternativni termin vaj
DTSTART;TZID=Europe/Ljubljana:20260304T120000
DTEND;TZID=Europe/Ljubljana:20260304T140000
DTSTAMP:20260424T173434Z
UID:fmf-AFLABS-URNIK:rezervacija:27119
ATTENDEE:5. letnik (PM)
ATTENDEE:magistrski študij (FM)
ATTENDEE:magistrski študij (IŠRM)
ATTENDEE:magistrski študij (M)
CATEGORIES:Reservation
COLOR:royalblue
DESCRIPTION:Predmeti: Izbrana poglavja iz računalniške matematike / Logi
 ka v računalništvu (FM-M\, IŠRM-M\, MAT-M\, PM-5)\nLetniki: magistrski 
 študij (FM)\, magistrski študij (IŠRM)\, magistrski študij (M)\, 5. le
 tnik (PM)\nIzvajalci: Luna Strah\nProstori: P.01
LOCATION:P.01
ORGANIZER:Luna Strah
X-WR-TIMEZONE:Europe/Ljubljana
END:VEVENT
BEGIN:VEVENT
SUMMARY:Vaje
DTSTART;TZID=Europe/Ljubljana:20260227T140000
DTEND;TZID=Europe/Ljubljana:20260227T160000
DTSTAMP:20260424T173434Z
UID:fmf-AFLABS-URNIK:rezervacija:27295
ATTENDEE:5. letnik (PM)
ATTENDEE:magistrski študij (FM)
ATTENDEE:magistrski študij (IŠRM)
ATTENDEE:magistrski študij (M)
CATEGORIES:Reservation
COLOR:royalblue
DESCRIPTION:Predmeti: Izbrana poglavja iz računalniške matematike / Logi
 ka v računalništvu (FM-M\, IŠRM-M\, MAT-M\, PM-5)\nLetniki: magistrski 
 študij (FM)\, magistrski študij (IŠRM)\, magistrski študij (M)\, 5. le
 tnik (PM)\nIzvajalci: Luna Strah\nProstori: 3.05
LOCATION:3.05
ORGANIZER:Luna Strah
X-WR-TIMEZONE:Europe/Ljubljana
END:VEVENT
BEGIN:VEVENT
SUMMARY:Vaje
DTSTART;TZID=Europe/Ljubljana:20260306T080000
DTEND;TZID=Europe/Ljubljana:20260306T100000
DTSTAMP:20260424T173434Z
UID:fmf-AFLABS-URNIK:rezervacija:27565
ATTENDEE:5. letnik (PM)
ATTENDEE:magistrski študij (FM)
ATTENDEE:magistrski študij (IŠRM)
ATTENDEE:magistrski študij (M)
CATEGORIES:Reservation
COLOR:royalblue
DESCRIPTION:Predmeti: Izbrana poglavja iz računalniške matematike / Logi
 ka v računalništvu (FM-M\, IŠRM-M\, MAT-M\, PM-5)\nLetniki: magistrski 
 študij (FM)\, magistrski študij (IŠRM)\, magistrski študij (M)\, 5. le
 tnik (PM)\nIzvajalci: Luna Strah\nProstori: P.02
LOCATION:P.02
ORGANIZER:Luna Strah
X-WR-TIMEZONE:Europe/Ljubljana
END:VEVENT
END:VCALENDAR
