BEGIN:VCALENDAR
VERSION:2.0
PRODID:-//AFLabs urnik izvoz - fmf//aflabs.si//SI
DTSTAMP:20260425T124705Z
NAME:UL FMF urnik
REFRESH-INTERVAL:PT1H
SOURCE:https://urnik.fmf.uni-lj.si/teacher/1899?day=2026-04-13&export=1
URL:https://urnik.fmf.uni-lj.si/teacher/1899?day=2026-04-13&export=1
X-PUBLISHED-TTL:PT1H
X-WR-CALNAME:UL FMF urnik
X-WR-TIMEZONE:Europe/Ljubljana
BEGIN:VTIMEZONE
TZID:Europe/Ljubljana
BEGIN:DAYLIGHT
DTSTART:20260329T020000
RDATE:20260329T020000
RDATE:20270328T020000
TZNAME:CEST
TZOFFSETFROM:+0100
TZOFFSETTO:+0200
END:DAYLIGHT
BEGIN:STANDARD
DTSTART:20261025T030000
RDATE:20261025T030000
RDATE:20271031T030000
TZNAME:CET
TZOFFSETFROM:+0200
TZOFFSETTO:+0100
END:STANDARD
END:VTIMEZONE
BEGIN:VEVENT
SUMMARY:Uvod v programiranje (FM-1)\, Vaje (V)\, [1]
DTSTART;TZID=Europe/Ljubljana:20260216T170000
DTEND;TZID=Europe/Ljubljana:20260216T200000
DTSTAMP:20260425T124705Z
UID:fmf-AFLABS-URNIK:premaknjeno-srecanje:247024
ATTENDEE:1. letnik (FM)
CATEGORIES:Entry,Standard
COLOR:darkgreen
DESCRIPTION:Predmet: Uvod v programiranje (FM-1)\, Vaje (V)\, [1]\nLetniki
 : 1. letnik (FM)\nIzvajalci: Timotej Lazar\, Aljaž Osojnik\nProstor: 3.10
LOCATION:3.10
ORGANIZER:Timotej Lazar, Aljaž Osojnik
RELATED-TO:fmf-AFLABS-URNIK:srecanje:17146
X-WR-TIMEZONE:Europe/Ljubljana
END:VEVENT
BEGIN:VEVENT
SUMMARY:Uvod v programiranje (FM-1)\, Vaje (V)\, [1]
DTSTART;TZID=Europe/Ljubljana:20260223T170000
DTEND;TZID=Europe/Ljubljana:20260223T200000
DTSTAMP:20260425T124705Z
UID:fmf-AFLABS-URNIK:premaknjeno-srecanje:247025
ATTENDEE:1. letnik (FM)
CATEGORIES:Entry,Standard
COLOR:darkgreen
DESCRIPTION:Predmet: Uvod v programiranje (FM-1)\, Vaje (V)\, [1]\nLetniki
 : 1. letnik (FM)\nIzvajalci: Timotej Lazar\, Aljaž Osojnik\nProstor: 3.10
LOCATION:3.10
ORGANIZER:Timotej Lazar, Aljaž Osojnik
RELATED-TO:fmf-AFLABS-URNIK:srecanje:17146
X-WR-TIMEZONE:Europe/Ljubljana
END:VEVENT
BEGIN:VEVENT
SUMMARY:Uvod v programiranje (FM-1)\, Vaje (V)\, [1]
DTSTART;TZID=Europe/Ljubljana:20260302T170000
DTEND;TZID=Europe/Ljubljana:20260302T200000
DTSTAMP:20260425T124705Z
UID:fmf-AFLABS-URNIK:premaknjeno-srecanje:247026
ATTENDEE:1. letnik (FM)
CATEGORIES:Entry,Standard
COLOR:darkgreen
DESCRIPTION:Predmet: Uvod v programiranje (FM-1)\, Vaje (V)\, [1]\nLetniki
 : 1. letnik (FM)\nIzvajalci: Timotej Lazar\, Aljaž Osojnik\nProstor: 3.10
LOCATION:3.10
ORGANIZER:Timotej Lazar, Aljaž Osojnik
RELATED-TO:fmf-AFLABS-URNIK:srecanje:17146
X-WR-TIMEZONE:Europe/Ljubljana
END:VEVENT
BEGIN:VEVENT
SUMMARY:Uvod v programiranje (FM-1)\, Vaje (V)\, [1]
DTSTART;TZID=Europe/Ljubljana:20260309T170000
DTEND;TZID=Europe/Ljubljana:20260309T200000
DTSTAMP:20260425T124705Z
UID:fmf-AFLABS-URNIK:premaknjeno-srecanje:247027
ATTENDEE:1. letnik (FM)
CATEGORIES:Entry,Standard
COLOR:darkgreen
DESCRIPTION:Predmet: Uvod v programiranje (FM-1)\, Vaje (V)\, [1]\nLetniki
 : 1. letnik (FM)\nIzvajalci: Timotej Lazar\, Aljaž Osojnik\nProstor: 3.10
LOCATION:3.10
ORGANIZER:Timotej Lazar, Aljaž Osojnik
RELATED-TO:fmf-AFLABS-URNIK:srecanje:17146
X-WR-TIMEZONE:Europe/Ljubljana
END:VEVENT
BEGIN:VEVENT
SUMMARY:Uvod v programiranje (FM-1)\, Vaje (V)\, [1]
DTSTART;TZID=Europe/Ljubljana:20260316T170000
DTEND;TZID=Europe/Ljubljana:20260316T200000
DTSTAMP:20260425T124705Z
UID:fmf-AFLABS-URNIK:premaknjeno-srecanje:247028
ATTENDEE:1. letnik (FM)
CATEGORIES:Entry,Standard
COLOR:darkgreen
DESCRIPTION:Predmet: Uvod v programiranje (FM-1)\, Vaje (V)\, [1]\nLetniki
 : 1. letnik (FM)\nIzvajalci: Timotej Lazar\, Aljaž Osojnik\nProstor: 3.10
LOCATION:3.10
ORGANIZER:Timotej Lazar, Aljaž Osojnik
RELATED-TO:fmf-AFLABS-URNIK:srecanje:17146
X-WR-TIMEZONE:Europe/Ljubljana
END:VEVENT
BEGIN:VEVENT
SUMMARY:Uvod v programiranje (FM-1)\, Vaje (V)\, [1]
DTSTART;TZID=Europe/Ljubljana:20260323T170000
DTEND;TZID=Europe/Ljubljana:20260323T200000
DTSTAMP:20260425T124705Z
UID:fmf-AFLABS-URNIK:premaknjeno-srecanje:247029
ATTENDEE:1. letnik (FM)
CATEGORIES:Entry,Standard
COLOR:darkgreen
DESCRIPTION:Predmet: Uvod v programiranje (FM-1)\, Vaje (V)\, [1]\nLetniki
 : 1. letnik (FM)\nIzvajalci: Timotej Lazar\, Aljaž Osojnik\nProstor: 3.10
LOCATION:3.10
ORGANIZER:Timotej Lazar, Aljaž Osojnik
RELATED-TO:fmf-AFLABS-URNIK:srecanje:17146
X-WR-TIMEZONE:Europe/Ljubljana
END:VEVENT
BEGIN:VEVENT
SUMMARY:Uvod v programiranje (FM-1)\, Vaje (V)\, [1]
DTSTART;TZID=Europe/Ljubljana:20260330T170000
DTEND;TZID=Europe/Ljubljana:20260330T200000
DTSTAMP:20260425T124705Z
UID:fmf-AFLABS-URNIK:premaknjeno-srecanje:247030
ATTENDEE:1. letnik (FM)
CATEGORIES:Entry,Standard
COLOR:darkgreen
DESCRIPTION:Predmet: Uvod v programiranje (FM-1)\, Vaje (V)\, [1]\nLetniki
 : 1. letnik (FM)\nIzvajalci: Timotej Lazar\, Aljaž Osojnik\nProstor: 3.10
LOCATION:3.10
ORGANIZER:Timotej Lazar, Aljaž Osojnik
RELATED-TO:fmf-AFLABS-URNIK:srecanje:17146
X-WR-TIMEZONE:Europe/Ljubljana
END:VEVENT
BEGIN:VEVENT
SUMMARY:Uvod v programiranje (FM-1)\, Vaje (V)\, [1]
DTSTART;TZID=Europe/Ljubljana:20260406T170000
DTEND;TZID=Europe/Ljubljana:20260406T200000
DTSTAMP:20260425T124705Z
UID:fmf-AFLABS-URNIK:premaknjeno-srecanje:247031
ATTENDEE:1. letnik (FM)
CATEGORIES:Entry,Standard
COLOR:darkgreen
DESCRIPTION:Predmet: Uvod v programiranje (FM-1)\, Vaje (V)\, [1]\nLetniki
 : 1. letnik (FM)\nIzvajalci: Timotej Lazar\, Aljaž Osojnik\nProstor: 3.10
LOCATION:3.10
ORGANIZER:Timotej Lazar, Aljaž Osojnik
RELATED-TO:fmf-AFLABS-URNIK:srecanje:17146
X-WR-TIMEZONE:Europe/Ljubljana
END:VEVENT
BEGIN:VEVENT
SUMMARY:Uvod v programiranje (FM-1)\, Vaje (V)\, [1]
DTSTART;TZID=Europe/Ljubljana:20260413T170000
DTEND;TZID=Europe/Ljubljana:20260413T200000
DTSTAMP:20260425T124705Z
UID:fmf-AFLABS-URNIK:premaknjeno-srecanje:247032
ATTENDEE:1. letnik (FM)
CATEGORIES:Entry,Standard
COLOR:darkgreen
DESCRIPTION:Predmet: Uvod v programiranje (FM-1)\, Vaje (V)\, [1]\nLetniki
 : 1. letnik (FM)\nIzvajalci: Timotej Lazar\, Aljaž Osojnik\nProstor: 3.10
LOCATION:3.10
ORGANIZER:Timotej Lazar, Aljaž Osojnik
RELATED-TO:fmf-AFLABS-URNIK:srecanje:17146
X-WR-TIMEZONE:Europe/Ljubljana
END:VEVENT
BEGIN:VEVENT
SUMMARY:Uvod v programiranje (FM-1)\, Vaje (V)\, [1]
DTSTART;TZID=Europe/Ljubljana:20260420T170000
DTEND;TZID=Europe/Ljubljana:20260420T200000
DTSTAMP:20260425T124705Z
UID:fmf-AFLABS-URNIK:premaknjeno-srecanje:247033
ATTENDEE:1. letnik (FM)
CATEGORIES:Entry,Standard
COLOR:darkgreen
DESCRIPTION:Predmet: Uvod v programiranje (FM-1)\, Vaje (V)\, [1]\nLetniki
 : 1. letnik (FM)\nIzvajalci: Timotej Lazar\, Aljaž Osojnik\nProstor: 3.10
LOCATION:3.10
ORGANIZER:Timotej Lazar, Aljaž Osojnik
RELATED-TO:fmf-AFLABS-URNIK:srecanje:17146
X-WR-TIMEZONE:Europe/Ljubljana
END:VEVENT
BEGIN:VEVENT
SUMMARY:Uvod v programiranje (FM-1)\, Vaje (V)\, [1]
DTSTART;TZID=Europe/Ljubljana:20260427T170000
DTEND;TZID=Europe/Ljubljana:20260427T200000
DTSTAMP:20260425T124705Z
UID:fmf-AFLABS-URNIK:premaknjeno-srecanje:247034
ATTENDEE:1. letnik (FM)
CATEGORIES:Entry,Standard
COLOR:darkgreen
DESCRIPTION:Predmet: Uvod v programiranje (FM-1)\, Vaje (V)\, [1]\nLetniki
 : 1. letnik (FM)\nIzvajalci: Timotej Lazar\, Aljaž Osojnik\nProstor: 3.10
LOCATION:3.10
ORGANIZER:Timotej Lazar, Aljaž Osojnik
RELATED-TO:fmf-AFLABS-URNIK:srecanje:17146
X-WR-TIMEZONE:Europe/Ljubljana
END:VEVENT
BEGIN:VEVENT
SUMMARY:Uvod v programiranje (FM-1)\, Vaje (V)\, [1]
DTSTART;TZID=Europe/Ljubljana:20260504T170000
DTEND;TZID=Europe/Ljubljana:20260504T200000
DTSTAMP:20260425T124705Z
UID:fmf-AFLABS-URNIK:premaknjeno-srecanje:247035
ATTENDEE:1. letnik (FM)
CATEGORIES:Entry,Standard
COLOR:darkgreen
DESCRIPTION:Predmet: Uvod v programiranje (FM-1)\, Vaje (V)\, [1]\nLetniki
 : 1. letnik (FM)\nIzvajalci: Timotej Lazar\, Aljaž Osojnik\nProstor: 3.10
LOCATION:3.10
ORGANIZER:Timotej Lazar, Aljaž Osojnik
RELATED-TO:fmf-AFLABS-URNIK:srecanje:17146
X-WR-TIMEZONE:Europe/Ljubljana
END:VEVENT
BEGIN:VEVENT
SUMMARY:Uvod v programiranje (FM-1)\, Vaje (V)\, [1]
DTSTART;TZID=Europe/Ljubljana:20260511T170000
DTEND;TZID=Europe/Ljubljana:20260511T200000
DTSTAMP:20260425T124705Z
UID:fmf-AFLABS-URNIK:premaknjeno-srecanje:247036
ATTENDEE:1. letnik (FM)
CATEGORIES:Entry,Standard
COLOR:darkgreen
DESCRIPTION:Predmet: Uvod v programiranje (FM-1)\, Vaje (V)\, [1]\nLetniki
 : 1. letnik (FM)\nIzvajalci: Timotej Lazar\, Aljaž Osojnik\nProstor: 3.10
LOCATION:3.10
ORGANIZER:Timotej Lazar, Aljaž Osojnik
RELATED-TO:fmf-AFLABS-URNIK:srecanje:17146
X-WR-TIMEZONE:Europe/Ljubljana
END:VEVENT
BEGIN:VEVENT
SUMMARY:Uvod v programiranje (FM-1)\, Vaje (V)\, [1]
DTSTART;TZID=Europe/Ljubljana:20260518T170000
DTEND;TZID=Europe/Ljubljana:20260518T200000
DTSTAMP:20260425T124705Z
UID:fmf-AFLABS-URNIK:premaknjeno-srecanje:247037
ATTENDEE:1. letnik (FM)
CATEGORIES:Entry,Standard
COLOR:darkgreen
DESCRIPTION:Predmet: Uvod v programiranje (FM-1)\, Vaje (V)\, [1]\nLetniki
 : 1. letnik (FM)\nIzvajalci: Timotej Lazar\, Aljaž Osojnik\nProstor: 3.10
LOCATION:3.10
ORGANIZER:Timotej Lazar, Aljaž Osojnik
RELATED-TO:fmf-AFLABS-URNIK:srecanje:17146
X-WR-TIMEZONE:Europe/Ljubljana
END:VEVENT
BEGIN:VEVENT
SUMMARY:Uvod v programiranje (FM-1)\, Vaje (V)\, [1]
DTSTART;TZID=Europe/Ljubljana:20260525T170000
DTEND;TZID=Europe/Ljubljana:20260525T200000
DTSTAMP:20260425T124705Z
UID:fmf-AFLABS-URNIK:premaknjeno-srecanje:247038
ATTENDEE:1. letnik (FM)
CATEGORIES:Entry,Standard
COLOR:darkgreen
DESCRIPTION:Predmet: Uvod v programiranje (FM-1)\, Vaje (V)\, [1]\nLetniki
 : 1. letnik (FM)\nIzvajalci: Timotej Lazar\, Aljaž Osojnik\nProstor: 3.10
LOCATION:3.10
ORGANIZER:Timotej Lazar, Aljaž Osojnik
RELATED-TO:fmf-AFLABS-URNIK:srecanje:17146
X-WR-TIMEZONE:Europe/Ljubljana
END:VEVENT
BEGIN:VEVENT
SUMMARY:Uvod v programiranje (FM-1)\, Vaje (V)\, [1]
DTSTART;TZID=Europe/Ljubljana:20260601T170000
DTEND;TZID=Europe/Ljubljana:20260601T200000
DTSTAMP:20260425T124705Z
UID:fmf-AFLABS-URNIK:premaknjeno-srecanje:247039
ATTENDEE:1. letnik (FM)
CATEGORIES:Entry,Standard
COLOR:darkgreen
DESCRIPTION:Predmet: Uvod v programiranje (FM-1)\, Vaje (V)\, [1]\nLetniki
 : 1. letnik (FM)\nIzvajalci: Timotej Lazar\, Aljaž Osojnik\nProstor: 3.10
LOCATION:3.10
ORGANIZER:Timotej Lazar, Aljaž Osojnik
RELATED-TO:fmf-AFLABS-URNIK:srecanje:17146
X-WR-TIMEZONE:Europe/Ljubljana
END:VEVENT
BEGIN:VEVENT
SUMMARY:Uvod v programiranje (MAT-1\, PM-2)\, Vaje (V)\, [1]
DTSTART;TZID=Europe/Ljubljana:20260217T140000
DTEND;TZID=Europe/Ljubljana:20260217T170000
DTSTAMP:20260425T124705Z
UID:fmf-AFLABS-URNIK:premaknjeno-srecanje:248654
ATTENDEE:1. letnik (M)
ATTENDEE:2. letnik (PM)
CATEGORIES:Entry,Standard
COLOR:darkgreen
DESCRIPTION:Predmet: Uvod v programiranje (MAT-1\, PM-2)\, Vaje (V)\, [1]\
 nLetniki: 1. letnik (M)\, 2. letnik (PM)\nIzvajalci: Ajda Lampe\, Timotej 
 Lazar\nProstor: 3.10
LOCATION:3.10
ORGANIZER:Ajda Lampe, Timotej Lazar
RELATED-TO:fmf-AFLABS-URNIK:srecanje:16930
X-WR-TIMEZONE:Europe/Ljubljana
END:VEVENT
BEGIN:VEVENT
SUMMARY:Uvod v programiranje (MAT-1\, PM-2)\, Vaje (V)\, [1]
DTSTART;TZID=Europe/Ljubljana:20260224T140000
DTEND;TZID=Europe/Ljubljana:20260224T170000
DTSTAMP:20260425T124705Z
UID:fmf-AFLABS-URNIK:premaknjeno-srecanje:248655
ATTENDEE:1. letnik (M)
ATTENDEE:2. letnik (PM)
CATEGORIES:Entry,Standard
COLOR:darkgreen
DESCRIPTION:Predmet: Uvod v programiranje (MAT-1\, PM-2)\, Vaje (V)\, [1]\
 nLetniki: 1. letnik (M)\, 2. letnik (PM)\nIzvajalci: Ajda Lampe\, Timotej 
 Lazar\nProstor: 3.10
LOCATION:3.10
ORGANIZER:Ajda Lampe, Timotej Lazar
RELATED-TO:fmf-AFLABS-URNIK:srecanje:16930
X-WR-TIMEZONE:Europe/Ljubljana
END:VEVENT
BEGIN:VEVENT
SUMMARY:Uvod v programiranje (MAT-1\, PM-2)\, Vaje (V)\, [1]
DTSTART;TZID=Europe/Ljubljana:20260303T140000
DTEND;TZID=Europe/Ljubljana:20260303T170000
DTSTAMP:20260425T124705Z
UID:fmf-AFLABS-URNIK:premaknjeno-srecanje:248656
ATTENDEE:1. letnik (M)
ATTENDEE:2. letnik (PM)
CATEGORIES:Entry,Standard
COLOR:darkgreen
DESCRIPTION:Predmet: Uvod v programiranje (MAT-1\, PM-2)\, Vaje (V)\, [1]\
 nLetniki: 1. letnik (M)\, 2. letnik (PM)\nIzvajalci: Ajda Lampe\, Timotej 
 Lazar\nProstor: 3.10
LOCATION:3.10
ORGANIZER:Ajda Lampe, Timotej Lazar
RELATED-TO:fmf-AFLABS-URNIK:srecanje:16930
X-WR-TIMEZONE:Europe/Ljubljana
END:VEVENT
BEGIN:VEVENT
SUMMARY:Uvod v programiranje (MAT-1\, PM-2)\, Vaje (V)\, [1]
DTSTART;TZID=Europe/Ljubljana:20260310T140000
DTEND;TZID=Europe/Ljubljana:20260310T170000
DTSTAMP:20260425T124705Z
UID:fmf-AFLABS-URNIK:premaknjeno-srecanje:248657
ATTENDEE:1. letnik (M)
ATTENDEE:2. letnik (PM)
CATEGORIES:Entry,Standard
COLOR:darkgreen
DESCRIPTION:Predmet: Uvod v programiranje (MAT-1\, PM-2)\, Vaje (V)\, [1]\
 nLetniki: 1. letnik (M)\, 2. letnik (PM)\nIzvajalci: Ajda Lampe\, Timotej 
 Lazar\nProstor: 3.10
LOCATION:3.10
ORGANIZER:Ajda Lampe, Timotej Lazar
RELATED-TO:fmf-AFLABS-URNIK:srecanje:16930
X-WR-TIMEZONE:Europe/Ljubljana
END:VEVENT
BEGIN:VEVENT
SUMMARY:Uvod v programiranje (MAT-1\, PM-2)\, Vaje (V)\, [1]
DTSTART;TZID=Europe/Ljubljana:20260317T140000
DTEND;TZID=Europe/Ljubljana:20260317T170000
DTSTAMP:20260425T124705Z
UID:fmf-AFLABS-URNIK:premaknjeno-srecanje:248658
ATTENDEE:1. letnik (M)
ATTENDEE:2. letnik (PM)
CATEGORIES:Entry,Standard
COLOR:darkgreen
DESCRIPTION:Predmet: Uvod v programiranje (MAT-1\, PM-2)\, Vaje (V)\, [1]\
 nLetniki: 1. letnik (M)\, 2. letnik (PM)\nIzvajalci: Ajda Lampe\, Timotej 
 Lazar\nProstor: 3.10
LOCATION:3.10
ORGANIZER:Ajda Lampe, Timotej Lazar
RELATED-TO:fmf-AFLABS-URNIK:srecanje:16930
X-WR-TIMEZONE:Europe/Ljubljana
END:VEVENT
BEGIN:VEVENT
SUMMARY:Uvod v programiranje (MAT-1\, PM-2)\, Vaje (V)\, [1]
DTSTART;TZID=Europe/Ljubljana:20260324T140000
DTEND;TZID=Europe/Ljubljana:20260324T170000
DTSTAMP:20260425T124705Z
UID:fmf-AFLABS-URNIK:premaknjeno-srecanje:248659
ATTENDEE:1. letnik (M)
ATTENDEE:2. letnik (PM)
CATEGORIES:Entry,Standard
COLOR:darkgreen
DESCRIPTION:Predmet: Uvod v programiranje (MAT-1\, PM-2)\, Vaje (V)\, [1]\
 nLetniki: 1. letnik (M)\, 2. letnik (PM)\nIzvajalci: Ajda Lampe\, Timotej 
 Lazar\nProstor: 3.10
LOCATION:3.10
ORGANIZER:Ajda Lampe, Timotej Lazar
RELATED-TO:fmf-AFLABS-URNIK:srecanje:16930
X-WR-TIMEZONE:Europe/Ljubljana
END:VEVENT
BEGIN:VEVENT
SUMMARY:Uvod v programiranje (MAT-1\, PM-2)\, Vaje (V)\, [1]
DTSTART;TZID=Europe/Ljubljana:20260331T140000
DTEND;TZID=Europe/Ljubljana:20260331T170000
DTSTAMP:20260425T124705Z
UID:fmf-AFLABS-URNIK:premaknjeno-srecanje:248660
ATTENDEE:1. letnik (M)
ATTENDEE:2. letnik (PM)
CATEGORIES:Entry,Standard
COLOR:darkgreen
DESCRIPTION:Predmet: Uvod v programiranje (MAT-1\, PM-2)\, Vaje (V)\, [1]\
 nLetniki: 1. letnik (M)\, 2. letnik (PM)\nIzvajalci: Ajda Lampe\, Timotej 
 Lazar\nProstor: 3.10
LOCATION:3.10
ORGANIZER:Ajda Lampe, Timotej Lazar
RELATED-TO:fmf-AFLABS-URNIK:srecanje:16930
X-WR-TIMEZONE:Europe/Ljubljana
END:VEVENT
BEGIN:VEVENT
SUMMARY:Uvod v programiranje (MAT-1\, PM-2)\, Vaje (V)\, [1]
DTSTART;TZID=Europe/Ljubljana:20260407T140000
DTEND;TZID=Europe/Ljubljana:20260407T170000
DTSTAMP:20260425T124705Z
UID:fmf-AFLABS-URNIK:premaknjeno-srecanje:248661
ATTENDEE:1. letnik (M)
ATTENDEE:2. letnik (PM)
CATEGORIES:Entry,Standard
COLOR:darkgreen
DESCRIPTION:Predmet: Uvod v programiranje (MAT-1\, PM-2)\, Vaje (V)\, [1]\
 nLetniki: 1. letnik (M)\, 2. letnik (PM)\nIzvajalci: Ajda Lampe\, Timotej 
 Lazar\nProstor: 3.10
LOCATION:3.10
ORGANIZER:Ajda Lampe, Timotej Lazar
RELATED-TO:fmf-AFLABS-URNIK:srecanje:16930
X-WR-TIMEZONE:Europe/Ljubljana
END:VEVENT
BEGIN:VEVENT
SUMMARY:Uvod v programiranje (MAT-1\, PM-2)\, Vaje (V)\, [1]
DTSTART;TZID=Europe/Ljubljana:20260414T140000
DTEND;TZID=Europe/Ljubljana:20260414T170000
DTSTAMP:20260425T124705Z
UID:fmf-AFLABS-URNIK:premaknjeno-srecanje:248662
ATTENDEE:1. letnik (M)
ATTENDEE:2. letnik (PM)
CATEGORIES:Entry,Standard
COLOR:darkgreen
DESCRIPTION:Predmet: Uvod v programiranje (MAT-1\, PM-2)\, Vaje (V)\, [1]\
 nLetniki: 1. letnik (M)\, 2. letnik (PM)\nIzvajalci: Ajda Lampe\, Timotej 
 Lazar\nProstor: 3.10
LOCATION:3.10
ORGANIZER:Ajda Lampe, Timotej Lazar
RELATED-TO:fmf-AFLABS-URNIK:srecanje:16930
X-WR-TIMEZONE:Europe/Ljubljana
END:VEVENT
BEGIN:VEVENT
SUMMARY:Uvod v programiranje (MAT-1\, PM-2)\, Vaje (V)\, [1]
DTSTART;TZID=Europe/Ljubljana:20260421T140000
DTEND;TZID=Europe/Ljubljana:20260421T170000
DTSTAMP:20260425T124705Z
UID:fmf-AFLABS-URNIK:premaknjeno-srecanje:248663
ATTENDEE:1. letnik (M)
ATTENDEE:2. letnik (PM)
CATEGORIES:Entry,Standard
COLOR:darkgreen
DESCRIPTION:Predmet: Uvod v programiranje (MAT-1\, PM-2)\, Vaje (V)\, [1]\
 nLetniki: 1. letnik (M)\, 2. letnik (PM)\nIzvajalci: Ajda Lampe\, Timotej 
 Lazar\nProstor: 3.10
LOCATION:3.10
ORGANIZER:Ajda Lampe, Timotej Lazar
RELATED-TO:fmf-AFLABS-URNIK:srecanje:16930
X-WR-TIMEZONE:Europe/Ljubljana
END:VEVENT
BEGIN:VEVENT
SUMMARY:Uvod v programiranje (MAT-1\, PM-2)\, Vaje (V)\, [1]
DTSTART;TZID=Europe/Ljubljana:20260428T140000
DTEND;TZID=Europe/Ljubljana:20260428T170000
DTSTAMP:20260425T124705Z
UID:fmf-AFLABS-URNIK:premaknjeno-srecanje:248664
ATTENDEE:1. letnik (M)
ATTENDEE:2. letnik (PM)
CATEGORIES:Entry,Standard
COLOR:darkgreen
DESCRIPTION:Predmet: Uvod v programiranje (MAT-1\, PM-2)\, Vaje (V)\, [1]\
 nLetniki: 1. letnik (M)\, 2. letnik (PM)\nIzvajalci: Ajda Lampe\, Timotej 
 Lazar\nProstor: 3.10
LOCATION:3.10
ORGANIZER:Ajda Lampe, Timotej Lazar
RELATED-TO:fmf-AFLABS-URNIK:srecanje:16930
X-WR-TIMEZONE:Europe/Ljubljana
END:VEVENT
BEGIN:VEVENT
SUMMARY:Uvod v programiranje (MAT-1\, PM-2)\, Vaje (V)\, [1]
DTSTART;TZID=Europe/Ljubljana:20260505T140000
DTEND;TZID=Europe/Ljubljana:20260505T170000
DTSTAMP:20260425T124705Z
UID:fmf-AFLABS-URNIK:premaknjeno-srecanje:248665
ATTENDEE:1. letnik (M)
ATTENDEE:2. letnik (PM)
CATEGORIES:Entry,Standard
COLOR:darkgreen
DESCRIPTION:Predmet: Uvod v programiranje (MAT-1\, PM-2)\, Vaje (V)\, [1]\
 nLetniki: 1. letnik (M)\, 2. letnik (PM)\nIzvajalci: Ajda Lampe\, Timotej 
 Lazar\nProstor: 3.10
LOCATION:3.10
ORGANIZER:Ajda Lampe, Timotej Lazar
RELATED-TO:fmf-AFLABS-URNIK:srecanje:16930
X-WR-TIMEZONE:Europe/Ljubljana
END:VEVENT
BEGIN:VEVENT
SUMMARY:Uvod v programiranje (MAT-1\, PM-2)\, Vaje (V)\, [1]
DTSTART;TZID=Europe/Ljubljana:20260512T140000
DTEND;TZID=Europe/Ljubljana:20260512T170000
DTSTAMP:20260425T124705Z
UID:fmf-AFLABS-URNIK:premaknjeno-srecanje:248666
ATTENDEE:1. letnik (M)
ATTENDEE:2. letnik (PM)
CATEGORIES:Entry,Standard
COLOR:darkgreen
DESCRIPTION:Predmet: Uvod v programiranje (MAT-1\, PM-2)\, Vaje (V)\, [1]\
 nLetniki: 1. letnik (M)\, 2. letnik (PM)\nIzvajalci: Ajda Lampe\, Timotej 
 Lazar\nProstor: 3.10
LOCATION:3.10
ORGANIZER:Ajda Lampe, Timotej Lazar
RELATED-TO:fmf-AFLABS-URNIK:srecanje:16930
X-WR-TIMEZONE:Europe/Ljubljana
END:VEVENT
BEGIN:VEVENT
SUMMARY:Uvod v programiranje (MAT-1\, PM-2)\, Vaje (V)\, [1]
DTSTART;TZID=Europe/Ljubljana:20260519T140000
DTEND;TZID=Europe/Ljubljana:20260519T170000
DTSTAMP:20260425T124705Z
UID:fmf-AFLABS-URNIK:premaknjeno-srecanje:248667
ATTENDEE:1. letnik (M)
ATTENDEE:2. letnik (PM)
CATEGORIES:Entry,Standard
COLOR:darkgreen
DESCRIPTION:Predmet: Uvod v programiranje (MAT-1\, PM-2)\, Vaje (V)\, [1]\
 nLetniki: 1. letnik (M)\, 2. letnik (PM)\nIzvajalci: Ajda Lampe\, Timotej 
 Lazar\nProstor: 3.10
LOCATION:3.10
ORGANIZER:Ajda Lampe, Timotej Lazar
RELATED-TO:fmf-AFLABS-URNIK:srecanje:16930
X-WR-TIMEZONE:Europe/Ljubljana
END:VEVENT
BEGIN:VEVENT
SUMMARY:Uvod v programiranje (MAT-1\, PM-2)\, Vaje (V)\, [1]
DTSTART;TZID=Europe/Ljubljana:20260526T140000
DTEND;TZID=Europe/Ljubljana:20260526T170000
DTSTAMP:20260425T124705Z
UID:fmf-AFLABS-URNIK:premaknjeno-srecanje:248668
ATTENDEE:1. letnik (M)
ATTENDEE:2. letnik (PM)
CATEGORIES:Entry,Standard
COLOR:darkgreen
DESCRIPTION:Predmet: Uvod v programiranje (MAT-1\, PM-2)\, Vaje (V)\, [1]\
 nLetniki: 1. letnik (M)\, 2. letnik (PM)\nIzvajalci: Ajda Lampe\, Timotej 
 Lazar\nProstor: 3.10
LOCATION:3.10
ORGANIZER:Ajda Lampe, Timotej Lazar
RELATED-TO:fmf-AFLABS-URNIK:srecanje:16930
X-WR-TIMEZONE:Europe/Ljubljana
END:VEVENT
BEGIN:VEVENT
SUMMARY:Uvod v programiranje (MAT-1\, PM-2)\, Vaje (V)\, [1]
DTSTART;TZID=Europe/Ljubljana:20260602T140000
DTEND;TZID=Europe/Ljubljana:20260602T170000
DTSTAMP:20260425T124705Z
UID:fmf-AFLABS-URNIK:premaknjeno-srecanje:248669
ATTENDEE:1. letnik (M)
ATTENDEE:2. letnik (PM)
CATEGORIES:Entry,Standard
COLOR:darkgreen
DESCRIPTION:Predmet: Uvod v programiranje (MAT-1\, PM-2)\, Vaje (V)\, [1]\
 nLetniki: 1. letnik (M)\, 2. letnik (PM)\nIzvajalci: Ajda Lampe\, Timotej 
 Lazar\nProstor: 3.10
LOCATION:3.10
ORGANIZER:Ajda Lampe, Timotej Lazar
RELATED-TO:fmf-AFLABS-URNIK:srecanje:16930
X-WR-TIMEZONE:Europe/Ljubljana
END:VEVENT
END:VCALENDAR
