BEGIN:VCALENDAR
VERSION:2.0
PRODID:-//AFLabs urnik izvoz - fmf//aflabs.si//SI
DTSTAMP:20260422T013439Z
NAME:UL FMF urnik
REFRESH-INTERVAL:PT1H
SOURCE:https://urnik.fmf.uni-lj.si/teacher/191?day=2022-01-10&export=1
URL:https://urnik.fmf.uni-lj.si/teacher/191?day=2022-01-10&export=1
X-PUBLISHED-TTL:PT1H
X-WR-CALNAME:UL FMF urnik
X-WR-TIMEZONE:Europe/Ljubljana
BEGIN:VTIMEZONE
TZID:Europe/Ljubljana
BEGIN:DAYLIGHT
DTSTART:20260329T020000
RDATE:20260329T020000
RDATE:20270328T020000
TZNAME:CEST
TZOFFSETFROM:+0100
TZOFFSETTO:+0200
END:DAYLIGHT
BEGIN:STANDARD
DTSTART:20261025T030000
RDATE:20261025T030000
RDATE:20271031T030000
TZNAME:CET
TZOFFSETFROM:+0200
TZOFFSETTO:+0100
END:STANDARD
END:VTIMEZONE
BEGIN:VEVENT
SUMMARY:Fotonika I (FIZ-M1)\, Predavanja (P)
DTSTART;TZID=Europe/Ljubljana:20211007T080000
DTEND;TZID=Europe/Ljubljana:20211007T110000
DTSTAMP:20260422T013439Z
UID:fmf-AFLABS-URNIK:premaknjeno-srecanje:37640
ATTENDEE:1. letnik (Fizika, 2. stopnja)
CATEGORIES:Entry,Standard
COLOR:darkgreen
DESCRIPTION:Predmet: Fotonika I (FIZ-M1)\, Predavanja (P)\nLetniki: 1. let
 nik (Fizika\, 2. stopnja)\nIzvajalci: Mojca Vilfan\nProstor: F5
LOCATION:F5
ORGANIZER:Mojca Vilfan
RELATED-TO:fmf-AFLABS-URNIK:srecanje:6289
X-WR-TIMEZONE:Europe/Ljubljana
END:VEVENT
BEGIN:VEVENT
SUMMARY:Fotonika I (FIZ-M1)\, Predavanja (P)
DTSTART;TZID=Europe/Ljubljana:20211014T080000
DTEND;TZID=Europe/Ljubljana:20211014T110000
DTSTAMP:20260422T013439Z
UID:fmf-AFLABS-URNIK:premaknjeno-srecanje:37641
ATTENDEE:1. letnik (Fizika, 2. stopnja)
CATEGORIES:Entry,Standard
COLOR:darkgreen
DESCRIPTION:Predmet: Fotonika I (FIZ-M1)\, Predavanja (P)\nLetniki: 1. let
 nik (Fizika\, 2. stopnja)\nIzvajalci: Mojca Vilfan\nProstor: F5
LOCATION:F5
ORGANIZER:Mojca Vilfan
RELATED-TO:fmf-AFLABS-URNIK:srecanje:6289
X-WR-TIMEZONE:Europe/Ljubljana
END:VEVENT
BEGIN:VEVENT
SUMMARY:Fotonika I (FIZ-M1)\, Predavanja (P)
DTSTART;TZID=Europe/Ljubljana:20211021T080000
DTEND;TZID=Europe/Ljubljana:20211021T110000
DTSTAMP:20260422T013439Z
UID:fmf-AFLABS-URNIK:premaknjeno-srecanje:37642
ATTENDEE:1. letnik (Fizika, 2. stopnja)
CATEGORIES:Entry,Standard
COLOR:darkgreen
DESCRIPTION:Predmet: Fotonika I (FIZ-M1)\, Predavanja (P)\nLetniki: 1. let
 nik (Fizika\, 2. stopnja)\nIzvajalci: Mojca Vilfan\nProstor: F5
LOCATION:F5
ORGANIZER:Mojca Vilfan
RELATED-TO:fmf-AFLABS-URNIK:srecanje:6289
X-WR-TIMEZONE:Europe/Ljubljana
END:VEVENT
BEGIN:VEVENT
SUMMARY:Fotonika I (FIZ-M1)\, Predavanja (P)
DTSTART;TZID=Europe/Ljubljana:20211028T080000
DTEND;TZID=Europe/Ljubljana:20211028T110000
DTSTAMP:20260422T013439Z
UID:fmf-AFLABS-URNIK:premaknjeno-srecanje:37643
ATTENDEE:1. letnik (Fizika, 2. stopnja)
CATEGORIES:Entry,Standard
COLOR:darkgreen
DESCRIPTION:Predmet: Fotonika I (FIZ-M1)\, Predavanja (P)\nLetniki: 1. let
 nik (Fizika\, 2. stopnja)\nIzvajalci: Mojca Vilfan\nProstor: F5
LOCATION:F5
ORGANIZER:Mojca Vilfan
RELATED-TO:fmf-AFLABS-URNIK:srecanje:6289
X-WR-TIMEZONE:Europe/Ljubljana
END:VEVENT
BEGIN:VEVENT
SUMMARY:Fotonika I (FIZ-M1)\, Predavanja (P)
DTSTART;TZID=Europe/Ljubljana:20211104T080000
DTEND;TZID=Europe/Ljubljana:20211104T110000
DTSTAMP:20260422T013439Z
UID:fmf-AFLABS-URNIK:premaknjeno-srecanje:37644
ATTENDEE:1. letnik (Fizika, 2. stopnja)
CATEGORIES:Entry,Standard
COLOR:darkgreen
DESCRIPTION:Predmet: Fotonika I (FIZ-M1)\, Predavanja (P)\nLetniki: 1. let
 nik (Fizika\, 2. stopnja)\nIzvajalci: Mojca Vilfan\nProstor: F5
LOCATION:F5
ORGANIZER:Mojca Vilfan
RELATED-TO:fmf-AFLABS-URNIK:srecanje:6289
X-WR-TIMEZONE:Europe/Ljubljana
END:VEVENT
BEGIN:VEVENT
SUMMARY:Fotonika I (FIZ-M1)\, Predavanja (P)
DTSTART;TZID=Europe/Ljubljana:20211111T080000
DTEND;TZID=Europe/Ljubljana:20211111T110000
DTSTAMP:20260422T013439Z
UID:fmf-AFLABS-URNIK:premaknjeno-srecanje:37645
ATTENDEE:1. letnik (Fizika, 2. stopnja)
CATEGORIES:Entry,Standard
COLOR:darkgreen
DESCRIPTION:Predmet: Fotonika I (FIZ-M1)\, Predavanja (P)\nLetniki: 1. let
 nik (Fizika\, 2. stopnja)\nIzvajalci: Mojca Vilfan\nProstor: F5
LOCATION:F5
ORGANIZER:Mojca Vilfan
RELATED-TO:fmf-AFLABS-URNIK:srecanje:6289
X-WR-TIMEZONE:Europe/Ljubljana
END:VEVENT
BEGIN:VEVENT
SUMMARY:Fotonika I (FIZ-M1)\, Predavanja (P)
DTSTART;TZID=Europe/Ljubljana:20211118T080000
DTEND;TZID=Europe/Ljubljana:20211118T110000
DTSTAMP:20260422T013439Z
UID:fmf-AFLABS-URNIK:premaknjeno-srecanje:37646
ATTENDEE:1. letnik (Fizika, 2. stopnja)
CATEGORIES:Entry,Standard
COLOR:darkgreen
DESCRIPTION:Predmet: Fotonika I (FIZ-M1)\, Predavanja (P)\nLetniki: 1. let
 nik (Fizika\, 2. stopnja)\nIzvajalci: Mojca Vilfan\nProstor: F5
LOCATION:F5
ORGANIZER:Mojca Vilfan
RELATED-TO:fmf-AFLABS-URNIK:srecanje:6289
X-WR-TIMEZONE:Europe/Ljubljana
END:VEVENT
BEGIN:VEVENT
SUMMARY:Fotonika I (FIZ-M1)\, Predavanja (P)
DTSTART;TZID=Europe/Ljubljana:20211125T080000
DTEND;TZID=Europe/Ljubljana:20211125T110000
DTSTAMP:20260422T013439Z
UID:fmf-AFLABS-URNIK:premaknjeno-srecanje:37647
ATTENDEE:1. letnik (Fizika, 2. stopnja)
CATEGORIES:Entry,Standard
COLOR:darkgreen
DESCRIPTION:Predmet: Fotonika I (FIZ-M1)\, Predavanja (P)\nLetniki: 1. let
 nik (Fizika\, 2. stopnja)\nIzvajalci: Mojca Vilfan\nProstor: F5
LOCATION:F5
ORGANIZER:Mojca Vilfan
RELATED-TO:fmf-AFLABS-URNIK:srecanje:6289
X-WR-TIMEZONE:Europe/Ljubljana
END:VEVENT
BEGIN:VEVENT
SUMMARY:Fotonika I (FIZ-M1)\, Predavanja (P)
DTSTART;TZID=Europe/Ljubljana:20211202T080000
DTEND;TZID=Europe/Ljubljana:20211202T110000
DTSTAMP:20260422T013439Z
UID:fmf-AFLABS-URNIK:premaknjeno-srecanje:37648
ATTENDEE:1. letnik (Fizika, 2. stopnja)
CATEGORIES:Entry,Standard
COLOR:darkgreen
DESCRIPTION:Predmet: Fotonika I (FIZ-M1)\, Predavanja (P)\nLetniki: 1. let
 nik (Fizika\, 2. stopnja)\nIzvajalci: Mojca Vilfan\nProstor: F5
LOCATION:F5
ORGANIZER:Mojca Vilfan
RELATED-TO:fmf-AFLABS-URNIK:srecanje:6289
X-WR-TIMEZONE:Europe/Ljubljana
END:VEVENT
BEGIN:VEVENT
SUMMARY:Fotonika I (FIZ-M1)\, Predavanja (P)
DTSTART;TZID=Europe/Ljubljana:20211209T080000
DTEND;TZID=Europe/Ljubljana:20211209T110000
DTSTAMP:20260422T013439Z
UID:fmf-AFLABS-URNIK:premaknjeno-srecanje:37649
ATTENDEE:1. letnik (Fizika, 2. stopnja)
CATEGORIES:Entry,Standard
COLOR:darkgreen
DESCRIPTION:Predmet: Fotonika I (FIZ-M1)\, Predavanja (P)\nLetniki: 1. let
 nik (Fizika\, 2. stopnja)\nIzvajalci: Mojca Vilfan\nProstor: F5
LOCATION:F5
ORGANIZER:Mojca Vilfan
RELATED-TO:fmf-AFLABS-URNIK:srecanje:6289
X-WR-TIMEZONE:Europe/Ljubljana
END:VEVENT
BEGIN:VEVENT
SUMMARY:Fotonika I (FIZ-M1)\, Predavanja (P)
DTSTART;TZID=Europe/Ljubljana:20211216T080000
DTEND;TZID=Europe/Ljubljana:20211216T110000
DTSTAMP:20260422T013439Z
UID:fmf-AFLABS-URNIK:premaknjeno-srecanje:37650
ATTENDEE:1. letnik (Fizika, 2. stopnja)
CATEGORIES:Entry,Standard
COLOR:darkgreen
DESCRIPTION:Predmet: Fotonika I (FIZ-M1)\, Predavanja (P)\nLetniki: 1. let
 nik (Fizika\, 2. stopnja)\nIzvajalci: Mojca Vilfan\nProstor: F5
LOCATION:F5
ORGANIZER:Mojca Vilfan
RELATED-TO:fmf-AFLABS-URNIK:srecanje:6289
X-WR-TIMEZONE:Europe/Ljubljana
END:VEVENT
BEGIN:VEVENT
SUMMARY:Fotonika I (FIZ-M1)\, Predavanja (P)
DTSTART;TZID=Europe/Ljubljana:20211223T080000
DTEND;TZID=Europe/Ljubljana:20211223T110000
DTSTAMP:20260422T013439Z
UID:fmf-AFLABS-URNIK:premaknjeno-srecanje:37651
ATTENDEE:1. letnik (Fizika, 2. stopnja)
CATEGORIES:Entry,Standard
COLOR:darkgreen
DESCRIPTION:Predmet: Fotonika I (FIZ-M1)\, Predavanja (P)\nLetniki: 1. let
 nik (Fizika\, 2. stopnja)\nIzvajalci: Mojca Vilfan\nProstor: F5
LOCATION:F5
ORGANIZER:Mojca Vilfan
RELATED-TO:fmf-AFLABS-URNIK:srecanje:6289
X-WR-TIMEZONE:Europe/Ljubljana
END:VEVENT
BEGIN:VEVENT
SUMMARY:Fotonika I (FIZ-M1)\, Predavanja (P)
DTSTART;TZID=Europe/Ljubljana:20211230T080000
DTEND;TZID=Europe/Ljubljana:20211230T110000
DTSTAMP:20260422T013439Z
UID:fmf-AFLABS-URNIK:premaknjeno-srecanje:37652
ATTENDEE:1. letnik (Fizika, 2. stopnja)
CATEGORIES:Entry,Standard
COLOR:darkgreen
DESCRIPTION:Predmet: Fotonika I (FIZ-M1)\, Predavanja (P)\nLetniki: 1. let
 nik (Fizika\, 2. stopnja)\nIzvajalci: Mojca Vilfan\nProstor: F5
LOCATION:F5
ORGANIZER:Mojca Vilfan
RELATED-TO:fmf-AFLABS-URNIK:srecanje:6289
X-WR-TIMEZONE:Europe/Ljubljana
END:VEVENT
BEGIN:VEVENT
SUMMARY:Fotonika I (FIZ-M1)\, Predavanja (P)
DTSTART;TZID=Europe/Ljubljana:20220106T080000
DTEND;TZID=Europe/Ljubljana:20220106T110000
DTSTAMP:20260422T013439Z
UID:fmf-AFLABS-URNIK:premaknjeno-srecanje:37653
ATTENDEE:1. letnik (Fizika, 2. stopnja)
CATEGORIES:Entry,Standard
COLOR:darkgreen
DESCRIPTION:Predmet: Fotonika I (FIZ-M1)\, Predavanja (P)\nLetniki: 1. let
 nik (Fizika\, 2. stopnja)\nIzvajalci: Mojca Vilfan\nProstor: F5
LOCATION:F5
ORGANIZER:Mojca Vilfan
RELATED-TO:fmf-AFLABS-URNIK:srecanje:6289
X-WR-TIMEZONE:Europe/Ljubljana
END:VEVENT
BEGIN:VEVENT
SUMMARY:Fotonika I (FIZ-M1)\, Predavanja (P)
DTSTART;TZID=Europe/Ljubljana:20220113T080000
DTEND;TZID=Europe/Ljubljana:20220113T110000
DTSTAMP:20260422T013439Z
UID:fmf-AFLABS-URNIK:premaknjeno-srecanje:37654
ATTENDEE:1. letnik (Fizika, 2. stopnja)
CATEGORIES:Entry,Standard
COLOR:darkgreen
DESCRIPTION:Predmet: Fotonika I (FIZ-M1)\, Predavanja (P)\nLetniki: 1. let
 nik (Fizika\, 2. stopnja)\nIzvajalci: Mojca Vilfan\nProstor: F5
LOCATION:F5
ORGANIZER:Mojca Vilfan
RELATED-TO:fmf-AFLABS-URNIK:srecanje:6289
X-WR-TIMEZONE:Europe/Ljubljana
END:VEVENT
BEGIN:VEVENT
SUMMARY:Optična spektroskopija (FIZ-M2)\, Vaje (V)
DTSTART;TZID=Europe/Ljubljana:20220214T110000
DTEND;TZID=Europe/Ljubljana:20220214T120000
DTSTAMP:20260422T013439Z
UID:fmf-AFLABS-URNIK:premaknjeno-srecanje:80750
ATTENDEE:2. letnik (Fizika, 2. stopnja)
CATEGORIES:Entry,Standard
COLOR:darkgreen
DESCRIPTION:Predmet: Optična spektroskopija (FIZ-M2)\, Vaje (V)\nLetniki:
  2. letnik (Fizika\, 2. stopnja)\nIzvajalci: Mojca Vilfan\nProstor: F7
LOCATION:F7
ORGANIZER:Mojca Vilfan
RELATED-TO:fmf-AFLABS-URNIK:srecanje:7401
X-WR-TIMEZONE:Europe/Ljubljana
END:VEVENT
BEGIN:VEVENT
SUMMARY:Rezervacija
DTSTART;TZID=Europe/Ljubljana:20220201T090000
DTEND;TZID=Europe/Ljubljana:20220201T120000
DTSTAMP:20260422T013439Z
UID:fmf-AFLABS-URNIK:rezervacija:8430
CATEGORIES:Reservation
COLOR:royalblue
DESCRIPTION:Predmeti: \nLetniki: \nIzvajalci: Mojca Vilfan\nProstori: F5
LOCATION:F5
ORGANIZER:Mojca Vilfan
X-WR-TIMEZONE:Europe/Ljubljana
END:VEVENT
BEGIN:VEVENT
SUMMARY:Rezervacija
DTSTART;TZID=Europe/Ljubljana:20220204T120000
DTEND;TZID=Europe/Ljubljana:20220204T130000
DTSTAMP:20260422T013439Z
UID:fmf-AFLABS-URNIK:rezervacija:8489
CATEGORIES:Reservation
COLOR:royalblue
DESCRIPTION:Predmeti: \nLetniki: \nIzvajalci: Mojca Vilfan\nProstori: F5
LOCATION:F5
ORGANIZER:Mojca Vilfan
X-WR-TIMEZONE:Europe/Ljubljana
END:VEVENT
BEGIN:VEVENT
SUMMARY:Rezervacija
DTSTART;TZID=Europe/Ljubljana:20220209T090000
DTEND;TZID=Europe/Ljubljana:20220209T120000
DTSTAMP:20260422T013439Z
UID:fmf-AFLABS-URNIK:rezervacija:8520
CATEGORIES:Reservation
COLOR:royalblue
DESCRIPTION:Predmeti: \nLetniki: \nIzvajalci: Mojca Vilfan\nProstori: F5
LOCATION:F5
ORGANIZER:Mojca Vilfan
X-WR-TIMEZONE:Europe/Ljubljana
END:VEVENT
BEGIN:VEVENT
SUMMARY:Rezervacija
DTSTART;TZID=Europe/Ljubljana:20220211T090000
DTEND;TZID=Europe/Ljubljana:20220211T120000
DTSTAMP:20260422T013439Z
UID:fmf-AFLABS-URNIK:rezervacija:8559
CATEGORIES:Reservation
COLOR:royalblue
DESCRIPTION:Predmeti: \nLetniki: \nIzvajalci: Mojca Vilfan\nProstori: F5
LOCATION:F5
ORGANIZER:Mojca Vilfan
X-WR-TIMEZONE:Europe/Ljubljana
END:VEVENT
END:VCALENDAR
