BEGIN:VCALENDAR
VERSION:2.0
PRODID:-//AFLabs urnik izvoz - fmf//aflabs.si//SI
DTSTAMP:20260420T141608Z
NAME:UL FMF urnik
REFRESH-INTERVAL:PT1H
SOURCE:https://urnik.fmf.uni-lj.si/teacher/191?day=2023-02-06&export=1
URL:https://urnik.fmf.uni-lj.si/teacher/191?day=2023-02-06&export=1
X-PUBLISHED-TTL:PT1H
X-WR-CALNAME:UL FMF urnik
X-WR-TIMEZONE:Europe/Ljubljana
BEGIN:VTIMEZONE
TZID:Europe/Ljubljana
BEGIN:DAYLIGHT
DTSTART:20260329T020000
RDATE:20260329T020000
RDATE:20270328T020000
TZNAME:CEST
TZOFFSETFROM:+0100
TZOFFSETTO:+0200
END:DAYLIGHT
BEGIN:STANDARD
DTSTART:20261025T030000
RDATE:20261025T030000
RDATE:20271031T030000
TZNAME:CET
TZOFFSETFROM:+0200
TZOFFSETTO:+0100
END:STANDARD
END:VTIMEZONE
BEGIN:VEVENT
SUMMARY:Fotonika I (FIZ-M1)\, Predavanja (P)
DTSTART;TZID=Europe/Ljubljana:20230103T110000
DTEND;TZID=Europe/Ljubljana:20230103T140000
DTSTAMP:20260420T141608Z
UID:fmf-AFLABS-URNIK:premaknjeno-srecanje:37638
ATTENDEE:1. letnik (Fizika, 2. stopnja)
CATEGORIES:Entry,Standard
COLOR:darkgreen
DESCRIPTION:Predmet: Fotonika I (FIZ-M1)\, Predavanja (P)\nLetniki: 1. let
 nik (Fizika\, 2. stopnja)\nIzvajalci: Mojca Vilfan\nProstor: F7
LOCATION:F7
ORGANIZER:Mojca Vilfan
RELATED-TO:fmf-AFLABS-URNIK:srecanje:7649
X-WR-TIMEZONE:Europe/Ljubljana
END:VEVENT
BEGIN:VEVENT
SUMMARY:Fotonika I (FIZ-M1)\, Predavanja (P)
DTSTART;TZID=Europe/Ljubljana:20230110T110000
DTEND;TZID=Europe/Ljubljana:20230110T140000
DTSTAMP:20260420T141608Z
UID:fmf-AFLABS-URNIK:premaknjeno-srecanje:37639
ATTENDEE:1. letnik (Fizika, 2. stopnja)
CATEGORIES:Entry,Standard
COLOR:darkgreen
DESCRIPTION:Predmet: Fotonika I (FIZ-M1)\, Predavanja (P)\nLetniki: 1. let
 nik (Fizika\, 2. stopnja)\nIzvajalci: Mojca Vilfan\nProstor: F7
LOCATION:F7
ORGANIZER:Mojca Vilfan
RELATED-TO:fmf-AFLABS-URNIK:srecanje:7649
X-WR-TIMEZONE:Europe/Ljubljana
END:VEVENT
BEGIN:VEVENT
SUMMARY:Optoelektronika (APF-2\, APF-3)\, Predavanja (P)
DTSTART;TZID=Europe/Ljubljana:20230215T120000
DTEND;TZID=Europe/Ljubljana:20230215T140000
DTSTAMP:20260420T141608Z
UID:fmf-AFLABS-URNIK:premaknjeno-srecanje:81025
ATTENDEE:2. letnik (Aplikativna fizika)
ATTENDEE:3. letnik (Aplikativna fizika)
CATEGORIES:Entry,Standard
COLOR:darkgreen
DESCRIPTION:Predmet: Optoelektronika (APF-2\, APF-3)\, Predavanja (P)\nLet
 niki: 2. letnik (Aplikativna fizika)\, 3. letnik (Aplikativna fizika)\nIzv
 ajalci: Mojca Vilfan\nProstor: F7
LOCATION:F7
ORGANIZER:Mojca Vilfan
RELATED-TO:fmf-AFLABS-URNIK:srecanje:8612
X-WR-TIMEZONE:Europe/Ljubljana
END:VEVENT
BEGIN:VEVENT
SUMMARY:Optoelektronika (APF-2\, APF-3)\, Predavanja (P)
DTSTART;TZID=Europe/Ljubljana:20230222T120000
DTEND;TZID=Europe/Ljubljana:20230222T140000
DTSTAMP:20260420T141608Z
UID:fmf-AFLABS-URNIK:premaknjeno-srecanje:81026
ATTENDEE:2. letnik (Aplikativna fizika)
ATTENDEE:3. letnik (Aplikativna fizika)
CATEGORIES:Entry,Standard
COLOR:darkgreen
DESCRIPTION:Predmet: Optoelektronika (APF-2\, APF-3)\, Predavanja (P)\nLet
 niki: 2. letnik (Aplikativna fizika)\, 3. letnik (Aplikativna fizika)\nIzv
 ajalci: Mojca Vilfan\nProstor: F7
LOCATION:F7
ORGANIZER:Mojca Vilfan
RELATED-TO:fmf-AFLABS-URNIK:srecanje:8612
X-WR-TIMEZONE:Europe/Ljubljana
END:VEVENT
BEGIN:VEVENT
SUMMARY:Optoelektronika (APF-2\, APF-3)\, Predavanja (P)
DTSTART;TZID=Europe/Ljubljana:20230301T120000
DTEND;TZID=Europe/Ljubljana:20230301T140000
DTSTAMP:20260420T141608Z
UID:fmf-AFLABS-URNIK:premaknjeno-srecanje:81027
ATTENDEE:2. letnik (Aplikativna fizika)
ATTENDEE:3. letnik (Aplikativna fizika)
CATEGORIES:Entry,Standard
COLOR:darkgreen
DESCRIPTION:Predmet: Optoelektronika (APF-2\, APF-3)\, Predavanja (P)\nLet
 niki: 2. letnik (Aplikativna fizika)\, 3. letnik (Aplikativna fizika)\nIzv
 ajalci: Mojca Vilfan\nProstor: F7
LOCATION:F7
ORGANIZER:Mojca Vilfan
RELATED-TO:fmf-AFLABS-URNIK:srecanje:8612
X-WR-TIMEZONE:Europe/Ljubljana
END:VEVENT
BEGIN:VEVENT
SUMMARY:Optoelektronika (APF-2\, APF-3)\, Predavanja (P)
DTSTART;TZID=Europe/Ljubljana:20230308T120000
DTEND;TZID=Europe/Ljubljana:20230308T140000
DTSTAMP:20260420T141608Z
UID:fmf-AFLABS-URNIK:premaknjeno-srecanje:81028
ATTENDEE:2. letnik (Aplikativna fizika)
ATTENDEE:3. letnik (Aplikativna fizika)
CATEGORIES:Entry,Standard
COLOR:darkgreen
DESCRIPTION:Predmet: Optoelektronika (APF-2\, APF-3)\, Predavanja (P)\nLet
 niki: 2. letnik (Aplikativna fizika)\, 3. letnik (Aplikativna fizika)\nIzv
 ajalci: Mojca Vilfan\nProstor: F7
LOCATION:F7
ORGANIZER:Mojca Vilfan
RELATED-TO:fmf-AFLABS-URNIK:srecanje:8612
X-WR-TIMEZONE:Europe/Ljubljana
END:VEVENT
BEGIN:VEVENT
SUMMARY:Rezervacija
DTSTART;TZID=Europe/Ljubljana:20230113T090000
DTEND;TZID=Europe/Ljubljana:20230113T120000
DTSTAMP:20260420T141608Z
UID:fmf-AFLABS-URNIK:rezervacija:10837
CATEGORIES:Reservation
COLOR:royalblue
DESCRIPTION:Predmeti: \nLetniki: \nIzvajalci: Mojca Vilfan\nProstori: Kuš
 čerjev seminar
LOCATION:Kuščerjev seminar
ORGANIZER:Mojca Vilfan
X-WR-TIMEZONE:Europe/Ljubljana
END:VEVENT
BEGIN:VEVENT
SUMMARY:Rezervacija
DTSTART;TZID=Europe/Ljubljana:20230130T090000
DTEND;TZID=Europe/Ljubljana:20230130T110000
DTSTAMP:20260420T141608Z
UID:fmf-AFLABS-URNIK:rezervacija:11073
ATTENDEE:1. letnik (Fizika, 2. stopnja)
CATEGORIES:Reservation
COLOR:royalblue
DESCRIPTION:Predmeti: Fotonika I (FIZ-M1)\nLetniki: 1. letnik (Fizika\, 2.
  stopnja)\nIzvajalci: Mojca Vilfan\nProstori: F5
LOCATION:F5
ORGANIZER:Mojca Vilfan
X-WR-TIMEZONE:Europe/Ljubljana
END:VEVENT
BEGIN:VEVENT
SUMMARY:Rezervacija
DTSTART;TZID=Europe/Ljubljana:20230206T090000
DTEND;TZID=Europe/Ljubljana:20230206T120000
DTSTAMP:20260420T141608Z
UID:fmf-AFLABS-URNIK:rezervacija:11176
CATEGORIES:Reservation
COLOR:royalblue
DESCRIPTION:Predmeti: \nLetniki: \nIzvajalci: Mojca Vilfan\nProstori: F5
LOCATION:F5
ORGANIZER:Mojca Vilfan
X-WR-TIMEZONE:Europe/Ljubljana
END:VEVENT
BEGIN:VEVENT
SUMMARY:Rezervacija
DTSTART;TZID=Europe/Ljubljana:20230209T090000
DTEND;TZID=Europe/Ljubljana:20230209T110000
DTSTAMP:20260420T141608Z
UID:fmf-AFLABS-URNIK:rezervacija:11221
CATEGORIES:Reservation
COLOR:royalblue
DESCRIPTION:Predmeti: \nLetniki: \nIzvajalci: Mojca Vilfan\nProstori: F3
LOCATION:F3
ORGANIZER:Mojca Vilfan
X-WR-TIMEZONE:Europe/Ljubljana
END:VEVENT
BEGIN:VEVENT
SUMMARY:Rezervacija
DTSTART;TZID=Europe/Ljubljana:20230216T120000
DTEND;TZID=Europe/Ljubljana:20230216T130000
DTSTAMP:20260420T141608Z
UID:fmf-AFLABS-URNIK:rezervacija:11273
CATEGORIES:Reservation
COLOR:royalblue
DESCRIPTION:Predmeti: \nLetniki: \nIzvajalci: Mojca Vilfan\nProstori: F6
LOCATION:F6
ORGANIZER:Mojca Vilfan
X-WR-TIMEZONE:Europe/Ljubljana
END:VEVENT
BEGIN:VEVENT
SUMMARY:Rezervacija
DTSTART;TZID=Europe/Ljubljana:20230301T140000
DTEND;TZID=Europe/Ljubljana:20230301T150000
DTSTAMP:20260420T141608Z
UID:fmf-AFLABS-URNIK:rezervacija:11371
CATEGORIES:Reservation
COLOR:royalblue
DESCRIPTION:Predmeti: \nLetniki: \nIzvajalci: Mojca Vilfan\nProstori: F4
LOCATION:F4
ORGANIZER:Mojca Vilfan
X-WR-TIMEZONE:Europe/Ljubljana
END:VEVENT
END:VCALENDAR
