BEGIN:VCALENDAR
VERSION:2.0
PRODID:-//AFLabs urnik izvoz - fmf//aflabs.si//SI
DTSTAMP:20260425T164440Z
NAME:UL FMF urnik
REFRESH-INTERVAL:PT1H
SOURCE:https://urnik.fmf.uni-lj.si/teacher/191?day=2024-09-09&export=1
URL:https://urnik.fmf.uni-lj.si/teacher/191?day=2024-09-09&export=1
X-PUBLISHED-TTL:PT1H
X-WR-CALNAME:UL FMF urnik
X-WR-TIMEZONE:Europe/Ljubljana
BEGIN:VTIMEZONE
TZID:Europe/Ljubljana
BEGIN:DAYLIGHT
DTSTART:20260329T020000
RDATE:20260329T020000
RDATE:20270328T020000
TZNAME:CEST
TZOFFSETFROM:+0100
TZOFFSETTO:+0200
END:DAYLIGHT
BEGIN:STANDARD
DTSTART:20261025T030000
RDATE:20261025T030000
RDATE:20271031T030000
TZNAME:CET
TZOFFSETFROM:+0200
TZOFFSETTO:+0100
END:STANDARD
END:VTIMEZONE
BEGIN:VEVENT
SUMMARY:Fotonika I (FIZ-M1)\, Predavanja (P)
DTSTART;TZID=Europe/Ljubljana:20241001T110000
DTEND;TZID=Europe/Ljubljana:20241001T140000
DTSTAMP:20260425T164440Z
UID:fmf-AFLABS-URNIK:premaknjeno-srecanje:180022
ATTENDEE:1. letnik (Fizika, 2. stopnja)
CATEGORIES:Entry,Standard
COLOR:darkgreen
DESCRIPTION:Predmet: Fotonika I (FIZ-M1)\, Predavanja (P)\nLetniki: 1. let
 nik (Fizika\, 2. stopnja)\nIzvajalci: Mojca Vilfan\nProstor: F7
LOCATION:F7
ORGANIZER:Mojca Vilfan
RELATED-TO:fmf-AFLABS-URNIK:srecanje:13721
X-WR-TIMEZONE:Europe/Ljubljana
END:VEVENT
BEGIN:VEVENT
SUMMARY:Fotonika I (FIZ-M1)\, Predavanja (P)
DTSTART;TZID=Europe/Ljubljana:20241008T110000
DTEND;TZID=Europe/Ljubljana:20241008T140000
DTSTAMP:20260425T164440Z
UID:fmf-AFLABS-URNIK:premaknjeno-srecanje:180023
ATTENDEE:1. letnik (Fizika, 2. stopnja)
CATEGORIES:Entry,Standard
COLOR:darkgreen
DESCRIPTION:Predmet: Fotonika I (FIZ-M1)\, Predavanja (P)\nLetniki: 1. let
 nik (Fizika\, 2. stopnja)\nIzvajalci: Mojca Vilfan\nProstor: F7
LOCATION:F7
ORGANIZER:Mojca Vilfan
RELATED-TO:fmf-AFLABS-URNIK:srecanje:13721
X-WR-TIMEZONE:Europe/Ljubljana
END:VEVENT
BEGIN:VEVENT
SUMMARY:Sestanek programske skupine P1-0192 ()\, Ostalo (O)
DTSTART;TZID=Europe/Ljubljana:20241007T100000
DTEND;TZID=Europe/Ljubljana:20241007T120000
DTSTAMP:20260425T164440Z
UID:fmf-AFLABS-URNIK:premaknjeno-srecanje:197198
CATEGORIES:Entry,Standard
COLOR:darkgreen
DESCRIPTION:Predmet: Sestanek programske skupine P1-0192 ()\, Ostalo (O)\n
 Letniki: \nIzvajalci: Irena Drevenšek Olenik\, Boris Majaron\, Natan Oste
 rman\, Andrej Petelin\, Izidor Straus\, Izidor Straus (Študent)\, Mojca V
 ilfan\nProstor: 1.02
LOCATION:1.02
ORGANIZER:Irena Drevenšek Olenik, Boris Majaron, Natan Osterman, Andrej P
 etelin, Izidor Straus, Izidor Straus (Študent), Mojca Vilfan
RELATED-TO:fmf-AFLABS-URNIK:srecanje:14602
X-WR-TIMEZONE:Europe/Ljubljana
END:VEVENT
BEGIN:VEVENT
SUMMARY:Sestanek programske skupine P1-0192 ()\, Ostalo (O)
DTSTART;TZID=Europe/Ljubljana:20241014T100000
DTEND;TZID=Europe/Ljubljana:20241014T120000
DTSTAMP:20260425T164440Z
UID:fmf-AFLABS-URNIK:premaknjeno-srecanje:197199
CATEGORIES:Entry,Standard
COLOR:darkgreen
DESCRIPTION:Predmet: Sestanek programske skupine P1-0192 ()\, Ostalo (O)\n
 Letniki: \nIzvajalci: Irena Drevenšek Olenik\, Boris Majaron\, Natan Oste
 rman\, Andrej Petelin\, Izidor Straus\, Izidor Straus (Študent)\, Mojca V
 ilfan\nProstor: 1.02
LOCATION:1.02
ORGANIZER:Irena Drevenšek Olenik, Boris Majaron, Natan Osterman, Andrej P
 etelin, Izidor Straus, Izidor Straus (Študent), Mojca Vilfan
RELATED-TO:fmf-AFLABS-URNIK:srecanje:14602
X-WR-TIMEZONE:Europe/Ljubljana
END:VEVENT
BEGIN:VEVENT
SUMMARY:Ustni izpiti Fotonika\, Optika
DTSTART;TZID=Europe/Ljubljana:20240823T090000
DTEND;TZID=Europe/Ljubljana:20240823T110000
DTSTAMP:20260425T164440Z
UID:fmf-AFLABS-URNIK:rezervacija:17706
ATTENDEE:1. letnik (Fizika, 2. stopnja)
ATTENDEE:3. letnik (Fizika, 1. stopnja)
CATEGORIES:Reservation
COLOR:royalblue
DESCRIPTION:Predmeti: Fotonika I (FIZ-M1)\, Optika (FIZ-3)\nLetniki: 3. le
 tnik (Fizika\, 1. stopnja)\, 1. letnik (Fizika\, 2. stopnja)\nIzvajalci: M
 ojca Vilfan\nProstori: F3
LOCATION:F3
ORGANIZER:Mojca Vilfan
X-WR-TIMEZONE:Europe/Ljubljana
END:VEVENT
BEGIN:VEVENT
SUMMARY:Ustni izpiti Optika/Fotonika 1
DTSTART;TZID=Europe/Ljubljana:20240909T090000
DTEND;TZID=Europe/Ljubljana:20240909T120000
DTSTAMP:20260425T164440Z
UID:fmf-AFLABS-URNIK:rezervacija:17818
ATTENDEE:1. letnik (Fizika, 2. stopnja)
ATTENDEE:3. letnik (Fizika, 1. stopnja)
CATEGORIES:Reservation
COLOR:royalblue
DESCRIPTION:Predmeti: Fotonika I (FIZ-M1)\, Optika (FIZ-3)\nLetniki: 3. le
 tnik (Fizika\, 1. stopnja)\, 1. letnik (Fizika\, 2. stopnja)\nIzvajalci: M
 ojca Vilfan\nProstori: F5
LOCATION:F5
ORGANIZER:Mojca Vilfan
X-WR-TIMEZONE:Europe/Ljubljana
END:VEVENT
BEGIN:VEVENT
SUMMARY:Pisni izpit Optika
DTSTART;TZID=Europe/Ljubljana:20240827T100000
DTEND;TZID=Europe/Ljubljana:20240827T120000
DTSTAMP:20260425T164440Z
UID:fmf-AFLABS-URNIK:rezervacija:17841
ATTENDEE:3. letnik (Fizika, 1. stopnja)
CATEGORIES:Reservation
COLOR:royalblue
DESCRIPTION:Predmeti: Optika (FIZ-3)\nLetniki: 3. letnik (Fizika\, 1. stop
 nja)\nIzvajalci: Igor Vaskivskyi\, Mojca Vilfan\nProstori: F3
LOCATION:F3
ORGANIZER:Igor Vaskivskyi, Mojca Vilfan
X-WR-TIMEZONE:Europe/Ljubljana
END:VEVENT
BEGIN:VEVENT
SUMMARY:Radiovedni
DTSTART;TZID=Europe/Ljubljana:20241010T100000
DTEND;TZID=Europe/Ljubljana:20241010T110000
DTSTAMP:20260425T164440Z
UID:fmf-AFLABS-URNIK:rezervacija:19103
CATEGORIES:Reservation
COLOR:royalblue
DESCRIPTION:Predmeti: \nLetniki: \nIzvajalci: Mojca Vilfan\nProstori: F3
LOCATION:F3
ORGANIZER:Mojca Vilfan
X-WR-TIMEZONE:Europe/Ljubljana
END:VEVENT
END:VCALENDAR
