BEGIN:VCALENDAR
VERSION:2.0
PRODID:-//AFLabs urnik izvoz - fmf//aflabs.si//SI
DTSTAMP:20260422T015336Z
NAME:UL FMF urnik
REFRESH-INTERVAL:PT1H
SOURCE:https://urnik.fmf.uni-lj.si/teacher/192?day=2021-12-13&export=1
URL:https://urnik.fmf.uni-lj.si/teacher/192?day=2021-12-13&export=1
X-PUBLISHED-TTL:PT1H
X-WR-CALNAME:UL FMF urnik
X-WR-TIMEZONE:Europe/Ljubljana
BEGIN:VTIMEZONE
TZID:Europe/Ljubljana
BEGIN:DAYLIGHT
DTSTART:20260329T020000
RDATE:20260329T020000
RDATE:20270328T020000
TZNAME:CEST
TZOFFSETFROM:+0100
TZOFFSETTO:+0200
END:DAYLIGHT
BEGIN:STANDARD
DTSTART:20261025T030000
RDATE:20261025T030000
RDATE:20271031T030000
TZNAME:CET
TZOFFSETFROM:+0200
TZOFFSETTO:+0100
END:STANDARD
END:VTIMEZONE
BEGIN:VEVENT
SUMMARY:Industrijska fizika (FIZ-3)\, Predavanja (P)
DTSTART;TZID=Europe/Ljubljana:20211006T140000
DTEND;TZID=Europe/Ljubljana:20211006T170000
DTSTAMP:20260422T015336Z
UID:fmf-AFLABS-URNIK:premaknjeno-srecanje:42109
ATTENDEE:3. letnik (Fizika, 1. stopnja)
CATEGORIES:Entry,Standard
COLOR:darkgreen
DESCRIPTION:Predmet: Industrijska fizika (FIZ-3)\, Predavanja (P)\nLetniki
 : 3. letnik (Fizika\, 1. stopnja)\nIzvajalci: Denis Arčon\, Dean Cvetko\n
 Prostor: F1
LOCATION:F1
ORGANIZER:Denis Arčon, Dean Cvetko
RELATED-TO:fmf-AFLABS-URNIK:srecanje:6304
X-WR-TIMEZONE:Europe/Ljubljana
END:VEVENT
BEGIN:VEVENT
SUMMARY:Industrijska fizika (FIZ-3)\, Predavanja (P)
DTSTART;TZID=Europe/Ljubljana:20211013T140000
DTEND;TZID=Europe/Ljubljana:20211013T170000
DTSTAMP:20260422T015336Z
UID:fmf-AFLABS-URNIK:premaknjeno-srecanje:42110
ATTENDEE:3. letnik (Fizika, 1. stopnja)
CATEGORIES:Entry,Standard
COLOR:darkgreen
DESCRIPTION:Predmet: Industrijska fizika (FIZ-3)\, Predavanja (P)\nLetniki
 : 3. letnik (Fizika\, 1. stopnja)\nIzvajalci: Denis Arčon\, Dean Cvetko\n
 Prostor: F1
LOCATION:F1
ORGANIZER:Denis Arčon, Dean Cvetko
RELATED-TO:fmf-AFLABS-URNIK:srecanje:6304
X-WR-TIMEZONE:Europe/Ljubljana
END:VEVENT
BEGIN:VEVENT
SUMMARY:Industrijska fizika (FIZ-3)\, Predavanja (P)
DTSTART;TZID=Europe/Ljubljana:20211020T140000
DTEND;TZID=Europe/Ljubljana:20211020T170000
DTSTAMP:20260422T015336Z
UID:fmf-AFLABS-URNIK:premaknjeno-srecanje:42111
ATTENDEE:3. letnik (Fizika, 1. stopnja)
CATEGORIES:Entry,Standard
COLOR:darkgreen
DESCRIPTION:Predmet: Industrijska fizika (FIZ-3)\, Predavanja (P)\nLetniki
 : 3. letnik (Fizika\, 1. stopnja)\nIzvajalci: Denis Arčon\, Dean Cvetko\n
 Prostor: F1
LOCATION:F1
ORGANIZER:Denis Arčon, Dean Cvetko
RELATED-TO:fmf-AFLABS-URNIK:srecanje:6304
X-WR-TIMEZONE:Europe/Ljubljana
END:VEVENT
BEGIN:VEVENT
SUMMARY:Industrijska fizika (FIZ-3)\, Predavanja (P)
DTSTART;TZID=Europe/Ljubljana:20211027T140000
DTEND;TZID=Europe/Ljubljana:20211027T170000
DTSTAMP:20260422T015336Z
UID:fmf-AFLABS-URNIK:premaknjeno-srecanje:42112
ATTENDEE:3. letnik (Fizika, 1. stopnja)
CATEGORIES:Entry,Standard
COLOR:darkgreen
DESCRIPTION:Predmet: Industrijska fizika (FIZ-3)\, Predavanja (P)\nLetniki
 : 3. letnik (Fizika\, 1. stopnja)\nIzvajalci: Denis Arčon\, Dean Cvetko\n
 Prostor: F1
LOCATION:F1
ORGANIZER:Denis Arčon, Dean Cvetko
RELATED-TO:fmf-AFLABS-URNIK:srecanje:6304
X-WR-TIMEZONE:Europe/Ljubljana
END:VEVENT
BEGIN:VEVENT
SUMMARY:Industrijska fizika (FIZ-3)\, Predavanja (P)
DTSTART;TZID=Europe/Ljubljana:20211103T140000
DTEND;TZID=Europe/Ljubljana:20211103T170000
DTSTAMP:20260422T015336Z
UID:fmf-AFLABS-URNIK:premaknjeno-srecanje:42113
ATTENDEE:3. letnik (Fizika, 1. stopnja)
CATEGORIES:Entry,Standard
COLOR:darkgreen
DESCRIPTION:Predmet: Industrijska fizika (FIZ-3)\, Predavanja (P)\nLetniki
 : 3. letnik (Fizika\, 1. stopnja)\nIzvajalci: Denis Arčon\, Dean Cvetko\n
 Prostor: F1
LOCATION:F1
ORGANIZER:Denis Arčon, Dean Cvetko
RELATED-TO:fmf-AFLABS-URNIK:srecanje:6304
X-WR-TIMEZONE:Europe/Ljubljana
END:VEVENT
BEGIN:VEVENT
SUMMARY:Industrijska fizika (FIZ-3)\, Predavanja (P)
DTSTART;TZID=Europe/Ljubljana:20211110T140000
DTEND;TZID=Europe/Ljubljana:20211110T170000
DTSTAMP:20260422T015336Z
UID:fmf-AFLABS-URNIK:premaknjeno-srecanje:42114
ATTENDEE:3. letnik (Fizika, 1. stopnja)
CATEGORIES:Entry,Standard
COLOR:darkgreen
DESCRIPTION:Predmet: Industrijska fizika (FIZ-3)\, Predavanja (P)\nLetniki
 : 3. letnik (Fizika\, 1. stopnja)\nIzvajalci: Denis Arčon\, Dean Cvetko\n
 Prostor: F1
LOCATION:F1
ORGANIZER:Denis Arčon, Dean Cvetko
RELATED-TO:fmf-AFLABS-URNIK:srecanje:6304
X-WR-TIMEZONE:Europe/Ljubljana
END:VEVENT
BEGIN:VEVENT
SUMMARY:Industrijska fizika (FIZ-3)\, Predavanja (P)
DTSTART;TZID=Europe/Ljubljana:20211117T140000
DTEND;TZID=Europe/Ljubljana:20211117T170000
DTSTAMP:20260422T015336Z
UID:fmf-AFLABS-URNIK:premaknjeno-srecanje:42115
ATTENDEE:3. letnik (Fizika, 1. stopnja)
CATEGORIES:Entry,Standard
COLOR:darkgreen
DESCRIPTION:Predmet: Industrijska fizika (FIZ-3)\, Predavanja (P)\nLetniki
 : 3. letnik (Fizika\, 1. stopnja)\nIzvajalci: Denis Arčon\, Dean Cvetko\n
 Prostor: F1
LOCATION:F1
ORGANIZER:Denis Arčon, Dean Cvetko
RELATED-TO:fmf-AFLABS-URNIK:srecanje:6304
X-WR-TIMEZONE:Europe/Ljubljana
END:VEVENT
BEGIN:VEVENT
SUMMARY:Industrijska fizika (FIZ-3)\, Predavanja (P)
DTSTART;TZID=Europe/Ljubljana:20211124T140000
DTEND;TZID=Europe/Ljubljana:20211124T170000
DTSTAMP:20260422T015336Z
UID:fmf-AFLABS-URNIK:premaknjeno-srecanje:42116
ATTENDEE:3. letnik (Fizika, 1. stopnja)
CATEGORIES:Entry,Standard
COLOR:darkgreen
DESCRIPTION:Predmet: Industrijska fizika (FIZ-3)\, Predavanja (P)\nLetniki
 : 3. letnik (Fizika\, 1. stopnja)\nIzvajalci: Denis Arčon\, Dean Cvetko\n
 Prostor: F1
LOCATION:F1
ORGANIZER:Denis Arčon, Dean Cvetko
RELATED-TO:fmf-AFLABS-URNIK:srecanje:6304
X-WR-TIMEZONE:Europe/Ljubljana
END:VEVENT
BEGIN:VEVENT
SUMMARY:Industrijska fizika (FIZ-3)\, Predavanja (P)
DTSTART;TZID=Europe/Ljubljana:20211201T140000
DTEND;TZID=Europe/Ljubljana:20211201T170000
DTSTAMP:20260422T015336Z
UID:fmf-AFLABS-URNIK:premaknjeno-srecanje:42117
ATTENDEE:3. letnik (Fizika, 1. stopnja)
CATEGORIES:Entry,Standard
COLOR:darkgreen
DESCRIPTION:Predmet: Industrijska fizika (FIZ-3)\, Predavanja (P)\nLetniki
 : 3. letnik (Fizika\, 1. stopnja)\nIzvajalci: Denis Arčon\, Dean Cvetko\n
 Prostor: F1
LOCATION:F1
ORGANIZER:Denis Arčon, Dean Cvetko
RELATED-TO:fmf-AFLABS-URNIK:srecanje:6304
X-WR-TIMEZONE:Europe/Ljubljana
END:VEVENT
BEGIN:VEVENT
SUMMARY:Industrijska fizika (FIZ-3)\, Predavanja (P)
DTSTART;TZID=Europe/Ljubljana:20211208T140000
DTEND;TZID=Europe/Ljubljana:20211208T170000
DTSTAMP:20260422T015336Z
UID:fmf-AFLABS-URNIK:premaknjeno-srecanje:42118
ATTENDEE:3. letnik (Fizika, 1. stopnja)
CATEGORIES:Entry,Standard
COLOR:darkgreen
DESCRIPTION:Predmet: Industrijska fizika (FIZ-3)\, Predavanja (P)\nLetniki
 : 3. letnik (Fizika\, 1. stopnja)\nIzvajalci: Denis Arčon\, Dean Cvetko\n
 Prostor: F1
LOCATION:F1
ORGANIZER:Denis Arčon, Dean Cvetko
RELATED-TO:fmf-AFLABS-URNIK:srecanje:6304
X-WR-TIMEZONE:Europe/Ljubljana
END:VEVENT
BEGIN:VEVENT
SUMMARY:Industrijska fizika (FIZ-3)\, Predavanja (P)
DTSTART;TZID=Europe/Ljubljana:20211215T140000
DTEND;TZID=Europe/Ljubljana:20211215T170000
DTSTAMP:20260422T015336Z
UID:fmf-AFLABS-URNIK:premaknjeno-srecanje:42119
ATTENDEE:3. letnik (Fizika, 1. stopnja)
CATEGORIES:Entry,Standard
COLOR:darkgreen
DESCRIPTION:Predmet: Industrijska fizika (FIZ-3)\, Predavanja (P)\nLetniki
 : 3. letnik (Fizika\, 1. stopnja)\nIzvajalci: Denis Arčon\, Dean Cvetko\n
 Prostor: F1
LOCATION:F1
ORGANIZER:Denis Arčon, Dean Cvetko
RELATED-TO:fmf-AFLABS-URNIK:srecanje:6304
X-WR-TIMEZONE:Europe/Ljubljana
END:VEVENT
BEGIN:VEVENT
SUMMARY:Industrijska fizika (FIZ-3)\, Predavanja (P)
DTSTART;TZID=Europe/Ljubljana:20211222T140000
DTEND;TZID=Europe/Ljubljana:20211222T170000
DTSTAMP:20260422T015336Z
UID:fmf-AFLABS-URNIK:premaknjeno-srecanje:42120
ATTENDEE:3. letnik (Fizika, 1. stopnja)
CATEGORIES:Entry,Standard
COLOR:darkgreen
DESCRIPTION:Predmet: Industrijska fizika (FIZ-3)\, Predavanja (P)\nLetniki
 : 3. letnik (Fizika\, 1. stopnja)\nIzvajalci: Denis Arčon\, Dean Cvetko\n
 Prostor: F1
LOCATION:F1
ORGANIZER:Denis Arčon, Dean Cvetko
RELATED-TO:fmf-AFLABS-URNIK:srecanje:6304
X-WR-TIMEZONE:Europe/Ljubljana
END:VEVENT
BEGIN:VEVENT
SUMMARY:Industrijska fizika (FIZ-3)\, Predavanja (P)
DTSTART;TZID=Europe/Ljubljana:20211229T140000
DTEND;TZID=Europe/Ljubljana:20211229T170000
DTSTAMP:20260422T015336Z
UID:fmf-AFLABS-URNIK:premaknjeno-srecanje:42121
ATTENDEE:3. letnik (Fizika, 1. stopnja)
CATEGORIES:Entry,Standard
COLOR:darkgreen
DESCRIPTION:Predmet: Industrijska fizika (FIZ-3)\, Predavanja (P)\nLetniki
 : 3. letnik (Fizika\, 1. stopnja)\nIzvajalci: Denis Arčon\, Dean Cvetko\n
 Prostor: F1
LOCATION:F1
ORGANIZER:Denis Arčon, Dean Cvetko
RELATED-TO:fmf-AFLABS-URNIK:srecanje:6304
X-WR-TIMEZONE:Europe/Ljubljana
END:VEVENT
BEGIN:VEVENT
SUMMARY:Industrijska fizika (FIZ-3)\, Predavanja (P)
DTSTART;TZID=Europe/Ljubljana:20220105T140000
DTEND;TZID=Europe/Ljubljana:20220105T170000
DTSTAMP:20260422T015336Z
UID:fmf-AFLABS-URNIK:premaknjeno-srecanje:42122
ATTENDEE:3. letnik (Fizika, 1. stopnja)
CATEGORIES:Entry,Standard
COLOR:darkgreen
DESCRIPTION:Predmet: Industrijska fizika (FIZ-3)\, Predavanja (P)\nLetniki
 : 3. letnik (Fizika\, 1. stopnja)\nIzvajalci: Denis Arčon\, Dean Cvetko\n
 Prostor: F1
LOCATION:F1
ORGANIZER:Denis Arčon, Dean Cvetko
RELATED-TO:fmf-AFLABS-URNIK:srecanje:6304
X-WR-TIMEZONE:Europe/Ljubljana
END:VEVENT
BEGIN:VEVENT
SUMMARY:Industrijska fizika (FIZ-3)\, Predavanja (P)
DTSTART;TZID=Europe/Ljubljana:20220112T140000
DTEND;TZID=Europe/Ljubljana:20220112T170000
DTSTAMP:20260422T015336Z
UID:fmf-AFLABS-URNIK:premaknjeno-srecanje:42123
ATTENDEE:3. letnik (Fizika, 1. stopnja)
CATEGORIES:Entry,Standard
COLOR:darkgreen
DESCRIPTION:Predmet: Industrijska fizika (FIZ-3)\, Predavanja (P)\nLetniki
 : 3. letnik (Fizika\, 1. stopnja)\nIzvajalci: Denis Arčon\, Dean Cvetko\n
 Prostor: F1
LOCATION:F1
ORGANIZER:Denis Arčon, Dean Cvetko
RELATED-TO:fmf-AFLABS-URNIK:srecanje:6304
X-WR-TIMEZONE:Europe/Ljubljana
END:VEVENT
BEGIN:VEVENT
SUMMARY:Fizika (FKKT Kemija) ()\, Predavanja (P)
DTSTART;TZID=Europe/Ljubljana:20211007T100000
DTEND;TZID=Europe/Ljubljana:20211007T130000
DTSTAMP:20260422T015336Z
UID:fmf-AFLABS-URNIK:premaknjeno-srecanje:25275
CATEGORIES:Entry,Standard
COLOR:darkgreen
DESCRIPTION:Predmet: Fizika (FKKT Kemija) ()\, Predavanja (P)\nLetniki: \n
 Izvajalci: Denis Arčon\nProstor: VFP
LOCATION:VFP
ORGANIZER:Denis Arčon
RELATED-TO:fmf-AFLABS-URNIK:srecanje:6224
X-WR-TIMEZONE:Europe/Ljubljana
END:VEVENT
BEGIN:VEVENT
SUMMARY:Fizika (FKKT Kemija) ()\, Predavanja (P)
DTSTART;TZID=Europe/Ljubljana:20211014T100000
DTEND;TZID=Europe/Ljubljana:20211014T130000
DTSTAMP:20260422T015336Z
UID:fmf-AFLABS-URNIK:premaknjeno-srecanje:25276
CATEGORIES:Entry,Standard
COLOR:darkgreen
DESCRIPTION:Predmet: Fizika (FKKT Kemija) ()\, Predavanja (P)\nLetniki: \n
 Izvajalci: Denis Arčon\nProstor: VFP
LOCATION:VFP
ORGANIZER:Denis Arčon
RELATED-TO:fmf-AFLABS-URNIK:srecanje:6224
X-WR-TIMEZONE:Europe/Ljubljana
END:VEVENT
BEGIN:VEVENT
SUMMARY:Fizika (FKKT Kemija) ()\, Predavanja (P)
DTSTART;TZID=Europe/Ljubljana:20211021T100000
DTEND;TZID=Europe/Ljubljana:20211021T130000
DTSTAMP:20260422T015336Z
UID:fmf-AFLABS-URNIK:premaknjeno-srecanje:25277
CATEGORIES:Entry,Standard
COLOR:darkgreen
DESCRIPTION:Predmet: Fizika (FKKT Kemija) ()\, Predavanja (P)\nLetniki: \n
 Izvajalci: Denis Arčon\nProstor: VFP
LOCATION:VFP
ORGANIZER:Denis Arčon
RELATED-TO:fmf-AFLABS-URNIK:srecanje:6224
X-WR-TIMEZONE:Europe/Ljubljana
END:VEVENT
BEGIN:VEVENT
SUMMARY:Fizika (FKKT Kemija) ()\, Predavanja (P)
DTSTART;TZID=Europe/Ljubljana:20211028T100000
DTEND;TZID=Europe/Ljubljana:20211028T130000
DTSTAMP:20260422T015336Z
UID:fmf-AFLABS-URNIK:premaknjeno-srecanje:25278
CATEGORIES:Entry,Standard
COLOR:darkgreen
DESCRIPTION:Predmet: Fizika (FKKT Kemija) ()\, Predavanja (P)\nLetniki: \n
 Izvajalci: Denis Arčon\nProstor: VFP
LOCATION:VFP
ORGANIZER:Denis Arčon
RELATED-TO:fmf-AFLABS-URNIK:srecanje:6224
X-WR-TIMEZONE:Europe/Ljubljana
END:VEVENT
BEGIN:VEVENT
SUMMARY:Fizika (FKKT Kemija) ()\, Predavanja (P)
DTSTART;TZID=Europe/Ljubljana:20211104T100000
DTEND;TZID=Europe/Ljubljana:20211104T130000
DTSTAMP:20260422T015336Z
UID:fmf-AFLABS-URNIK:premaknjeno-srecanje:25279
CATEGORIES:Entry,Standard
COLOR:darkgreen
DESCRIPTION:Predmet: Fizika (FKKT Kemija) ()\, Predavanja (P)\nLetniki: \n
 Izvajalci: Denis Arčon\nProstor: VFP
LOCATION:VFP
ORGANIZER:Denis Arčon
RELATED-TO:fmf-AFLABS-URNIK:srecanje:6224
X-WR-TIMEZONE:Europe/Ljubljana
END:VEVENT
BEGIN:VEVENT
SUMMARY:Fizika (FKKT Kemija) ()\, Predavanja (P)
DTSTART;TZID=Europe/Ljubljana:20211111T100000
DTEND;TZID=Europe/Ljubljana:20211111T130000
DTSTAMP:20260422T015336Z
UID:fmf-AFLABS-URNIK:premaknjeno-srecanje:25280
CATEGORIES:Entry,Standard
COLOR:darkgreen
DESCRIPTION:Predmet: Fizika (FKKT Kemija) ()\, Predavanja (P)\nLetniki: \n
 Izvajalci: Denis Arčon\nProstor: VFP
LOCATION:VFP
ORGANIZER:Denis Arčon
RELATED-TO:fmf-AFLABS-URNIK:srecanje:6224
X-WR-TIMEZONE:Europe/Ljubljana
END:VEVENT
BEGIN:VEVENT
SUMMARY:Fizika (FKKT Kemija) ()\, Predavanja (P)
DTSTART;TZID=Europe/Ljubljana:20211118T100000
DTEND;TZID=Europe/Ljubljana:20211118T130000
DTSTAMP:20260422T015336Z
UID:fmf-AFLABS-URNIK:premaknjeno-srecanje:25281
CATEGORIES:Entry,Standard
COLOR:darkgreen
DESCRIPTION:Predmet: Fizika (FKKT Kemija) ()\, Predavanja (P)\nLetniki: \n
 Izvajalci: Denis Arčon\nProstor: VFP
LOCATION:VFP
ORGANIZER:Denis Arčon
RELATED-TO:fmf-AFLABS-URNIK:srecanje:6224
X-WR-TIMEZONE:Europe/Ljubljana
END:VEVENT
BEGIN:VEVENT
SUMMARY:Fizika (FKKT Kemija) ()\, Predavanja (P)
DTSTART;TZID=Europe/Ljubljana:20211125T100000
DTEND;TZID=Europe/Ljubljana:20211125T130000
DTSTAMP:20260422T015336Z
UID:fmf-AFLABS-URNIK:premaknjeno-srecanje:25282
CATEGORIES:Entry,Standard
COLOR:darkgreen
DESCRIPTION:Predmet: Fizika (FKKT Kemija) ()\, Predavanja (P)\nLetniki: \n
 Izvajalci: Denis Arčon\nProstor: VFP
LOCATION:VFP
ORGANIZER:Denis Arčon
RELATED-TO:fmf-AFLABS-URNIK:srecanje:6224
X-WR-TIMEZONE:Europe/Ljubljana
END:VEVENT
BEGIN:VEVENT
SUMMARY:Fizika (FKKT Kemija) ()\, Predavanja (P)
DTSTART;TZID=Europe/Ljubljana:20211202T100000
DTEND;TZID=Europe/Ljubljana:20211202T130000
DTSTAMP:20260422T015336Z
UID:fmf-AFLABS-URNIK:premaknjeno-srecanje:25283
CATEGORIES:Entry,Standard
COLOR:darkgreen
DESCRIPTION:Predmet: Fizika (FKKT Kemija) ()\, Predavanja (P)\nLetniki: \n
 Izvajalci: Denis Arčon\nProstor: VFP
LOCATION:VFP
ORGANIZER:Denis Arčon
RELATED-TO:fmf-AFLABS-URNIK:srecanje:6224
X-WR-TIMEZONE:Europe/Ljubljana
END:VEVENT
BEGIN:VEVENT
SUMMARY:Fizika (FKKT Kemija) ()\, Predavanja (P)
DTSTART;TZID=Europe/Ljubljana:20211209T100000
DTEND;TZID=Europe/Ljubljana:20211209T130000
DTSTAMP:20260422T015336Z
UID:fmf-AFLABS-URNIK:premaknjeno-srecanje:25284
CATEGORIES:Entry,Standard
COLOR:darkgreen
DESCRIPTION:Predmet: Fizika (FKKT Kemija) ()\, Predavanja (P)\nLetniki: \n
 Izvajalci: Denis Arčon\nProstor: VFP
LOCATION:VFP
ORGANIZER:Denis Arčon
RELATED-TO:fmf-AFLABS-URNIK:srecanje:6224
X-WR-TIMEZONE:Europe/Ljubljana
END:VEVENT
BEGIN:VEVENT
SUMMARY:Fizika (FKKT Kemija) ()\, Predavanja (P)
DTSTART;TZID=Europe/Ljubljana:20211216T100000
DTEND;TZID=Europe/Ljubljana:20211216T130000
DTSTAMP:20260422T015336Z
UID:fmf-AFLABS-URNIK:premaknjeno-srecanje:25285
CATEGORIES:Entry,Standard
COLOR:darkgreen
DESCRIPTION:Predmet: Fizika (FKKT Kemija) ()\, Predavanja (P)\nLetniki: \n
 Izvajalci: Denis Arčon\nProstor: VFP
LOCATION:VFP
ORGANIZER:Denis Arčon
RELATED-TO:fmf-AFLABS-URNIK:srecanje:6224
X-WR-TIMEZONE:Europe/Ljubljana
END:VEVENT
BEGIN:VEVENT
SUMMARY:Fizika (FKKT Kemija) ()\, Predavanja (P)
DTSTART;TZID=Europe/Ljubljana:20211223T100000
DTEND;TZID=Europe/Ljubljana:20211223T130000
DTSTAMP:20260422T015336Z
UID:fmf-AFLABS-URNIK:premaknjeno-srecanje:25286
CATEGORIES:Entry,Standard
COLOR:darkgreen
DESCRIPTION:Predmet: Fizika (FKKT Kemija) ()\, Predavanja (P)\nLetniki: \n
 Izvajalci: Denis Arčon\nProstor: VFP
LOCATION:VFP
ORGANIZER:Denis Arčon
RELATED-TO:fmf-AFLABS-URNIK:srecanje:6224
X-WR-TIMEZONE:Europe/Ljubljana
END:VEVENT
BEGIN:VEVENT
SUMMARY:Fizika (FKKT Kemija) ()\, Predavanja (P)
DTSTART;TZID=Europe/Ljubljana:20211230T100000
DTEND;TZID=Europe/Ljubljana:20211230T130000
DTSTAMP:20260422T015336Z
UID:fmf-AFLABS-URNIK:premaknjeno-srecanje:25287
CATEGORIES:Entry,Standard
COLOR:darkgreen
DESCRIPTION:Predmet: Fizika (FKKT Kemija) ()\, Predavanja (P)\nLetniki: \n
 Izvajalci: Denis Arčon\nProstor: VFP
LOCATION:VFP
ORGANIZER:Denis Arčon
RELATED-TO:fmf-AFLABS-URNIK:srecanje:6224
X-WR-TIMEZONE:Europe/Ljubljana
END:VEVENT
BEGIN:VEVENT
SUMMARY:Fizika (FKKT Kemija) ()\, Predavanja (P)
DTSTART;TZID=Europe/Ljubljana:20220106T100000
DTEND;TZID=Europe/Ljubljana:20220106T130000
DTSTAMP:20260422T015336Z
UID:fmf-AFLABS-URNIK:premaknjeno-srecanje:25288
CATEGORIES:Entry,Standard
COLOR:darkgreen
DESCRIPTION:Predmet: Fizika (FKKT Kemija) ()\, Predavanja (P)\nLetniki: \n
 Izvajalci: Denis Arčon\nProstor: VFP
LOCATION:VFP
ORGANIZER:Denis Arčon
RELATED-TO:fmf-AFLABS-URNIK:srecanje:6224
X-WR-TIMEZONE:Europe/Ljubljana
END:VEVENT
BEGIN:VEVENT
SUMMARY:Fizika (FKKT Kemija) ()\, Predavanja (P)
DTSTART;TZID=Europe/Ljubljana:20220113T100000
DTEND;TZID=Europe/Ljubljana:20220113T130000
DTSTAMP:20260422T015336Z
UID:fmf-AFLABS-URNIK:premaknjeno-srecanje:25289
CATEGORIES:Entry,Standard
COLOR:darkgreen
DESCRIPTION:Predmet: Fizika (FKKT Kemija) ()\, Predavanja (P)\nLetniki: \n
 Izvajalci: Denis Arčon\nProstor: VFP
LOCATION:VFP
ORGANIZER:Denis Arčon
RELATED-TO:fmf-AFLABS-URNIK:srecanje:6224
X-WR-TIMEZONE:Europe/Ljubljana
END:VEVENT
END:VCALENDAR
