BEGIN:VCALENDAR
VERSION:2.0
PRODID:-//AFLabs urnik izvoz - fmf//aflabs.si//SI
DTSTAMP:20260421T153830Z
NAME:UL FMF urnik
REFRESH-INTERVAL:PT1H
SOURCE:https://urnik.fmf.uni-lj.si/teacher/192?day=2022-06-06&export=1
URL:https://urnik.fmf.uni-lj.si/teacher/192?day=2022-06-06&export=1
X-PUBLISHED-TTL:PT1H
X-WR-CALNAME:UL FMF urnik
X-WR-TIMEZONE:Europe/Ljubljana
BEGIN:VTIMEZONE
TZID:Europe/Ljubljana
BEGIN:DAYLIGHT
DTSTART:20260329T020000
RDATE:20260329T020000
RDATE:20270328T020000
TZNAME:CEST
TZOFFSETFROM:+0100
TZOFFSETTO:+0200
END:DAYLIGHT
BEGIN:STANDARD
DTSTART:20261025T030000
RDATE:20261025T030000
RDATE:20271031T030000
TZNAME:CET
TZOFFSETFROM:+0200
TZOFFSETTO:+0100
END:STANDARD
END:VTIMEZONE
BEGIN:VEVENT
SUMMARY:Fizika (FKKT Kemija) ()\, Predavanja (P)
DTSTART;TZID=Europe/Ljubljana:20220503T080000
DTEND;TZID=Europe/Ljubljana:20220503T110000
DTSTAMP:20260421T153830Z
UID:fmf-AFLABS-URNIK:premaknjeno-srecanje:25190
CATEGORIES:Entry,Standard
COLOR:darkgreen
DESCRIPTION:Predmet: Fizika (FKKT Kemija) ()\, Predavanja (P)\nLetniki: \n
 Izvajalci: Denis Arčon\nProstor: VFP
LOCATION:VFP
ORGANIZER:Denis Arčon
RELATED-TO:fmf-AFLABS-URNIK:srecanje:6919
X-WR-TIMEZONE:Europe/Ljubljana
END:VEVENT
BEGIN:VEVENT
SUMMARY:Fizika (FKKT Kemija) ()\, Predavanja (P)
DTSTART;TZID=Europe/Ljubljana:20220510T080000
DTEND;TZID=Europe/Ljubljana:20220510T110000
DTSTAMP:20260421T153830Z
UID:fmf-AFLABS-URNIK:premaknjeno-srecanje:25191
CATEGORIES:Entry,Standard
COLOR:darkgreen
DESCRIPTION:Predmet: Fizika (FKKT Kemija) ()\, Predavanja (P)\nLetniki: \n
 Izvajalci: Denis Arčon\nProstor: VFP
LOCATION:VFP
ORGANIZER:Denis Arčon
RELATED-TO:fmf-AFLABS-URNIK:srecanje:6919
X-WR-TIMEZONE:Europe/Ljubljana
END:VEVENT
BEGIN:VEVENT
SUMMARY:Fizika (FKKT Kemija) ()\, Predavanja (P)
DTSTART;TZID=Europe/Ljubljana:20220517T080000
DTEND;TZID=Europe/Ljubljana:20220517T110000
DTSTAMP:20260421T153830Z
UID:fmf-AFLABS-URNIK:premaknjeno-srecanje:25192
CATEGORIES:Entry,Standard
COLOR:darkgreen
DESCRIPTION:Predmet: Fizika (FKKT Kemija) ()\, Predavanja (P)\nLetniki: \n
 Izvajalci: Denis Arčon\nProstor: VFP
LOCATION:VFP
ORGANIZER:Denis Arčon
RELATED-TO:fmf-AFLABS-URNIK:srecanje:6919
X-WR-TIMEZONE:Europe/Ljubljana
END:VEVENT
BEGIN:VEVENT
SUMMARY:Fizika (FKKT Kemija) ()\, Predavanja (P)
DTSTART;TZID=Europe/Ljubljana:20220524T080000
DTEND;TZID=Europe/Ljubljana:20220524T110000
DTSTAMP:20260421T153830Z
UID:fmf-AFLABS-URNIK:premaknjeno-srecanje:25193
CATEGORIES:Entry,Standard
COLOR:darkgreen
DESCRIPTION:Predmet: Fizika (FKKT Kemija) ()\, Predavanja (P)\nLetniki: \n
 Izvajalci: Denis Arčon\nProstor: VFP
LOCATION:VFP
ORGANIZER:Denis Arčon
RELATED-TO:fmf-AFLABS-URNIK:srecanje:6919
X-WR-TIMEZONE:Europe/Ljubljana
END:VEVENT
BEGIN:VEVENT
SUMMARY:Fizika (FKKT Kemija) ()\, Predavanja (P)
DTSTART;TZID=Europe/Ljubljana:20220531T080000
DTEND;TZID=Europe/Ljubljana:20220531T110000
DTSTAMP:20260421T153830Z
UID:fmf-AFLABS-URNIK:premaknjeno-srecanje:25194
CATEGORIES:Entry,Standard
COLOR:darkgreen
DESCRIPTION:Predmet: Fizika (FKKT Kemija) ()\, Predavanja (P)\nLetniki: \n
 Izvajalci: Denis Arčon\nProstor: VFP
LOCATION:VFP
ORGANIZER:Denis Arčon
RELATED-TO:fmf-AFLABS-URNIK:srecanje:6919
X-WR-TIMEZONE:Europe/Ljubljana
END:VEVENT
BEGIN:VEVENT
SUMMARY:Seminar I (FIZ-M1\, JET-1\, JET-2\, MEF-1\, PEF-1)\, Predavanja (P
 )
DTSTART;TZID=Europe/Ljubljana:20220504T110000
DTEND;TZID=Europe/Ljubljana:20220504T140000
DTSTAMP:20260421T153830Z
UID:fmf-AFLABS-URNIK:premaknjeno-srecanje:101481
ATTENDEE:1. letnik (Fizika, 2. stopnja)
ATTENDEE:1. letnik (Jedrska tehnika, 2. stopnja)
ATTENDEE:1. letnik (Medicinska fizika, 2. stopnja)
ATTENDEE:1. letnik (Pedagoška fizika, 2. stopnja)
ATTENDEE:2. letnik (Jedrska tehnika, 2. stopnja)
CATEGORIES:Entry,Standard
COLOR:darkgreen
DESCRIPTION:Predmet: Seminar I (FIZ-M1\, JET-1\, JET-2\, MEF-1\, PEF-1)\, 
 Predavanja (P)\nLetniki: 1. letnik (Fizika\, 2. stopnja)\, 1. letnik (Jedr
 ska tehnika\, 2. stopnja)\, 2. letnik (Jedrska tehnika\, 2. stopnja)\, 1. 
 letnik (Medicinska fizika\, 2. stopnja)\, 1. letnik (Pedagoška fizika\, 2
 . stopnja)\nIzvajalci: Denis Arčon\, Tomaž Rejec\nProstor: F2
LOCATION:F2
ORGANIZER:Denis Arčon, Tomaž Rejec
RELATED-TO:fmf-AFLABS-URNIK:srecanje:7272
X-WR-TIMEZONE:Europe/Ljubljana
END:VEVENT
BEGIN:VEVENT
SUMMARY:Seminar I (FIZ-M1\, JET-1\, JET-2\, MEF-1\, PEF-1)\, Predavanja (P
 )
DTSTART;TZID=Europe/Ljubljana:20220511T110000
DTEND;TZID=Europe/Ljubljana:20220511T140000
DTSTAMP:20260421T153830Z
UID:fmf-AFLABS-URNIK:premaknjeno-srecanje:101482
ATTENDEE:1. letnik (Fizika, 2. stopnja)
ATTENDEE:1. letnik (Jedrska tehnika, 2. stopnja)
ATTENDEE:1. letnik (Medicinska fizika, 2. stopnja)
ATTENDEE:1. letnik (Pedagoška fizika, 2. stopnja)
ATTENDEE:2. letnik (Jedrska tehnika, 2. stopnja)
CATEGORIES:Entry,Standard
COLOR:darkgreen
DESCRIPTION:Predmet: Seminar I (FIZ-M1\, JET-1\, JET-2\, MEF-1\, PEF-1)\, 
 Predavanja (P)\nLetniki: 1. letnik (Fizika\, 2. stopnja)\, 1. letnik (Jedr
 ska tehnika\, 2. stopnja)\, 2. letnik (Jedrska tehnika\, 2. stopnja)\, 1. 
 letnik (Medicinska fizika\, 2. stopnja)\, 1. letnik (Pedagoška fizika\, 2
 . stopnja)\nIzvajalci: Denis Arčon\, Tomaž Rejec\nProstor: F2
LOCATION:F2
ORGANIZER:Denis Arčon, Tomaž Rejec
RELATED-TO:fmf-AFLABS-URNIK:srecanje:7272
X-WR-TIMEZONE:Europe/Ljubljana
END:VEVENT
BEGIN:VEVENT
SUMMARY:Seminar I (FIZ-M1\, JET-1\, JET-2\, MEF-1\, PEF-1)\, Predavanja (P
 )
DTSTART;TZID=Europe/Ljubljana:20220518T110000
DTEND;TZID=Europe/Ljubljana:20220518T140000
DTSTAMP:20260421T153830Z
UID:fmf-AFLABS-URNIK:premaknjeno-srecanje:101483
ATTENDEE:1. letnik (Fizika, 2. stopnja)
ATTENDEE:1. letnik (Jedrska tehnika, 2. stopnja)
ATTENDEE:1. letnik (Medicinska fizika, 2. stopnja)
ATTENDEE:1. letnik (Pedagoška fizika, 2. stopnja)
ATTENDEE:2. letnik (Jedrska tehnika, 2. stopnja)
CATEGORIES:Entry,Standard
COLOR:darkgreen
DESCRIPTION:Predmet: Seminar I (FIZ-M1\, JET-1\, JET-2\, MEF-1\, PEF-1)\, 
 Predavanja (P)\nLetniki: 1. letnik (Fizika\, 2. stopnja)\, 1. letnik (Jedr
 ska tehnika\, 2. stopnja)\, 2. letnik (Jedrska tehnika\, 2. stopnja)\, 1. 
 letnik (Medicinska fizika\, 2. stopnja)\, 1. letnik (Pedagoška fizika\, 2
 . stopnja)\nIzvajalci: Denis Arčon\, Tomaž Rejec\nProstor: F2
LOCATION:F2
ORGANIZER:Denis Arčon, Tomaž Rejec
RELATED-TO:fmf-AFLABS-URNIK:srecanje:7272
X-WR-TIMEZONE:Europe/Ljubljana
END:VEVENT
BEGIN:VEVENT
SUMMARY:Seminar I (FIZ-M1\, JET-1\, JET-2\, MEF-1\, PEF-1)\, Predavanja (P
 )
DTSTART;TZID=Europe/Ljubljana:20220525T110000
DTEND;TZID=Europe/Ljubljana:20220525T140000
DTSTAMP:20260421T153830Z
UID:fmf-AFLABS-URNIK:premaknjeno-srecanje:101484
ATTENDEE:1. letnik (Fizika, 2. stopnja)
ATTENDEE:1. letnik (Jedrska tehnika, 2. stopnja)
ATTENDEE:1. letnik (Medicinska fizika, 2. stopnja)
ATTENDEE:1. letnik (Pedagoška fizika, 2. stopnja)
ATTENDEE:2. letnik (Jedrska tehnika, 2. stopnja)
CATEGORIES:Entry,Standard
COLOR:darkgreen
DESCRIPTION:Predmet: Seminar I (FIZ-M1\, JET-1\, JET-2\, MEF-1\, PEF-1)\, 
 Predavanja (P)\nLetniki: 1. letnik (Fizika\, 2. stopnja)\, 1. letnik (Jedr
 ska tehnika\, 2. stopnja)\, 2. letnik (Jedrska tehnika\, 2. stopnja)\, 1. 
 letnik (Medicinska fizika\, 2. stopnja)\, 1. letnik (Pedagoška fizika\, 2
 . stopnja)\nIzvajalci: Denis Arčon\, Tomaž Rejec\nProstor: F2
LOCATION:F2
ORGANIZER:Denis Arčon, Tomaž Rejec
RELATED-TO:fmf-AFLABS-URNIK:srecanje:7272
X-WR-TIMEZONE:Europe/Ljubljana
END:VEVENT
BEGIN:VEVENT
SUMMARY:Specialistični seminar iz eksperimentalne fizike (FIZ-D)\, Predav
 anja (P)
DTSTART;TZID=Europe/Ljubljana:20220505T140000
DTEND;TZID=Europe/Ljubljana:20220505T160000
DTSTAMP:20260421T153830Z
UID:fmf-AFLABS-URNIK:premaknjeno-srecanje:104213
ATTENDEE:doktorski študij (Fizika, 3. stopnja)
CATEGORIES:Entry,Standard
COLOR:darkgreen
DESCRIPTION:Predmet: Specialistični seminar iz eksperimentalne fizike (FI
 Z-D)\, Predavanja (P)\nLetniki: doktorski študij (Fizika\, 3. stopnja)\nI
 zvajalci: Denis Arčon\nProstor: Kuščerjev seminar
LOCATION:Kuščerjev seminar
ORGANIZER:Denis Arčon
RELATED-TO:fmf-AFLABS-URNIK:srecanje:7290
X-WR-TIMEZONE:Europe/Ljubljana
END:VEVENT
BEGIN:VEVENT
SUMMARY:Specialistični seminar iz eksperimentalne fizike (FIZ-D)\, Predav
 anja (P)
DTSTART;TZID=Europe/Ljubljana:20220512T140000
DTEND;TZID=Europe/Ljubljana:20220512T160000
DTSTAMP:20260421T153830Z
UID:fmf-AFLABS-URNIK:premaknjeno-srecanje:104214
ATTENDEE:doktorski študij (Fizika, 3. stopnja)
CATEGORIES:Entry,Standard
COLOR:darkgreen
DESCRIPTION:Predmet: Specialistični seminar iz eksperimentalne fizike (FI
 Z-D)\, Predavanja (P)\nLetniki: doktorski študij (Fizika\, 3. stopnja)\nI
 zvajalci: Denis Arčon\nProstor: Kuščerjev seminar
LOCATION:Kuščerjev seminar
ORGANIZER:Denis Arčon
RELATED-TO:fmf-AFLABS-URNIK:srecanje:7290
X-WR-TIMEZONE:Europe/Ljubljana
END:VEVENT
BEGIN:VEVENT
SUMMARY:Specialistični seminar iz eksperimentalne fizike (FIZ-D)\, Predav
 anja (P)
DTSTART;TZID=Europe/Ljubljana:20220519T140000
DTEND;TZID=Europe/Ljubljana:20220519T160000
DTSTAMP:20260421T153830Z
UID:fmf-AFLABS-URNIK:premaknjeno-srecanje:104215
ATTENDEE:doktorski študij (Fizika, 3. stopnja)
CATEGORIES:Entry,Standard
COLOR:darkgreen
DESCRIPTION:Predmet: Specialistični seminar iz eksperimentalne fizike (FI
 Z-D)\, Predavanja (P)\nLetniki: doktorski študij (Fizika\, 3. stopnja)\nI
 zvajalci: Denis Arčon\nProstor: Kuščerjev seminar
LOCATION:Kuščerjev seminar
ORGANIZER:Denis Arčon
RELATED-TO:fmf-AFLABS-URNIK:srecanje:7290
X-WR-TIMEZONE:Europe/Ljubljana
END:VEVENT
BEGIN:VEVENT
SUMMARY:Specialistični seminar iz eksperimentalne fizike (FIZ-D)\, Predav
 anja (P)
DTSTART;TZID=Europe/Ljubljana:20220526T140000
DTEND;TZID=Europe/Ljubljana:20220526T160000
DTSTAMP:20260421T153830Z
UID:fmf-AFLABS-URNIK:premaknjeno-srecanje:104216
ATTENDEE:doktorski študij (Fizika, 3. stopnja)
CATEGORIES:Entry,Standard
COLOR:darkgreen
DESCRIPTION:Predmet: Specialistični seminar iz eksperimentalne fizike (FI
 Z-D)\, Predavanja (P)\nLetniki: doktorski študij (Fizika\, 3. stopnja)\nI
 zvajalci: Denis Arčon\nProstor: Kuščerjev seminar
LOCATION:Kuščerjev seminar
ORGANIZER:Denis Arčon
RELATED-TO:fmf-AFLABS-URNIK:srecanje:7290
X-WR-TIMEZONE:Europe/Ljubljana
END:VEVENT
BEGIN:VEVENT
SUMMARY:Specialistični seminar iz eksperimentalne fizike (FIZ-D)\, Predav
 anja (P)
DTSTART;TZID=Europe/Ljubljana:20220506T130000
DTEND;TZID=Europe/Ljubljana:20220506T160000
DTSTAMP:20260421T153830Z
UID:fmf-AFLABS-URNIK:premaknjeno-srecanje:104228
ATTENDEE:doktorski študij (Fizika, 3. stopnja)
CATEGORIES:Entry,Standard
COLOR:darkgreen
DESCRIPTION:Predmet: Specialistični seminar iz eksperimentalne fizike (FI
 Z-D)\, Predavanja (P)\nLetniki: doktorski študij (Fizika\, 3. stopnja)\nI
 zvajalci: Denis Arčon\nProstor: Kuščerjev seminar
LOCATION:Kuščerjev seminar
ORGANIZER:Denis Arčon
RELATED-TO:fmf-AFLABS-URNIK:srecanje:7436
X-WR-TIMEZONE:Europe/Ljubljana
END:VEVENT
BEGIN:VEVENT
SUMMARY:Specialistični seminar iz eksperimentalne fizike (FIZ-D)\, Predav
 anja (P)
DTSTART;TZID=Europe/Ljubljana:20220513T130000
DTEND;TZID=Europe/Ljubljana:20220513T160000
DTSTAMP:20260421T153830Z
UID:fmf-AFLABS-URNIK:premaknjeno-srecanje:104229
ATTENDEE:doktorski študij (Fizika, 3. stopnja)
CATEGORIES:Entry,Standard
COLOR:darkgreen
DESCRIPTION:Predmet: Specialistični seminar iz eksperimentalne fizike (FI
 Z-D)\, Predavanja (P)\nLetniki: doktorski študij (Fizika\, 3. stopnja)\nI
 zvajalci: Denis Arčon\nProstor: Kuščerjev seminar
LOCATION:Kuščerjev seminar
ORGANIZER:Denis Arčon
RELATED-TO:fmf-AFLABS-URNIK:srecanje:7436
X-WR-TIMEZONE:Europe/Ljubljana
END:VEVENT
BEGIN:VEVENT
SUMMARY:Specialistični seminar iz eksperimentalne fizike (FIZ-D)\, Predav
 anja (P)
DTSTART;TZID=Europe/Ljubljana:20220520T130000
DTEND;TZID=Europe/Ljubljana:20220520T160000
DTSTAMP:20260421T153830Z
UID:fmf-AFLABS-URNIK:premaknjeno-srecanje:104230
ATTENDEE:doktorski študij (Fizika, 3. stopnja)
CATEGORIES:Entry,Standard
COLOR:darkgreen
DESCRIPTION:Predmet: Specialistični seminar iz eksperimentalne fizike (FI
 Z-D)\, Predavanja (P)\nLetniki: doktorski študij (Fizika\, 3. stopnja)\nI
 zvajalci: Denis Arčon\nProstor: Kuščerjev seminar
LOCATION:Kuščerjev seminar
ORGANIZER:Denis Arčon
RELATED-TO:fmf-AFLABS-URNIK:srecanje:7436
X-WR-TIMEZONE:Europe/Ljubljana
END:VEVENT
BEGIN:VEVENT
SUMMARY:Specialistični seminar iz eksperimentalne fizike (FIZ-D)\, Predav
 anja (P)
DTSTART;TZID=Europe/Ljubljana:20220527T130000
DTEND;TZID=Europe/Ljubljana:20220527T160000
DTSTAMP:20260421T153830Z
UID:fmf-AFLABS-URNIK:premaknjeno-srecanje:104231
ATTENDEE:doktorski študij (Fizika, 3. stopnja)
CATEGORIES:Entry,Standard
COLOR:darkgreen
DESCRIPTION:Predmet: Specialistični seminar iz eksperimentalne fizike (FI
 Z-D)\, Predavanja (P)\nLetniki: doktorski študij (Fizika\, 3. stopnja)\nI
 zvajalci: Denis Arčon\nProstor: Kuščerjev seminar
LOCATION:Kuščerjev seminar
ORGANIZER:Denis Arčon
RELATED-TO:fmf-AFLABS-URNIK:srecanje:7436
X-WR-TIMEZONE:Europe/Ljubljana
END:VEVENT
END:VCALENDAR
