BEGIN:VCALENDAR
VERSION:2.0
PRODID:-//AFLabs urnik izvoz - fmf//aflabs.si//SI
DTSTAMP:20260425T231153Z
NAME:UL FMF urnik
REFRESH-INTERVAL:PT1H
SOURCE:https://urnik.fmf.uni-lj.si/teacher/196?day=2020-06-15&export=1
URL:https://urnik.fmf.uni-lj.si/teacher/196?day=2020-06-15&export=1
X-PUBLISHED-TTL:PT1H
X-WR-CALNAME:UL FMF urnik
X-WR-TIMEZONE:Europe/Ljubljana
BEGIN:VTIMEZONE
TZID:Europe/Ljubljana
BEGIN:DAYLIGHT
DTSTART:20260329T020000
RDATE:20260329T020000
RDATE:20270328T020000
TZNAME:CEST
TZOFFSETFROM:+0100
TZOFFSETTO:+0200
END:DAYLIGHT
BEGIN:STANDARD
DTSTART:20261025T030000
RDATE:20261025T030000
RDATE:20271031T030000
TZNAME:CET
TZOFFSETFROM:+0200
TZOFFSETTO:+0100
END:STANDARD
END:VTIMEZONE
BEGIN:VEVENT
SUMMARY:Fizika radioterapije (MEF-1\, MEF-2)\, Vaje (V)
DTSTART;TZID=Europe/Ljubljana:20200511T120000
DTEND;TZID=Europe/Ljubljana:20200511T140000
DTSTAMP:20260425T231153Z
UID:fmf-AFLABS-URNIK:premaknjeno-srecanje:31848
ATTENDEE:1. letnik (Medicinska fizika, 2. stopnja)
ATTENDEE:2. letnik (Medicinska fizika, 2. stopnja)
CATEGORIES:Entry,Standard
COLOR:darkgreen
DESCRIPTION:Predmet: Fizika radioterapije (MEF-1\, MEF-2)\, Vaje (V)\nLetn
 iki: 1. letnik (Medicinska fizika\, 2. stopnja)\, 2. letnik (Medicinska fi
 zika\, 2. stopnja)\nIzvajalci: Urban Simončič\nProstor: F7
LOCATION:F7
ORGANIZER:Urban Simončič
RELATED-TO:fmf-AFLABS-URNIK:srecanje:4576
X-WR-TIMEZONE:Europe/Ljubljana
END:VEVENT
BEGIN:VEVENT
SUMMARY:Fizika radioterapije (MEF-1\, MEF-2)\, Vaje (V)
DTSTART;TZID=Europe/Ljubljana:20200518T120000
DTEND;TZID=Europe/Ljubljana:20200518T140000
DTSTAMP:20260425T231153Z
UID:fmf-AFLABS-URNIK:premaknjeno-srecanje:31849
ATTENDEE:1. letnik (Medicinska fizika, 2. stopnja)
ATTENDEE:2. letnik (Medicinska fizika, 2. stopnja)
CATEGORIES:Entry,Standard
COLOR:darkgreen
DESCRIPTION:Predmet: Fizika radioterapije (MEF-1\, MEF-2)\, Vaje (V)\nLetn
 iki: 1. letnik (Medicinska fizika\, 2. stopnja)\, 2. letnik (Medicinska fi
 zika\, 2. stopnja)\nIzvajalci: Urban Simončič\nProstor: F7
LOCATION:F7
ORGANIZER:Urban Simončič
RELATED-TO:fmf-AFLABS-URNIK:srecanje:4576
X-WR-TIMEZONE:Europe/Ljubljana
END:VEVENT
BEGIN:VEVENT
SUMMARY:Fizika radioterapije (MEF-1\, MEF-2)\, Vaje (V)
DTSTART;TZID=Europe/Ljubljana:20200525T120000
DTEND;TZID=Europe/Ljubljana:20200525T140000
DTSTAMP:20260425T231153Z
UID:fmf-AFLABS-URNIK:premaknjeno-srecanje:31850
ATTENDEE:1. letnik (Medicinska fizika, 2. stopnja)
ATTENDEE:2. letnik (Medicinska fizika, 2. stopnja)
CATEGORIES:Entry,Standard
COLOR:darkgreen
DESCRIPTION:Predmet: Fizika radioterapije (MEF-1\, MEF-2)\, Vaje (V)\nLetn
 iki: 1. letnik (Medicinska fizika\, 2. stopnja)\, 2. letnik (Medicinska fi
 zika\, 2. stopnja)\nIzvajalci: Urban Simončič\nProstor: F7
LOCATION:F7
ORGANIZER:Urban Simončič
RELATED-TO:fmf-AFLABS-URNIK:srecanje:4576
X-WR-TIMEZONE:Europe/Ljubljana
END:VEVENT
BEGIN:VEVENT
SUMMARY:Fizika radioterapije (MEF-1\, MEF-2)\, Predavanja (P)
DTSTART;TZID=Europe/Ljubljana:20200514T080000
DTEND;TZID=Europe/Ljubljana:20200514T110000
DTSTAMP:20260425T231153Z
UID:fmf-AFLABS-URNIK:premaknjeno-srecanje:31818
ATTENDEE:1. letnik (Medicinska fizika, 2. stopnja)
ATTENDEE:2. letnik (Medicinska fizika, 2. stopnja)
CATEGORIES:Entry,Standard
COLOR:darkgreen
DESCRIPTION:Predmet: Fizika radioterapije (MEF-1\, MEF-2)\, Predavanja (P)
 \nLetniki: 1. letnik (Medicinska fizika\, 2. stopnja)\, 2. letnik (Medicin
 ska fizika\, 2. stopnja)\nIzvajalci: Robert Jeraj\, Urban Simončič\nPros
 tor: F4
LOCATION:F4
ORGANIZER:Robert Jeraj, Urban Simončič
RELATED-TO:fmf-AFLABS-URNIK:srecanje:4102
X-WR-TIMEZONE:Europe/Ljubljana
END:VEVENT
BEGIN:VEVENT
SUMMARY:Fizika radioterapije (MEF-1\, MEF-2)\, Predavanja (P)
DTSTART;TZID=Europe/Ljubljana:20200521T080000
DTEND;TZID=Europe/Ljubljana:20200521T110000
DTSTAMP:20260425T231153Z
UID:fmf-AFLABS-URNIK:premaknjeno-srecanje:31819
ATTENDEE:1. letnik (Medicinska fizika, 2. stopnja)
ATTENDEE:2. letnik (Medicinska fizika, 2. stopnja)
CATEGORIES:Entry,Standard
COLOR:darkgreen
DESCRIPTION:Predmet: Fizika radioterapije (MEF-1\, MEF-2)\, Predavanja (P)
 \nLetniki: 1. letnik (Medicinska fizika\, 2. stopnja)\, 2. letnik (Medicin
 ska fizika\, 2. stopnja)\nIzvajalci: Robert Jeraj\, Urban Simončič\nPros
 tor: F4
LOCATION:F4
ORGANIZER:Robert Jeraj, Urban Simončič
RELATED-TO:fmf-AFLABS-URNIK:srecanje:4102
X-WR-TIMEZONE:Europe/Ljubljana
END:VEVENT
BEGIN:VEVENT
SUMMARY:Fizika radioterapije (MEF-1\, MEF-2)\, Predavanja (P)
DTSTART;TZID=Europe/Ljubljana:20200528T080000
DTEND;TZID=Europe/Ljubljana:20200528T110000
DTSTAMP:20260425T231153Z
UID:fmf-AFLABS-URNIK:premaknjeno-srecanje:31820
ATTENDEE:1. letnik (Medicinska fizika, 2. stopnja)
ATTENDEE:2. letnik (Medicinska fizika, 2. stopnja)
CATEGORIES:Entry,Standard
COLOR:darkgreen
DESCRIPTION:Predmet: Fizika radioterapije (MEF-1\, MEF-2)\, Predavanja (P)
 \nLetniki: 1. letnik (Medicinska fizika\, 2. stopnja)\, 2. letnik (Medicin
 ska fizika\, 2. stopnja)\nIzvajalci: Robert Jeraj\, Urban Simončič\nPros
 tor: F4
LOCATION:F4
ORGANIZER:Robert Jeraj, Urban Simončič
RELATED-TO:fmf-AFLABS-URNIK:srecanje:4102
X-WR-TIMEZONE:Europe/Ljubljana
END:VEVENT
BEGIN:VEVENT
SUMMARY:Rezervacija
DTSTART;TZID=Europe/Ljubljana:20200603T100000
DTEND;TZID=Europe/Ljubljana:20200603T120000
DTSTAMP:20260425T231153Z
UID:fmf-AFLABS-URNIK:rezervacija:5394
CATEGORIES:Reservation
COLOR:royalblue
DESCRIPTION:Predmeti: \nLetniki: \nIzvajalci: Urban Simončič\nProstori: 
 F5
LOCATION:F5
ORGANIZER:Urban Simončič
X-WR-TIMEZONE:Europe/Ljubljana
END:VEVENT
BEGIN:VEVENT
SUMMARY:Rezervacija
DTSTART;TZID=Europe/Ljubljana:20200615T130000
DTEND;TZID=Europe/Ljubljana:20200615T150000
DTSTAMP:20260425T231153Z
UID:fmf-AFLABS-URNIK:rezervacija:5521
CATEGORIES:Reservation
COLOR:royalblue
DESCRIPTION:Predmeti: \nLetniki: \nIzvajalci: Urban Simončič\nProstori: 
 F5
LOCATION:F5
ORGANIZER:Urban Simončič
X-WR-TIMEZONE:Europe/Ljubljana
END:VEVENT
END:VCALENDAR
