BEGIN:VCALENDAR
VERSION:2.0
PRODID:-//AFLabs urnik izvoz - fmf//aflabs.si//SI
DTSTAMP:20260423T200102Z
NAME:UL FMF urnik
REFRESH-INTERVAL:PT1H
SOURCE:https://urnik.fmf.uni-lj.si/teacher/196?day=2021-02-01&export=1
URL:https://urnik.fmf.uni-lj.si/teacher/196?day=2021-02-01&export=1
X-PUBLISHED-TTL:PT1H
X-WR-CALNAME:UL FMF urnik
X-WR-TIMEZONE:Europe/Ljubljana
BEGIN:VTIMEZONE
TZID:Europe/Ljubljana
BEGIN:DAYLIGHT
DTSTART:20260329T020000
RDATE:20260329T020000
RDATE:20270328T020000
TZNAME:CEST
TZOFFSETFROM:+0100
TZOFFSETTO:+0200
END:DAYLIGHT
BEGIN:STANDARD
DTSTART:20261025T030000
RDATE:20261025T030000
RDATE:20271031T030000
TZNAME:CET
TZOFFSETFROM:+0200
TZOFFSETTO:+0100
END:STANDARD
END:VTIMEZONE
BEGIN:VEVENT
SUMMARY:Fizika (FKKT Biokemija) ()\, Vaje (V)
DTSTART;TZID=Europe/Ljubljana:20201229T140000
DTEND;TZID=Europe/Ljubljana:20201229T160000
DTSTAMP:20260423T200102Z
UID:fmf-AFLABS-URNIK:premaknjeno-srecanje:24913
CATEGORIES:Entry,Standard
COLOR:darkgreen
DESCRIPTION:Predmet: Fizika (FKKT Biokemija) ()\, Vaje (V)\nLetniki: \nIzv
 ajalci: Urban Simončič\nProstor: 1067 (1B FKKT)
LOCATION:1067 (1B FKKT)
ORGANIZER:Urban Simončič
RELATED-TO:fmf-AFLABS-URNIK:srecanje:4771
X-WR-TIMEZONE:Europe/Ljubljana
END:VEVENT
BEGIN:VEVENT
SUMMARY:Fizika (FKKT Biokemija) ()\, Vaje (V)
DTSTART;TZID=Europe/Ljubljana:20210105T140000
DTEND;TZID=Europe/Ljubljana:20210105T160000
DTSTAMP:20260423T200102Z
UID:fmf-AFLABS-URNIK:premaknjeno-srecanje:24914
CATEGORIES:Entry,Standard
COLOR:darkgreen
DESCRIPTION:Predmet: Fizika (FKKT Biokemija) ()\, Vaje (V)\nLetniki: \nIzv
 ajalci: Urban Simončič\nProstor: 1067 (1B FKKT)
LOCATION:1067 (1B FKKT)
ORGANIZER:Urban Simončič
RELATED-TO:fmf-AFLABS-URNIK:srecanje:4771
X-WR-TIMEZONE:Europe/Ljubljana
END:VEVENT
BEGIN:VEVENT
SUMMARY:Fizika (FKKT Biokemija) ()\, Vaje (V)
DTSTART;TZID=Europe/Ljubljana:20210112T140000
DTEND;TZID=Europe/Ljubljana:20210112T160000
DTSTAMP:20260423T200102Z
UID:fmf-AFLABS-URNIK:premaknjeno-srecanje:24915
CATEGORIES:Entry,Standard
COLOR:darkgreen
DESCRIPTION:Predmet: Fizika (FKKT Biokemija) ()\, Vaje (V)\nLetniki: \nIzv
 ajalci: Urban Simončič\nProstor: 1067 (1B FKKT)
LOCATION:1067 (1B FKKT)
ORGANIZER:Urban Simončič
RELATED-TO:fmf-AFLABS-URNIK:srecanje:4771
X-WR-TIMEZONE:Europe/Ljubljana
END:VEVENT
BEGIN:VEVENT
SUMMARY:Fizika funkcionalnega in molekularnega slikanja (MEF-1\, MEF-2)\, 
 Predavanja (P)
DTSTART;TZID=Europe/Ljubljana:20210215T100000
DTEND;TZID=Europe/Ljubljana:20210215T120000
DTSTAMP:20260423T200102Z
UID:fmf-AFLABS-URNIK:premaknjeno-srecanje:30739
ATTENDEE:1. letnik (Medicinska fizika, 2. stopnja)
ATTENDEE:2. letnik (Medicinska fizika, 2. stopnja)
CATEGORIES:Entry,Standard
COLOR:darkgreen
DESCRIPTION:Predmet: Fizika funkcionalnega in molekularnega slikanja (MEF-
 1\, MEF-2)\, Predavanja (P)\nLetniki: 1. letnik (Medicinska fizika\, 2. st
 opnja)\, 2. letnik (Medicinska fizika\, 2. stopnja)\nIzvajalci: Urban Simo
 nčič\nProstor: F3
LOCATION:F3
ORGANIZER:Urban Simončič
RELATED-TO:fmf-AFLABS-URNIK:srecanje:5547
X-WR-TIMEZONE:Europe/Ljubljana
END:VEVENT
BEGIN:VEVENT
SUMMARY:Fizika funkcionalnega in molekularnega slikanja (MEF-1\, MEF-2)\, 
 Predavanja (P)
DTSTART;TZID=Europe/Ljubljana:20210222T100000
DTEND;TZID=Europe/Ljubljana:20210222T120000
DTSTAMP:20260423T200102Z
UID:fmf-AFLABS-URNIK:premaknjeno-srecanje:30740
ATTENDEE:1. letnik (Medicinska fizika, 2. stopnja)
ATTENDEE:2. letnik (Medicinska fizika, 2. stopnja)
CATEGORIES:Entry,Standard
COLOR:darkgreen
DESCRIPTION:Predmet: Fizika funkcionalnega in molekularnega slikanja (MEF-
 1\, MEF-2)\, Predavanja (P)\nLetniki: 1. letnik (Medicinska fizika\, 2. st
 opnja)\, 2. letnik (Medicinska fizika\, 2. stopnja)\nIzvajalci: Urban Simo
 nčič\nProstor: F3
LOCATION:F3
ORGANIZER:Urban Simončič
RELATED-TO:fmf-AFLABS-URNIK:srecanje:5547
X-WR-TIMEZONE:Europe/Ljubljana
END:VEVENT
BEGIN:VEVENT
SUMMARY:Fizika funkcionalnega in molekularnega slikanja (MEF-1\, MEF-2)\, 
 Predavanja (P)
DTSTART;TZID=Europe/Ljubljana:20210301T100000
DTEND;TZID=Europe/Ljubljana:20210301T120000
DTSTAMP:20260423T200102Z
UID:fmf-AFLABS-URNIK:premaknjeno-srecanje:30741
ATTENDEE:1. letnik (Medicinska fizika, 2. stopnja)
ATTENDEE:2. letnik (Medicinska fizika, 2. stopnja)
CATEGORIES:Entry,Standard
COLOR:darkgreen
DESCRIPTION:Predmet: Fizika funkcionalnega in molekularnega slikanja (MEF-
 1\, MEF-2)\, Predavanja (P)\nLetniki: 1. letnik (Medicinska fizika\, 2. st
 opnja)\, 2. letnik (Medicinska fizika\, 2. stopnja)\nIzvajalci: Urban Simo
 nčič\nProstor: F3
LOCATION:F3
ORGANIZER:Urban Simončič
RELATED-TO:fmf-AFLABS-URNIK:srecanje:5547
X-WR-TIMEZONE:Europe/Ljubljana
END:VEVENT
BEGIN:VEVENT
SUMMARY:Fizika funkcionalnega in molekularnega slikanja (MEF-1\, MEF-2)\, 
 Predavanja (P)
DTSTART;TZID=Europe/Ljubljana:20210308T100000
DTEND;TZID=Europe/Ljubljana:20210308T120000
DTSTAMP:20260423T200102Z
UID:fmf-AFLABS-URNIK:premaknjeno-srecanje:30742
ATTENDEE:1. letnik (Medicinska fizika, 2. stopnja)
ATTENDEE:2. letnik (Medicinska fizika, 2. stopnja)
CATEGORIES:Entry,Standard
COLOR:darkgreen
DESCRIPTION:Predmet: Fizika funkcionalnega in molekularnega slikanja (MEF-
 1\, MEF-2)\, Predavanja (P)\nLetniki: 1. letnik (Medicinska fizika\, 2. st
 opnja)\, 2. letnik (Medicinska fizika\, 2. stopnja)\nIzvajalci: Urban Simo
 nčič\nProstor: F3
LOCATION:F3
ORGANIZER:Urban Simončič
RELATED-TO:fmf-AFLABS-URNIK:srecanje:5547
X-WR-TIMEZONE:Europe/Ljubljana
END:VEVENT
BEGIN:VEVENT
SUMMARY:Fizika funkcionalnega in molekularnega slikanja (MEF-1\, MEF-2)\, 
 Seminar (S)
DTSTART;TZID=Europe/Ljubljana:20210215T120000
DTEND;TZID=Europe/Ljubljana:20210215T130000
DTSTAMP:20260423T200102Z
UID:fmf-AFLABS-URNIK:premaknjeno-srecanje:30786
ATTENDEE:1. letnik (Medicinska fizika, 2. stopnja)
ATTENDEE:2. letnik (Medicinska fizika, 2. stopnja)
CATEGORIES:Entry,Standard
COLOR:darkgreen
DESCRIPTION:Predmet: Fizika funkcionalnega in molekularnega slikanja (MEF-
 1\, MEF-2)\, Seminar (S)\nLetniki: 1. letnik (Medicinska fizika\, 2. stopn
 ja)\, 2. letnik (Medicinska fizika\, 2. stopnja)\nIzvajalci: Urban Simonč
 ič\nProstor: F3
LOCATION:F3
ORGANIZER:Urban Simončič
RELATED-TO:fmf-AFLABS-URNIK:srecanje:5548
X-WR-TIMEZONE:Europe/Ljubljana
END:VEVENT
BEGIN:VEVENT
SUMMARY:Fizika funkcionalnega in molekularnega slikanja (MEF-1\, MEF-2)\, 
 Seminar (S)
DTSTART;TZID=Europe/Ljubljana:20210222T120000
DTEND;TZID=Europe/Ljubljana:20210222T130000
DTSTAMP:20260423T200102Z
UID:fmf-AFLABS-URNIK:premaknjeno-srecanje:30787
ATTENDEE:1. letnik (Medicinska fizika, 2. stopnja)
ATTENDEE:2. letnik (Medicinska fizika, 2. stopnja)
CATEGORIES:Entry,Standard
COLOR:darkgreen
DESCRIPTION:Predmet: Fizika funkcionalnega in molekularnega slikanja (MEF-
 1\, MEF-2)\, Seminar (S)\nLetniki: 1. letnik (Medicinska fizika\, 2. stopn
 ja)\, 2. letnik (Medicinska fizika\, 2. stopnja)\nIzvajalci: Urban Simonč
 ič\nProstor: F3
LOCATION:F3
ORGANIZER:Urban Simončič
RELATED-TO:fmf-AFLABS-URNIK:srecanje:5548
X-WR-TIMEZONE:Europe/Ljubljana
END:VEVENT
BEGIN:VEVENT
SUMMARY:Fizika funkcionalnega in molekularnega slikanja (MEF-1\, MEF-2)\, 
 Seminar (S)
DTSTART;TZID=Europe/Ljubljana:20210301T120000
DTEND;TZID=Europe/Ljubljana:20210301T130000
DTSTAMP:20260423T200102Z
UID:fmf-AFLABS-URNIK:premaknjeno-srecanje:30788
ATTENDEE:1. letnik (Medicinska fizika, 2. stopnja)
ATTENDEE:2. letnik (Medicinska fizika, 2. stopnja)
CATEGORIES:Entry,Standard
COLOR:darkgreen
DESCRIPTION:Predmet: Fizika funkcionalnega in molekularnega slikanja (MEF-
 1\, MEF-2)\, Seminar (S)\nLetniki: 1. letnik (Medicinska fizika\, 2. stopn
 ja)\, 2. letnik (Medicinska fizika\, 2. stopnja)\nIzvajalci: Urban Simonč
 ič\nProstor: F3
LOCATION:F3
ORGANIZER:Urban Simončič
RELATED-TO:fmf-AFLABS-URNIK:srecanje:5548
X-WR-TIMEZONE:Europe/Ljubljana
END:VEVENT
BEGIN:VEVENT
SUMMARY:Fizika funkcionalnega in molekularnega slikanja (MEF-1\, MEF-2)\, 
 Seminar (S)
DTSTART;TZID=Europe/Ljubljana:20210308T120000
DTEND;TZID=Europe/Ljubljana:20210308T130000
DTSTAMP:20260423T200102Z
UID:fmf-AFLABS-URNIK:premaknjeno-srecanje:30789
ATTENDEE:1. letnik (Medicinska fizika, 2. stopnja)
ATTENDEE:2. letnik (Medicinska fizika, 2. stopnja)
CATEGORIES:Entry,Standard
COLOR:darkgreen
DESCRIPTION:Predmet: Fizika funkcionalnega in molekularnega slikanja (MEF-
 1\, MEF-2)\, Seminar (S)\nLetniki: 1. letnik (Medicinska fizika\, 2. stopn
 ja)\, 2. letnik (Medicinska fizika\, 2. stopnja)\nIzvajalci: Urban Simonč
 ič\nProstor: F3
LOCATION:F3
ORGANIZER:Urban Simončič
RELATED-TO:fmf-AFLABS-URNIK:srecanje:5548
X-WR-TIMEZONE:Europe/Ljubljana
END:VEVENT
END:VCALENDAR
