BEGIN:VCALENDAR
VERSION:2.0
PRODID:-//AFLabs urnik izvoz - fmf//aflabs.si//SI
DTSTAMP:20260420T193137Z
NAME:UL FMF urnik
REFRESH-INTERVAL:PT1H
SOURCE:https://urnik.fmf.uni-lj.si/teacher/196?day=2022-04-11&export=1
URL:https://urnik.fmf.uni-lj.si/teacher/196?day=2022-04-11&export=1
X-PUBLISHED-TTL:PT1H
X-WR-CALNAME:UL FMF urnik
X-WR-TIMEZONE:Europe/Ljubljana
BEGIN:VTIMEZONE
TZID:Europe/Ljubljana
BEGIN:DAYLIGHT
DTSTART:20260329T020000
RDATE:20260329T020000
RDATE:20270328T020000
TZNAME:CEST
TZOFFSETFROM:+0100
TZOFFSETTO:+0200
END:DAYLIGHT
BEGIN:STANDARD
DTSTART:20261025T030000
RDATE:20261025T030000
RDATE:20271031T030000
TZNAME:CET
TZOFFSETFROM:+0200
TZOFFSETTO:+0100
END:STANDARD
END:VTIMEZONE
BEGIN:VEVENT
SUMMARY:Fizika radioterapije (MEF-1\, MEF-2)\, Predavanja (P)
DTSTART;TZID=Europe/Ljubljana:20220214T100000
DTEND;TZID=Europe/Ljubljana:20220214T120000
DTSTAMP:20260420T193137Z
UID:fmf-AFLABS-URNIK:premaknjeno-srecanje:31790
ATTENDEE:1. letnik (Medicinska fizika, 2. stopnja)
ATTENDEE:2. letnik (Medicinska fizika, 2. stopnja)
CATEGORIES:Entry,Standard
COLOR:darkgreen
DESCRIPTION:Predmet: Fizika radioterapije (MEF-1\, MEF-2)\, Predavanja (P)
 \nLetniki: 1. letnik (Medicinska fizika\, 2. stopnja)\, 2. letnik (Medicin
 ska fizika\, 2. stopnja)\nIzvajalci: Urban Simončič\nProstor: F3
LOCATION:F3
ORGANIZER:Urban Simončič
RELATED-TO:fmf-AFLABS-URNIK:srecanje:6944
X-WR-TIMEZONE:Europe/Ljubljana
END:VEVENT
BEGIN:VEVENT
SUMMARY:Fizika radioterapije (MEF-1\, MEF-2)\, Predavanja (P)
DTSTART;TZID=Europe/Ljubljana:20220221T100000
DTEND;TZID=Europe/Ljubljana:20220221T120000
DTSTAMP:20260420T193137Z
UID:fmf-AFLABS-URNIK:premaknjeno-srecanje:31791
ATTENDEE:1. letnik (Medicinska fizika, 2. stopnja)
ATTENDEE:2. letnik (Medicinska fizika, 2. stopnja)
CATEGORIES:Entry,Standard
COLOR:darkgreen
DESCRIPTION:Predmet: Fizika radioterapije (MEF-1\, MEF-2)\, Predavanja (P)
 \nLetniki: 1. letnik (Medicinska fizika\, 2. stopnja)\, 2. letnik (Medicin
 ska fizika\, 2. stopnja)\nIzvajalci: Urban Simončič\nProstor: F3
LOCATION:F3
ORGANIZER:Urban Simončič
RELATED-TO:fmf-AFLABS-URNIK:srecanje:6944
X-WR-TIMEZONE:Europe/Ljubljana
END:VEVENT
BEGIN:VEVENT
SUMMARY:Fizika radioterapije (MEF-1\, MEF-2)\, Predavanja (P)
DTSTART;TZID=Europe/Ljubljana:20220228T100000
DTEND;TZID=Europe/Ljubljana:20220228T120000
DTSTAMP:20260420T193137Z
UID:fmf-AFLABS-URNIK:premaknjeno-srecanje:31792
ATTENDEE:1. letnik (Medicinska fizika, 2. stopnja)
ATTENDEE:2. letnik (Medicinska fizika, 2. stopnja)
CATEGORIES:Entry,Standard
COLOR:darkgreen
DESCRIPTION:Predmet: Fizika radioterapije (MEF-1\, MEF-2)\, Predavanja (P)
 \nLetniki: 1. letnik (Medicinska fizika\, 2. stopnja)\, 2. letnik (Medicin
 ska fizika\, 2. stopnja)\nIzvajalci: Urban Simončič\nProstor: F3
LOCATION:F3
ORGANIZER:Urban Simončič
RELATED-TO:fmf-AFLABS-URNIK:srecanje:6944
X-WR-TIMEZONE:Europe/Ljubljana
END:VEVENT
BEGIN:VEVENT
SUMMARY:Fizika radioterapije (MEF-1\, MEF-2)\, Predavanja (P)
DTSTART;TZID=Europe/Ljubljana:20220307T100000
DTEND;TZID=Europe/Ljubljana:20220307T120000
DTSTAMP:20260420T193137Z
UID:fmf-AFLABS-URNIK:premaknjeno-srecanje:31793
ATTENDEE:1. letnik (Medicinska fizika, 2. stopnja)
ATTENDEE:2. letnik (Medicinska fizika, 2. stopnja)
CATEGORIES:Entry,Standard
COLOR:darkgreen
DESCRIPTION:Predmet: Fizika radioterapije (MEF-1\, MEF-2)\, Predavanja (P)
 \nLetniki: 1. letnik (Medicinska fizika\, 2. stopnja)\, 2. letnik (Medicin
 ska fizika\, 2. stopnja)\nIzvajalci: Urban Simončič\nProstor: F3
LOCATION:F3
ORGANIZER:Urban Simončič
RELATED-TO:fmf-AFLABS-URNIK:srecanje:6944
X-WR-TIMEZONE:Europe/Ljubljana
END:VEVENT
BEGIN:VEVENT
SUMMARY:Fizika radioterapije (MEF-1\, MEF-2)\, Predavanja (P)
DTSTART;TZID=Europe/Ljubljana:20220314T100000
DTEND;TZID=Europe/Ljubljana:20220314T120000
DTSTAMP:20260420T193137Z
UID:fmf-AFLABS-URNIK:premaknjeno-srecanje:31794
ATTENDEE:1. letnik (Medicinska fizika, 2. stopnja)
ATTENDEE:2. letnik (Medicinska fizika, 2. stopnja)
CATEGORIES:Entry,Standard
COLOR:darkgreen
DESCRIPTION:Predmet: Fizika radioterapije (MEF-1\, MEF-2)\, Predavanja (P)
 \nLetniki: 1. letnik (Medicinska fizika\, 2. stopnja)\, 2. letnik (Medicin
 ska fizika\, 2. stopnja)\nIzvajalci: Urban Simončič\nProstor: F3
LOCATION:F3
ORGANIZER:Urban Simončič
RELATED-TO:fmf-AFLABS-URNIK:srecanje:6944
X-WR-TIMEZONE:Europe/Ljubljana
END:VEVENT
BEGIN:VEVENT
SUMMARY:Fizika radioterapije (MEF-1\, MEF-2)\, Predavanja (P)
DTSTART;TZID=Europe/Ljubljana:20220321T100000
DTEND;TZID=Europe/Ljubljana:20220321T120000
DTSTAMP:20260420T193137Z
UID:fmf-AFLABS-URNIK:premaknjeno-srecanje:31795
ATTENDEE:1. letnik (Medicinska fizika, 2. stopnja)
ATTENDEE:2. letnik (Medicinska fizika, 2. stopnja)
CATEGORIES:Entry,Standard
COLOR:darkgreen
DESCRIPTION:Predmet: Fizika radioterapije (MEF-1\, MEF-2)\, Predavanja (P)
 \nLetniki: 1. letnik (Medicinska fizika\, 2. stopnja)\, 2. letnik (Medicin
 ska fizika\, 2. stopnja)\nIzvajalci: Urban Simončič\nProstor: F3
LOCATION:F3
ORGANIZER:Urban Simončič
RELATED-TO:fmf-AFLABS-URNIK:srecanje:6944
X-WR-TIMEZONE:Europe/Ljubljana
END:VEVENT
BEGIN:VEVENT
SUMMARY:Fizika radioterapije (MEF-1\, MEF-2)\, Predavanja (P)
DTSTART;TZID=Europe/Ljubljana:20220328T100000
DTEND;TZID=Europe/Ljubljana:20220328T120000
DTSTAMP:20260420T193137Z
UID:fmf-AFLABS-URNIK:premaknjeno-srecanje:31796
ATTENDEE:1. letnik (Medicinska fizika, 2. stopnja)
ATTENDEE:2. letnik (Medicinska fizika, 2. stopnja)
CATEGORIES:Entry,Standard
COLOR:darkgreen
DESCRIPTION:Predmet: Fizika radioterapije (MEF-1\, MEF-2)\, Predavanja (P)
 \nLetniki: 1. letnik (Medicinska fizika\, 2. stopnja)\, 2. letnik (Medicin
 ska fizika\, 2. stopnja)\nIzvajalci: Urban Simončič\nProstor: F3
LOCATION:F3
ORGANIZER:Urban Simončič
RELATED-TO:fmf-AFLABS-URNIK:srecanje:6944
X-WR-TIMEZONE:Europe/Ljubljana
END:VEVENT
BEGIN:VEVENT
SUMMARY:Fizika radioterapije (MEF-1\, MEF-2)\, Predavanja (P)
DTSTART;TZID=Europe/Ljubljana:20220404T100000
DTEND;TZID=Europe/Ljubljana:20220404T120000
DTSTAMP:20260420T193137Z
UID:fmf-AFLABS-URNIK:premaknjeno-srecanje:31797
ATTENDEE:1. letnik (Medicinska fizika, 2. stopnja)
ATTENDEE:2. letnik (Medicinska fizika, 2. stopnja)
CATEGORIES:Entry,Standard
COLOR:darkgreen
DESCRIPTION:Predmet: Fizika radioterapije (MEF-1\, MEF-2)\, Predavanja (P)
 \nLetniki: 1. letnik (Medicinska fizika\, 2. stopnja)\, 2. letnik (Medicin
 ska fizika\, 2. stopnja)\nIzvajalci: Urban Simončič\nProstor: F3
LOCATION:F3
ORGANIZER:Urban Simončič
RELATED-TO:fmf-AFLABS-URNIK:srecanje:6944
X-WR-TIMEZONE:Europe/Ljubljana
END:VEVENT
BEGIN:VEVENT
SUMMARY:Fizika radioterapije (MEF-1\, MEF-2)\, Predavanja (P)
DTSTART;TZID=Europe/Ljubljana:20220411T100000
DTEND;TZID=Europe/Ljubljana:20220411T120000
DTSTAMP:20260420T193137Z
UID:fmf-AFLABS-URNIK:premaknjeno-srecanje:31798
ATTENDEE:1. letnik (Medicinska fizika, 2. stopnja)
ATTENDEE:2. letnik (Medicinska fizika, 2. stopnja)
CATEGORIES:Entry,Standard
COLOR:darkgreen
DESCRIPTION:Predmet: Fizika radioterapije (MEF-1\, MEF-2)\, Predavanja (P)
 \nLetniki: 1. letnik (Medicinska fizika\, 2. stopnja)\, 2. letnik (Medicin
 ska fizika\, 2. stopnja)\nIzvajalci: Urban Simončič\nProstor: F3
LOCATION:F3
ORGANIZER:Urban Simončič
RELATED-TO:fmf-AFLABS-URNIK:srecanje:6944
X-WR-TIMEZONE:Europe/Ljubljana
END:VEVENT
BEGIN:VEVENT
SUMMARY:Fizika radioterapije (MEF-1\, MEF-2)\, Predavanja (P)
DTSTART;TZID=Europe/Ljubljana:20220418T100000
DTEND;TZID=Europe/Ljubljana:20220418T120000
DTSTAMP:20260420T193137Z
UID:fmf-AFLABS-URNIK:premaknjeno-srecanje:31799
ATTENDEE:1. letnik (Medicinska fizika, 2. stopnja)
ATTENDEE:2. letnik (Medicinska fizika, 2. stopnja)
CATEGORIES:Entry,Standard
COLOR:darkgreen
DESCRIPTION:Predmet: Fizika radioterapije (MEF-1\, MEF-2)\, Predavanja (P)
 \nLetniki: 1. letnik (Medicinska fizika\, 2. stopnja)\, 2. letnik (Medicin
 ska fizika\, 2. stopnja)\nIzvajalci: Urban Simončič\nProstor: F3
LOCATION:F3
ORGANIZER:Urban Simončič
RELATED-TO:fmf-AFLABS-URNIK:srecanje:6944
X-WR-TIMEZONE:Europe/Ljubljana
END:VEVENT
BEGIN:VEVENT
SUMMARY:Fizika radioterapije (MEF-1\, MEF-2)\, Predavanja (P)
DTSTART;TZID=Europe/Ljubljana:20220425T100000
DTEND;TZID=Europe/Ljubljana:20220425T120000
DTSTAMP:20260420T193137Z
UID:fmf-AFLABS-URNIK:premaknjeno-srecanje:31800
ATTENDEE:1. letnik (Medicinska fizika, 2. stopnja)
ATTENDEE:2. letnik (Medicinska fizika, 2. stopnja)
CATEGORIES:Entry,Standard
COLOR:darkgreen
DESCRIPTION:Predmet: Fizika radioterapije (MEF-1\, MEF-2)\, Predavanja (P)
 \nLetniki: 1. letnik (Medicinska fizika\, 2. stopnja)\, 2. letnik (Medicin
 ska fizika\, 2. stopnja)\nIzvajalci: Urban Simončič\nProstor: F3
LOCATION:F3
ORGANIZER:Urban Simončič
RELATED-TO:fmf-AFLABS-URNIK:srecanje:6944
X-WR-TIMEZONE:Europe/Ljubljana
END:VEVENT
BEGIN:VEVENT
SUMMARY:Fizika radioterapije (MEF-1\, MEF-2)\, Predavanja (P)
DTSTART;TZID=Europe/Ljubljana:20220502T100000
DTEND;TZID=Europe/Ljubljana:20220502T120000
DTSTAMP:20260420T193137Z
UID:fmf-AFLABS-URNIK:premaknjeno-srecanje:31801
ATTENDEE:1. letnik (Medicinska fizika, 2. stopnja)
ATTENDEE:2. letnik (Medicinska fizika, 2. stopnja)
CATEGORIES:Entry,Standard
COLOR:darkgreen
DESCRIPTION:Predmet: Fizika radioterapije (MEF-1\, MEF-2)\, Predavanja (P)
 \nLetniki: 1. letnik (Medicinska fizika\, 2. stopnja)\, 2. letnik (Medicin
 ska fizika\, 2. stopnja)\nIzvajalci: Urban Simončič\nProstor: F3
LOCATION:F3
ORGANIZER:Urban Simončič
RELATED-TO:fmf-AFLABS-URNIK:srecanje:6944
X-WR-TIMEZONE:Europe/Ljubljana
END:VEVENT
BEGIN:VEVENT
SUMMARY:Fizika radioterapije (MEF-1\, MEF-2)\, Predavanja (P)
DTSTART;TZID=Europe/Ljubljana:20220509T100000
DTEND;TZID=Europe/Ljubljana:20220509T120000
DTSTAMP:20260420T193137Z
UID:fmf-AFLABS-URNIK:premaknjeno-srecanje:31802
ATTENDEE:1. letnik (Medicinska fizika, 2. stopnja)
ATTENDEE:2. letnik (Medicinska fizika, 2. stopnja)
CATEGORIES:Entry,Standard
COLOR:darkgreen
DESCRIPTION:Predmet: Fizika radioterapije (MEF-1\, MEF-2)\, Predavanja (P)
 \nLetniki: 1. letnik (Medicinska fizika\, 2. stopnja)\, 2. letnik (Medicin
 ska fizika\, 2. stopnja)\nIzvajalci: Urban Simončič\nProstor: F3
LOCATION:F3
ORGANIZER:Urban Simončič
RELATED-TO:fmf-AFLABS-URNIK:srecanje:6944
X-WR-TIMEZONE:Europe/Ljubljana
END:VEVENT
BEGIN:VEVENT
SUMMARY:Fizika radioterapije (MEF-1\, MEF-2)\, Predavanja (P)
DTSTART;TZID=Europe/Ljubljana:20220516T100000
DTEND;TZID=Europe/Ljubljana:20220516T120000
DTSTAMP:20260420T193137Z
UID:fmf-AFLABS-URNIK:premaknjeno-srecanje:31803
ATTENDEE:1. letnik (Medicinska fizika, 2. stopnja)
ATTENDEE:2. letnik (Medicinska fizika, 2. stopnja)
CATEGORIES:Entry,Standard
COLOR:darkgreen
DESCRIPTION:Predmet: Fizika radioterapije (MEF-1\, MEF-2)\, Predavanja (P)
 \nLetniki: 1. letnik (Medicinska fizika\, 2. stopnja)\, 2. letnik (Medicin
 ska fizika\, 2. stopnja)\nIzvajalci: Urban Simončič\nProstor: F3
LOCATION:F3
ORGANIZER:Urban Simončič
RELATED-TO:fmf-AFLABS-URNIK:srecanje:6944
X-WR-TIMEZONE:Europe/Ljubljana
END:VEVENT
BEGIN:VEVENT
SUMMARY:Fizika radioterapije (MEF-1\, MEF-2)\, Predavanja (P)
DTSTART;TZID=Europe/Ljubljana:20220523T100000
DTEND;TZID=Europe/Ljubljana:20220523T120000
DTSTAMP:20260420T193137Z
UID:fmf-AFLABS-URNIK:premaknjeno-srecanje:31804
ATTENDEE:1. letnik (Medicinska fizika, 2. stopnja)
ATTENDEE:2. letnik (Medicinska fizika, 2. stopnja)
CATEGORIES:Entry,Standard
COLOR:darkgreen
DESCRIPTION:Predmet: Fizika radioterapije (MEF-1\, MEF-2)\, Predavanja (P)
 \nLetniki: 1. letnik (Medicinska fizika\, 2. stopnja)\, 2. letnik (Medicin
 ska fizika\, 2. stopnja)\nIzvajalci: Urban Simončič\nProstor: F3
LOCATION:F3
ORGANIZER:Urban Simončič
RELATED-TO:fmf-AFLABS-URNIK:srecanje:6944
X-WR-TIMEZONE:Europe/Ljubljana
END:VEVENT
BEGIN:VEVENT
SUMMARY:Fizika radioterapije (MEF-1\, MEF-2)\, Predavanja (P)
DTSTART;TZID=Europe/Ljubljana:20220530T100000
DTEND;TZID=Europe/Ljubljana:20220530T120000
DTSTAMP:20260420T193137Z
UID:fmf-AFLABS-URNIK:premaknjeno-srecanje:31805
ATTENDEE:1. letnik (Medicinska fizika, 2. stopnja)
ATTENDEE:2. letnik (Medicinska fizika, 2. stopnja)
CATEGORIES:Entry,Standard
COLOR:darkgreen
DESCRIPTION:Predmet: Fizika radioterapije (MEF-1\, MEF-2)\, Predavanja (P)
 \nLetniki: 1. letnik (Medicinska fizika\, 2. stopnja)\, 2. letnik (Medicin
 ska fizika\, 2. stopnja)\nIzvajalci: Urban Simončič\nProstor: F3
LOCATION:F3
ORGANIZER:Urban Simončič
RELATED-TO:fmf-AFLABS-URNIK:srecanje:6944
X-WR-TIMEZONE:Europe/Ljubljana
END:VEVENT
BEGIN:VEVENT
SUMMARY:Fizika radioterapije (MEF-1\, MEF-2)\, Predavanja (P)
DTSTART;TZID=Europe/Ljubljana:20220217T090000
DTEND;TZID=Europe/Ljubljana:20220217T110000
DTSTAMP:20260420T193137Z
UID:fmf-AFLABS-URNIK:premaknjeno-srecanje:31821
ATTENDEE:1. letnik (Medicinska fizika, 2. stopnja)
ATTENDEE:2. letnik (Medicinska fizika, 2. stopnja)
CATEGORIES:Entry,Standard
COLOR:darkgreen
DESCRIPTION:Predmet: Fizika radioterapije (MEF-1\, MEF-2)\, Predavanja (P)
 \nLetniki: 1. letnik (Medicinska fizika\, 2. stopnja)\, 2. letnik (Medicin
 ska fizika\, 2. stopnja)\nIzvajalci: Urban Simončič\nProstor: F6
LOCATION:F6
ORGANIZER:Urban Simončič
RELATED-TO:fmf-AFLABS-URNIK:srecanje:7420
X-WR-TIMEZONE:Europe/Ljubljana
END:VEVENT
BEGIN:VEVENT
SUMMARY:Fizika radioterapije (MEF-1\, MEF-2)\, Predavanja (P)
DTSTART;TZID=Europe/Ljubljana:20220224T090000
DTEND;TZID=Europe/Ljubljana:20220224T110000
DTSTAMP:20260420T193137Z
UID:fmf-AFLABS-URNIK:premaknjeno-srecanje:31822
ATTENDEE:1. letnik (Medicinska fizika, 2. stopnja)
ATTENDEE:2. letnik (Medicinska fizika, 2. stopnja)
CATEGORIES:Entry,Standard
COLOR:darkgreen
DESCRIPTION:Predmet: Fizika radioterapije (MEF-1\, MEF-2)\, Predavanja (P)
 \nLetniki: 1. letnik (Medicinska fizika\, 2. stopnja)\, 2. letnik (Medicin
 ska fizika\, 2. stopnja)\nIzvajalci: Urban Simončič\nProstor: F6
LOCATION:F6
ORGANIZER:Urban Simončič
RELATED-TO:fmf-AFLABS-URNIK:srecanje:7420
X-WR-TIMEZONE:Europe/Ljubljana
END:VEVENT
BEGIN:VEVENT
SUMMARY:Fizika radioterapije (MEF-1\, MEF-2)\, Predavanja (P)
DTSTART;TZID=Europe/Ljubljana:20220303T090000
DTEND;TZID=Europe/Ljubljana:20220303T110000
DTSTAMP:20260420T193137Z
UID:fmf-AFLABS-URNIK:premaknjeno-srecanje:31823
ATTENDEE:1. letnik (Medicinska fizika, 2. stopnja)
ATTENDEE:2. letnik (Medicinska fizika, 2. stopnja)
CATEGORIES:Entry,Standard
COLOR:darkgreen
DESCRIPTION:Predmet: Fizika radioterapije (MEF-1\, MEF-2)\, Predavanja (P)
 \nLetniki: 1. letnik (Medicinska fizika\, 2. stopnja)\, 2. letnik (Medicin
 ska fizika\, 2. stopnja)\nIzvajalci: Urban Simončič\nProstor: F6
LOCATION:F6
ORGANIZER:Urban Simončič
RELATED-TO:fmf-AFLABS-URNIK:srecanje:7420
X-WR-TIMEZONE:Europe/Ljubljana
END:VEVENT
BEGIN:VEVENT
SUMMARY:Fizika radioterapije (MEF-1\, MEF-2)\, Predavanja (P)
DTSTART;TZID=Europe/Ljubljana:20220310T090000
DTEND;TZID=Europe/Ljubljana:20220310T110000
DTSTAMP:20260420T193137Z
UID:fmf-AFLABS-URNIK:premaknjeno-srecanje:31824
ATTENDEE:1. letnik (Medicinska fizika, 2. stopnja)
ATTENDEE:2. letnik (Medicinska fizika, 2. stopnja)
CATEGORIES:Entry,Standard
COLOR:darkgreen
DESCRIPTION:Predmet: Fizika radioterapije (MEF-1\, MEF-2)\, Predavanja (P)
 \nLetniki: 1. letnik (Medicinska fizika\, 2. stopnja)\, 2. letnik (Medicin
 ska fizika\, 2. stopnja)\nIzvajalci: Urban Simončič\nProstor: F6
LOCATION:F6
ORGANIZER:Urban Simončič
RELATED-TO:fmf-AFLABS-URNIK:srecanje:7420
X-WR-TIMEZONE:Europe/Ljubljana
END:VEVENT
BEGIN:VEVENT
SUMMARY:Fizika radioterapije (MEF-1\, MEF-2)\, Predavanja (P)
DTSTART;TZID=Europe/Ljubljana:20220317T090000
DTEND;TZID=Europe/Ljubljana:20220317T110000
DTSTAMP:20260420T193137Z
UID:fmf-AFLABS-URNIK:premaknjeno-srecanje:31825
ATTENDEE:1. letnik (Medicinska fizika, 2. stopnja)
ATTENDEE:2. letnik (Medicinska fizika, 2. stopnja)
CATEGORIES:Entry,Standard
COLOR:darkgreen
DESCRIPTION:Predmet: Fizika radioterapije (MEF-1\, MEF-2)\, Predavanja (P)
 \nLetniki: 1. letnik (Medicinska fizika\, 2. stopnja)\, 2. letnik (Medicin
 ska fizika\, 2. stopnja)\nIzvajalci: Urban Simončič\nProstor: F6
LOCATION:F6
ORGANIZER:Urban Simončič
RELATED-TO:fmf-AFLABS-URNIK:srecanje:7420
X-WR-TIMEZONE:Europe/Ljubljana
END:VEVENT
BEGIN:VEVENT
SUMMARY:Fizika radioterapije (MEF-1\, MEF-2)\, Predavanja (P)
DTSTART;TZID=Europe/Ljubljana:20220324T090000
DTEND;TZID=Europe/Ljubljana:20220324T110000
DTSTAMP:20260420T193137Z
UID:fmf-AFLABS-URNIK:premaknjeno-srecanje:31826
ATTENDEE:1. letnik (Medicinska fizika, 2. stopnja)
ATTENDEE:2. letnik (Medicinska fizika, 2. stopnja)
CATEGORIES:Entry,Standard
COLOR:darkgreen
DESCRIPTION:Predmet: Fizika radioterapije (MEF-1\, MEF-2)\, Predavanja (P)
 \nLetniki: 1. letnik (Medicinska fizika\, 2. stopnja)\, 2. letnik (Medicin
 ska fizika\, 2. stopnja)\nIzvajalci: Urban Simončič\nProstor: F6
LOCATION:F6
ORGANIZER:Urban Simončič
RELATED-TO:fmf-AFLABS-URNIK:srecanje:7420
X-WR-TIMEZONE:Europe/Ljubljana
END:VEVENT
BEGIN:VEVENT
SUMMARY:Fizika radioterapije (MEF-1\, MEF-2)\, Predavanja (P)
DTSTART;TZID=Europe/Ljubljana:20220331T090000
DTEND;TZID=Europe/Ljubljana:20220331T110000
DTSTAMP:20260420T193137Z
UID:fmf-AFLABS-URNIK:premaknjeno-srecanje:31827
ATTENDEE:1. letnik (Medicinska fizika, 2. stopnja)
ATTENDEE:2. letnik (Medicinska fizika, 2. stopnja)
CATEGORIES:Entry,Standard
COLOR:darkgreen
DESCRIPTION:Predmet: Fizika radioterapije (MEF-1\, MEF-2)\, Predavanja (P)
 \nLetniki: 1. letnik (Medicinska fizika\, 2. stopnja)\, 2. letnik (Medicin
 ska fizika\, 2. stopnja)\nIzvajalci: Urban Simončič\nProstor: F6
LOCATION:F6
ORGANIZER:Urban Simončič
RELATED-TO:fmf-AFLABS-URNIK:srecanje:7420
X-WR-TIMEZONE:Europe/Ljubljana
END:VEVENT
BEGIN:VEVENT
SUMMARY:Fizika radioterapije (MEF-1\, MEF-2)\, Predavanja (P)
DTSTART;TZID=Europe/Ljubljana:20220407T090000
DTEND;TZID=Europe/Ljubljana:20220407T110000
DTSTAMP:20260420T193137Z
UID:fmf-AFLABS-URNIK:premaknjeno-srecanje:31828
ATTENDEE:1. letnik (Medicinska fizika, 2. stopnja)
ATTENDEE:2. letnik (Medicinska fizika, 2. stopnja)
CATEGORIES:Entry,Standard
COLOR:darkgreen
DESCRIPTION:Predmet: Fizika radioterapije (MEF-1\, MEF-2)\, Predavanja (P)
 \nLetniki: 1. letnik (Medicinska fizika\, 2. stopnja)\, 2. letnik (Medicin
 ska fizika\, 2. stopnja)\nIzvajalci: Urban Simončič\nProstor: F6
LOCATION:F6
ORGANIZER:Urban Simončič
RELATED-TO:fmf-AFLABS-URNIK:srecanje:7420
X-WR-TIMEZONE:Europe/Ljubljana
END:VEVENT
BEGIN:VEVENT
SUMMARY:Fizika radioterapije (MEF-1\, MEF-2)\, Predavanja (P)
DTSTART;TZID=Europe/Ljubljana:20220414T090000
DTEND;TZID=Europe/Ljubljana:20220414T110000
DTSTAMP:20260420T193137Z
UID:fmf-AFLABS-URNIK:premaknjeno-srecanje:31829
ATTENDEE:1. letnik (Medicinska fizika, 2. stopnja)
ATTENDEE:2. letnik (Medicinska fizika, 2. stopnja)
CATEGORIES:Entry,Standard
COLOR:darkgreen
DESCRIPTION:Predmet: Fizika radioterapije (MEF-1\, MEF-2)\, Predavanja (P)
 \nLetniki: 1. letnik (Medicinska fizika\, 2. stopnja)\, 2. letnik (Medicin
 ska fizika\, 2. stopnja)\nIzvajalci: Urban Simončič\nProstor: F6
LOCATION:F6
ORGANIZER:Urban Simončič
RELATED-TO:fmf-AFLABS-URNIK:srecanje:7420
X-WR-TIMEZONE:Europe/Ljubljana
END:VEVENT
BEGIN:VEVENT
SUMMARY:Fizika radioterapije (MEF-1\, MEF-2)\, Predavanja (P)
DTSTART;TZID=Europe/Ljubljana:20220421T090000
DTEND;TZID=Europe/Ljubljana:20220421T110000
DTSTAMP:20260420T193137Z
UID:fmf-AFLABS-URNIK:premaknjeno-srecanje:31830
ATTENDEE:1. letnik (Medicinska fizika, 2. stopnja)
ATTENDEE:2. letnik (Medicinska fizika, 2. stopnja)
CATEGORIES:Entry,Standard
COLOR:darkgreen
DESCRIPTION:Predmet: Fizika radioterapije (MEF-1\, MEF-2)\, Predavanja (P)
 \nLetniki: 1. letnik (Medicinska fizika\, 2. stopnja)\, 2. letnik (Medicin
 ska fizika\, 2. stopnja)\nIzvajalci: Urban Simončič\nProstor: F6
LOCATION:F6
ORGANIZER:Urban Simončič
RELATED-TO:fmf-AFLABS-URNIK:srecanje:7420
X-WR-TIMEZONE:Europe/Ljubljana
END:VEVENT
BEGIN:VEVENT
SUMMARY:Fizika radioterapije (MEF-1\, MEF-2)\, Predavanja (P)
DTSTART;TZID=Europe/Ljubljana:20220428T090000
DTEND;TZID=Europe/Ljubljana:20220428T110000
DTSTAMP:20260420T193137Z
UID:fmf-AFLABS-URNIK:premaknjeno-srecanje:31831
ATTENDEE:1. letnik (Medicinska fizika, 2. stopnja)
ATTENDEE:2. letnik (Medicinska fizika, 2. stopnja)
CATEGORIES:Entry,Standard
COLOR:darkgreen
DESCRIPTION:Predmet: Fizika radioterapije (MEF-1\, MEF-2)\, Predavanja (P)
 \nLetniki: 1. letnik (Medicinska fizika\, 2. stopnja)\, 2. letnik (Medicin
 ska fizika\, 2. stopnja)\nIzvajalci: Urban Simončič\nProstor: F6
LOCATION:F6
ORGANIZER:Urban Simončič
RELATED-TO:fmf-AFLABS-URNIK:srecanje:7420
X-WR-TIMEZONE:Europe/Ljubljana
END:VEVENT
BEGIN:VEVENT
SUMMARY:Fizika radioterapije (MEF-1\, MEF-2)\, Predavanja (P)
DTSTART;TZID=Europe/Ljubljana:20220505T090000
DTEND;TZID=Europe/Ljubljana:20220505T110000
DTSTAMP:20260420T193137Z
UID:fmf-AFLABS-URNIK:premaknjeno-srecanje:31832
ATTENDEE:1. letnik (Medicinska fizika, 2. stopnja)
ATTENDEE:2. letnik (Medicinska fizika, 2. stopnja)
CATEGORIES:Entry,Standard
COLOR:darkgreen
DESCRIPTION:Predmet: Fizika radioterapije (MEF-1\, MEF-2)\, Predavanja (P)
 \nLetniki: 1. letnik (Medicinska fizika\, 2. stopnja)\, 2. letnik (Medicin
 ska fizika\, 2. stopnja)\nIzvajalci: Urban Simončič\nProstor: F6
LOCATION:F6
ORGANIZER:Urban Simončič
RELATED-TO:fmf-AFLABS-URNIK:srecanje:7420
X-WR-TIMEZONE:Europe/Ljubljana
END:VEVENT
BEGIN:VEVENT
SUMMARY:Fizika radioterapije (MEF-1\, MEF-2)\, Predavanja (P)
DTSTART;TZID=Europe/Ljubljana:20220512T090000
DTEND;TZID=Europe/Ljubljana:20220512T110000
DTSTAMP:20260420T193137Z
UID:fmf-AFLABS-URNIK:premaknjeno-srecanje:31833
ATTENDEE:1. letnik (Medicinska fizika, 2. stopnja)
ATTENDEE:2. letnik (Medicinska fizika, 2. stopnja)
CATEGORIES:Entry,Standard
COLOR:darkgreen
DESCRIPTION:Predmet: Fizika radioterapije (MEF-1\, MEF-2)\, Predavanja (P)
 \nLetniki: 1. letnik (Medicinska fizika\, 2. stopnja)\, 2. letnik (Medicin
 ska fizika\, 2. stopnja)\nIzvajalci: Urban Simončič\nProstor: F6
LOCATION:F6
ORGANIZER:Urban Simončič
RELATED-TO:fmf-AFLABS-URNIK:srecanje:7420
X-WR-TIMEZONE:Europe/Ljubljana
END:VEVENT
BEGIN:VEVENT
SUMMARY:Fizika radioterapije (MEF-1\, MEF-2)\, Predavanja (P)
DTSTART;TZID=Europe/Ljubljana:20220519T090000
DTEND;TZID=Europe/Ljubljana:20220519T110000
DTSTAMP:20260420T193137Z
UID:fmf-AFLABS-URNIK:premaknjeno-srecanje:31834
ATTENDEE:1. letnik (Medicinska fizika, 2. stopnja)
ATTENDEE:2. letnik (Medicinska fizika, 2. stopnja)
CATEGORIES:Entry,Standard
COLOR:darkgreen
DESCRIPTION:Predmet: Fizika radioterapije (MEF-1\, MEF-2)\, Predavanja (P)
 \nLetniki: 1. letnik (Medicinska fizika\, 2. stopnja)\, 2. letnik (Medicin
 ska fizika\, 2. stopnja)\nIzvajalci: Urban Simončič\nProstor: F6
LOCATION:F6
ORGANIZER:Urban Simončič
RELATED-TO:fmf-AFLABS-URNIK:srecanje:7420
X-WR-TIMEZONE:Europe/Ljubljana
END:VEVENT
BEGIN:VEVENT
SUMMARY:Fizika radioterapije (MEF-1\, MEF-2)\, Predavanja (P)
DTSTART;TZID=Europe/Ljubljana:20220526T090000
DTEND;TZID=Europe/Ljubljana:20220526T110000
DTSTAMP:20260420T193137Z
UID:fmf-AFLABS-URNIK:premaknjeno-srecanje:31835
ATTENDEE:1. letnik (Medicinska fizika, 2. stopnja)
ATTENDEE:2. letnik (Medicinska fizika, 2. stopnja)
CATEGORIES:Entry,Standard
COLOR:darkgreen
DESCRIPTION:Predmet: Fizika radioterapije (MEF-1\, MEF-2)\, Predavanja (P)
 \nLetniki: 1. letnik (Medicinska fizika\, 2. stopnja)\, 2. letnik (Medicin
 ska fizika\, 2. stopnja)\nIzvajalci: Urban Simončič\nProstor: F6
LOCATION:F6
ORGANIZER:Urban Simončič
RELATED-TO:fmf-AFLABS-URNIK:srecanje:7420
X-WR-TIMEZONE:Europe/Ljubljana
END:VEVENT
BEGIN:VEVENT
SUMMARY:Rezervacija
DTSTART;TZID=Europe/Ljubljana:20220520T110000
DTEND;TZID=Europe/Ljubljana:20220520T120000
DTSTAMP:20260420T193137Z
UID:fmf-AFLABS-URNIK:rezervacija:5465
ATTENDEE:1. letnik (Medicinska fizika, 2. stopnja)
ATTENDEE:2. letnik (Medicinska fizika, 2. stopnja)
CATEGORIES:Reservation
COLOR:royalblue
DESCRIPTION:Predmeti: Fizika radioterapije (MEF-1\, MEF-2)\nLetniki: 1. le
 tnik (Medicinska fizika\, 2. stopnja)\, 2. letnik (Medicinska fizika\, 2. 
 stopnja)\nIzvajalci: Urban Simončič\nProstori: F8
LOCATION:F8
ORGANIZER:Urban Simončič
X-WR-TIMEZONE:Europe/Ljubljana
END:VEVENT
BEGIN:VEVENT
SUMMARY:Rezervacija
DTSTART;TZID=Europe/Ljubljana:20220407T110000
DTEND;TZID=Europe/Ljubljana:20220407T120000
DTSTAMP:20260420T193137Z
UID:fmf-AFLABS-URNIK:rezervacija:8824
ATTENDEE:1. letnik (Medicinska fizika, 2. stopnja)
ATTENDEE:2. letnik (Medicinska fizika, 2. stopnja)
CATEGORIES:Reservation
COLOR:royalblue
DESCRIPTION:Predmeti: Fizika radioterapije (MEF-1\, MEF-2)\nLetniki: 1. le
 tnik (Medicinska fizika\, 2. stopnja)\, 2. letnik (Medicinska fizika\, 2. 
 stopnja)\nIzvajalci: Urban Simončič\nProstori: 3.10
LOCATION:3.10
ORGANIZER:Urban Simončič
X-WR-TIMEZONE:Europe/Ljubljana
END:VEVENT
BEGIN:VEVENT
SUMMARY:Rezervacija
DTSTART;TZID=Europe/Ljubljana:20220408T090000
DTEND;TZID=Europe/Ljubljana:20220408T110000
DTSTAMP:20260420T193137Z
UID:fmf-AFLABS-URNIK:rezervacija:8834
CATEGORIES:Reservation
COLOR:royalblue
DESCRIPTION:Predmeti: \nLetniki: \nIzvajalci: Urban Simončič\nProstori: 
 F7
LOCATION:F7
ORGANIZER:Urban Simončič
X-WR-TIMEZONE:Europe/Ljubljana
END:VEVENT
BEGIN:VEVENT
SUMMARY:Rezervacija
DTSTART;TZID=Europe/Ljubljana:20220408T110000
DTEND;TZID=Europe/Ljubljana:20220408T140000
DTSTAMP:20260420T193137Z
UID:fmf-AFLABS-URNIK:rezervacija:8836
CATEGORIES:Reservation
COLOR:royalblue
DESCRIPTION:Predmeti: \nLetniki: \nIzvajalci: Urban Simončič\nProstori: 
 F2
LOCATION:F2
ORGANIZER:Urban Simončič
X-WR-TIMEZONE:Europe/Ljubljana
END:VEVENT
BEGIN:VEVENT
SUMMARY:Rezervacija
DTSTART;TZID=Europe/Ljubljana:20220408T140000
DTEND;TZID=Europe/Ljubljana:20220408T180000
DTSTAMP:20260420T193137Z
UID:fmf-AFLABS-URNIK:rezervacija:8839
CATEGORIES:Reservation
COLOR:royalblue
DESCRIPTION:Predmeti: \nLetniki: \nIzvajalci: Urban Simončič\nProstori: 
 3.10
LOCATION:3.10
ORGANIZER:Urban Simončič
X-WR-TIMEZONE:Europe/Ljubljana
END:VEVENT
END:VCALENDAR
