BEGIN:VCALENDAR
VERSION:2.0
PRODID:-//AFLabs urnik izvoz - fmf//aflabs.si//SI
DTSTAMP:20260425T171742Z
NAME:UL FMF urnik
REFRESH-INTERVAL:PT1H
SOURCE:https://urnik.fmf.uni-lj.si/teacher/199?day=2019-07-01&export=1
URL:https://urnik.fmf.uni-lj.si/teacher/199?day=2019-07-01&export=1
X-PUBLISHED-TTL:PT1H
X-WR-CALNAME:UL FMF urnik
X-WR-TIMEZONE:Europe/Ljubljana
BEGIN:VTIMEZONE
TZID:Europe/Ljubljana
BEGIN:DAYLIGHT
DTSTART:20260329T020000
RDATE:20260329T020000
RDATE:20270328T020000
TZNAME:CEST
TZOFFSETFROM:+0100
TZOFFSETTO:+0200
END:DAYLIGHT
BEGIN:STANDARD
DTSTART:20261025T030000
RDATE:20261025T030000
RDATE:20271031T030000
TZNAME:CET
TZOFFSETFROM:+0200
TZOFFSETTO:+0100
END:STANDARD
END:VTIMEZONE
BEGIN:VEVENT
SUMMARY:Uvod v programiranje (MAT-1\, PM-2)\, Vaje (V)\, [3]
DTSTART;TZID=Europe/Ljubljana:20190529T140000
DTEND;TZID=Europe/Ljubljana:20190529T170000
DTSTAMP:20260425T171742Z
UID:fmf-AFLABS-URNIK:premaknjeno-srecanje:117930
ATTENDEE:1. letnik (M)
ATTENDEE:2. letnik (PM)
CATEGORIES:Entry,Standard
COLOR:darkgreen
DESCRIPTION:Predmet: Uvod v programiranje (MAT-1\, PM-2)\, Vaje (V)\, [3]\
 nLetniki: 1. letnik (M)\, 2. letnik (PM)\nIzvajalci: Anja Petković\nProst
 or: 3.11
LOCATION:3.11
ORGANIZER:Anja Petković
RELATED-TO:fmf-AFLABS-URNIK:srecanje:3040
X-WR-TIMEZONE:Europe/Ljubljana
END:VEVENT
BEGIN:VEVENT
SUMMARY:Rezervacija
DTSTART;TZID=Europe/Ljubljana:20190613T130000
DTEND;TZID=Europe/Ljubljana:20190613T160000
DTSTAMP:20260425T171742Z
UID:fmf-AFLABS-URNIK:rezervacija:3497
CATEGORIES:Reservation
COLOR:royalblue
DESCRIPTION:Predmeti: \nLetniki: \nIzvajalci: Anja Petković\nProstori: 3.
 07
LOCATION:3.07
ORGANIZER:Anja Petković
X-WR-TIMEZONE:Europe/Ljubljana
END:VEVENT
BEGIN:VEVENT
SUMMARY:Rezervacija
DTSTART;TZID=Europe/Ljubljana:20190627T110000
DTEND;TZID=Europe/Ljubljana:20190627T130000
DTSTAMP:20260425T171742Z
UID:fmf-AFLABS-URNIK:rezervacija:3754
CATEGORIES:Reservation
COLOR:royalblue
DESCRIPTION:Predmeti: \nLetniki: \nIzvajalci: Anja Petković\nProstori: 2.
 04
LOCATION:2.04
ORGANIZER:Anja Petković
X-WR-TIMEZONE:Europe/Ljubljana
END:VEVENT
BEGIN:VEVENT
SUMMARY:Rezervacija
DTSTART;TZID=Europe/Ljubljana:20190627T130000
DTEND;TZID=Europe/Ljubljana:20190627T150000
DTSTAMP:20260425T171742Z
UID:fmf-AFLABS-URNIK:rezervacija:3758
CATEGORIES:Reservation
COLOR:royalblue
DESCRIPTION:Predmeti: \nLetniki: \nIzvajalci: Anja Petković\nProstori: 2.
 04
LOCATION:2.04
ORGANIZER:Anja Petković
X-WR-TIMEZONE:Europe/Ljubljana
END:VEVENT
END:VCALENDAR
