BEGIN:VCALENDAR
VERSION:2.0
PRODID:-//AFLabs urnik izvoz - fmf//aflabs.si//SI
DTSTAMP:20260423T235306Z
NAME:UL FMF urnik
REFRESH-INTERVAL:PT1H
SOURCE:https://urnik.fmf.uni-lj.si/teacher/199?day=2020-01-27&export=1
URL:https://urnik.fmf.uni-lj.si/teacher/199?day=2020-01-27&export=1
X-PUBLISHED-TTL:PT1H
X-WR-CALNAME:UL FMF urnik
X-WR-TIMEZONE:Europe/Ljubljana
BEGIN:VTIMEZONE
TZID:Europe/Ljubljana
BEGIN:DAYLIGHT
DTSTART:20260329T020000
RDATE:20260329T020000
RDATE:20270328T020000
TZNAME:CEST
TZOFFSETFROM:+0100
TZOFFSETTO:+0200
END:DAYLIGHT
BEGIN:STANDARD
DTSTART:20261025T030000
RDATE:20261025T030000
RDATE:20271031T030000
TZNAME:CET
TZOFFSETFROM:+0200
TZOFFSETTO:+0100
END:STANDARD
END:VTIMEZONE
BEGIN:VEVENT
SUMMARY:Logika in množice (MAT-1\, PM-1)\, Vaje (V)\, [1]
DTSTART;TZID=Europe/Ljubljana:20191227T080000
DTEND;TZID=Europe/Ljubljana:20191227T100000
DTSTAMP:20260423T235306Z
UID:fmf-AFLABS-URNIK:premaknjeno-srecanje:57958
ATTENDEE:1. letnik (M)
ATTENDEE:1. letnik (PM)
CATEGORIES:Entry,Standard
COLOR:darkgreen
DESCRIPTION:Predmet: Logika in množice (MAT-1\, PM-1)\, Vaje (V)\, [1]\nL
 etniki: 1. letnik (M)\, 1. letnik (PM)\nIzvajalci: Anja Petković\nProstor
 : 2.05
LOCATION:2.05
ORGANIZER:Anja Petković
RELATED-TO:fmf-AFLABS-URNIK:srecanje:3508
X-WR-TIMEZONE:Europe/Ljubljana
END:VEVENT
BEGIN:VEVENT
SUMMARY:Logika in množice (MAT-1\, PM-1)\, Vaje (V)\, [1]
DTSTART;TZID=Europe/Ljubljana:20200103T080000
DTEND;TZID=Europe/Ljubljana:20200103T100000
DTSTAMP:20260423T235306Z
UID:fmf-AFLABS-URNIK:premaknjeno-srecanje:57959
ATTENDEE:1. letnik (M)
ATTENDEE:1. letnik (PM)
CATEGORIES:Entry,Standard
COLOR:darkgreen
DESCRIPTION:Predmet: Logika in množice (MAT-1\, PM-1)\, Vaje (V)\, [1]\nL
 etniki: 1. letnik (M)\, 1. letnik (PM)\nIzvajalci: Anja Petković\nProstor
 : 2.05
LOCATION:2.05
ORGANIZER:Anja Petković
RELATED-TO:fmf-AFLABS-URNIK:srecanje:3508
X-WR-TIMEZONE:Europe/Ljubljana
END:VEVENT
BEGIN:VEVENT
SUMMARY:Logika in množice (MAT-1\, PM-1)\, Vaje (V)\, [1]
DTSTART;TZID=Europe/Ljubljana:20200110T080000
DTEND;TZID=Europe/Ljubljana:20200110T100000
DTSTAMP:20260423T235306Z
UID:fmf-AFLABS-URNIK:premaknjeno-srecanje:57960
ATTENDEE:1. letnik (M)
ATTENDEE:1. letnik (PM)
CATEGORIES:Entry,Standard
COLOR:darkgreen
DESCRIPTION:Predmet: Logika in množice (MAT-1\, PM-1)\, Vaje (V)\, [1]\nL
 etniki: 1. letnik (M)\, 1. letnik (PM)\nIzvajalci: Anja Petković\nProstor
 : 2.05
LOCATION:2.05
ORGANIZER:Anja Petković
RELATED-TO:fmf-AFLABS-URNIK:srecanje:3508
X-WR-TIMEZONE:Europe/Ljubljana
END:VEVENT
BEGIN:VEVENT
SUMMARY:Logika in množice (MAT-1\, PM-1)\, Vaje (V)\, [1]
DTSTART;TZID=Europe/Ljubljana:20200117T080000
DTEND;TZID=Europe/Ljubljana:20200117T100000
DTSTAMP:20260423T235306Z
UID:fmf-AFLABS-URNIK:premaknjeno-srecanje:57961
ATTENDEE:1. letnik (M)
ATTENDEE:1. letnik (PM)
CATEGORIES:Entry,Standard
COLOR:darkgreen
DESCRIPTION:Predmet: Logika in množice (MAT-1\, PM-1)\, Vaje (V)\, [1]\nL
 etniki: 1. letnik (M)\, 1. letnik (PM)\nIzvajalci: Anja Petković\nProstor
 : 2.05
LOCATION:2.05
ORGANIZER:Anja Petković
RELATED-TO:fmf-AFLABS-URNIK:srecanje:3508
X-WR-TIMEZONE:Europe/Ljubljana
END:VEVENT
BEGIN:VEVENT
SUMMARY:Uvod v programiranje (MAT-1\, PM-2)\, Vaje (V)\, [2]
DTSTART;TZID=Europe/Ljubljana:20200219T170000
DTEND;TZID=Europe/Ljubljana:20200219T200000
DTSTAMP:20260423T235306Z
UID:fmf-AFLABS-URNIK:premaknjeno-srecanje:117776
ATTENDEE:1. letnik (M)
ATTENDEE:2. letnik (PM)
CATEGORIES:Entry,Standard
COLOR:darkgreen
DESCRIPTION:Predmet: Uvod v programiranje (MAT-1\, PM-2)\, Vaje (V)\, [2]\
 nLetniki: 1. letnik (M)\, 2. letnik (PM)\nIzvajalci: Anja Petković\nProst
 or: 3.11
LOCATION:3.11
ORGANIZER:Anja Petković
RELATED-TO:fmf-AFLABS-URNIK:srecanje:4515
X-WR-TIMEZONE:Europe/Ljubljana
END:VEVENT
BEGIN:VEVENT
SUMMARY:Uvod v programiranje (MAT-1\, PM-2)\, Vaje (V)\, [2]
DTSTART;TZID=Europe/Ljubljana:20200226T170000
DTEND;TZID=Europe/Ljubljana:20200226T200000
DTSTAMP:20260423T235306Z
UID:fmf-AFLABS-URNIK:premaknjeno-srecanje:117777
ATTENDEE:1. letnik (M)
ATTENDEE:2. letnik (PM)
CATEGORIES:Entry,Standard
COLOR:darkgreen
DESCRIPTION:Predmet: Uvod v programiranje (MAT-1\, PM-2)\, Vaje (V)\, [2]\
 nLetniki: 1. letnik (M)\, 2. letnik (PM)\nIzvajalci: Anja Petković\nProst
 or: 3.11
LOCATION:3.11
ORGANIZER:Anja Petković
RELATED-TO:fmf-AFLABS-URNIK:srecanje:4515
X-WR-TIMEZONE:Europe/Ljubljana
END:VEVENT
BEGIN:VEVENT
SUMMARY:Rezervacija
DTSTART;TZID=Europe/Ljubljana:20200123T110000
DTEND;TZID=Europe/Ljubljana:20200123T130000
DTSTAMP:20260423T235306Z
UID:fmf-AFLABS-URNIK:rezervacija:4910
CATEGORIES:Reservation
COLOR:royalblue
DESCRIPTION:Predmeti: \nLetniki: \nIzvajalci: Anja Petković\nProstori: 3.
 07
LOCATION:3.07
ORGANIZER:Anja Petković
X-WR-TIMEZONE:Europe/Ljubljana
END:VEVENT
BEGIN:VEVENT
SUMMARY:Rezervacija
DTSTART;TZID=Europe/Ljubljana:20200130T110000
DTEND;TZID=Europe/Ljubljana:20200130T130000
DTSTAMP:20260423T235306Z
UID:fmf-AFLABS-URNIK:rezervacija:4987
CATEGORIES:Reservation
COLOR:royalblue
DESCRIPTION:Predmeti: \nLetniki: \nIzvajalci: Anja Petković\nProstori: 3.
 07
LOCATION:3.07
ORGANIZER:Anja Petković
X-WR-TIMEZONE:Europe/Ljubljana
END:VEVENT
BEGIN:VEVENT
SUMMARY:Rezervacija
DTSTART;TZID=Europe/Ljubljana:20200206T110000
DTEND;TZID=Europe/Ljubljana:20200206T130000
DTSTAMP:20260423T235306Z
UID:fmf-AFLABS-URNIK:rezervacija:5058
CATEGORIES:Reservation
COLOR:royalblue
DESCRIPTION:Predmeti: \nLetniki: \nIzvajalci: Anja Petković\nProstori: 3.
 07
LOCATION:3.07
ORGANIZER:Anja Petković
X-WR-TIMEZONE:Europe/Ljubljana
END:VEVENT
END:VCALENDAR
