BEGIN:VCALENDAR
VERSION:2.0
PRODID:-//AFLabs urnik izvoz - fmf//aflabs.si//SI
DTSTAMP:20260422T054731Z
NAME:UL FMF urnik
REFRESH-INTERVAL:PT1H
SOURCE:https://urnik.fmf.uni-lj.si/teacher/202?day=2025-09-01&export=1
URL:https://urnik.fmf.uni-lj.si/teacher/202?day=2025-09-01&export=1
X-PUBLISHED-TTL:PT1H
X-WR-CALNAME:UL FMF urnik
X-WR-TIMEZONE:Europe/Ljubljana
BEGIN:VTIMEZONE
TZID:Europe/Ljubljana
BEGIN:DAYLIGHT
DTSTART:20260329T020000
RDATE:20260329T020000
RDATE:20270328T020000
TZNAME:CEST
TZOFFSETFROM:+0100
TZOFFSETTO:+0200
END:DAYLIGHT
BEGIN:STANDARD
DTSTART:20261025T030000
RDATE:20261025T030000
RDATE:20271031T030000
TZNAME:CET
TZOFFSETFROM:+0200
TZOFFSETTO:+0100
END:STANDARD
END:VTIMEZONE
BEGIN:VEVENT
SUMMARY:Jedrska tehnika in energetika (FIZ-3)\, Predavanja (P)
DTSTART;TZID=Europe/Ljubljana:20251001T140000
DTEND;TZID=Europe/Ljubljana:20251001T160000
DTSTAMP:20260422T054731Z
UID:fmf-AFLABS-URNIK:premaknjeno-srecanje:218987
ATTENDEE:3. letnik (Fizika, 1. stopnja)
CATEGORIES:Entry,Standard
COLOR:darkgreen
DESCRIPTION:Predmet: Jedrska tehnika in energetika (FIZ-3)\, Predavanja (P
 )\nLetniki: 3. letnik (Fizika\, 1. stopnja)\nIzvajalci: Iztok Tiselj\nPros
 tor: F5
LOCATION:F5
ORGANIZER:Iztok Tiselj
RELATED-TO:fmf-AFLABS-URNIK:srecanje:16001
X-WR-TIMEZONE:Europe/Ljubljana
END:VEVENT
BEGIN:VEVENT
SUMMARY:Jedrska tehnika in energetika (FIZ-3)\, Vaje (V)
DTSTART;TZID=Europe/Ljubljana:20251001T160000
DTEND;TZID=Europe/Ljubljana:20251001T170000
DTSTAMP:20260422T054731Z
UID:fmf-AFLABS-URNIK:premaknjeno-srecanje:219003
ATTENDEE:3. letnik (Fizika, 1. stopnja)
CATEGORIES:Entry,Standard
COLOR:darkgreen
DESCRIPTION:Predmet: Jedrska tehnika in energetika (FIZ-3)\, Vaje (V)\nLet
 niki: 3. letnik (Fizika\, 1. stopnja)\nIzvajalci: Iztok Tiselj\nProstor: F
 5
LOCATION:F5
ORGANIZER:Iztok Tiselj
RELATED-TO:fmf-AFLABS-URNIK:srecanje:16002
X-WR-TIMEZONE:Europe/Ljubljana
END:VEVENT
BEGIN:VEVENT
SUMMARY:Reaktorska tehnika (JET-1\, JET-2)\, Predavanja (P)
DTSTART;TZID=Europe/Ljubljana:20251003T080000
DTEND;TZID=Europe/Ljubljana:20251003T100000
DTSTAMP:20260422T054731Z
UID:fmf-AFLABS-URNIK:premaknjeno-srecanje:230967
ATTENDEE:1. letnik (Jedrska tehnika, 2. stopnja)
ATTENDEE:2. letnik (Jedrska tehnika, 2. stopnja)
CATEGORIES:Entry,Standard
COLOR:darkgreen
DESCRIPTION:Predmet: Reaktorska tehnika (JET-1\, JET-2)\, Predavanja (P)\n
 Letniki: 1. letnik (Jedrska tehnika\, 2. stopnja)\, 2. letnik (Jedrska teh
 nika\, 2. stopnja)\nIzvajalci: Iztok Tiselj\, Mitja Uršič\nProstor: F7
LOCATION:F7
ORGANIZER:Iztok Tiselj, Mitja Uršič
RELATED-TO:fmf-AFLABS-URNIK:srecanje:16271
X-WR-TIMEZONE:Europe/Ljubljana
END:VEVENT
BEGIN:VEVENT
SUMMARY:Reaktorska tehnika (JET-1\, JET-2)\, Seminar (S)
DTSTART;TZID=Europe/Ljubljana:20251003T100000
DTEND;TZID=Europe/Ljubljana:20251003T110000
DTSTAMP:20260422T054731Z
UID:fmf-AFLABS-URNIK:premaknjeno-srecanje:230980
ATTENDEE:1. letnik (Jedrska tehnika, 2. stopnja)
ATTENDEE:2. letnik (Jedrska tehnika, 2. stopnja)
CATEGORIES:Entry,Standard
COLOR:darkgreen
DESCRIPTION:Predmet: Reaktorska tehnika (JET-1\, JET-2)\, Seminar (S)\nLet
 niki: 1. letnik (Jedrska tehnika\, 2. stopnja)\, 2. letnik (Jedrska tehnik
 a\, 2. stopnja)\nIzvajalci: Iztok Tiselj\, Mitja Uršič\nProstor: F7
LOCATION:F7
ORGANIZER:Iztok Tiselj, Mitja Uršič
RELATED-TO:fmf-AFLABS-URNIK:srecanje:16272
X-WR-TIMEZONE:Europe/Ljubljana
END:VEVENT
BEGIN:VEVENT
SUMMARY:pisni izpit JTE - Tiselj
DTSTART;TZID=Europe/Ljubljana:20250626T160000
DTEND;TZID=Europe/Ljubljana:20250626T180000
DTSTAMP:20260422T054731Z
UID:fmf-AFLABS-URNIK:rezervacija:22559
ATTENDEE:3. letnik (Fizika, 1. stopnja)
CATEGORIES:Reservation
COLOR:royalblue
DESCRIPTION:Predmeti: Jedrska tehnika in energetika (FIZ-3)\nLetniki: 3. l
 etnik (Fizika\, 1. stopnja)\nIzvajalci: Iztok Tiselj\nProstori: F4
LOCATION:F4
ORGANIZER:Iztok Tiselj
X-WR-TIMEZONE:Europe/Ljubljana
END:VEVENT
END:VCALENDAR
