BEGIN:VCALENDAR
VERSION:2.0
PRODID:-//AFLabs urnik izvoz - fmf//aflabs.si//SI
DTSTAMP:20260425T163708Z
NAME:UL FMF urnik
REFRESH-INTERVAL:PT1H
SOURCE:https://urnik.fmf.uni-lj.si/teacher/212?day=2023-01-23&export=1
URL:https://urnik.fmf.uni-lj.si/teacher/212?day=2023-01-23&export=1
X-PUBLISHED-TTL:PT1H
X-WR-CALNAME:UL FMF urnik
X-WR-TIMEZONE:Europe/Ljubljana
BEGIN:VTIMEZONE
TZID:Europe/Ljubljana
BEGIN:DAYLIGHT
DTSTART:20260329T020000
RDATE:20260329T020000
RDATE:20270328T020000
TZNAME:CEST
TZOFFSETFROM:+0100
TZOFFSETTO:+0200
END:DAYLIGHT
BEGIN:STANDARD
DTSTART:20261025T030000
RDATE:20261025T030000
RDATE:20271031T030000
TZNAME:CET
TZOFFSETFROM:+0200
TZOFFSETTO:+0100
END:STANDARD
END:VTIMEZONE
BEGIN:VEVENT
SUMMARY:Teoretična astrofizika (FIZ-3)\, Vaje (V)
DTSTART;TZID=Europe/Ljubljana:20221220T120000
DTEND;TZID=Europe/Ljubljana:20221220T130000
DTSTAMP:20260425T163708Z
UID:fmf-AFLABS-URNIK:premaknjeno-srecanje:108706
ATTENDEE:3. letnik (Fizika, 1. stopnja)
CATEGORIES:Entry,Standard
COLOR:darkgreen
DESCRIPTION:Predmet: Teoretična astrofizika (FIZ-3)\, Vaje (V)\nLetniki: 
 3. letnik (Fizika\, 1. stopnja)\nIzvajalci: Gregor Traven\nProstor: F6
LOCATION:F6
ORGANIZER:Gregor Traven
RELATED-TO:fmf-AFLABS-URNIK:srecanje:8111
X-WR-TIMEZONE:Europe/Ljubljana
END:VEVENT
BEGIN:VEVENT
SUMMARY:Teoretična astrofizika (FIZ-3)\, Vaje (V)
DTSTART;TZID=Europe/Ljubljana:20221227T120000
DTEND;TZID=Europe/Ljubljana:20221227T130000
DTSTAMP:20260425T163708Z
UID:fmf-AFLABS-URNIK:premaknjeno-srecanje:108707
ATTENDEE:3. letnik (Fizika, 1. stopnja)
CATEGORIES:Entry,Standard
COLOR:darkgreen
DESCRIPTION:Predmet: Teoretična astrofizika (FIZ-3)\, Vaje (V)\nLetniki: 
 3. letnik (Fizika\, 1. stopnja)\nIzvajalci: Gregor Traven\nProstor: F6
LOCATION:F6
ORGANIZER:Gregor Traven
RELATED-TO:fmf-AFLABS-URNIK:srecanje:8111
X-WR-TIMEZONE:Europe/Ljubljana
END:VEVENT
BEGIN:VEVENT
SUMMARY:Teoretična astrofizika (FIZ-3)\, Vaje (V)
DTSTART;TZID=Europe/Ljubljana:20230103T120000
DTEND;TZID=Europe/Ljubljana:20230103T130000
DTSTAMP:20260425T163708Z
UID:fmf-AFLABS-URNIK:premaknjeno-srecanje:108708
ATTENDEE:3. letnik (Fizika, 1. stopnja)
CATEGORIES:Entry,Standard
COLOR:darkgreen
DESCRIPTION:Predmet: Teoretična astrofizika (FIZ-3)\, Vaje (V)\nLetniki: 
 3. letnik (Fizika\, 1. stopnja)\nIzvajalci: Gregor Traven\nProstor: F6
LOCATION:F6
ORGANIZER:Gregor Traven
RELATED-TO:fmf-AFLABS-URNIK:srecanje:8111
X-WR-TIMEZONE:Europe/Ljubljana
END:VEVENT
BEGIN:VEVENT
SUMMARY:Teoretična astrofizika (FIZ-3)\, Vaje (V)
DTSTART;TZID=Europe/Ljubljana:20230110T120000
DTEND;TZID=Europe/Ljubljana:20230110T130000
DTSTAMP:20260425T163708Z
UID:fmf-AFLABS-URNIK:premaknjeno-srecanje:108709
ATTENDEE:3. letnik (Fizika, 1. stopnja)
CATEGORIES:Entry,Standard
COLOR:darkgreen
DESCRIPTION:Predmet: Teoretična astrofizika (FIZ-3)\, Vaje (V)\nLetniki: 
 3. letnik (Fizika\, 1. stopnja)\nIzvajalci: Gregor Traven\nProstor: F6
LOCATION:F6
ORGANIZER:Gregor Traven
RELATED-TO:fmf-AFLABS-URNIK:srecanje:8111
X-WR-TIMEZONE:Europe/Ljubljana
END:VEVENT
BEGIN:VEVENT
SUMMARY:Naše in druga osončja (FIZ-2)\, Vaje (V)
DTSTART;TZID=Europe/Ljubljana:20230213T120000
DTEND;TZID=Europe/Ljubljana:20230213T140000
DTSTAMP:20260425T163708Z
UID:fmf-AFLABS-URNIK:premaknjeno-srecanje:76048
ATTENDEE:2. letnik (Fizika, 1. stopnja)
CATEGORIES:Entry,Standard
COLOR:darkgreen
DESCRIPTION:Predmet: Naše in druga osončja (FIZ-2)\, Vaje (V)\nLetniki: 
 2. letnik (Fizika\, 1. stopnja)\nIzvajalci: Gregor Traven\nProstor: F5
LOCATION:F5
ORGANIZER:Gregor Traven
RELATED-TO:fmf-AFLABS-URNIK:srecanje:8579
X-WR-TIMEZONE:Europe/Ljubljana
END:VEVENT
BEGIN:VEVENT
SUMMARY:Naše in druga osončja (FIZ-2)\, Vaje (V)
DTSTART;TZID=Europe/Ljubljana:20230220T120000
DTEND;TZID=Europe/Ljubljana:20230220T140000
DTSTAMP:20260425T163708Z
UID:fmf-AFLABS-URNIK:premaknjeno-srecanje:76049
ATTENDEE:2. letnik (Fizika, 1. stopnja)
CATEGORIES:Entry,Standard
COLOR:darkgreen
DESCRIPTION:Predmet: Naše in druga osončja (FIZ-2)\, Vaje (V)\nLetniki: 
 2. letnik (Fizika\, 1. stopnja)\nIzvajalci: Gregor Traven\nProstor: F5
LOCATION:F5
ORGANIZER:Gregor Traven
RELATED-TO:fmf-AFLABS-URNIK:srecanje:8579
X-WR-TIMEZONE:Europe/Ljubljana
END:VEVENT
BEGIN:VEVENT
SUMMARY:Naše in druga osončja (FIZ-2)\, Vaje (V)
DTSTART;TZID=Europe/Ljubljana:20230227T120000
DTEND;TZID=Europe/Ljubljana:20230227T140000
DTSTAMP:20260425T163708Z
UID:fmf-AFLABS-URNIK:premaknjeno-srecanje:76050
ATTENDEE:2. letnik (Fizika, 1. stopnja)
CATEGORIES:Entry,Standard
COLOR:darkgreen
DESCRIPTION:Predmet: Naše in druga osončja (FIZ-2)\, Vaje (V)\nLetniki: 
 2. letnik (Fizika\, 1. stopnja)\nIzvajalci: Gregor Traven\nProstor: F5
LOCATION:F5
ORGANIZER:Gregor Traven
RELATED-TO:fmf-AFLABS-URNIK:srecanje:8579
X-WR-TIMEZONE:Europe/Ljubljana
END:VEVENT
BEGIN:VEVENT
SUMMARY:Astronomska opazovanja (FIZ-1)\, Laboratorijske vaje (L)\, [1]
DTSTART;TZID=Europe/Ljubljana:20230214T100000
DTEND;TZID=Europe/Ljubljana:20230214T110000
DTSTAMP:20260425T163708Z
UID:fmf-AFLABS-URNIK:premaknjeno-srecanje:11692
ATTENDEE:1. letnik (Fizika, 1. stopnja)
CATEGORIES:Entry,Standard
COLOR:darkgreen
DESCRIPTION:Predmet: Astronomska opazovanja (FIZ-1)\, Laboratorijske vaje 
 (L)\, [1]\nLetniki: 1. letnik (Fizika\, 1. stopnja)\nIzvajalci: Gregor Tra
 ven\nProstor: F2
LOCATION:F2
ORGANIZER:Gregor Traven
RELATED-TO:fmf-AFLABS-URNIK:srecanje:8266
X-WR-TIMEZONE:Europe/Ljubljana
END:VEVENT
BEGIN:VEVENT
SUMMARY:Astronomska opazovanja (FIZ-1)\, Laboratorijske vaje (L)\, [1]
DTSTART;TZID=Europe/Ljubljana:20230221T100000
DTEND;TZID=Europe/Ljubljana:20230221T110000
DTSTAMP:20260425T163708Z
UID:fmf-AFLABS-URNIK:premaknjeno-srecanje:11693
ATTENDEE:1. letnik (Fizika, 1. stopnja)
CATEGORIES:Entry,Standard
COLOR:darkgreen
DESCRIPTION:Predmet: Astronomska opazovanja (FIZ-1)\, Laboratorijske vaje 
 (L)\, [1]\nLetniki: 1. letnik (Fizika\, 1. stopnja)\nIzvajalci: Gregor Tra
 ven\nProstor: F2
LOCATION:F2
ORGANIZER:Gregor Traven
RELATED-TO:fmf-AFLABS-URNIK:srecanje:8266
X-WR-TIMEZONE:Europe/Ljubljana
END:VEVENT
BEGIN:VEVENT
SUMMARY:Astronomska opazovanja (FIZ-1)\, Laboratorijske vaje (L)\, [2]
DTSTART;TZID=Europe/Ljubljana:20230214T140000
DTEND;TZID=Europe/Ljubljana:20230214T150000
DTSTAMP:20260425T163708Z
UID:fmf-AFLABS-URNIK:premaknjeno-srecanje:11708
ATTENDEE:1. letnik (Fizika, 1. stopnja)
CATEGORIES:Entry,Standard
COLOR:darkgreen
DESCRIPTION:Predmet: Astronomska opazovanja (FIZ-1)\, Laboratorijske vaje 
 (L)\, [2]\nLetniki: 1. letnik (Fizika\, 1. stopnja)\nIzvajalci: Gregor Tra
 ven\nProstor: F4
LOCATION:F4
ORGANIZER:Gregor Traven
RELATED-TO:fmf-AFLABS-URNIK:srecanje:8264
X-WR-TIMEZONE:Europe/Ljubljana
END:VEVENT
BEGIN:VEVENT
SUMMARY:Astronomska opazovanja (FIZ-1)\, Laboratorijske vaje (L)\, [2]
DTSTART;TZID=Europe/Ljubljana:20230221T140000
DTEND;TZID=Europe/Ljubljana:20230221T150000
DTSTAMP:20260425T163708Z
UID:fmf-AFLABS-URNIK:premaknjeno-srecanje:11709
ATTENDEE:1. letnik (Fizika, 1. stopnja)
CATEGORIES:Entry,Standard
COLOR:darkgreen
DESCRIPTION:Predmet: Astronomska opazovanja (FIZ-1)\, Laboratorijske vaje 
 (L)\, [2]\nLetniki: 1. letnik (Fizika\, 1. stopnja)\nIzvajalci: Gregor Tra
 ven\nProstor: F4
LOCATION:F4
ORGANIZER:Gregor Traven
RELATED-TO:fmf-AFLABS-URNIK:srecanje:8264
X-WR-TIMEZONE:Europe/Ljubljana
END:VEVENT
BEGIN:VEVENT
SUMMARY:Rezervacija
DTSTART;TZID=Europe/Ljubljana:20230131T100000
DTEND;TZID=Europe/Ljubljana:20230131T120000
DTSTAMP:20260425T163708Z
UID:fmf-AFLABS-URNIK:rezervacija:11096
ATTENDEE:3. letnik (Fizika, 1. stopnja)
CATEGORIES:Reservation
COLOR:royalblue
DESCRIPTION:Predmeti: Teoretična astrofizika (FIZ-3)\nLetniki: 3. letnik 
 (Fizika\, 1. stopnja)\nIzvajalci: Gregor Traven\nProstori: F4
LOCATION:F4
ORGANIZER:Gregor Traven
X-WR-TIMEZONE:Europe/Ljubljana
END:VEVENT
END:VCALENDAR
