BEGIN:VCALENDAR
VERSION:2.0
PRODID:-//AFLabs urnik izvoz - fmf//aflabs.si//SI
DTSTAMP:20260421T161027Z
NAME:UL FMF urnik
REFRESH-INTERVAL:PT1H
SOURCE:https://urnik.fmf.uni-lj.si/teacher/215?day=2024-06-24&export=1
URL:https://urnik.fmf.uni-lj.si/teacher/215?day=2024-06-24&export=1
X-PUBLISHED-TTL:PT1H
X-WR-CALNAME:UL FMF urnik
X-WR-TIMEZONE:Europe/Ljubljana
BEGIN:VTIMEZONE
TZID:Europe/Ljubljana
BEGIN:DAYLIGHT
DTSTART:20260329T020000
RDATE:20260329T020000
RDATE:20270328T020000
TZNAME:CEST
TZOFFSETFROM:+0100
TZOFFSETTO:+0200
END:DAYLIGHT
BEGIN:STANDARD
DTSTART:20261025T030000
RDATE:20261025T030000
RDATE:20271031T030000
TZNAME:CET
TZOFFSETFROM:+0200
TZOFFSETTO:+0100
END:STANDARD
END:VTIMEZONE
BEGIN:VEVENT
SUMMARY:Osnove mehanike ()\, Predavanja (P)
DTSTART;TZID=Europe/Ljubljana:20240522T090000
DTEND;TZID=Europe/Ljubljana:20240522T120000
DTSTAMP:20260421T161027Z
UID:fmf-AFLABS-URNIK:premaknjeno-srecanje:138325
CATEGORIES:Entry,Standard
COLOR:darkgreen
DESCRIPTION:Predmet: Osnove mehanike ()\, Predavanja (P)\nLetniki: \nIzvaj
 alci: George Mejak\nProstor: NTF
LOCATION:NTF
ORGANIZER:George Mejak
RELATED-TO:fmf-AFLABS-URNIK:srecanje:10939
X-WR-TIMEZONE:Europe/Ljubljana
END:VEVENT
BEGIN:VEVENT
SUMMARY:Osnove mehanike ()\, Predavanja (P)
DTSTART;TZID=Europe/Ljubljana:20240529T090000
DTEND;TZID=Europe/Ljubljana:20240529T120000
DTSTAMP:20260421T161027Z
UID:fmf-AFLABS-URNIK:premaknjeno-srecanje:138326
CATEGORIES:Entry,Standard
COLOR:darkgreen
DESCRIPTION:Predmet: Osnove mehanike ()\, Predavanja (P)\nLetniki: \nIzvaj
 alci: George Mejak\nProstor: NTF
LOCATION:NTF
ORGANIZER:George Mejak
RELATED-TO:fmf-AFLABS-URNIK:srecanje:10939
X-WR-TIMEZONE:Europe/Ljubljana
END:VEVENT
BEGIN:VEVENT
SUMMARY:Govorilna ura ()\, Predavanja (P)
DTSTART;TZID=Europe/Ljubljana:20240523T100000
DTEND;TZID=Europe/Ljubljana:20240523T120000
DTSTAMP:20260421T161027Z
UID:fmf-AFLABS-URNIK:premaknjeno-srecanje:138310
CATEGORIES:Entry,Standard
COLOR:darkgreen
DESCRIPTION:Predmet: Govorilna ura ()\, Predavanja (P)\nLetniki: \nIzvajal
 ci: George Mejak\nProstor: P24
LOCATION:P24
ORGANIZER:George Mejak
RELATED-TO:fmf-AFLABS-URNIK:srecanje:9925
X-WR-TIMEZONE:Europe/Ljubljana
END:VEVENT
BEGIN:VEVENT
SUMMARY:Govorilna ura ()\, Predavanja (P)
DTSTART;TZID=Europe/Ljubljana:20240530T100000
DTEND;TZID=Europe/Ljubljana:20240530T120000
DTSTAMP:20260421T161027Z
UID:fmf-AFLABS-URNIK:premaknjeno-srecanje:138311
CATEGORIES:Entry,Standard
COLOR:darkgreen
DESCRIPTION:Predmet: Govorilna ura ()\, Predavanja (P)\nLetniki: \nIzvajal
 ci: George Mejak\nProstor: P24
LOCATION:P24
ORGANIZER:George Mejak
RELATED-TO:fmf-AFLABS-URNIK:srecanje:9925
X-WR-TIMEZONE:Europe/Ljubljana
END:VEVENT
BEGIN:VEVENT
SUMMARY:Osnove mehanike ()\, Vaje (V)
DTSTART;TZID=Europe/Ljubljana:20240523T080000
DTEND;TZID=Europe/Ljubljana:20240523T100000
DTSTAMP:20260421T161027Z
UID:fmf-AFLABS-URNIK:premaknjeno-srecanje:138340
CATEGORIES:Entry,Standard
COLOR:darkgreen
DESCRIPTION:Predmet: Osnove mehanike ()\, Vaje (V)\nLetniki: \nIzvajalci: 
 George Mejak\nProstor: NTF
LOCATION:NTF
ORGANIZER:George Mejak
RELATED-TO:fmf-AFLABS-URNIK:srecanje:10940
X-WR-TIMEZONE:Europe/Ljubljana
END:VEVENT
BEGIN:VEVENT
SUMMARY:Osnove mehanike ()\, Vaje (V)
DTSTART;TZID=Europe/Ljubljana:20240530T080000
DTEND;TZID=Europe/Ljubljana:20240530T100000
DTSTAMP:20260421T161027Z
UID:fmf-AFLABS-URNIK:premaknjeno-srecanje:138341
CATEGORIES:Entry,Standard
COLOR:darkgreen
DESCRIPTION:Predmet: Osnove mehanike ()\, Vaje (V)\nLetniki: \nIzvajalci: 
 George Mejak\nProstor: NTF
LOCATION:NTF
ORGANIZER:George Mejak
RELATED-TO:fmf-AFLABS-URNIK:srecanje:10940
X-WR-TIMEZONE:Europe/Ljubljana
END:VEVENT
BEGIN:VEVENT
SUMMARY:2. izpit iz Mehanike 1
DTSTART;TZID=Europe/Ljubljana:20240621T100000
DTEND;TZID=Europe/Ljubljana:20240621T130000
DTSTAMP:20260421T161027Z
UID:fmf-AFLABS-URNIK:rezervacija:14655
ATTENDEE:3. letnik (M)
ATTENDEE:4. letnik (PM)
CATEGORIES:Reservation
COLOR:royalblue
DESCRIPTION:Predmeti: Mehanika 1 (MAT-3\, PM-4)\nLetniki: 3. letnik (M)\, 
 4. letnik (PM)\nIzvajalci: Martin Jesenko\, George Mejak\nProstori: 2.01
LOCATION:2.01
ORGANIZER:Martin Jesenko, George Mejak
X-WR-TIMEZONE:Europe/Ljubljana
END:VEVENT
BEGIN:VEVENT
SUMMARY:Izpit Mehanika
DTSTART;TZID=Europe/Ljubljana:20240605T100000
DTEND;TZID=Europe/Ljubljana:20240605T120000
DTSTAMP:20260421T161027Z
UID:fmf-AFLABS-URNIK:rezervacija:16879
ATTENDEE:3. letnik (APM)
CATEGORIES:Reservation
COLOR:royalblue
DESCRIPTION:Predmeti: Mehanika (APM-3)\nLetniki: 3. letnik (APM)\nIzvajalc
 i: George Mejak\nProstori: 2.03
LOCATION:2.03
ORGANIZER:George Mejak
X-WR-TIMEZONE:Europe/Ljubljana
END:VEVENT
END:VCALENDAR
