BEGIN:VCALENDAR
VERSION:2.0
PRODID:-//AFLabs urnik izvoz - fmf//aflabs.si//SI
DTSTAMP:20260423T035404Z
NAME:UL FMF urnik
REFRESH-INTERVAL:PT1H
SOURCE:https://urnik.fmf.uni-lj.si/teacher/216?day=2021-06-21&export=1
URL:https://urnik.fmf.uni-lj.si/teacher/216?day=2021-06-21&export=1
X-PUBLISHED-TTL:PT1H
X-WR-CALNAME:UL FMF urnik
X-WR-TIMEZONE:Europe/Ljubljana
BEGIN:VTIMEZONE
TZID:Europe/Ljubljana
BEGIN:DAYLIGHT
DTSTART:20260329T020000
RDATE:20260329T020000
RDATE:20270328T020000
TZNAME:CEST
TZOFFSETFROM:+0100
TZOFFSETTO:+0200
END:DAYLIGHT
BEGIN:STANDARD
DTSTART:20261025T030000
RDATE:20261025T030000
RDATE:20271031T030000
TZNAME:CET
TZOFFSETFROM:+0200
TZOFFSETTO:+0100
END:STANDARD
END:VTIMEZONE
BEGIN:VEVENT
SUMMARY:Računalništvo 2 (APM-3)\, Predavanja (P)
DTSTART;TZID=Europe/Ljubljana:20210517T100000
DTEND;TZID=Europe/Ljubljana:20210517T130000
DTSTAMP:20260423T035404Z
UID:fmf-AFLABS-URNIK:premaknjeno-srecanje:95230
ATTENDEE:3. letnik (APM)
CATEGORIES:Entry,Standard
COLOR:darkgreen
DESCRIPTION:Predmet: Računalništvo 2 (APM-3)\, Predavanja (P)\nLetniki: 
 3. letnik (APM)\nIzvajalci: Matija Lokar\nProstor: 3.07
LOCATION:3.07
ORGANIZER:Matija Lokar
RELATED-TO:fmf-AFLABS-URNIK:srecanje:5855
X-WR-TIMEZONE:Europe/Ljubljana
END:VEVENT
BEGIN:VEVENT
SUMMARY:Računalništvo 2 (APM-3)\, Predavanja (P)
DTSTART;TZID=Europe/Ljubljana:20210524T100000
DTEND;TZID=Europe/Ljubljana:20210524T130000
DTSTAMP:20260423T035404Z
UID:fmf-AFLABS-URNIK:premaknjeno-srecanje:95231
ATTENDEE:3. letnik (APM)
CATEGORIES:Entry,Standard
COLOR:darkgreen
DESCRIPTION:Predmet: Računalništvo 2 (APM-3)\, Predavanja (P)\nLetniki: 
 3. letnik (APM)\nIzvajalci: Matija Lokar\nProstor: 3.07
LOCATION:3.07
ORGANIZER:Matija Lokar
RELATED-TO:fmf-AFLABS-URNIK:srecanje:5855
X-WR-TIMEZONE:Europe/Ljubljana
END:VEVENT
BEGIN:VEVENT
SUMMARY:Računalništvo 2 (APM-3)\, Predavanja (P)
DTSTART;TZID=Europe/Ljubljana:20210531T100000
DTEND;TZID=Europe/Ljubljana:20210531T130000
DTSTAMP:20260423T035404Z
UID:fmf-AFLABS-URNIK:premaknjeno-srecanje:95232
ATTENDEE:3. letnik (APM)
CATEGORIES:Entry,Standard
COLOR:darkgreen
DESCRIPTION:Predmet: Računalništvo 2 (APM-3)\, Predavanja (P)\nLetniki: 
 3. letnik (APM)\nIzvajalci: Matija Lokar\nProstor: 3.07
LOCATION:3.07
ORGANIZER:Matija Lokar
RELATED-TO:fmf-AFLABS-URNIK:srecanje:5855
X-WR-TIMEZONE:Europe/Ljubljana
END:VEVENT
BEGIN:VEVENT
SUMMARY:Programiranje 3 (APM-3)\, Predavanja (P)
DTSTART;TZID=Europe/Ljubljana:20210518T100000
DTEND;TZID=Europe/Ljubljana:20210518T130000
DTSTAMP:20260423T035404Z
UID:fmf-AFLABS-URNIK:premaknjeno-srecanje:87222
ATTENDEE:3. letnik (APM)
CATEGORIES:Entry,Standard
COLOR:darkgreen
DESCRIPTION:Predmet: Programiranje 3 (APM-3)\, Predavanja (P)\nLetniki: 3.
  letnik (APM)\nIzvajalci: Matija Lokar\nProstor: 3.10
LOCATION:3.10
ORGANIZER:Matija Lokar
RELATED-TO:fmf-AFLABS-URNIK:srecanje:6028
X-WR-TIMEZONE:Europe/Ljubljana
END:VEVENT
BEGIN:VEVENT
SUMMARY:Programiranje 3 (APM-3)\, Predavanja (P)
DTSTART;TZID=Europe/Ljubljana:20210525T100000
DTEND;TZID=Europe/Ljubljana:20210525T130000
DTSTAMP:20260423T035404Z
UID:fmf-AFLABS-URNIK:premaknjeno-srecanje:87223
ATTENDEE:3. letnik (APM)
CATEGORIES:Entry,Standard
COLOR:darkgreen
DESCRIPTION:Predmet: Programiranje 3 (APM-3)\, Predavanja (P)\nLetniki: 3.
  letnik (APM)\nIzvajalci: Matija Lokar\nProstor: 3.10
LOCATION:3.10
ORGANIZER:Matija Lokar
RELATED-TO:fmf-AFLABS-URNIK:srecanje:6028
X-WR-TIMEZONE:Europe/Ljubljana
END:VEVENT
BEGIN:VEVENT
SUMMARY:Programiranje 3 (APM-3)\, Vaje (V)
DTSTART;TZID=Europe/Ljubljana:20210518T130000
DTEND;TZID=Europe/Ljubljana:20210518T140000
DTSTAMP:20260423T035404Z
UID:fmf-AFLABS-URNIK:premaknjeno-srecanje:87300
ATTENDEE:3. letnik (APM)
CATEGORIES:Entry,Standard
COLOR:darkgreen
DESCRIPTION:Predmet: Programiranje 3 (APM-3)\, Vaje (V)\nLetniki: 3. letni
 k (APM)\nIzvajalci: Matija Lokar\nProstor: 3.10
LOCATION:3.10
ORGANIZER:Matija Lokar
RELATED-TO:fmf-AFLABS-URNIK:srecanje:6052
X-WR-TIMEZONE:Europe/Ljubljana
END:VEVENT
BEGIN:VEVENT
SUMMARY:Programiranje 3 (APM-3)\, Vaje (V)
DTSTART;TZID=Europe/Ljubljana:20210525T130000
DTEND;TZID=Europe/Ljubljana:20210525T140000
DTSTAMP:20260423T035404Z
UID:fmf-AFLABS-URNIK:premaknjeno-srecanje:87301
ATTENDEE:3. letnik (APM)
CATEGORIES:Entry,Standard
COLOR:darkgreen
DESCRIPTION:Predmet: Programiranje 3 (APM-3)\, Vaje (V)\nLetniki: 3. letni
 k (APM)\nIzvajalci: Matija Lokar\nProstor: 3.10
LOCATION:3.10
ORGANIZER:Matija Lokar
RELATED-TO:fmf-AFLABS-URNIK:srecanje:6052
X-WR-TIMEZONE:Europe/Ljubljana
END:VEVENT
BEGIN:VEVENT
SUMMARY:Programiranje 3 (APM-3)\, Vaje (V)
DTSTART;TZID=Europe/Ljubljana:20210518T140000
DTEND;TZID=Europe/Ljubljana:20210518T160000
DTSTAMP:20260423T035404Z
UID:fmf-AFLABS-URNIK:premaknjeno-srecanje:87315
ATTENDEE:3. letnik (APM)
CATEGORIES:Entry,Standard
COLOR:darkgreen
DESCRIPTION:Predmet: Programiranje 3 (APM-3)\, Vaje (V)\nLetniki: 3. letni
 k (APM)\nIzvajalci: Matija Lokar\nProstor: Na daljavo
LOCATION:Na daljavo
ORGANIZER:Matija Lokar
RELATED-TO:fmf-AFLABS-URNIK:srecanje:6029
X-WR-TIMEZONE:Europe/Ljubljana
END:VEVENT
BEGIN:VEVENT
SUMMARY:Programiranje 3 (APM-3)\, Vaje (V)
DTSTART;TZID=Europe/Ljubljana:20210525T140000
DTEND;TZID=Europe/Ljubljana:20210525T160000
DTSTAMP:20260423T035404Z
UID:fmf-AFLABS-URNIK:premaknjeno-srecanje:87316
ATTENDEE:3. letnik (APM)
CATEGORIES:Entry,Standard
COLOR:darkgreen
DESCRIPTION:Predmet: Programiranje 3 (APM-3)\, Vaje (V)\nLetniki: 3. letni
 k (APM)\nIzvajalci: Matija Lokar\nProstor: Na daljavo
LOCATION:Na daljavo
ORGANIZER:Matija Lokar
RELATED-TO:fmf-AFLABS-URNIK:srecanje:6029
X-WR-TIMEZONE:Europe/Ljubljana
END:VEVENT
BEGIN:VEVENT
SUMMARY:Programiranje 1 (APM-1)\, Predavanja (P)
DTSTART;TZID=Europe/Ljubljana:20210519T110000
DTEND;TZID=Europe/Ljubljana:20210519T120000
DTSTAMP:20260423T035404Z
UID:fmf-AFLABS-URNIK:premaknjeno-srecanje:85542
ATTENDEE:1. letnik (APM)
CATEGORIES:Entry,Standard
COLOR:darkgreen
DESCRIPTION:Predmet: Programiranje 1 (APM-1)\, Predavanja (P)\nLetniki: 1.
  letnik (APM)\nIzvajalci: Matija Lokar\nProstor: 3.11
LOCATION:3.11
ORGANIZER:Matija Lokar
RELATED-TO:fmf-AFLABS-URNIK:srecanje:5823
X-WR-TIMEZONE:Europe/Ljubljana
END:VEVENT
BEGIN:VEVENT
SUMMARY:Programiranje 1 (APM-1)\, Predavanja (P)
DTSTART;TZID=Europe/Ljubljana:20210526T110000
DTEND;TZID=Europe/Ljubljana:20210526T120000
DTSTAMP:20260423T035404Z
UID:fmf-AFLABS-URNIK:premaknjeno-srecanje:85543
ATTENDEE:1. letnik (APM)
CATEGORIES:Entry,Standard
COLOR:darkgreen
DESCRIPTION:Predmet: Programiranje 1 (APM-1)\, Predavanja (P)\nLetniki: 1.
  letnik (APM)\nIzvajalci: Matija Lokar\nProstor: 3.11
LOCATION:3.11
ORGANIZER:Matija Lokar
RELATED-TO:fmf-AFLABS-URNIK:srecanje:5823
X-WR-TIMEZONE:Europe/Ljubljana
END:VEVENT
BEGIN:VEVENT
SUMMARY:Programiranje 1 (APM-1)\, Seminar (S)
DTSTART;TZID=Europe/Ljubljana:20210519T100000
DTEND;TZID=Europe/Ljubljana:20210519T110000
DTSTAMP:20260423T035404Z
UID:fmf-AFLABS-URNIK:premaknjeno-srecanje:85744
ATTENDEE:1. letnik (APM)
CATEGORIES:Entry,Standard
COLOR:darkgreen
DESCRIPTION:Predmet: Programiranje 1 (APM-1)\, Seminar (S)\nLetniki: 1. le
 tnik (APM)\nIzvajalci: Matija Lokar\nProstor: 3.11
LOCATION:3.11
ORGANIZER:Matija Lokar
RELATED-TO:fmf-AFLABS-URNIK:srecanje:5824
X-WR-TIMEZONE:Europe/Ljubljana
END:VEVENT
BEGIN:VEVENT
SUMMARY:Programiranje 1 (APM-1)\, Seminar (S)
DTSTART;TZID=Europe/Ljubljana:20210526T100000
DTEND;TZID=Europe/Ljubljana:20210526T110000
DTSTAMP:20260423T035404Z
UID:fmf-AFLABS-URNIK:premaknjeno-srecanje:85745
ATTENDEE:1. letnik (APM)
CATEGORIES:Entry,Standard
COLOR:darkgreen
DESCRIPTION:Predmet: Programiranje 1 (APM-1)\, Seminar (S)\nLetniki: 1. le
 tnik (APM)\nIzvajalci: Matija Lokar\nProstor: 3.11
LOCATION:3.11
ORGANIZER:Matija Lokar
RELATED-TO:fmf-AFLABS-URNIK:srecanje:5824
X-WR-TIMEZONE:Europe/Ljubljana
END:VEVENT
BEGIN:VEVENT
SUMMARY:Programiranje 1 (APM-1)\, Vaje (V)\, [1]
DTSTART;TZID=Europe/Ljubljana:20210520T080000
DTEND;TZID=Europe/Ljubljana:20210520T100000
DTSTAMP:20260423T035404Z
UID:fmf-AFLABS-URNIK:premaknjeno-srecanje:86102
ATTENDEE:1. letnik (APM)
CATEGORIES:Entry,Standard
COLOR:darkgreen
DESCRIPTION:Predmet: Programiranje 1 (APM-1)\, Vaje (V)\, [1]\nLetniki: 1.
  letnik (APM)\nIzvajalci: Matija Lokar\nProstor: 3.11
LOCATION:3.11
ORGANIZER:Matija Lokar
RELATED-TO:fmf-AFLABS-URNIK:srecanje:5825
X-WR-TIMEZONE:Europe/Ljubljana
END:VEVENT
BEGIN:VEVENT
SUMMARY:Programiranje 1 (APM-1)\, Vaje (V)\, [1]
DTSTART;TZID=Europe/Ljubljana:20210527T080000
DTEND;TZID=Europe/Ljubljana:20210527T100000
DTSTAMP:20260423T035404Z
UID:fmf-AFLABS-URNIK:premaknjeno-srecanje:86103
ATTENDEE:1. letnik (APM)
CATEGORIES:Entry,Standard
COLOR:darkgreen
DESCRIPTION:Predmet: Programiranje 1 (APM-1)\, Vaje (V)\, [1]\nLetniki: 1.
  letnik (APM)\nIzvajalci: Matija Lokar\nProstor: 3.11
LOCATION:3.11
ORGANIZER:Matija Lokar
RELATED-TO:fmf-AFLABS-URNIK:srecanje:5825
X-WR-TIMEZONE:Europe/Ljubljana
END:VEVENT
BEGIN:VEVENT
SUMMARY:Programiranje 1 (APM-1)\, Vaje (V)\, [3]
DTSTART;TZID=Europe/Ljubljana:20210520T100000
DTEND;TZID=Europe/Ljubljana:20210520T120000
DTSTAMP:20260423T035404Z
UID:fmf-AFLABS-URNIK:premaknjeno-srecanje:86538
ATTENDEE:1. letnik (APM)
CATEGORIES:Entry,Standard
COLOR:darkgreen
DESCRIPTION:Predmet: Programiranje 1 (APM-1)\, Vaje (V)\, [3]\nLetniki: 1.
  letnik (APM)\nIzvajalci: Matija Lokar\nProstor: 3.11
LOCATION:3.11
ORGANIZER:Matija Lokar
RELATED-TO:fmf-AFLABS-URNIK:srecanje:5827
X-WR-TIMEZONE:Europe/Ljubljana
END:VEVENT
BEGIN:VEVENT
SUMMARY:Programiranje 1 (APM-1)\, Vaje (V)\, [3]
DTSTART;TZID=Europe/Ljubljana:20210527T100000
DTEND;TZID=Europe/Ljubljana:20210527T120000
DTSTAMP:20260423T035404Z
UID:fmf-AFLABS-URNIK:premaknjeno-srecanje:86539
ATTENDEE:1. letnik (APM)
CATEGORIES:Entry,Standard
COLOR:darkgreen
DESCRIPTION:Predmet: Programiranje 1 (APM-1)\, Vaje (V)\, [3]\nLetniki: 1.
  letnik (APM)\nIzvajalci: Matija Lokar\nProstor: 3.11
LOCATION:3.11
ORGANIZER:Matija Lokar
RELATED-TO:fmf-AFLABS-URNIK:srecanje:5827
X-WR-TIMEZONE:Europe/Ljubljana
END:VEVENT
BEGIN:VEVENT
SUMMARY:Rezervacija
DTSTART;TZID=Europe/Ljubljana:20210517T100000
DTEND;TZID=Europe/Ljubljana:20210517T110000
DTSTAMP:20260423T035404Z
UID:fmf-AFLABS-URNIK:rezervacija:6643
ATTENDEE:3. letnik (APM)
CATEGORIES:Reservation
COLOR:royalblue
DESCRIPTION:Predmeti: Programiranje 3 (APM-3)\nLetniki: 3. letnik (APM)\nI
 zvajalci: Matija Lokar\nProstori: 3.11\, 3.12
LOCATION:3.11\, 3.12
ORGANIZER:Matija Lokar
X-WR-TIMEZONE:Europe/Ljubljana
END:VEVENT
BEGIN:VEVENT
SUMMARY:Rezervacija
DTSTART;TZID=Europe/Ljubljana:20210520T120000
DTEND;TZID=Europe/Ljubljana:20210520T150000
DTSTAMP:20260423T035404Z
UID:fmf-AFLABS-URNIK:rezervacija:6648
ATTENDEE:3. letnik (APM)
CATEGORIES:Reservation
COLOR:royalblue
DESCRIPTION:Predmeti: Programiranje 3 (APM-3)\nLetniki: 3. letnik (APM)\nI
 zvajalci: Matija Lokar\nProstori: 3.11\, 3.12
LOCATION:3.11\, 3.12
ORGANIZER:Matija Lokar
X-WR-TIMEZONE:Europe/Ljubljana
END:VEVENT
BEGIN:VEVENT
SUMMARY:Rezervacija
DTSTART;TZID=Europe/Ljubljana:20210527T120000
DTEND;TZID=Europe/Ljubljana:20210527T150000
DTSTAMP:20260423T035404Z
UID:fmf-AFLABS-URNIK:rezervacija:6675
ATTENDEE:3. letnik (APM)
CATEGORIES:Reservation
COLOR:royalblue
DESCRIPTION:Predmeti: Računalništvo 1 (APM-3)\nLetniki: 3. letnik (APM)\
 nIzvajalci: Matija Lokar\nProstori: 3.12
LOCATION:3.12
ORGANIZER:Matija Lokar
X-WR-TIMEZONE:Europe/Ljubljana
END:VEVENT
BEGIN:VEVENT
SUMMARY:Rezervacija
DTSTART;TZID=Europe/Ljubljana:20210610T090000
DTEND;TZID=Europe/Ljubljana:20210610T110000
DTSTAMP:20260423T035404Z
UID:fmf-AFLABS-URNIK:rezervacija:6807
CATEGORIES:Reservation
COLOR:royalblue
DESCRIPTION:Predmeti: \nLetniki: \nIzvajalci: Matija Lokar\nProstori: 3.12
LOCATION:3.12
ORGANIZER:Matija Lokar
X-WR-TIMEZONE:Europe/Ljubljana
END:VEVENT
BEGIN:VEVENT
SUMMARY:Rezervacija
DTSTART;TZID=Europe/Ljubljana:20210611T090000
DTEND;TZID=Europe/Ljubljana:20210611T110000
DTSTAMP:20260423T035404Z
UID:fmf-AFLABS-URNIK:rezervacija:6828
CATEGORIES:Reservation
COLOR:royalblue
DESCRIPTION:Predmeti: \nLetniki: \nIzvajalci: Matija Lokar\nProstori: 3.12
LOCATION:3.12
ORGANIZER:Matija Lokar
X-WR-TIMEZONE:Europe/Ljubljana
END:VEVENT
BEGIN:VEVENT
SUMMARY:Rezervacija
DTSTART;TZID=Europe/Ljubljana:20210624T120000
DTEND;TZID=Europe/Ljubljana:20210624T150000
DTSTAMP:20260423T035404Z
UID:fmf-AFLABS-URNIK:rezervacija:6976
CATEGORIES:Reservation
COLOR:royalblue
DESCRIPTION:Predmeti: \nLetniki: \nIzvajalci: Matija Lokar\nProstori: 3.04
 \, 3.10\, 3.11\, 3.12
LOCATION:3.04\, 3.10\, 3.11\, 3.12
ORGANIZER:Matija Lokar
X-WR-TIMEZONE:Europe/Ljubljana
END:VEVENT
BEGIN:VEVENT
SUMMARY:Rezervacija
DTSTART;TZID=Europe/Ljubljana:20210624T120000
DTEND;TZID=Europe/Ljubljana:20210624T140000
DTSTAMP:20260423T035404Z
UID:fmf-AFLABS-URNIK:rezervacija:7058
CATEGORIES:Reservation
COLOR:royalblue
DESCRIPTION:Predmeti: \nLetniki: \nIzvajalci: Matija Lokar\nProstori: P.02
LOCATION:P.02
ORGANIZER:Matija Lokar
X-WR-TIMEZONE:Europe/Ljubljana
END:VEVENT
BEGIN:VEVENT
SUMMARY:Rezervacija
DTSTART;TZID=Europe/Ljubljana:20210629T090000
DTEND;TZID=Europe/Ljubljana:20210629T110000
DTSTAMP:20260423T035404Z
UID:fmf-AFLABS-URNIK:rezervacija:7096
CATEGORIES:Reservation
COLOR:royalblue
DESCRIPTION:Predmeti: \nLetniki: \nIzvajalci: Matija Lokar\nProstori: 3.12
LOCATION:3.12
ORGANIZER:Matija Lokar
X-WR-TIMEZONE:Europe/Ljubljana
END:VEVENT
BEGIN:VEVENT
SUMMARY:Rezervacija
DTSTART;TZID=Europe/Ljubljana:20210705T100000
DTEND;TZID=Europe/Ljubljana:20210705T120000
DTSTAMP:20260423T035404Z
UID:fmf-AFLABS-URNIK:rezervacija:7227
CATEGORIES:Reservation
COLOR:royalblue
DESCRIPTION:Predmeti: \nLetniki: \nIzvajalci: Matija Lokar\nProstori: 3.11
LOCATION:3.11
ORGANIZER:Matija Lokar
X-WR-TIMEZONE:Europe/Ljubljana
END:VEVENT
END:VCALENDAR
