BEGIN:VCALENDAR
VERSION:2.0
PRODID:-//AFLabs urnik izvoz - fmf//aflabs.si//SI
DTSTAMP:20260425T234741Z
NAME:UL FMF urnik
REFRESH-INTERVAL:PT1H
SOURCE:https://urnik.fmf.uni-lj.si/teacher/216?day=2022-06-06&export=1
URL:https://urnik.fmf.uni-lj.si/teacher/216?day=2022-06-06&export=1
X-PUBLISHED-TTL:PT1H
X-WR-CALNAME:UL FMF urnik
X-WR-TIMEZONE:Europe/Ljubljana
BEGIN:VTIMEZONE
TZID:Europe/Ljubljana
BEGIN:DAYLIGHT
DTSTART:20260329T020000
RDATE:20260329T020000
RDATE:20270328T020000
TZNAME:CEST
TZOFFSETFROM:+0100
TZOFFSETTO:+0200
END:DAYLIGHT
BEGIN:STANDARD
DTSTART:20261025T030000
RDATE:20261025T030000
RDATE:20271031T030000
TZNAME:CET
TZOFFSETFROM:+0200
TZOFFSETTO:+0100
END:STANDARD
END:VTIMEZONE
BEGIN:VEVENT
SUMMARY:Programiranje 3 (APM-3)\, Predavanja (P)
DTSTART;TZID=Europe/Ljubljana:20220502T080000
DTEND;TZID=Europe/Ljubljana:20220502T110000
DTSTAMP:20260425T234741Z
UID:fmf-AFLABS-URNIK:premaknjeno-srecanje:87156
ATTENDEE:3. letnik (APM)
CATEGORIES:Entry,Standard
COLOR:darkgreen
DESCRIPTION:Predmet: Programiranje 3 (APM-3)\, Predavanja (P)\nLetniki: 3.
  letnik (APM)\nIzvajalci: Matija Lokar\nProstor: 3.10
LOCATION:3.10
ORGANIZER:Matija Lokar
RELATED-TO:fmf-AFLABS-URNIK:srecanje:7210
X-WR-TIMEZONE:Europe/Ljubljana
END:VEVENT
BEGIN:VEVENT
SUMMARY:Programiranje 3 (APM-3)\, Predavanja (P)
DTSTART;TZID=Europe/Ljubljana:20220509T080000
DTEND;TZID=Europe/Ljubljana:20220509T110000
DTSTAMP:20260425T234741Z
UID:fmf-AFLABS-URNIK:premaknjeno-srecanje:87157
ATTENDEE:3. letnik (APM)
CATEGORIES:Entry,Standard
COLOR:darkgreen
DESCRIPTION:Predmet: Programiranje 3 (APM-3)\, Predavanja (P)\nLetniki: 3.
  letnik (APM)\nIzvajalci: Matija Lokar\nProstor: 3.10
LOCATION:3.10
ORGANIZER:Matija Lokar
RELATED-TO:fmf-AFLABS-URNIK:srecanje:7210
X-WR-TIMEZONE:Europe/Ljubljana
END:VEVENT
BEGIN:VEVENT
SUMMARY:Programiranje 3 (APM-3)\, Predavanja (P)
DTSTART;TZID=Europe/Ljubljana:20220516T080000
DTEND;TZID=Europe/Ljubljana:20220516T110000
DTSTAMP:20260425T234741Z
UID:fmf-AFLABS-URNIK:premaknjeno-srecanje:87158
ATTENDEE:3. letnik (APM)
CATEGORIES:Entry,Standard
COLOR:darkgreen
DESCRIPTION:Predmet: Programiranje 3 (APM-3)\, Predavanja (P)\nLetniki: 3.
  letnik (APM)\nIzvajalci: Matija Lokar\nProstor: 3.10
LOCATION:3.10
ORGANIZER:Matija Lokar
RELATED-TO:fmf-AFLABS-URNIK:srecanje:7210
X-WR-TIMEZONE:Europe/Ljubljana
END:VEVENT
BEGIN:VEVENT
SUMMARY:Programiranje 3 (APM-3)\, Predavanja (P)
DTSTART;TZID=Europe/Ljubljana:20220523T080000
DTEND;TZID=Europe/Ljubljana:20220523T110000
DTSTAMP:20260425T234741Z
UID:fmf-AFLABS-URNIK:premaknjeno-srecanje:87159
ATTENDEE:3. letnik (APM)
CATEGORIES:Entry,Standard
COLOR:darkgreen
DESCRIPTION:Predmet: Programiranje 3 (APM-3)\, Predavanja (P)\nLetniki: 3.
  letnik (APM)\nIzvajalci: Matija Lokar\nProstor: 3.10
LOCATION:3.10
ORGANIZER:Matija Lokar
RELATED-TO:fmf-AFLABS-URNIK:srecanje:7210
X-WR-TIMEZONE:Europe/Ljubljana
END:VEVENT
BEGIN:VEVENT
SUMMARY:Programiranje 3 (APM-3)\, Predavanja (P)
DTSTART;TZID=Europe/Ljubljana:20220530T080000
DTEND;TZID=Europe/Ljubljana:20220530T110000
DTSTAMP:20260425T234741Z
UID:fmf-AFLABS-URNIK:premaknjeno-srecanje:87160
ATTENDEE:3. letnik (APM)
CATEGORIES:Entry,Standard
COLOR:darkgreen
DESCRIPTION:Predmet: Programiranje 3 (APM-3)\, Predavanja (P)\nLetniki: 3.
  letnik (APM)\nIzvajalci: Matija Lokar\nProstor: 3.10
LOCATION:3.10
ORGANIZER:Matija Lokar
RELATED-TO:fmf-AFLABS-URNIK:srecanje:7210
X-WR-TIMEZONE:Europe/Ljubljana
END:VEVENT
BEGIN:VEVENT
SUMMARY:Programiranje 3 (APM-3)\, Vaje (V)
DTSTART;TZID=Europe/Ljubljana:20220502T110000
DTEND;TZID=Europe/Ljubljana:20220502T140000
DTSTAMP:20260425T234741Z
UID:fmf-AFLABS-URNIK:premaknjeno-srecanje:87250
ATTENDEE:3. letnik (APM)
CATEGORIES:Entry,Standard
COLOR:darkgreen
DESCRIPTION:Predmet: Programiranje 3 (APM-3)\, Vaje (V)\nLetniki: 3. letni
 k (APM)\nIzvajalci: Matija Lokar\nProstor: 3.10
LOCATION:3.10
ORGANIZER:Matija Lokar
RELATED-TO:fmf-AFLABS-URNIK:srecanje:7211
X-WR-TIMEZONE:Europe/Ljubljana
END:VEVENT
BEGIN:VEVENT
SUMMARY:Programiranje 3 (APM-3)\, Vaje (V)
DTSTART;TZID=Europe/Ljubljana:20220509T110000
DTEND;TZID=Europe/Ljubljana:20220509T140000
DTSTAMP:20260425T234741Z
UID:fmf-AFLABS-URNIK:premaknjeno-srecanje:87251
ATTENDEE:3. letnik (APM)
CATEGORIES:Entry,Standard
COLOR:darkgreen
DESCRIPTION:Predmet: Programiranje 3 (APM-3)\, Vaje (V)\nLetniki: 3. letni
 k (APM)\nIzvajalci: Matija Lokar\nProstor: 3.10
LOCATION:3.10
ORGANIZER:Matija Lokar
RELATED-TO:fmf-AFLABS-URNIK:srecanje:7211
X-WR-TIMEZONE:Europe/Ljubljana
END:VEVENT
BEGIN:VEVENT
SUMMARY:Programiranje 3 (APM-3)\, Vaje (V)
DTSTART;TZID=Europe/Ljubljana:20220516T110000
DTEND;TZID=Europe/Ljubljana:20220516T140000
DTSTAMP:20260425T234741Z
UID:fmf-AFLABS-URNIK:premaknjeno-srecanje:87252
ATTENDEE:3. letnik (APM)
CATEGORIES:Entry,Standard
COLOR:darkgreen
DESCRIPTION:Predmet: Programiranje 3 (APM-3)\, Vaje (V)\nLetniki: 3. letni
 k (APM)\nIzvajalci: Matija Lokar\nProstor: 3.10
LOCATION:3.10
ORGANIZER:Matija Lokar
RELATED-TO:fmf-AFLABS-URNIK:srecanje:7211
X-WR-TIMEZONE:Europe/Ljubljana
END:VEVENT
BEGIN:VEVENT
SUMMARY:Programiranje 3 (APM-3)\, Vaje (V)
DTSTART;TZID=Europe/Ljubljana:20220523T110000
DTEND;TZID=Europe/Ljubljana:20220523T140000
DTSTAMP:20260425T234741Z
UID:fmf-AFLABS-URNIK:premaknjeno-srecanje:87253
ATTENDEE:3. letnik (APM)
CATEGORIES:Entry,Standard
COLOR:darkgreen
DESCRIPTION:Predmet: Programiranje 3 (APM-3)\, Vaje (V)\nLetniki: 3. letni
 k (APM)\nIzvajalci: Matija Lokar\nProstor: 3.10
LOCATION:3.10
ORGANIZER:Matija Lokar
RELATED-TO:fmf-AFLABS-URNIK:srecanje:7211
X-WR-TIMEZONE:Europe/Ljubljana
END:VEVENT
BEGIN:VEVENT
SUMMARY:Programiranje 3 (APM-3)\, Vaje (V)
DTSTART;TZID=Europe/Ljubljana:20220530T110000
DTEND;TZID=Europe/Ljubljana:20220530T140000
DTSTAMP:20260425T234741Z
UID:fmf-AFLABS-URNIK:premaknjeno-srecanje:87254
ATTENDEE:3. letnik (APM)
CATEGORIES:Entry,Standard
COLOR:darkgreen
DESCRIPTION:Predmet: Programiranje 3 (APM-3)\, Vaje (V)\nLetniki: 3. letni
 k (APM)\nIzvajalci: Matija Lokar\nProstor: 3.10
LOCATION:3.10
ORGANIZER:Matija Lokar
RELATED-TO:fmf-AFLABS-URNIK:srecanje:7211
X-WR-TIMEZONE:Europe/Ljubljana
END:VEVENT
BEGIN:VEVENT
SUMMARY:Programiranje 1 (APM-1)\, Vaje (V)\, [1]
DTSTART;TZID=Europe/Ljubljana:20220504T100000
DTEND;TZID=Europe/Ljubljana:20220504T120000
DTSTAMP:20260425T234741Z
UID:fmf-AFLABS-URNIK:premaknjeno-srecanje:86022
ATTENDEE:1. letnik (APM)
CATEGORIES:Entry,Standard
COLOR:darkgreen
DESCRIPTION:Predmet: Programiranje 1 (APM-1)\, Vaje (V)\, [1]\nLetniki: 1.
  letnik (APM)\nIzvajalci: Matija Lokar\nProstor: 3.11
LOCATION:3.11
ORGANIZER:Matija Lokar
RELATED-TO:fmf-AFLABS-URNIK:srecanje:7202
X-WR-TIMEZONE:Europe/Ljubljana
END:VEVENT
BEGIN:VEVENT
SUMMARY:Programiranje 1 (APM-1)\, Vaje (V)\, [1]
DTSTART;TZID=Europe/Ljubljana:20220511T100000
DTEND;TZID=Europe/Ljubljana:20220511T120000
DTSTAMP:20260425T234741Z
UID:fmf-AFLABS-URNIK:premaknjeno-srecanje:86023
ATTENDEE:1. letnik (APM)
CATEGORIES:Entry,Standard
COLOR:darkgreen
DESCRIPTION:Predmet: Programiranje 1 (APM-1)\, Vaje (V)\, [1]\nLetniki: 1.
  letnik (APM)\nIzvajalci: Matija Lokar\nProstor: 3.11
LOCATION:3.11
ORGANIZER:Matija Lokar
RELATED-TO:fmf-AFLABS-URNIK:srecanje:7202
X-WR-TIMEZONE:Europe/Ljubljana
END:VEVENT
BEGIN:VEVENT
SUMMARY:Programiranje 1 (APM-1)\, Vaje (V)\, [1]
DTSTART;TZID=Europe/Ljubljana:20220518T100000
DTEND;TZID=Europe/Ljubljana:20220518T120000
DTSTAMP:20260425T234741Z
UID:fmf-AFLABS-URNIK:premaknjeno-srecanje:86024
ATTENDEE:1. letnik (APM)
CATEGORIES:Entry,Standard
COLOR:darkgreen
DESCRIPTION:Predmet: Programiranje 1 (APM-1)\, Vaje (V)\, [1]\nLetniki: 1.
  letnik (APM)\nIzvajalci: Matija Lokar\nProstor: 3.11
LOCATION:3.11
ORGANIZER:Matija Lokar
RELATED-TO:fmf-AFLABS-URNIK:srecanje:7202
X-WR-TIMEZONE:Europe/Ljubljana
END:VEVENT
BEGIN:VEVENT
SUMMARY:Programiranje 1 (APM-1)\, Vaje (V)\, [1]
DTSTART;TZID=Europe/Ljubljana:20220525T100000
DTEND;TZID=Europe/Ljubljana:20220525T120000
DTSTAMP:20260425T234741Z
UID:fmf-AFLABS-URNIK:premaknjeno-srecanje:86025
ATTENDEE:1. letnik (APM)
CATEGORIES:Entry,Standard
COLOR:darkgreen
DESCRIPTION:Predmet: Programiranje 1 (APM-1)\, Vaje (V)\, [1]\nLetniki: 1.
  letnik (APM)\nIzvajalci: Matija Lokar\nProstor: 3.11
LOCATION:3.11
ORGANIZER:Matija Lokar
RELATED-TO:fmf-AFLABS-URNIK:srecanje:7202
X-WR-TIMEZONE:Europe/Ljubljana
END:VEVENT
BEGIN:VEVENT
SUMMARY:Programiranje 1 (APM-1)\, Predavanja (P)
DTSTART;TZID=Europe/Ljubljana:20220505T100000
DTEND;TZID=Europe/Ljubljana:20220505T110000
DTSTAMP:20260425T234741Z
UID:fmf-AFLABS-URNIK:premaknjeno-srecanje:85664
ATTENDEE:1. letnik (APM)
CATEGORIES:Entry,Standard
COLOR:darkgreen
DESCRIPTION:Predmet: Programiranje 1 (APM-1)\, Predavanja (P)\nLetniki: 1.
  letnik (APM)\nIzvajalci: Matija Lokar\nProstor: 3.04
LOCATION:3.04
ORGANIZER:Matija Lokar
RELATED-TO:fmf-AFLABS-URNIK:srecanje:7200
X-WR-TIMEZONE:Europe/Ljubljana
END:VEVENT
BEGIN:VEVENT
SUMMARY:Programiranje 1 (APM-1)\, Predavanja (P)
DTSTART;TZID=Europe/Ljubljana:20220512T100000
DTEND;TZID=Europe/Ljubljana:20220512T110000
DTSTAMP:20260425T234741Z
UID:fmf-AFLABS-URNIK:premaknjeno-srecanje:85665
ATTENDEE:1. letnik (APM)
CATEGORIES:Entry,Standard
COLOR:darkgreen
DESCRIPTION:Predmet: Programiranje 1 (APM-1)\, Predavanja (P)\nLetniki: 1.
  letnik (APM)\nIzvajalci: Matija Lokar\nProstor: 3.04
LOCATION:3.04
ORGANIZER:Matija Lokar
RELATED-TO:fmf-AFLABS-URNIK:srecanje:7200
X-WR-TIMEZONE:Europe/Ljubljana
END:VEVENT
BEGIN:VEVENT
SUMMARY:Programiranje 1 (APM-1)\, Predavanja (P)
DTSTART;TZID=Europe/Ljubljana:20220519T100000
DTEND;TZID=Europe/Ljubljana:20220519T110000
DTSTAMP:20260425T234741Z
UID:fmf-AFLABS-URNIK:premaknjeno-srecanje:85666
ATTENDEE:1. letnik (APM)
CATEGORIES:Entry,Standard
COLOR:darkgreen
DESCRIPTION:Predmet: Programiranje 1 (APM-1)\, Predavanja (P)\nLetniki: 1.
  letnik (APM)\nIzvajalci: Matija Lokar\nProstor: 3.04
LOCATION:3.04
ORGANIZER:Matija Lokar
RELATED-TO:fmf-AFLABS-URNIK:srecanje:7200
X-WR-TIMEZONE:Europe/Ljubljana
END:VEVENT
BEGIN:VEVENT
SUMMARY:Programiranje 1 (APM-1)\, Predavanja (P)
DTSTART;TZID=Europe/Ljubljana:20220526T100000
DTEND;TZID=Europe/Ljubljana:20220526T110000
DTSTAMP:20260425T234741Z
UID:fmf-AFLABS-URNIK:premaknjeno-srecanje:85667
ATTENDEE:1. letnik (APM)
CATEGORIES:Entry,Standard
COLOR:darkgreen
DESCRIPTION:Predmet: Programiranje 1 (APM-1)\, Predavanja (P)\nLetniki: 1.
  letnik (APM)\nIzvajalci: Matija Lokar\nProstor: 3.04
LOCATION:3.04
ORGANIZER:Matija Lokar
RELATED-TO:fmf-AFLABS-URNIK:srecanje:7200
X-WR-TIMEZONE:Europe/Ljubljana
END:VEVENT
BEGIN:VEVENT
SUMMARY:Programiranje 1 (APM-1)\, Seminar (S)
DTSTART;TZID=Europe/Ljubljana:20220505T110000
DTEND;TZID=Europe/Ljubljana:20220505T120000
DTSTAMP:20260425T234741Z
UID:fmf-AFLABS-URNIK:premaknjeno-srecanje:85788
ATTENDEE:1. letnik (APM)
CATEGORIES:Entry,Standard
COLOR:darkgreen
DESCRIPTION:Predmet: Programiranje 1 (APM-1)\, Seminar (S)\nLetniki: 1. le
 tnik (APM)\nIzvajalci: Matija Lokar\nProstor: 3.04
LOCATION:3.04
ORGANIZER:Matija Lokar
RELATED-TO:fmf-AFLABS-URNIK:srecanje:7201
X-WR-TIMEZONE:Europe/Ljubljana
END:VEVENT
BEGIN:VEVENT
SUMMARY:Programiranje 1 (APM-1)\, Seminar (S)
DTSTART;TZID=Europe/Ljubljana:20220512T110000
DTEND;TZID=Europe/Ljubljana:20220512T120000
DTSTAMP:20260425T234741Z
UID:fmf-AFLABS-URNIK:premaknjeno-srecanje:85789
ATTENDEE:1. letnik (APM)
CATEGORIES:Entry,Standard
COLOR:darkgreen
DESCRIPTION:Predmet: Programiranje 1 (APM-1)\, Seminar (S)\nLetniki: 1. le
 tnik (APM)\nIzvajalci: Matija Lokar\nProstor: 3.04
LOCATION:3.04
ORGANIZER:Matija Lokar
RELATED-TO:fmf-AFLABS-URNIK:srecanje:7201
X-WR-TIMEZONE:Europe/Ljubljana
END:VEVENT
BEGIN:VEVENT
SUMMARY:Programiranje 1 (APM-1)\, Seminar (S)
DTSTART;TZID=Europe/Ljubljana:20220519T110000
DTEND;TZID=Europe/Ljubljana:20220519T120000
DTSTAMP:20260425T234741Z
UID:fmf-AFLABS-URNIK:premaknjeno-srecanje:85790
ATTENDEE:1. letnik (APM)
CATEGORIES:Entry,Standard
COLOR:darkgreen
DESCRIPTION:Predmet: Programiranje 1 (APM-1)\, Seminar (S)\nLetniki: 1. le
 tnik (APM)\nIzvajalci: Matija Lokar\nProstor: 3.04
LOCATION:3.04
ORGANIZER:Matija Lokar
RELATED-TO:fmf-AFLABS-URNIK:srecanje:7201
X-WR-TIMEZONE:Europe/Ljubljana
END:VEVENT
BEGIN:VEVENT
SUMMARY:Programiranje 1 (APM-1)\, Seminar (S)
DTSTART;TZID=Europe/Ljubljana:20220526T110000
DTEND;TZID=Europe/Ljubljana:20220526T120000
DTSTAMP:20260425T234741Z
UID:fmf-AFLABS-URNIK:premaknjeno-srecanje:85791
ATTENDEE:1. letnik (APM)
CATEGORIES:Entry,Standard
COLOR:darkgreen
DESCRIPTION:Predmet: Programiranje 1 (APM-1)\, Seminar (S)\nLetniki: 1. le
 tnik (APM)\nIzvajalci: Matija Lokar\nProstor: 3.04
LOCATION:3.04
ORGANIZER:Matija Lokar
RELATED-TO:fmf-AFLABS-URNIK:srecanje:7201
X-WR-TIMEZONE:Europe/Ljubljana
END:VEVENT
BEGIN:VEVENT
SUMMARY:Programiranje 1 (APM-1)\, Vaje (V)\, [2]
DTSTART;TZID=Europe/Ljubljana:20220505T080000
DTEND;TZID=Europe/Ljubljana:20220505T100000
DTSTAMP:20260425T234741Z
UID:fmf-AFLABS-URNIK:premaknjeno-srecanje:86398
ATTENDEE:1. letnik (APM)
CATEGORIES:Entry,Standard
COLOR:darkgreen
DESCRIPTION:Predmet: Programiranje 1 (APM-1)\, Vaje (V)\, [2]\nLetniki: 1.
  letnik (APM)\nIzvajalci: Matija Lokar\nProstor: 3.11
LOCATION:3.11
ORGANIZER:Matija Lokar
RELATED-TO:fmf-AFLABS-URNIK:srecanje:7203
X-WR-TIMEZONE:Europe/Ljubljana
END:VEVENT
BEGIN:VEVENT
SUMMARY:Programiranje 1 (APM-1)\, Vaje (V)\, [2]
DTSTART;TZID=Europe/Ljubljana:20220512T080000
DTEND;TZID=Europe/Ljubljana:20220512T100000
DTSTAMP:20260425T234741Z
UID:fmf-AFLABS-URNIK:premaknjeno-srecanje:86399
ATTENDEE:1. letnik (APM)
CATEGORIES:Entry,Standard
COLOR:darkgreen
DESCRIPTION:Predmet: Programiranje 1 (APM-1)\, Vaje (V)\, [2]\nLetniki: 1.
  letnik (APM)\nIzvajalci: Matija Lokar\nProstor: 3.11
LOCATION:3.11
ORGANIZER:Matija Lokar
RELATED-TO:fmf-AFLABS-URNIK:srecanje:7203
X-WR-TIMEZONE:Europe/Ljubljana
END:VEVENT
BEGIN:VEVENT
SUMMARY:Programiranje 1 (APM-1)\, Vaje (V)\, [2]
DTSTART;TZID=Europe/Ljubljana:20220519T080000
DTEND;TZID=Europe/Ljubljana:20220519T100000
DTSTAMP:20260425T234741Z
UID:fmf-AFLABS-URNIK:premaknjeno-srecanje:86400
ATTENDEE:1. letnik (APM)
CATEGORIES:Entry,Standard
COLOR:darkgreen
DESCRIPTION:Predmet: Programiranje 1 (APM-1)\, Vaje (V)\, [2]\nLetniki: 1.
  letnik (APM)\nIzvajalci: Matija Lokar\nProstor: 3.11
LOCATION:3.11
ORGANIZER:Matija Lokar
RELATED-TO:fmf-AFLABS-URNIK:srecanje:7203
X-WR-TIMEZONE:Europe/Ljubljana
END:VEVENT
BEGIN:VEVENT
SUMMARY:Programiranje 1 (APM-1)\, Vaje (V)\, [2]
DTSTART;TZID=Europe/Ljubljana:20220526T080000
DTEND;TZID=Europe/Ljubljana:20220526T100000
DTSTAMP:20260425T234741Z
UID:fmf-AFLABS-URNIK:premaknjeno-srecanje:86401
ATTENDEE:1. letnik (APM)
CATEGORIES:Entry,Standard
COLOR:darkgreen
DESCRIPTION:Predmet: Programiranje 1 (APM-1)\, Vaje (V)\, [2]\nLetniki: 1.
  letnik (APM)\nIzvajalci: Matija Lokar\nProstor: 3.11
LOCATION:3.11
ORGANIZER:Matija Lokar
RELATED-TO:fmf-AFLABS-URNIK:srecanje:7203
X-WR-TIMEZONE:Europe/Ljubljana
END:VEVENT
BEGIN:VEVENT
SUMMARY:Računalništvo 2 (APM-3)\, Predavanja (P)
DTSTART;TZID=Europe/Ljubljana:20220506T110000
DTEND;TZID=Europe/Ljubljana:20220506T140000
DTSTAMP:20260425T234741Z
UID:fmf-AFLABS-URNIK:premaknjeno-srecanje:95260
ATTENDEE:3. letnik (APM)
CATEGORIES:Entry,Standard
COLOR:darkgreen
DESCRIPTION:Predmet: Računalništvo 2 (APM-3)\, Predavanja (P)\nLetniki: 
 3. letnik (APM)\nIzvajalci: Matija Lokar\nProstor: 3.10
LOCATION:3.10
ORGANIZER:Matija Lokar
RELATED-TO:fmf-AFLABS-URNIK:srecanje:7371
X-WR-TIMEZONE:Europe/Ljubljana
END:VEVENT
BEGIN:VEVENT
SUMMARY:Računalništvo 2 (APM-3)\, Predavanja (P)
DTSTART;TZID=Europe/Ljubljana:20220513T110000
DTEND;TZID=Europe/Ljubljana:20220513T140000
DTSTAMP:20260425T234741Z
UID:fmf-AFLABS-URNIK:premaknjeno-srecanje:95261
ATTENDEE:3. letnik (APM)
CATEGORIES:Entry,Standard
COLOR:darkgreen
DESCRIPTION:Predmet: Računalništvo 2 (APM-3)\, Predavanja (P)\nLetniki: 
 3. letnik (APM)\nIzvajalci: Matija Lokar\nProstor: 3.10
LOCATION:3.10
ORGANIZER:Matija Lokar
RELATED-TO:fmf-AFLABS-URNIK:srecanje:7371
X-WR-TIMEZONE:Europe/Ljubljana
END:VEVENT
BEGIN:VEVENT
SUMMARY:Računalništvo 2 (APM-3)\, Predavanja (P)
DTSTART;TZID=Europe/Ljubljana:20220520T110000
DTEND;TZID=Europe/Ljubljana:20220520T140000
DTSTAMP:20260425T234741Z
UID:fmf-AFLABS-URNIK:premaknjeno-srecanje:95262
ATTENDEE:3. letnik (APM)
CATEGORIES:Entry,Standard
COLOR:darkgreen
DESCRIPTION:Predmet: Računalništvo 2 (APM-3)\, Predavanja (P)\nLetniki: 
 3. letnik (APM)\nIzvajalci: Matija Lokar\nProstor: 3.10
LOCATION:3.10
ORGANIZER:Matija Lokar
RELATED-TO:fmf-AFLABS-URNIK:srecanje:7371
X-WR-TIMEZONE:Europe/Ljubljana
END:VEVENT
BEGIN:VEVENT
SUMMARY:Računalništvo 2 (APM-3)\, Predavanja (P)
DTSTART;TZID=Europe/Ljubljana:20220527T110000
DTEND;TZID=Europe/Ljubljana:20220527T140000
DTSTAMP:20260425T234741Z
UID:fmf-AFLABS-URNIK:premaknjeno-srecanje:95263
ATTENDEE:3. letnik (APM)
CATEGORIES:Entry,Standard
COLOR:darkgreen
DESCRIPTION:Predmet: Računalništvo 2 (APM-3)\, Predavanja (P)\nLetniki: 
 3. letnik (APM)\nIzvajalci: Matija Lokar\nProstor: 3.10
LOCATION:3.10
ORGANIZER:Matija Lokar
RELATED-TO:fmf-AFLABS-URNIK:srecanje:7371
X-WR-TIMEZONE:Europe/Ljubljana
END:VEVENT
BEGIN:VEVENT
SUMMARY:Rezervacija
DTSTART;TZID=Europe/Ljubljana:20220519T120000
DTEND;TZID=Europe/Ljubljana:20220519T140000
DTSTAMP:20260425T234741Z
UID:fmf-AFLABS-URNIK:rezervacija:3759
CATEGORIES:Reservation
COLOR:royalblue
DESCRIPTION:Predmeti: \nLetniki: \nIzvajalci: Matija Lokar\nProstori: 3.12
LOCATION:3.12
ORGANIZER:Matija Lokar
X-WR-TIMEZONE:Europe/Ljubljana
END:VEVENT
BEGIN:VEVENT
SUMMARY:Rezervacija
DTSTART;TZID=Europe/Ljubljana:20220609T090000
DTEND;TZID=Europe/Ljubljana:20220609T110000
DTSTAMP:20260425T234741Z
UID:fmf-AFLABS-URNIK:rezervacija:9253
CATEGORIES:Reservation
COLOR:royalblue
DESCRIPTION:Predmeti: \nLetniki: \nIzvajalci: Matija Lokar\nProstori: 3.04
LOCATION:3.04
ORGANIZER:Matija Lokar
X-WR-TIMEZONE:Europe/Ljubljana
END:VEVENT
BEGIN:VEVENT
SUMMARY:Rezervacija
DTSTART;TZID=Europe/Ljubljana:20220610T120000
DTEND;TZID=Europe/Ljubljana:20220610T140000
DTSTAMP:20260425T234741Z
UID:fmf-AFLABS-URNIK:rezervacija:9281
CATEGORIES:Reservation
COLOR:royalblue
DESCRIPTION:Predmeti: \nLetniki: \nIzvajalci: Matija Lokar\nProstori: 3.10
LOCATION:3.10
ORGANIZER:Matija Lokar
X-WR-TIMEZONE:Europe/Ljubljana
END:VEVENT
BEGIN:VEVENT
SUMMARY:Rezervacija
DTSTART;TZID=Europe/Ljubljana:20220623T090000
DTEND;TZID=Europe/Ljubljana:20220623T120000
DTSTAMP:20260425T234741Z
UID:fmf-AFLABS-URNIK:rezervacija:9476
CATEGORIES:Reservation
COLOR:royalblue
DESCRIPTION:Predmeti: \nLetniki: \nIzvajalci: Matija Lokar\nProstori: 3.04
 \, 3.10\, 3.11
LOCATION:3.04\, 3.10\, 3.11
ORGANIZER:Matija Lokar
X-WR-TIMEZONE:Europe/Ljubljana
END:VEVENT
BEGIN:VEVENT
SUMMARY:Rezervacija
DTSTART;TZID=Europe/Ljubljana:20220627T100000
DTEND;TZID=Europe/Ljubljana:20220627T120000
DTSTAMP:20260425T234741Z
UID:fmf-AFLABS-URNIK:rezervacija:9526
CATEGORIES:Reservation
COLOR:royalblue
DESCRIPTION:Predmeti: \nLetniki: \nIzvajalci: Matija Lokar\nProstori: 3.10
LOCATION:3.10
ORGANIZER:Matija Lokar
X-WR-TIMEZONE:Europe/Ljubljana
END:VEVENT
BEGIN:VEVENT
SUMMARY:Rezervacija
DTSTART;TZID=Europe/Ljubljana:20220630T090000
DTEND;TZID=Europe/Ljubljana:20220630T110000
DTSTAMP:20260425T234741Z
UID:fmf-AFLABS-URNIK:rezervacija:9602
CATEGORIES:Reservation
COLOR:royalblue
DESCRIPTION:Predmeti: \nLetniki: \nIzvajalci: Matija Lokar\nProstori: 3.11
LOCATION:3.11
ORGANIZER:Matija Lokar
X-WR-TIMEZONE:Europe/Ljubljana
END:VEVENT
BEGIN:VEVENT
SUMMARY:Rezervacija
DTSTART;TZID=Europe/Ljubljana:20220630T110000
DTEND;TZID=Europe/Ljubljana:20220630T140000
DTSTAMP:20260425T234741Z
UID:fmf-AFLABS-URNIK:rezervacija:9617
CATEGORIES:Reservation
COLOR:royalblue
DESCRIPTION:Predmeti: \nLetniki: \nIzvajalci: Matija Lokar\nProstori: 3.05
LOCATION:3.05
ORGANIZER:Matija Lokar
X-WR-TIMEZONE:Europe/Ljubljana
END:VEVENT
END:VCALENDAR
