BEGIN:VCALENDAR
VERSION:2.0
PRODID:-//AFLabs urnik izvoz - fmf//aflabs.si//SI
DTSTAMP:20260424T161041Z
NAME:UL FMF urnik
REFRESH-INTERVAL:PT1H
SOURCE:https://urnik.fmf.uni-lj.si/teacher/217?day=2019-08-26&export=1
URL:https://urnik.fmf.uni-lj.si/teacher/217?day=2019-08-26&export=1
X-PUBLISHED-TTL:PT1H
X-WR-CALNAME:UL FMF urnik
X-WR-TIMEZONE:Europe/Ljubljana
BEGIN:VTIMEZONE
TZID:Europe/Ljubljana
BEGIN:DAYLIGHT
DTSTART:20260329T020000
RDATE:20260329T020000
RDATE:20270328T020000
TZNAME:CEST
TZOFFSETFROM:+0100
TZOFFSETTO:+0200
END:DAYLIGHT
BEGIN:STANDARD
DTSTART:20261025T030000
RDATE:20261025T030000
RDATE:20271031T030000
TZNAME:CET
TZOFFSETFROM:+0200
TZOFFSETTO:+0100
END:STANDARD
END:VTIMEZONE
BEGIN:VEVENT
SUMMARY:Rezervacija
DTSTART;TZID=Europe/Ljubljana:20190819T100000
DTEND;TZID=Europe/Ljubljana:20190819T120000
DTSTAMP:20260424T161041Z
UID:fmf-AFLABS-URNIK:rezervacija:3902
CATEGORIES:Reservation
COLOR:royalblue
DESCRIPTION:Predmeti: \nLetniki: \nIzvajalci: Jure Kališnik\, Uroš Kuzma
 n\nProstori: 2.01
LOCATION:2.01
ORGANIZER:Jure Kališnik, Uroš Kuzman
X-WR-TIMEZONE:Europe/Ljubljana
END:VEVENT
BEGIN:VEVENT
SUMMARY:Rezervacija
DTSTART;TZID=Europe/Ljubljana:20190819T100000
DTEND;TZID=Europe/Ljubljana:20190819T120000
DTSTAMP:20260424T161041Z
UID:fmf-AFLABS-URNIK:rezervacija:3904
CATEGORIES:Reservation
COLOR:royalblue
DESCRIPTION:Predmeti: \nLetniki: \nIzvajalci: Jure Kališnik\nProstori: 2.
 04
LOCATION:2.04
ORGANIZER:Jure Kališnik
X-WR-TIMEZONE:Europe/Ljubljana
END:VEVENT
BEGIN:VEVENT
SUMMARY:Rezervacija
DTSTART;TZID=Europe/Ljubljana:20190821T100000
DTEND;TZID=Europe/Ljubljana:20190821T120000
DTSTAMP:20260424T161041Z
UID:fmf-AFLABS-URNIK:rezervacija:3933
CATEGORIES:Reservation
COLOR:royalblue
DESCRIPTION:Predmeti: \nLetniki: \nIzvajalci: Jure Kališnik\nProstori: 2.
 03
LOCATION:2.03
ORGANIZER:Jure Kališnik
X-WR-TIMEZONE:Europe/Ljubljana
END:VEVENT
BEGIN:VEVENT
SUMMARY:Rezervacija
DTSTART;TZID=Europe/Ljubljana:20190822T100000
DTEND;TZID=Europe/Ljubljana:20190822T130000
DTSTAMP:20260424T161041Z
UID:fmf-AFLABS-URNIK:rezervacija:3952
CATEGORIES:Reservation
COLOR:royalblue
DESCRIPTION:Predmeti: \nLetniki: \nIzvajalci: Jure Kališnik\nProstori: VF
 P
LOCATION:VFP
ORGANIZER:Jure Kališnik
X-WR-TIMEZONE:Europe/Ljubljana
END:VEVENT
BEGIN:VEVENT
SUMMARY:Rezervacija
DTSTART;TZID=Europe/Ljubljana:20190829T100000
DTEND;TZID=Europe/Ljubljana:20190829T130000
DTSTAMP:20260424T161041Z
UID:fmf-AFLABS-URNIK:rezervacija:4035
CATEGORIES:Reservation
COLOR:royalblue
DESCRIPTION:Predmeti: \nLetniki: \nIzvajalci: Jure Kališnik\nProstori: VF
 P
LOCATION:VFP
ORGANIZER:Jure Kališnik
X-WR-TIMEZONE:Europe/Ljubljana
END:VEVENT
BEGIN:VEVENT
SUMMARY:Rezervacija
DTSTART;TZID=Europe/Ljubljana:20190902T100000
DTEND;TZID=Europe/Ljubljana:20190902T120000
DTSTAMP:20260424T161041Z
UID:fmf-AFLABS-URNIK:rezervacija:4075
CATEGORIES:Reservation
COLOR:royalblue
DESCRIPTION:Predmeti: \nLetniki: \nIzvajalci: Jure Kališnik\, Uroš Kuzma
 n\nProstori: 2.01
LOCATION:2.01
ORGANIZER:Jure Kališnik, Uroš Kuzman
X-WR-TIMEZONE:Europe/Ljubljana
END:VEVENT
BEGIN:VEVENT
SUMMARY:Rezervacija
DTSTART;TZID=Europe/Ljubljana:20190905T100000
DTEND;TZID=Europe/Ljubljana:20190905T130000
DTSTAMP:20260424T161041Z
UID:fmf-AFLABS-URNIK:rezervacija:4134
CATEGORIES:Reservation
COLOR:royalblue
DESCRIPTION:Predmeti: \nLetniki: \nIzvajalci: Jure Kališnik\nProstori: VF
 P
LOCATION:VFP
ORGANIZER:Jure Kališnik
X-WR-TIMEZONE:Europe/Ljubljana
END:VEVENT
BEGIN:VEVENT
SUMMARY:Rezervacija
DTSTART;TZID=Europe/Ljubljana:20190905T140000
DTEND;TZID=Europe/Ljubljana:20190905T160000
DTSTAMP:20260424T161041Z
UID:fmf-AFLABS-URNIK:rezervacija:4147
CATEGORIES:Reservation
COLOR:royalblue
DESCRIPTION:Predmeti: \nLetniki: \nIzvajalci: Jure Kališnik\nProstori: 2.
 03
LOCATION:2.03
ORGANIZER:Jure Kališnik
X-WR-TIMEZONE:Europe/Ljubljana
END:VEVENT
END:VCALENDAR
