BEGIN:VCALENDAR
VERSION:2.0
PRODID:-//AFLabs urnik izvoz - fmf//aflabs.si//SI
DTSTAMP:20260423T145436Z
NAME:UL FMF urnik
REFRESH-INTERVAL:PT1H
SOURCE:https://urnik.fmf.uni-lj.si/teacher/217?day=2020-02-10&export=1
URL:https://urnik.fmf.uni-lj.si/teacher/217?day=2020-02-10&export=1
X-PUBLISHED-TTL:PT1H
X-WR-CALNAME:UL FMF urnik
X-WR-TIMEZONE:Europe/Ljubljana
BEGIN:VTIMEZONE
TZID:Europe/Ljubljana
BEGIN:DAYLIGHT
DTSTART:20260329T020000
RDATE:20260329T020000
RDATE:20270328T020000
TZNAME:CEST
TZOFFSETFROM:+0100
TZOFFSETTO:+0200
END:DAYLIGHT
BEGIN:STANDARD
DTSTART:20261025T030000
RDATE:20261025T030000
RDATE:20271031T030000
TZNAME:CET
TZOFFSETFROM:+0200
TZOFFSETTO:+0100
END:STANDARD
END:VTIMEZONE
BEGIN:VEVENT
SUMMARY:Analiza 1 (MAT-1\, PM-1)\, Vaje (V)\, [1]
DTSTART;TZID=Europe/Ljubljana:20200108T140000
DTEND;TZID=Europe/Ljubljana:20200108T160000
DTSTAMP:20260423T145436Z
UID:fmf-AFLABS-URNIK:premaknjeno-srecanje:5341
ATTENDEE:1. letnik (M)
ATTENDEE:1. letnik (PM)
CATEGORIES:Entry,Standard
COLOR:darkgreen
DESCRIPTION:Predmet: Analiza 1 (MAT-1\, PM-1)\, Vaje (V)\, [1]\nLetniki: 1
 . letnik (M)\, 1. letnik (PM)\nIzvajalci: Jure Kališnik\nProstor: 2.05
LOCATION:2.05
ORGANIZER:Jure Kališnik
RELATED-TO:fmf-AFLABS-URNIK:srecanje:3239
X-WR-TIMEZONE:Europe/Ljubljana
END:VEVENT
BEGIN:VEVENT
SUMMARY:Analiza 1 (MAT-1\, PM-1)\, Vaje (V)\, [1]
DTSTART;TZID=Europe/Ljubljana:20200115T140000
DTEND;TZID=Europe/Ljubljana:20200115T160000
DTSTAMP:20260423T145436Z
UID:fmf-AFLABS-URNIK:premaknjeno-srecanje:5342
ATTENDEE:1. letnik (M)
ATTENDEE:1. letnik (PM)
CATEGORIES:Entry,Standard
COLOR:darkgreen
DESCRIPTION:Predmet: Analiza 1 (MAT-1\, PM-1)\, Vaje (V)\, [1]\nLetniki: 1
 . letnik (M)\, 1. letnik (PM)\nIzvajalci: Jure Kališnik\nProstor: 2.05
LOCATION:2.05
ORGANIZER:Jure Kališnik
RELATED-TO:fmf-AFLABS-URNIK:srecanje:3239
X-WR-TIMEZONE:Europe/Ljubljana
END:VEVENT
BEGIN:VEVENT
SUMMARY:Analiza 1 (MAT-1\, PM-1)\, Vaje (V)\, [1]
DTSTART;TZID=Europe/Ljubljana:20200109T130000
DTEND;TZID=Europe/Ljubljana:20200109T150000
DTSTAMP:20260423T145436Z
UID:fmf-AFLABS-URNIK:premaknjeno-srecanje:5589
ATTENDEE:1. letnik (M)
ATTENDEE:1. letnik (PM)
CATEGORIES:Entry,Standard
COLOR:darkgreen
DESCRIPTION:Predmet: Analiza 1 (MAT-1\, PM-1)\, Vaje (V)\, [1]\nLetniki: 1
 . letnik (M)\, 1. letnik (PM)\nIzvajalci: Jure Kališnik\nProstor: 2.01
LOCATION:2.01
ORGANIZER:Jure Kališnik
RELATED-TO:fmf-AFLABS-URNIK:srecanje:3241
X-WR-TIMEZONE:Europe/Ljubljana
END:VEVENT
BEGIN:VEVENT
SUMMARY:Analiza 1 (MAT-1\, PM-1)\, Vaje (V)\, [1]
DTSTART;TZID=Europe/Ljubljana:20200116T130000
DTEND;TZID=Europe/Ljubljana:20200116T150000
DTSTAMP:20260423T145436Z
UID:fmf-AFLABS-URNIK:premaknjeno-srecanje:5590
ATTENDEE:1. letnik (M)
ATTENDEE:1. letnik (PM)
CATEGORIES:Entry,Standard
COLOR:darkgreen
DESCRIPTION:Predmet: Analiza 1 (MAT-1\, PM-1)\, Vaje (V)\, [1]\nLetniki: 1
 . letnik (M)\, 1. letnik (PM)\nIzvajalci: Jure Kališnik\nProstor: 2.01
LOCATION:2.01
ORGANIZER:Jure Kališnik
RELATED-TO:fmf-AFLABS-URNIK:srecanje:3241
X-WR-TIMEZONE:Europe/Ljubljana
END:VEVENT
BEGIN:VEVENT
SUMMARY:Matematika I (FIZ-1)\, Vaje (V)\, [2]
DTSTART;TZID=Europe/Ljubljana:20200109T100000
DTEND;TZID=Europe/Ljubljana:20200109T120000
DTSTAMP:20260423T145436Z
UID:fmf-AFLABS-URNIK:premaknjeno-srecanje:64950
ATTENDEE:1. letnik (Fizika, 1. stopnja)
CATEGORIES:Entry,Standard
COLOR:darkgreen
DESCRIPTION:Predmet: Matematika I (FIZ-1)\, Vaje (V)\, [2]\nLetniki: 1. le
 tnik (Fizika\, 1. stopnja)\nIzvajalci: Jure Kališnik\nProstor: F2
LOCATION:F2
ORGANIZER:Jure Kališnik
RELATED-TO:fmf-AFLABS-URNIK:srecanje:3554
X-WR-TIMEZONE:Europe/Ljubljana
END:VEVENT
BEGIN:VEVENT
SUMMARY:Matematika I (FIZ-1)\, Vaje (V)\, [2]
DTSTART;TZID=Europe/Ljubljana:20200116T100000
DTEND;TZID=Europe/Ljubljana:20200116T120000
DTSTAMP:20260423T145436Z
UID:fmf-AFLABS-URNIK:premaknjeno-srecanje:64951
ATTENDEE:1. letnik (Fizika, 1. stopnja)
CATEGORIES:Entry,Standard
COLOR:darkgreen
DESCRIPTION:Predmet: Matematika I (FIZ-1)\, Vaje (V)\, [2]\nLetniki: 1. le
 tnik (Fizika\, 1. stopnja)\nIzvajalci: Jure Kališnik\nProstor: F2
LOCATION:F2
ORGANIZER:Jure Kališnik
RELATED-TO:fmf-AFLABS-URNIK:srecanje:3554
X-WR-TIMEZONE:Europe/Ljubljana
END:VEVENT
BEGIN:VEVENT
SUMMARY:Proseminar A (MAT-1)\, Vaje (V)
DTSTART;TZID=Europe/Ljubljana:20200109T080000
DTEND;TZID=Europe/Ljubljana:20200109T100000
DTSTAMP:20260423T145436Z
UID:fmf-AFLABS-URNIK:premaknjeno-srecanje:88948
ATTENDEE:1. letnik (M)
CATEGORIES:Entry,Standard
COLOR:darkgreen
DESCRIPTION:Predmet: Proseminar A (MAT-1)\, Vaje (V)\nLetniki: 1. letnik (
 M)\nIzvajalci: Jure Kališnik\nProstor: 2.05
LOCATION:2.05
ORGANIZER:Jure Kališnik
RELATED-TO:fmf-AFLABS-URNIK:srecanje:3626
X-WR-TIMEZONE:Europe/Ljubljana
END:VEVENT
BEGIN:VEVENT
SUMMARY:Proseminar A (MAT-1)\, Vaje (V)
DTSTART;TZID=Europe/Ljubljana:20200116T080000
DTEND;TZID=Europe/Ljubljana:20200116T100000
DTSTAMP:20260423T145436Z
UID:fmf-AFLABS-URNIK:premaknjeno-srecanje:88949
ATTENDEE:1. letnik (M)
CATEGORIES:Entry,Standard
COLOR:darkgreen
DESCRIPTION:Predmet: Proseminar A (MAT-1)\, Vaje (V)\nLetniki: 1. letnik (
 M)\nIzvajalci: Jure Kališnik\nProstor: 2.05
LOCATION:2.05
ORGANIZER:Jure Kališnik
RELATED-TO:fmf-AFLABS-URNIK:srecanje:3626
X-WR-TIMEZONE:Europe/Ljubljana
END:VEVENT
BEGIN:VEVENT
SUMMARY:REZ FM ()\, Predavanja (P)
DTSTART;TZID=Europe/Ljubljana:20200109T150000
DTEND;TZID=Europe/Ljubljana:20200109T160000
DTSTAMP:20260423T145436Z
UID:fmf-AFLABS-URNIK:premaknjeno-srecanje:90229
CATEGORIES:Entry,Standard
COLOR:darkgreen
DESCRIPTION:Predmet: REZ FM ()\, Predavanja (P)\nLetniki: \nIzvajalci: Jur
 e Kališnik\nProstor: 2.01
LOCATION:2.01
ORGANIZER:Jure Kališnik
RELATED-TO:fmf-AFLABS-URNIK:srecanje:3884
X-WR-TIMEZONE:Europe/Ljubljana
END:VEVENT
BEGIN:VEVENT
SUMMARY:REZ FM ()\, Predavanja (P)
DTSTART;TZID=Europe/Ljubljana:20200116T150000
DTEND;TZID=Europe/Ljubljana:20200116T160000
DTSTAMP:20260423T145436Z
UID:fmf-AFLABS-URNIK:premaknjeno-srecanje:90230
CATEGORIES:Entry,Standard
COLOR:darkgreen
DESCRIPTION:Predmet: REZ FM ()\, Predavanja (P)\nLetniki: \nIzvajalci: Jur
 e Kališnik\nProstor: 2.01
LOCATION:2.01
ORGANIZER:Jure Kališnik
RELATED-TO:fmf-AFLABS-URNIK:srecanje:3884
X-WR-TIMEZONE:Europe/Ljubljana
END:VEVENT
BEGIN:VEVENT
SUMMARY:Matematika I (FIZ-1)\, Vaje (V)\, [2]
DTSTART;TZID=Europe/Ljubljana:20200110T120000
DTEND;TZID=Europe/Ljubljana:20200110T140000
DTSTAMP:20260423T145436Z
UID:fmf-AFLABS-URNIK:premaknjeno-srecanje:65060
ATTENDEE:1. letnik (Fizika, 1. stopnja)
CATEGORIES:Entry,Standard
COLOR:darkgreen
DESCRIPTION:Predmet: Matematika I (FIZ-1)\, Vaje (V)\, [2]\nLetniki: 1. le
 tnik (Fizika\, 1. stopnja)\nIzvajalci: Jure Kališnik\nProstor: F2
LOCATION:F2
ORGANIZER:Jure Kališnik
RELATED-TO:fmf-AFLABS-URNIK:srecanje:3555
X-WR-TIMEZONE:Europe/Ljubljana
END:VEVENT
BEGIN:VEVENT
SUMMARY:Matematika I (FIZ-1)\, Vaje (V)\, [2]
DTSTART;TZID=Europe/Ljubljana:20200117T120000
DTEND;TZID=Europe/Ljubljana:20200117T140000
DTSTAMP:20260423T145436Z
UID:fmf-AFLABS-URNIK:premaknjeno-srecanje:65061
ATTENDEE:1. letnik (Fizika, 1. stopnja)
CATEGORIES:Entry,Standard
COLOR:darkgreen
DESCRIPTION:Predmet: Matematika I (FIZ-1)\, Vaje (V)\, [2]\nLetniki: 1. le
 tnik (Fizika\, 1. stopnja)\nIzvajalci: Jure Kališnik\nProstor: F2
LOCATION:F2
ORGANIZER:Jure Kališnik
RELATED-TO:fmf-AFLABS-URNIK:srecanje:3555
X-WR-TIMEZONE:Europe/Ljubljana
END:VEVENT
BEGIN:VEVENT
SUMMARY:Mehanika 1 (MAT-3\, PM-4)\, Vaje (V)
DTSTART;TZID=Europe/Ljubljana:20200110T100000
DTEND;TZID=Europe/Ljubljana:20200110T120000
DTSTAMP:20260423T145436Z
UID:fmf-AFLABS-URNIK:premaknjeno-srecanje:71196
ATTENDEE:3. letnik (M)
ATTENDEE:4. letnik (PM)
CATEGORIES:Entry,Standard
COLOR:darkgreen
DESCRIPTION:Predmet: Mehanika 1 (MAT-3\, PM-4)\, Vaje (V)\nLetniki: 3. let
 nik (M)\, 4. letnik (PM)\nIzvajalci: Jure Kališnik\nProstor: F2
LOCATION:F2
ORGANIZER:Jure Kališnik
RELATED-TO:fmf-AFLABS-URNIK:srecanje:3582
X-WR-TIMEZONE:Europe/Ljubljana
END:VEVENT
BEGIN:VEVENT
SUMMARY:Mehanika 1 (MAT-3\, PM-4)\, Vaje (V)
DTSTART;TZID=Europe/Ljubljana:20200117T100000
DTEND;TZID=Europe/Ljubljana:20200117T120000
DTSTAMP:20260423T145436Z
UID:fmf-AFLABS-URNIK:premaknjeno-srecanje:71197
ATTENDEE:3. letnik (M)
ATTENDEE:4. letnik (PM)
CATEGORIES:Entry,Standard
COLOR:darkgreen
DESCRIPTION:Predmet: Mehanika 1 (MAT-3\, PM-4)\, Vaje (V)\nLetniki: 3. let
 nik (M)\, 4. letnik (PM)\nIzvajalci: Jure Kališnik\nProstor: F2
LOCATION:F2
ORGANIZER:Jure Kališnik
RELATED-TO:fmf-AFLABS-URNIK:srecanje:3582
X-WR-TIMEZONE:Europe/Ljubljana
END:VEVENT
BEGIN:VEVENT
SUMMARY:Analiza 1 (MAT-1\, PM-1)\, Vaje (V)\, [1]
DTSTART;TZID=Europe/Ljubljana:20200219T090000
DTEND;TZID=Europe/Ljubljana:20200219T100000
DTSTAMP:20260423T145436Z
UID:fmf-AFLABS-URNIK:premaknjeno-srecanje:5251
ATTENDEE:1. letnik (M)
ATTENDEE:1. letnik (PM)
CATEGORIES:Entry,Standard
COLOR:darkgreen
DESCRIPTION:Predmet: Analiza 1 (MAT-1\, PM-1)\, Vaje (V)\, [1]\nLetniki: 1
 . letnik (M)\, 1. letnik (PM)\nIzvajalci: Jure Kališnik\nProstor: 2.01
LOCATION:2.01
ORGANIZER:Jure Kališnik
RELATED-TO:fmf-AFLABS-URNIK:srecanje:3997
X-WR-TIMEZONE:Europe/Ljubljana
END:VEVENT
BEGIN:VEVENT
SUMMARY:Analiza 1 (MAT-1\, PM-1)\, Vaje (V)\, [1]
DTSTART;TZID=Europe/Ljubljana:20200226T090000
DTEND;TZID=Europe/Ljubljana:20200226T100000
DTSTAMP:20260423T145436Z
UID:fmf-AFLABS-URNIK:premaknjeno-srecanje:5252
ATTENDEE:1. letnik (M)
ATTENDEE:1. letnik (PM)
CATEGORIES:Entry,Standard
COLOR:darkgreen
DESCRIPTION:Predmet: Analiza 1 (MAT-1\, PM-1)\, Vaje (V)\, [1]\nLetniki: 1
 . letnik (M)\, 1. letnik (PM)\nIzvajalci: Jure Kališnik\nProstor: 2.01
LOCATION:2.01
ORGANIZER:Jure Kališnik
RELATED-TO:fmf-AFLABS-URNIK:srecanje:3997
X-WR-TIMEZONE:Europe/Ljubljana
END:VEVENT
BEGIN:VEVENT
SUMMARY:Analiza 1 (MAT-1\, PM-1)\, Vaje (V)\, [1]
DTSTART;TZID=Europe/Ljubljana:20200304T090000
DTEND;TZID=Europe/Ljubljana:20200304T100000
DTSTAMP:20260423T145436Z
UID:fmf-AFLABS-URNIK:premaknjeno-srecanje:5253
ATTENDEE:1. letnik (M)
ATTENDEE:1. letnik (PM)
CATEGORIES:Entry,Standard
COLOR:darkgreen
DESCRIPTION:Predmet: Analiza 1 (MAT-1\, PM-1)\, Vaje (V)\, [1]\nLetniki: 1
 . letnik (M)\, 1. letnik (PM)\nIzvajalci: Jure Kališnik\nProstor: 2.01
LOCATION:2.01
ORGANIZER:Jure Kališnik
RELATED-TO:fmf-AFLABS-URNIK:srecanje:3997
X-WR-TIMEZONE:Europe/Ljubljana
END:VEVENT
BEGIN:VEVENT
SUMMARY:Analiza 1 (MAT-1\, PM-1)\, Vaje (V)\, [1]
DTSTART;TZID=Europe/Ljubljana:20200311T090000
DTEND;TZID=Europe/Ljubljana:20200311T100000
DTSTAMP:20260423T145436Z
UID:fmf-AFLABS-URNIK:premaknjeno-srecanje:5254
ATTENDEE:1. letnik (M)
ATTENDEE:1. letnik (PM)
CATEGORIES:Entry,Standard
COLOR:darkgreen
DESCRIPTION:Predmet: Analiza 1 (MAT-1\, PM-1)\, Vaje (V)\, [1]\nLetniki: 1
 . letnik (M)\, 1. letnik (PM)\nIzvajalci: Jure Kališnik\nProstor: 2.01
LOCATION:2.01
ORGANIZER:Jure Kališnik
RELATED-TO:fmf-AFLABS-URNIK:srecanje:3997
X-WR-TIMEZONE:Europe/Ljubljana
END:VEVENT
BEGIN:VEVENT
SUMMARY:Matematika II (FIZ-1)\, Vaje (V)\, [2]
DTSTART;TZID=Europe/Ljubljana:20200219T140000
DTEND;TZID=Europe/Ljubljana:20200219T160000
DTSTAMP:20260423T145436Z
UID:fmf-AFLABS-URNIK:premaknjeno-srecanje:65463
ATTENDEE:1. letnik (Fizika, 1. stopnja)
CATEGORIES:Entry,Standard
COLOR:darkgreen
DESCRIPTION:Predmet: Matematika II (FIZ-1)\, Vaje (V)\, [2]\nLetniki: 1. l
 etnik (Fizika\, 1. stopnja)\nIzvajalci: Jure Kališnik\nProstor: P.01
LOCATION:P.01
ORGANIZER:Jure Kališnik
RELATED-TO:fmf-AFLABS-URNIK:srecanje:4267
X-WR-TIMEZONE:Europe/Ljubljana
END:VEVENT
BEGIN:VEVENT
SUMMARY:Matematika II (FIZ-1)\, Vaje (V)\, [2]
DTSTART;TZID=Europe/Ljubljana:20200226T140000
DTEND;TZID=Europe/Ljubljana:20200226T160000
DTSTAMP:20260423T145436Z
UID:fmf-AFLABS-URNIK:premaknjeno-srecanje:65464
ATTENDEE:1. letnik (Fizika, 1. stopnja)
CATEGORIES:Entry,Standard
COLOR:darkgreen
DESCRIPTION:Predmet: Matematika II (FIZ-1)\, Vaje (V)\, [2]\nLetniki: 1. l
 etnik (Fizika\, 1. stopnja)\nIzvajalci: Jure Kališnik\nProstor: P.01
LOCATION:P.01
ORGANIZER:Jure Kališnik
RELATED-TO:fmf-AFLABS-URNIK:srecanje:4267
X-WR-TIMEZONE:Europe/Ljubljana
END:VEVENT
BEGIN:VEVENT
SUMMARY:Matematika II (FIZ-1)\, Vaje (V)\, [2]
DTSTART;TZID=Europe/Ljubljana:20200304T140000
DTEND;TZID=Europe/Ljubljana:20200304T160000
DTSTAMP:20260423T145436Z
UID:fmf-AFLABS-URNIK:premaknjeno-srecanje:65465
ATTENDEE:1. letnik (Fizika, 1. stopnja)
CATEGORIES:Entry,Standard
COLOR:darkgreen
DESCRIPTION:Predmet: Matematika II (FIZ-1)\, Vaje (V)\, [2]\nLetniki: 1. l
 etnik (Fizika\, 1. stopnja)\nIzvajalci: Jure Kališnik\nProstor: P.01
LOCATION:P.01
ORGANIZER:Jure Kališnik
RELATED-TO:fmf-AFLABS-URNIK:srecanje:4267
X-WR-TIMEZONE:Europe/Ljubljana
END:VEVENT
BEGIN:VEVENT
SUMMARY:Matematika II (FIZ-1)\, Vaje (V)\, [2]
DTSTART;TZID=Europe/Ljubljana:20200311T140000
DTEND;TZID=Europe/Ljubljana:20200311T160000
DTSTAMP:20260423T145436Z
UID:fmf-AFLABS-URNIK:premaknjeno-srecanje:65466
ATTENDEE:1. letnik (Fizika, 1. stopnja)
CATEGORIES:Entry,Standard
COLOR:darkgreen
DESCRIPTION:Predmet: Matematika II (FIZ-1)\, Vaje (V)\, [2]\nLetniki: 1. l
 etnik (Fizika\, 1. stopnja)\nIzvajalci: Jure Kališnik\nProstor: P.01
LOCATION:P.01
ORGANIZER:Jure Kališnik
RELATED-TO:fmf-AFLABS-URNIK:srecanje:4267
X-WR-TIMEZONE:Europe/Ljubljana
END:VEVENT
BEGIN:VEVENT
SUMMARY:Proseminar B (MAT-1)\, Vaje (V)
DTSTART;TZID=Europe/Ljubljana:20200219T120000
DTEND;TZID=Europe/Ljubljana:20200219T140000
DTSTAMP:20260423T145436Z
UID:fmf-AFLABS-URNIK:premaknjeno-srecanje:89385
ATTENDEE:1. letnik (M)
CATEGORIES:Entry,Standard
COLOR:darkgreen
DESCRIPTION:Predmet: Proseminar B (MAT-1)\, Vaje (V)\nLetniki: 1. letnik (
 M)\nIzvajalci: Jure Kališnik\nProstor: 2.05
LOCATION:2.05
ORGANIZER:Jure Kališnik
RELATED-TO:fmf-AFLABS-URNIK:srecanje:4387
X-WR-TIMEZONE:Europe/Ljubljana
END:VEVENT
BEGIN:VEVENT
SUMMARY:Proseminar B (MAT-1)\, Vaje (V)
DTSTART;TZID=Europe/Ljubljana:20200226T120000
DTEND;TZID=Europe/Ljubljana:20200226T140000
DTSTAMP:20260423T145436Z
UID:fmf-AFLABS-URNIK:premaknjeno-srecanje:89386
ATTENDEE:1. letnik (M)
CATEGORIES:Entry,Standard
COLOR:darkgreen
DESCRIPTION:Predmet: Proseminar B (MAT-1)\, Vaje (V)\nLetniki: 1. letnik (
 M)\nIzvajalci: Jure Kališnik\nProstor: 2.05
LOCATION:2.05
ORGANIZER:Jure Kališnik
RELATED-TO:fmf-AFLABS-URNIK:srecanje:4387
X-WR-TIMEZONE:Europe/Ljubljana
END:VEVENT
BEGIN:VEVENT
SUMMARY:Proseminar B (MAT-1)\, Vaje (V)
DTSTART;TZID=Europe/Ljubljana:20200304T120000
DTEND;TZID=Europe/Ljubljana:20200304T140000
DTSTAMP:20260423T145436Z
UID:fmf-AFLABS-URNIK:premaknjeno-srecanje:89387
ATTENDEE:1. letnik (M)
CATEGORIES:Entry,Standard
COLOR:darkgreen
DESCRIPTION:Predmet: Proseminar B (MAT-1)\, Vaje (V)\nLetniki: 1. letnik (
 M)\nIzvajalci: Jure Kališnik\nProstor: 2.05
LOCATION:2.05
ORGANIZER:Jure Kališnik
RELATED-TO:fmf-AFLABS-URNIK:srecanje:4387
X-WR-TIMEZONE:Europe/Ljubljana
END:VEVENT
BEGIN:VEVENT
SUMMARY:Proseminar B (MAT-1)\, Vaje (V)
DTSTART;TZID=Europe/Ljubljana:20200311T120000
DTEND;TZID=Europe/Ljubljana:20200311T140000
DTSTAMP:20260423T145436Z
UID:fmf-AFLABS-URNIK:premaknjeno-srecanje:89388
ATTENDEE:1. letnik (M)
CATEGORIES:Entry,Standard
COLOR:darkgreen
DESCRIPTION:Predmet: Proseminar B (MAT-1)\, Vaje (V)\nLetniki: 1. letnik (
 M)\nIzvajalci: Jure Kališnik\nProstor: 2.05
LOCATION:2.05
ORGANIZER:Jure Kališnik
RELATED-TO:fmf-AFLABS-URNIK:srecanje:4387
X-WR-TIMEZONE:Europe/Ljubljana
END:VEVENT
BEGIN:VEVENT
SUMMARY:Afina in projektivna geometrija (FM-3\, IŠRM-3\, MAT-2\, PM-2)\, 
 Vaje (V)
DTSTART;TZID=Europe/Ljubljana:20200220T160000
DTEND;TZID=Europe/Ljubljana:20200220T180000
DTSTAMP:20260423T145436Z
UID:fmf-AFLABS-URNIK:premaknjeno-srecanje:669
ATTENDEE:2. letnik (M)
ATTENDEE:2. letnik (PM)
ATTENDEE:3. letnik (FM)
ATTENDEE:3. letnik (IŠRM)
CATEGORIES:Entry,Standard
COLOR:darkgreen
DESCRIPTION:Predmet: Afina in projektivna geometrija (FM-3\, IŠRM-3\, MAT
 -2\, PM-2)\, Vaje (V)\nLetniki: 3. letnik (FM)\, 3. letnik (IŠRM)\, 2. le
 tnik (M)\, 2. letnik (PM)\nIzvajalci: Jure Kališnik\nProstor: 3.07
LOCATION:3.07
ORGANIZER:Jure Kališnik
RELATED-TO:fmf-AFLABS-URNIK:srecanje:3973
X-WR-TIMEZONE:Europe/Ljubljana
END:VEVENT
BEGIN:VEVENT
SUMMARY:Afina in projektivna geometrija (FM-3\, IŠRM-3\, MAT-2\, PM-2)\, 
 Vaje (V)
DTSTART;TZID=Europe/Ljubljana:20200227T160000
DTEND;TZID=Europe/Ljubljana:20200227T180000
DTSTAMP:20260423T145436Z
UID:fmf-AFLABS-URNIK:premaknjeno-srecanje:670
ATTENDEE:2. letnik (M)
ATTENDEE:2. letnik (PM)
ATTENDEE:3. letnik (FM)
ATTENDEE:3. letnik (IŠRM)
CATEGORIES:Entry,Standard
COLOR:darkgreen
DESCRIPTION:Predmet: Afina in projektivna geometrija (FM-3\, IŠRM-3\, MAT
 -2\, PM-2)\, Vaje (V)\nLetniki: 3. letnik (FM)\, 3. letnik (IŠRM)\, 2. le
 tnik (M)\, 2. letnik (PM)\nIzvajalci: Jure Kališnik\nProstor: 3.07
LOCATION:3.07
ORGANIZER:Jure Kališnik
RELATED-TO:fmf-AFLABS-URNIK:srecanje:3973
X-WR-TIMEZONE:Europe/Ljubljana
END:VEVENT
BEGIN:VEVENT
SUMMARY:Afina in projektivna geometrija (FM-3\, IŠRM-3\, MAT-2\, PM-2)\, 
 Vaje (V)
DTSTART;TZID=Europe/Ljubljana:20200305T160000
DTEND;TZID=Europe/Ljubljana:20200305T180000
DTSTAMP:20260423T145436Z
UID:fmf-AFLABS-URNIK:premaknjeno-srecanje:671
ATTENDEE:2. letnik (M)
ATTENDEE:2. letnik (PM)
ATTENDEE:3. letnik (FM)
ATTENDEE:3. letnik (IŠRM)
CATEGORIES:Entry,Standard
COLOR:darkgreen
DESCRIPTION:Predmet: Afina in projektivna geometrija (FM-3\, IŠRM-3\, MAT
 -2\, PM-2)\, Vaje (V)\nLetniki: 3. letnik (FM)\, 3. letnik (IŠRM)\, 2. le
 tnik (M)\, 2. letnik (PM)\nIzvajalci: Jure Kališnik\nProstor: 3.07
LOCATION:3.07
ORGANIZER:Jure Kališnik
RELATED-TO:fmf-AFLABS-URNIK:srecanje:3973
X-WR-TIMEZONE:Europe/Ljubljana
END:VEVENT
BEGIN:VEVENT
SUMMARY:Afina in projektivna geometrija (FM-3\, IŠRM-3\, MAT-2\, PM-2)\, 
 Vaje (V)
DTSTART;TZID=Europe/Ljubljana:20200312T160000
DTEND;TZID=Europe/Ljubljana:20200312T180000
DTSTAMP:20260423T145436Z
UID:fmf-AFLABS-URNIK:premaknjeno-srecanje:672
ATTENDEE:2. letnik (M)
ATTENDEE:2. letnik (PM)
ATTENDEE:3. letnik (FM)
ATTENDEE:3. letnik (IŠRM)
CATEGORIES:Entry,Standard
COLOR:darkgreen
DESCRIPTION:Predmet: Afina in projektivna geometrija (FM-3\, IŠRM-3\, MAT
 -2\, PM-2)\, Vaje (V)\nLetniki: 3. letnik (FM)\, 3. letnik (IŠRM)\, 2. le
 tnik (M)\, 2. letnik (PM)\nIzvajalci: Jure Kališnik\nProstor: 3.07
LOCATION:3.07
ORGANIZER:Jure Kališnik
RELATED-TO:fmf-AFLABS-URNIK:srecanje:3973
X-WR-TIMEZONE:Europe/Ljubljana
END:VEVENT
BEGIN:VEVENT
SUMMARY:Analiza 1 (MAT-1\, PM-1)\, Vaje (V)\, [1]
DTSTART;TZID=Europe/Ljubljana:20200220T120000
DTEND;TZID=Europe/Ljubljana:20200220T150000
DTSTAMP:20260423T145436Z
UID:fmf-AFLABS-URNIK:premaknjeno-srecanje:5544
ATTENDEE:1. letnik (M)
ATTENDEE:1. letnik (PM)
CATEGORIES:Entry,Standard
COLOR:darkgreen
DESCRIPTION:Predmet: Analiza 1 (MAT-1\, PM-1)\, Vaje (V)\, [1]\nLetniki: 1
 . letnik (M)\, 1. letnik (PM)\nIzvajalci: Jure Kališnik\nProstor: 2.05
LOCATION:2.05
ORGANIZER:Jure Kališnik
RELATED-TO:fmf-AFLABS-URNIK:srecanje:3998
X-WR-TIMEZONE:Europe/Ljubljana
END:VEVENT
BEGIN:VEVENT
SUMMARY:Analiza 1 (MAT-1\, PM-1)\, Vaje (V)\, [1]
DTSTART;TZID=Europe/Ljubljana:20200227T120000
DTEND;TZID=Europe/Ljubljana:20200227T150000
DTSTAMP:20260423T145436Z
UID:fmf-AFLABS-URNIK:premaknjeno-srecanje:5545
ATTENDEE:1. letnik (M)
ATTENDEE:1. letnik (PM)
CATEGORIES:Entry,Standard
COLOR:darkgreen
DESCRIPTION:Predmet: Analiza 1 (MAT-1\, PM-1)\, Vaje (V)\, [1]\nLetniki: 1
 . letnik (M)\, 1. letnik (PM)\nIzvajalci: Jure Kališnik\nProstor: 2.05
LOCATION:2.05
ORGANIZER:Jure Kališnik
RELATED-TO:fmf-AFLABS-URNIK:srecanje:3998
X-WR-TIMEZONE:Europe/Ljubljana
END:VEVENT
BEGIN:VEVENT
SUMMARY:Analiza 1 (MAT-1\, PM-1)\, Vaje (V)\, [1]
DTSTART;TZID=Europe/Ljubljana:20200305T120000
DTEND;TZID=Europe/Ljubljana:20200305T150000
DTSTAMP:20260423T145436Z
UID:fmf-AFLABS-URNIK:premaknjeno-srecanje:5546
ATTENDEE:1. letnik (M)
ATTENDEE:1. letnik (PM)
CATEGORIES:Entry,Standard
COLOR:darkgreen
DESCRIPTION:Predmet: Analiza 1 (MAT-1\, PM-1)\, Vaje (V)\, [1]\nLetniki: 1
 . letnik (M)\, 1. letnik (PM)\nIzvajalci: Jure Kališnik\nProstor: 2.05
LOCATION:2.05
ORGANIZER:Jure Kališnik
RELATED-TO:fmf-AFLABS-URNIK:srecanje:3998
X-WR-TIMEZONE:Europe/Ljubljana
END:VEVENT
BEGIN:VEVENT
SUMMARY:Analiza 1 (MAT-1\, PM-1)\, Vaje (V)\, [1]
DTSTART;TZID=Europe/Ljubljana:20200312T120000
DTEND;TZID=Europe/Ljubljana:20200312T150000
DTSTAMP:20260423T145436Z
UID:fmf-AFLABS-URNIK:premaknjeno-srecanje:5547
ATTENDEE:1. letnik (M)
ATTENDEE:1. letnik (PM)
CATEGORIES:Entry,Standard
COLOR:darkgreen
DESCRIPTION:Predmet: Analiza 1 (MAT-1\, PM-1)\, Vaje (V)\, [1]\nLetniki: 1
 . letnik (M)\, 1. letnik (PM)\nIzvajalci: Jure Kališnik\nProstor: 2.05
LOCATION:2.05
ORGANIZER:Jure Kališnik
RELATED-TO:fmf-AFLABS-URNIK:srecanje:3998
X-WR-TIMEZONE:Europe/Ljubljana
END:VEVENT
BEGIN:VEVENT
SUMMARY:Izbrana poglavja iz matematike (IŠRM-2)\, Vaje (V)
DTSTART;TZID=Europe/Ljubljana:20200221T100000
DTEND;TZID=Europe/Ljubljana:20200221T120000
DTSTAMP:20260423T145436Z
UID:fmf-AFLABS-URNIK:premaknjeno-srecanje:43546
ATTENDEE:2. letnik (IŠRM)
CATEGORIES:Entry,Standard
COLOR:darkgreen
DESCRIPTION:Predmet: Izbrana poglavja iz matematike (IŠRM-2)\, Vaje (V)\n
 Letniki: 2. letnik (IŠRM)\nIzvajalci: Jure Kališnik\nProstor: 2.04
LOCATION:2.04
ORGANIZER:Jure Kališnik
RELATED-TO:fmf-AFLABS-URNIK:srecanje:4173
X-WR-TIMEZONE:Europe/Ljubljana
END:VEVENT
BEGIN:VEVENT
SUMMARY:Izbrana poglavja iz matematike (IŠRM-2)\, Vaje (V)
DTSTART;TZID=Europe/Ljubljana:20200228T100000
DTEND;TZID=Europe/Ljubljana:20200228T120000
DTSTAMP:20260423T145436Z
UID:fmf-AFLABS-URNIK:premaknjeno-srecanje:43547
ATTENDEE:2. letnik (IŠRM)
CATEGORIES:Entry,Standard
COLOR:darkgreen
DESCRIPTION:Predmet: Izbrana poglavja iz matematike (IŠRM-2)\, Vaje (V)\n
 Letniki: 2. letnik (IŠRM)\nIzvajalci: Jure Kališnik\nProstor: 2.04
LOCATION:2.04
ORGANIZER:Jure Kališnik
RELATED-TO:fmf-AFLABS-URNIK:srecanje:4173
X-WR-TIMEZONE:Europe/Ljubljana
END:VEVENT
BEGIN:VEVENT
SUMMARY:Izbrana poglavja iz matematike (IŠRM-2)\, Vaje (V)
DTSTART;TZID=Europe/Ljubljana:20200306T100000
DTEND;TZID=Europe/Ljubljana:20200306T120000
DTSTAMP:20260423T145436Z
UID:fmf-AFLABS-URNIK:premaknjeno-srecanje:43548
ATTENDEE:2. letnik (IŠRM)
CATEGORIES:Entry,Standard
COLOR:darkgreen
DESCRIPTION:Predmet: Izbrana poglavja iz matematike (IŠRM-2)\, Vaje (V)\n
 Letniki: 2. letnik (IŠRM)\nIzvajalci: Jure Kališnik\nProstor: 2.04
LOCATION:2.04
ORGANIZER:Jure Kališnik
RELATED-TO:fmf-AFLABS-URNIK:srecanje:4173
X-WR-TIMEZONE:Europe/Ljubljana
END:VEVENT
BEGIN:VEVENT
SUMMARY:Izbrana poglavja iz matematike (IŠRM-2)\, Vaje (V)
DTSTART;TZID=Europe/Ljubljana:20200313T100000
DTEND;TZID=Europe/Ljubljana:20200313T120000
DTSTAMP:20260423T145436Z
UID:fmf-AFLABS-URNIK:premaknjeno-srecanje:43549
ATTENDEE:2. letnik (IŠRM)
CATEGORIES:Entry,Standard
COLOR:darkgreen
DESCRIPTION:Predmet: Izbrana poglavja iz matematike (IŠRM-2)\, Vaje (V)\n
 Letniki: 2. letnik (IŠRM)\nIzvajalci: Jure Kališnik\nProstor: 2.04
LOCATION:2.04
ORGANIZER:Jure Kališnik
RELATED-TO:fmf-AFLABS-URNIK:srecanje:4173
X-WR-TIMEZONE:Europe/Ljubljana
END:VEVENT
BEGIN:VEVENT
SUMMARY:Rezervacija
DTSTART;TZID=Europe/Ljubljana:20200115T080000
DTEND;TZID=Europe/Ljubljana:20200115T100000
DTSTAMP:20260423T145436Z
UID:fmf-AFLABS-URNIK:rezervacija:4805
CATEGORIES:Reservation
COLOR:royalblue
DESCRIPTION:Predmeti: \nLetniki: \nIzvajalci: Jure Kališnik\nProstori: 2.
 01
LOCATION:2.01
ORGANIZER:Jure Kališnik
X-WR-TIMEZONE:Europe/Ljubljana
END:VEVENT
BEGIN:VEVENT
SUMMARY:Rezervacija
DTSTART;TZID=Europe/Ljubljana:20200123T100000
DTEND;TZID=Europe/Ljubljana:20200123T130000
DTSTAMP:20260423T145436Z
UID:fmf-AFLABS-URNIK:rezervacija:4907
CATEGORIES:Reservation
COLOR:royalblue
DESCRIPTION:Predmeti: \nLetniki: \nIzvajalci: Jure Kališnik\nProstori: F1
 \, VFP
LOCATION:F1\, VFP
ORGANIZER:Jure Kališnik
X-WR-TIMEZONE:Europe/Ljubljana
END:VEVENT
BEGIN:VEVENT
SUMMARY:Rezervacija
DTSTART;TZID=Europe/Ljubljana:20200123T160000
DTEND;TZID=Europe/Ljubljana:20200123T190000
DTSTAMP:20260423T145436Z
UID:fmf-AFLABS-URNIK:rezervacija:4918
CATEGORIES:Reservation
COLOR:royalblue
DESCRIPTION:Predmeti: \nLetniki: \nIzvajalci: Jure Kališnik\nProstori: 2.
 01
LOCATION:2.01
ORGANIZER:Jure Kališnik
X-WR-TIMEZONE:Europe/Ljubljana
END:VEVENT
BEGIN:VEVENT
SUMMARY:Rezervacija
DTSTART;TZID=Europe/Ljubljana:20200130T100000
DTEND;TZID=Europe/Ljubljana:20200130T120000
DTSTAMP:20260423T145436Z
UID:fmf-AFLABS-URNIK:rezervacija:4983
CATEGORIES:Reservation
COLOR:royalblue
DESCRIPTION:Predmeti: \nLetniki: \nIzvajalci: Jure Kališnik\nProstori: 2.
 03
LOCATION:2.03
ORGANIZER:Jure Kališnik
X-WR-TIMEZONE:Europe/Ljubljana
END:VEVENT
END:VCALENDAR
