BEGIN:VCALENDAR
VERSION:2.0
PRODID:-//AFLabs urnik izvoz - fmf//aflabs.si//SI
DTSTAMP:20260423T022132Z
NAME:UL FMF urnik
REFRESH-INTERVAL:PT1H
SOURCE:https://urnik.fmf.uni-lj.si/teacher/217?day=2021-02-01&export=1
URL:https://urnik.fmf.uni-lj.si/teacher/217?day=2021-02-01&export=1
X-PUBLISHED-TTL:PT1H
X-WR-CALNAME:UL FMF urnik
X-WR-TIMEZONE:Europe/Ljubljana
BEGIN:VTIMEZONE
TZID:Europe/Ljubljana
BEGIN:DAYLIGHT
DTSTART:20260329T020000
RDATE:20260329T020000
RDATE:20270328T020000
TZNAME:CEST
TZOFFSETFROM:+0100
TZOFFSETTO:+0200
END:DAYLIGHT
BEGIN:STANDARD
DTSTART:20261025T030000
RDATE:20261025T030000
RDATE:20271031T030000
TZNAME:CET
TZOFFSETFROM:+0200
TZOFFSETTO:+0100
END:STANDARD
END:VTIMEZONE
BEGIN:VEVENT
SUMMARY:Analiza 1 (MAT-1\, PM-1)\, Vaje (V)\, [2]
DTSTART;TZID=Europe/Ljubljana:20201230T120000
DTEND;TZID=Europe/Ljubljana:20201230T140000
DTSTAMP:20260423T022132Z
UID:fmf-AFLABS-URNIK:premaknjeno-srecanje:5903
ATTENDEE:1. letnik (M)
ATTENDEE:1. letnik (PM)
CATEGORIES:Entry,Standard
COLOR:darkgreen
DESCRIPTION:Predmet: Analiza 1 (MAT-1\, PM-1)\, Vaje (V)\, [2]\nLetniki: 1
 . letnik (M)\, 1. letnik (PM)\nIzvajalci: Jure Kališnik\nProstor: Na dalj
 avo
LOCATION:Na daljavo
ORGANIZER:Jure Kališnik
RELATED-TO:fmf-AFLABS-URNIK:srecanje:4673
X-WR-TIMEZONE:Europe/Ljubljana
END:VEVENT
BEGIN:VEVENT
SUMMARY:Analiza 1 (MAT-1\, PM-1)\, Vaje (V)\, [2]
DTSTART;TZID=Europe/Ljubljana:20210106T120000
DTEND;TZID=Europe/Ljubljana:20210106T140000
DTSTAMP:20260423T022132Z
UID:fmf-AFLABS-URNIK:premaknjeno-srecanje:5904
ATTENDEE:1. letnik (M)
ATTENDEE:1. letnik (PM)
CATEGORIES:Entry,Standard
COLOR:darkgreen
DESCRIPTION:Predmet: Analiza 1 (MAT-1\, PM-1)\, Vaje (V)\, [2]\nLetniki: 1
 . letnik (M)\, 1. letnik (PM)\nIzvajalci: Jure Kališnik\nProstor: Na dalj
 avo
LOCATION:Na daljavo
ORGANIZER:Jure Kališnik
RELATED-TO:fmf-AFLABS-URNIK:srecanje:4673
X-WR-TIMEZONE:Europe/Ljubljana
END:VEVENT
BEGIN:VEVENT
SUMMARY:Analiza 1 (MAT-1\, PM-1)\, Vaje (V)\, [2]
DTSTART;TZID=Europe/Ljubljana:20210113T120000
DTEND;TZID=Europe/Ljubljana:20210113T140000
DTSTAMP:20260423T022132Z
UID:fmf-AFLABS-URNIK:premaknjeno-srecanje:5905
ATTENDEE:1. letnik (M)
ATTENDEE:1. letnik (PM)
CATEGORIES:Entry,Standard
COLOR:darkgreen
DESCRIPTION:Predmet: Analiza 1 (MAT-1\, PM-1)\, Vaje (V)\, [2]\nLetniki: 1
 . letnik (M)\, 1. letnik (PM)\nIzvajalci: Jure Kališnik\nProstor: Na dalj
 avo
LOCATION:Na daljavo
ORGANIZER:Jure Kališnik
RELATED-TO:fmf-AFLABS-URNIK:srecanje:4673
X-WR-TIMEZONE:Europe/Ljubljana
END:VEVENT
BEGIN:VEVENT
SUMMARY:Elementarna geometrija (MAT-3)\, Vaje (V)
DTSTART;TZID=Europe/Ljubljana:20201230T140000
DTEND;TZID=Europe/Ljubljana:20201230T160000
DTSTAMP:20260423T022132Z
UID:fmf-AFLABS-URNIK:premaknjeno-srecanje:19525
ATTENDEE:3. letnik (M)
CATEGORIES:Entry,Standard
COLOR:darkgreen
DESCRIPTION:Predmet: Elementarna geometrija (MAT-3)\, Vaje (V)\nLetniki: 3
 . letnik (M)\nIzvajalci: Jure Kališnik\nProstor: 2.04
LOCATION:2.04
ORGANIZER:Jure Kališnik
RELATED-TO:fmf-AFLABS-URNIK:srecanje:4731
X-WR-TIMEZONE:Europe/Ljubljana
END:VEVENT
BEGIN:VEVENT
SUMMARY:Elementarna geometrija (MAT-3)\, Vaje (V)
DTSTART;TZID=Europe/Ljubljana:20210106T140000
DTEND;TZID=Europe/Ljubljana:20210106T160000
DTSTAMP:20260423T022132Z
UID:fmf-AFLABS-URNIK:premaknjeno-srecanje:19526
ATTENDEE:3. letnik (M)
CATEGORIES:Entry,Standard
COLOR:darkgreen
DESCRIPTION:Predmet: Elementarna geometrija (MAT-3)\, Vaje (V)\nLetniki: 3
 . letnik (M)\nIzvajalci: Jure Kališnik\nProstor: 2.04
LOCATION:2.04
ORGANIZER:Jure Kališnik
RELATED-TO:fmf-AFLABS-URNIK:srecanje:4731
X-WR-TIMEZONE:Europe/Ljubljana
END:VEVENT
BEGIN:VEVENT
SUMMARY:Elementarna geometrija (MAT-3)\, Vaje (V)
DTSTART;TZID=Europe/Ljubljana:20210113T140000
DTEND;TZID=Europe/Ljubljana:20210113T160000
DTSTAMP:20260423T022132Z
UID:fmf-AFLABS-URNIK:premaknjeno-srecanje:19527
ATTENDEE:3. letnik (M)
CATEGORIES:Entry,Standard
COLOR:darkgreen
DESCRIPTION:Predmet: Elementarna geometrija (MAT-3)\, Vaje (V)\nLetniki: 3
 . letnik (M)\nIzvajalci: Jure Kališnik\nProstor: 2.04
LOCATION:2.04
ORGANIZER:Jure Kališnik
RELATED-TO:fmf-AFLABS-URNIK:srecanje:4731
X-WR-TIMEZONE:Europe/Ljubljana
END:VEVENT
BEGIN:VEVENT
SUMMARY:Analiza 1 (MAT-1\, PM-1)\, Vaje (V)\, [2]
DTSTART;TZID=Europe/Ljubljana:20201231T120000
DTEND;TZID=Europe/Ljubljana:20201231T140000
DTSTAMP:20260423T022132Z
UID:fmf-AFLABS-URNIK:premaknjeno-srecanje:6106
ATTENDEE:1. letnik (M)
ATTENDEE:1. letnik (PM)
CATEGORIES:Entry,Standard
COLOR:darkgreen
DESCRIPTION:Predmet: Analiza 1 (MAT-1\, PM-1)\, Vaje (V)\, [2]\nLetniki: 1
 . letnik (M)\, 1. letnik (PM)\nIzvajalci: Jure Kališnik\nProstor: Na dalj
 avo
LOCATION:Na daljavo
ORGANIZER:Jure Kališnik
RELATED-TO:fmf-AFLABS-URNIK:srecanje:4674
X-WR-TIMEZONE:Europe/Ljubljana
END:VEVENT
BEGIN:VEVENT
SUMMARY:Analiza 1 (MAT-1\, PM-1)\, Vaje (V)\, [2]
DTSTART;TZID=Europe/Ljubljana:20210107T120000
DTEND;TZID=Europe/Ljubljana:20210107T140000
DTSTAMP:20260423T022132Z
UID:fmf-AFLABS-URNIK:premaknjeno-srecanje:6107
ATTENDEE:1. letnik (M)
ATTENDEE:1. letnik (PM)
CATEGORIES:Entry,Standard
COLOR:darkgreen
DESCRIPTION:Predmet: Analiza 1 (MAT-1\, PM-1)\, Vaje (V)\, [2]\nLetniki: 1
 . letnik (M)\, 1. letnik (PM)\nIzvajalci: Jure Kališnik\nProstor: Na dalj
 avo
LOCATION:Na daljavo
ORGANIZER:Jure Kališnik
RELATED-TO:fmf-AFLABS-URNIK:srecanje:4674
X-WR-TIMEZONE:Europe/Ljubljana
END:VEVENT
BEGIN:VEVENT
SUMMARY:Analiza 1 (MAT-1\, PM-1)\, Vaje (V)\, [2]
DTSTART;TZID=Europe/Ljubljana:20210114T120000
DTEND;TZID=Europe/Ljubljana:20210114T140000
DTSTAMP:20260423T022132Z
UID:fmf-AFLABS-URNIK:premaknjeno-srecanje:6108
ATTENDEE:1. letnik (M)
ATTENDEE:1. letnik (PM)
CATEGORIES:Entry,Standard
COLOR:darkgreen
DESCRIPTION:Predmet: Analiza 1 (MAT-1\, PM-1)\, Vaje (V)\, [2]\nLetniki: 1
 . letnik (M)\, 1. letnik (PM)\nIzvajalci: Jure Kališnik\nProstor: Na dalj
 avo
LOCATION:Na daljavo
ORGANIZER:Jure Kališnik
RELATED-TO:fmf-AFLABS-URNIK:srecanje:4674
X-WR-TIMEZONE:Europe/Ljubljana
END:VEVENT
BEGIN:VEVENT
SUMMARY:Matematika I (FIZ-1)\, Vaje (V)\, [1]
DTSTART;TZID=Europe/Ljubljana:20201231T100000
DTEND;TZID=Europe/Ljubljana:20201231T120000
DTSTAMP:20260423T022132Z
UID:fmf-AFLABS-URNIK:premaknjeno-srecanje:64727
ATTENDEE:1. letnik (Fizika, 1. stopnja)
CATEGORIES:Entry,Standard
COLOR:darkgreen
DESCRIPTION:Predmet: Matematika I (FIZ-1)\, Vaje (V)\, [1]\nLetniki: 1. le
 tnik (Fizika\, 1. stopnja)\nIzvajalci: Jure Kališnik\nProstor: Na daljavo
LOCATION:Na daljavo
ORGANIZER:Jure Kališnik
RELATED-TO:fmf-AFLABS-URNIK:srecanje:5356
X-WR-TIMEZONE:Europe/Ljubljana
END:VEVENT
BEGIN:VEVENT
SUMMARY:Matematika I (FIZ-1)\, Vaje (V)\, [1]
DTSTART;TZID=Europe/Ljubljana:20210107T100000
DTEND;TZID=Europe/Ljubljana:20210107T120000
DTSTAMP:20260423T022132Z
UID:fmf-AFLABS-URNIK:premaknjeno-srecanje:64728
ATTENDEE:1. letnik (Fizika, 1. stopnja)
CATEGORIES:Entry,Standard
COLOR:darkgreen
DESCRIPTION:Predmet: Matematika I (FIZ-1)\, Vaje (V)\, [1]\nLetniki: 1. le
 tnik (Fizika\, 1. stopnja)\nIzvajalci: Jure Kališnik\nProstor: Na daljavo
LOCATION:Na daljavo
ORGANIZER:Jure Kališnik
RELATED-TO:fmf-AFLABS-URNIK:srecanje:5356
X-WR-TIMEZONE:Europe/Ljubljana
END:VEVENT
BEGIN:VEVENT
SUMMARY:Matematika I (FIZ-1)\, Vaje (V)\, [1]
DTSTART;TZID=Europe/Ljubljana:20210114T100000
DTEND;TZID=Europe/Ljubljana:20210114T120000
DTSTAMP:20260423T022132Z
UID:fmf-AFLABS-URNIK:premaknjeno-srecanje:64729
ATTENDEE:1. letnik (Fizika, 1. stopnja)
CATEGORIES:Entry,Standard
COLOR:darkgreen
DESCRIPTION:Predmet: Matematika I (FIZ-1)\, Vaje (V)\, [1]\nLetniki: 1. le
 tnik (Fizika\, 1. stopnja)\nIzvajalci: Jure Kališnik\nProstor: Na daljavo
LOCATION:Na daljavo
ORGANIZER:Jure Kališnik
RELATED-TO:fmf-AFLABS-URNIK:srecanje:5356
X-WR-TIMEZONE:Europe/Ljubljana
END:VEVENT
BEGIN:VEVENT
SUMMARY:Matematika I (FIZ-1)\, Vaje (V)\, [2]
DTSTART;TZID=Europe/Ljubljana:20210101T080000
DTEND;TZID=Europe/Ljubljana:20210101T100000
DTSTAMP:20260423T022132Z
UID:fmf-AFLABS-URNIK:premaknjeno-srecanje:65011
ATTENDEE:1. letnik (Fizika, 1. stopnja)
CATEGORIES:Entry,Standard
COLOR:darkgreen
DESCRIPTION:Predmet: Matematika I (FIZ-1)\, Vaje (V)\, [2]\nLetniki: 1. le
 tnik (Fizika\, 1. stopnja)\nIzvajalci: Jure Kališnik\nProstor: Na daljavo
LOCATION:Na daljavo
ORGANIZER:Jure Kališnik
RELATED-TO:fmf-AFLABS-URNIK:srecanje:4983
X-WR-TIMEZONE:Europe/Ljubljana
END:VEVENT
BEGIN:VEVENT
SUMMARY:Matematika I (FIZ-1)\, Vaje (V)\, [2]
DTSTART;TZID=Europe/Ljubljana:20210108T080000
DTEND;TZID=Europe/Ljubljana:20210108T100000
DTSTAMP:20260423T022132Z
UID:fmf-AFLABS-URNIK:premaknjeno-srecanje:65012
ATTENDEE:1. letnik (Fizika, 1. stopnja)
CATEGORIES:Entry,Standard
COLOR:darkgreen
DESCRIPTION:Predmet: Matematika I (FIZ-1)\, Vaje (V)\, [2]\nLetniki: 1. le
 tnik (Fizika\, 1. stopnja)\nIzvajalci: Jure Kališnik\nProstor: Na daljavo
LOCATION:Na daljavo
ORGANIZER:Jure Kališnik
RELATED-TO:fmf-AFLABS-URNIK:srecanje:4983
X-WR-TIMEZONE:Europe/Ljubljana
END:VEVENT
BEGIN:VEVENT
SUMMARY:Matematika I (FIZ-1)\, Vaje (V)\, [2]
DTSTART;TZID=Europe/Ljubljana:20210115T080000
DTEND;TZID=Europe/Ljubljana:20210115T100000
DTSTAMP:20260423T022132Z
UID:fmf-AFLABS-URNIK:premaknjeno-srecanje:65013
ATTENDEE:1. letnik (Fizika, 1. stopnja)
CATEGORIES:Entry,Standard
COLOR:darkgreen
DESCRIPTION:Predmet: Matematika I (FIZ-1)\, Vaje (V)\, [2]\nLetniki: 1. le
 tnik (Fizika\, 1. stopnja)\nIzvajalci: Jure Kališnik\nProstor: Na daljavo
LOCATION:Na daljavo
ORGANIZER:Jure Kališnik
RELATED-TO:fmf-AFLABS-URNIK:srecanje:4983
X-WR-TIMEZONE:Europe/Ljubljana
END:VEVENT
BEGIN:VEVENT
SUMMARY:Mehanika 1 (MAT-3\, PM-4)\, Vaje (V)
DTSTART;TZID=Europe/Ljubljana:20210101T100000
DTEND;TZID=Europe/Ljubljana:20210101T120000
DTSTAMP:20260423T022132Z
UID:fmf-AFLABS-URNIK:premaknjeno-srecanje:71211
ATTENDEE:3. letnik (M)
ATTENDEE:4. letnik (PM)
CATEGORIES:Entry,Standard
COLOR:darkgreen
DESCRIPTION:Predmet: Mehanika 1 (MAT-3\, PM-4)\, Vaje (V)\nLetniki: 3. let
 nik (M)\, 4. letnik (PM)\nIzvajalci: Jure Kališnik\nProstor: F2
LOCATION:F2
ORGANIZER:Jure Kališnik
RELATED-TO:fmf-AFLABS-URNIK:srecanje:5013
X-WR-TIMEZONE:Europe/Ljubljana
END:VEVENT
BEGIN:VEVENT
SUMMARY:Mehanika 1 (MAT-3\, PM-4)\, Vaje (V)
DTSTART;TZID=Europe/Ljubljana:20210108T100000
DTEND;TZID=Europe/Ljubljana:20210108T120000
DTSTAMP:20260423T022132Z
UID:fmf-AFLABS-URNIK:premaknjeno-srecanje:71212
ATTENDEE:3. letnik (M)
ATTENDEE:4. letnik (PM)
CATEGORIES:Entry,Standard
COLOR:darkgreen
DESCRIPTION:Predmet: Mehanika 1 (MAT-3\, PM-4)\, Vaje (V)\nLetniki: 3. let
 nik (M)\, 4. letnik (PM)\nIzvajalci: Jure Kališnik\nProstor: F2
LOCATION:F2
ORGANIZER:Jure Kališnik
RELATED-TO:fmf-AFLABS-URNIK:srecanje:5013
X-WR-TIMEZONE:Europe/Ljubljana
END:VEVENT
BEGIN:VEVENT
SUMMARY:Mehanika 1 (MAT-3\, PM-4)\, Vaje (V)
DTSTART;TZID=Europe/Ljubljana:20210115T100000
DTEND;TZID=Europe/Ljubljana:20210115T120000
DTSTAMP:20260423T022132Z
UID:fmf-AFLABS-URNIK:premaknjeno-srecanje:71213
ATTENDEE:3. letnik (M)
ATTENDEE:4. letnik (PM)
CATEGORIES:Entry,Standard
COLOR:darkgreen
DESCRIPTION:Predmet: Mehanika 1 (MAT-3\, PM-4)\, Vaje (V)\nLetniki: 3. let
 nik (M)\, 4. letnik (PM)\nIzvajalci: Jure Kališnik\nProstor: F2
LOCATION:F2
ORGANIZER:Jure Kališnik
RELATED-TO:fmf-AFLABS-URNIK:srecanje:5013
X-WR-TIMEZONE:Europe/Ljubljana
END:VEVENT
BEGIN:VEVENT
SUMMARY:Afina in projektivna geometrija (FM-3\, IŠRM-3\, MAT-2\, PM-2)\, 
 Vaje (V)
DTSTART;TZID=Europe/Ljubljana:20210215T140000
DTEND;TZID=Europe/Ljubljana:20210215T160000
DTSTAMP:20260423T022132Z
UID:fmf-AFLABS-URNIK:premaknjeno-srecanje:637
ATTENDEE:2. letnik (M)
ATTENDEE:2. letnik (PM)
ATTENDEE:3. letnik (FM)
ATTENDEE:3. letnik (IŠRM)
CATEGORIES:Entry,Standard
COLOR:darkgreen
DESCRIPTION:Predmet: Afina in projektivna geometrija (FM-3\, IŠRM-3\, MAT
 -2\, PM-2)\, Vaje (V)\nLetniki: 3. letnik (FM)\, 3. letnik (IŠRM)\, 2. le
 tnik (M)\, 2. letnik (PM)\nIzvajalci: Jure Kališnik\nProstor: Na daljavo
LOCATION:Na daljavo
ORGANIZER:Jure Kališnik
RELATED-TO:fmf-AFLABS-URNIK:srecanje:5433
X-WR-TIMEZONE:Europe/Ljubljana
END:VEVENT
BEGIN:VEVENT
SUMMARY:Afina in projektivna geometrija (FM-3\, IŠRM-3\, MAT-2\, PM-2)\, 
 Vaje (V)
DTSTART;TZID=Europe/Ljubljana:20210222T140000
DTEND;TZID=Europe/Ljubljana:20210222T160000
DTSTAMP:20260423T022132Z
UID:fmf-AFLABS-URNIK:premaknjeno-srecanje:638
ATTENDEE:2. letnik (M)
ATTENDEE:2. letnik (PM)
ATTENDEE:3. letnik (FM)
ATTENDEE:3. letnik (IŠRM)
CATEGORIES:Entry,Standard
COLOR:darkgreen
DESCRIPTION:Predmet: Afina in projektivna geometrija (FM-3\, IŠRM-3\, MAT
 -2\, PM-2)\, Vaje (V)\nLetniki: 3. letnik (FM)\, 3. letnik (IŠRM)\, 2. le
 tnik (M)\, 2. letnik (PM)\nIzvajalci: Jure Kališnik\nProstor: Na daljavo
LOCATION:Na daljavo
ORGANIZER:Jure Kališnik
RELATED-TO:fmf-AFLABS-URNIK:srecanje:5433
X-WR-TIMEZONE:Europe/Ljubljana
END:VEVENT
BEGIN:VEVENT
SUMMARY:Afina in projektivna geometrija (FM-3\, IŠRM-3\, MAT-2\, PM-2)\, 
 Vaje (V)
DTSTART;TZID=Europe/Ljubljana:20210301T140000
DTEND;TZID=Europe/Ljubljana:20210301T160000
DTSTAMP:20260423T022132Z
UID:fmf-AFLABS-URNIK:premaknjeno-srecanje:639
ATTENDEE:2. letnik (M)
ATTENDEE:2. letnik (PM)
ATTENDEE:3. letnik (FM)
ATTENDEE:3. letnik (IŠRM)
CATEGORIES:Entry,Standard
COLOR:darkgreen
DESCRIPTION:Predmet: Afina in projektivna geometrija (FM-3\, IŠRM-3\, MAT
 -2\, PM-2)\, Vaje (V)\nLetniki: 3. letnik (FM)\, 3. letnik (IŠRM)\, 2. le
 tnik (M)\, 2. letnik (PM)\nIzvajalci: Jure Kališnik\nProstor: Na daljavo
LOCATION:Na daljavo
ORGANIZER:Jure Kališnik
RELATED-TO:fmf-AFLABS-URNIK:srecanje:5433
X-WR-TIMEZONE:Europe/Ljubljana
END:VEVENT
BEGIN:VEVENT
SUMMARY:Afina in projektivna geometrija (FM-3\, IŠRM-3\, MAT-2\, PM-2)\, 
 Vaje (V)
DTSTART;TZID=Europe/Ljubljana:20210308T140000
DTEND;TZID=Europe/Ljubljana:20210308T160000
DTSTAMP:20260423T022132Z
UID:fmf-AFLABS-URNIK:premaknjeno-srecanje:640
ATTENDEE:2. letnik (M)
ATTENDEE:2. letnik (PM)
ATTENDEE:3. letnik (FM)
ATTENDEE:3. letnik (IŠRM)
CATEGORIES:Entry,Standard
COLOR:darkgreen
DESCRIPTION:Predmet: Afina in projektivna geometrija (FM-3\, IŠRM-3\, MAT
 -2\, PM-2)\, Vaje (V)\nLetniki: 3. letnik (FM)\, 3. letnik (IŠRM)\, 2. le
 tnik (M)\, 2. letnik (PM)\nIzvajalci: Jure Kališnik\nProstor: Na daljavo
LOCATION:Na daljavo
ORGANIZER:Jure Kališnik
RELATED-TO:fmf-AFLABS-URNIK:srecanje:5433
X-WR-TIMEZONE:Europe/Ljubljana
END:VEVENT
BEGIN:VEVENT
SUMMARY:Analiza 1 (MAT-1\, PM-1)\, Vaje (V)\, [1]
DTSTART;TZID=Europe/Ljubljana:20210217T120000
DTEND;TZID=Europe/Ljubljana:20210217T140000
DTSTAMP:20260423T022132Z
UID:fmf-AFLABS-URNIK:premaknjeno-srecanje:5297
ATTENDEE:1. letnik (M)
ATTENDEE:1. letnik (PM)
CATEGORIES:Entry,Standard
COLOR:darkgreen
DESCRIPTION:Predmet: Analiza 1 (MAT-1\, PM-1)\, Vaje (V)\, [1]\nLetniki: 1
 . letnik (M)\, 1. letnik (PM)\nIzvajalci: Jure Kališnik\nProstor: 2.05
LOCATION:2.05
ORGANIZER:Jure Kališnik
RELATED-TO:fmf-AFLABS-URNIK:srecanje:5451
X-WR-TIMEZONE:Europe/Ljubljana
END:VEVENT
BEGIN:VEVENT
SUMMARY:Analiza 1 (MAT-1\, PM-1)\, Vaje (V)\, [1]
DTSTART;TZID=Europe/Ljubljana:20210224T120000
DTEND;TZID=Europe/Ljubljana:20210224T140000
DTSTAMP:20260423T022132Z
UID:fmf-AFLABS-URNIK:premaknjeno-srecanje:5298
ATTENDEE:1. letnik (M)
ATTENDEE:1. letnik (PM)
CATEGORIES:Entry,Standard
COLOR:darkgreen
DESCRIPTION:Predmet: Analiza 1 (MAT-1\, PM-1)\, Vaje (V)\, [1]\nLetniki: 1
 . letnik (M)\, 1. letnik (PM)\nIzvajalci: Jure Kališnik\nProstor: 2.05
LOCATION:2.05
ORGANIZER:Jure Kališnik
RELATED-TO:fmf-AFLABS-URNIK:srecanje:5451
X-WR-TIMEZONE:Europe/Ljubljana
END:VEVENT
BEGIN:VEVENT
SUMMARY:Analiza 1 (MAT-1\, PM-1)\, Vaje (V)\, [1]
DTSTART;TZID=Europe/Ljubljana:20210303T120000
DTEND;TZID=Europe/Ljubljana:20210303T140000
DTSTAMP:20260423T022132Z
UID:fmf-AFLABS-URNIK:premaknjeno-srecanje:5299
ATTENDEE:1. letnik (M)
ATTENDEE:1. letnik (PM)
CATEGORIES:Entry,Standard
COLOR:darkgreen
DESCRIPTION:Predmet: Analiza 1 (MAT-1\, PM-1)\, Vaje (V)\, [1]\nLetniki: 1
 . letnik (M)\, 1. letnik (PM)\nIzvajalci: Jure Kališnik\nProstor: 2.05
LOCATION:2.05
ORGANIZER:Jure Kališnik
RELATED-TO:fmf-AFLABS-URNIK:srecanje:5451
X-WR-TIMEZONE:Europe/Ljubljana
END:VEVENT
BEGIN:VEVENT
SUMMARY:Matematika II (FIZ-1)\, Vaje (V)\, [2]
DTSTART;TZID=Europe/Ljubljana:20210217T140000
DTEND;TZID=Europe/Ljubljana:20210217T160000
DTSTAMP:20260423T022132Z
UID:fmf-AFLABS-URNIK:premaknjeno-srecanje:65478
ATTENDEE:1. letnik (Fizika, 1. stopnja)
CATEGORIES:Entry,Standard
COLOR:darkgreen
DESCRIPTION:Predmet: Matematika II (FIZ-1)\, Vaje (V)\, [2]\nLetniki: 1. l
 etnik (Fizika\, 1. stopnja)\nIzvajalci: Jure Kališnik\nProstor: VFP
LOCATION:VFP
ORGANIZER:Jure Kališnik
RELATED-TO:fmf-AFLABS-URNIK:srecanje:5715
X-WR-TIMEZONE:Europe/Ljubljana
END:VEVENT
BEGIN:VEVENT
SUMMARY:Matematika II (FIZ-1)\, Vaje (V)\, [2]
DTSTART;TZID=Europe/Ljubljana:20210224T140000
DTEND;TZID=Europe/Ljubljana:20210224T160000
DTSTAMP:20260423T022132Z
UID:fmf-AFLABS-URNIK:premaknjeno-srecanje:65479
ATTENDEE:1. letnik (Fizika, 1. stopnja)
CATEGORIES:Entry,Standard
COLOR:darkgreen
DESCRIPTION:Predmet: Matematika II (FIZ-1)\, Vaje (V)\, [2]\nLetniki: 1. l
 etnik (Fizika\, 1. stopnja)\nIzvajalci: Jure Kališnik\nProstor: VFP
LOCATION:VFP
ORGANIZER:Jure Kališnik
RELATED-TO:fmf-AFLABS-URNIK:srecanje:5715
X-WR-TIMEZONE:Europe/Ljubljana
END:VEVENT
BEGIN:VEVENT
SUMMARY:Matematika II (FIZ-1)\, Vaje (V)\, [2]
DTSTART;TZID=Europe/Ljubljana:20210303T140000
DTEND;TZID=Europe/Ljubljana:20210303T160000
DTSTAMP:20260423T022132Z
UID:fmf-AFLABS-URNIK:premaknjeno-srecanje:65480
ATTENDEE:1. letnik (Fizika, 1. stopnja)
CATEGORIES:Entry,Standard
COLOR:darkgreen
DESCRIPTION:Predmet: Matematika II (FIZ-1)\, Vaje (V)\, [2]\nLetniki: 1. l
 etnik (Fizika\, 1. stopnja)\nIzvajalci: Jure Kališnik\nProstor: VFP
LOCATION:VFP
ORGANIZER:Jure Kališnik
RELATED-TO:fmf-AFLABS-URNIK:srecanje:5715
X-WR-TIMEZONE:Europe/Ljubljana
END:VEVENT
BEGIN:VEVENT
SUMMARY:Analiza 1 (MAT-1\, PM-1)\, Vaje (V)\, [1]
DTSTART;TZID=Europe/Ljubljana:20210218T120000
DTEND;TZID=Europe/Ljubljana:20210218T140000
DTSTAMP:20260423T022132Z
UID:fmf-AFLABS-URNIK:premaknjeno-srecanje:5452
ATTENDEE:1. letnik (M)
ATTENDEE:1. letnik (PM)
CATEGORIES:Entry,Standard
COLOR:darkgreen
DESCRIPTION:Predmet: Analiza 1 (MAT-1\, PM-1)\, Vaje (V)\, [1]\nLetniki: 1
 . letnik (M)\, 1. letnik (PM)\nIzvajalci: Jure Kališnik\nProstor: Na dalj
 avo
LOCATION:Na daljavo
ORGANIZER:Jure Kališnik
RELATED-TO:fmf-AFLABS-URNIK:srecanje:5452
X-WR-TIMEZONE:Europe/Ljubljana
END:VEVENT
BEGIN:VEVENT
SUMMARY:Analiza 1 (MAT-1\, PM-1)\, Vaje (V)\, [1]
DTSTART;TZID=Europe/Ljubljana:20210225T120000
DTEND;TZID=Europe/Ljubljana:20210225T140000
DTSTAMP:20260423T022132Z
UID:fmf-AFLABS-URNIK:premaknjeno-srecanje:5453
ATTENDEE:1. letnik (M)
ATTENDEE:1. letnik (PM)
CATEGORIES:Entry,Standard
COLOR:darkgreen
DESCRIPTION:Predmet: Analiza 1 (MAT-1\, PM-1)\, Vaje (V)\, [1]\nLetniki: 1
 . letnik (M)\, 1. letnik (PM)\nIzvajalci: Jure Kališnik\nProstor: Na dalj
 avo
LOCATION:Na daljavo
ORGANIZER:Jure Kališnik
RELATED-TO:fmf-AFLABS-URNIK:srecanje:5452
X-WR-TIMEZONE:Europe/Ljubljana
END:VEVENT
BEGIN:VEVENT
SUMMARY:Analiza 1 (MAT-1\, PM-1)\, Vaje (V)\, [1]
DTSTART;TZID=Europe/Ljubljana:20210304T120000
DTEND;TZID=Europe/Ljubljana:20210304T140000
DTSTAMP:20260423T022132Z
UID:fmf-AFLABS-URNIK:premaknjeno-srecanje:5454
ATTENDEE:1. letnik (M)
ATTENDEE:1. letnik (PM)
CATEGORIES:Entry,Standard
COLOR:darkgreen
DESCRIPTION:Predmet: Analiza 1 (MAT-1\, PM-1)\, Vaje (V)\, [1]\nLetniki: 1
 . letnik (M)\, 1. letnik (PM)\nIzvajalci: Jure Kališnik\nProstor: Na dalj
 avo
LOCATION:Na daljavo
ORGANIZER:Jure Kališnik
RELATED-TO:fmf-AFLABS-URNIK:srecanje:5452
X-WR-TIMEZONE:Europe/Ljubljana
END:VEVENT
END:VCALENDAR
