BEGIN:VCALENDAR
VERSION:2.0
PRODID:-//AFLabs urnik izvoz - fmf//aflabs.si//SI
DTSTAMP:20260425T032943Z
NAME:UL FMF urnik
REFRESH-INTERVAL:PT1H
SOURCE:https://urnik.fmf.uni-lj.si/teacher/217?day=2022-06-06&export=1
URL:https://urnik.fmf.uni-lj.si/teacher/217?day=2022-06-06&export=1
X-PUBLISHED-TTL:PT1H
X-WR-CALNAME:UL FMF urnik
X-WR-TIMEZONE:Europe/Ljubljana
BEGIN:VTIMEZONE
TZID:Europe/Ljubljana
BEGIN:DAYLIGHT
DTSTART:20260329T020000
RDATE:20260329T020000
RDATE:20270328T020000
TZNAME:CEST
TZOFFSETFROM:+0100
TZOFFSETTO:+0200
END:DAYLIGHT
BEGIN:STANDARD
DTSTART:20261025T030000
RDATE:20261025T030000
RDATE:20271031T030000
TZNAME:CET
TZOFFSETFROM:+0200
TZOFFSETTO:+0100
END:STANDARD
END:VTIMEZONE
BEGIN:VEVENT
SUMMARY:Matematika za nadarjene (PM-4\, PM-5)\, Vaje (V)
DTSTART;TZID=Europe/Ljubljana:20220502T080000
DTEND;TZID=Europe/Ljubljana:20220502T100000
DTSTAMP:20260425T032943Z
UID:fmf-AFLABS-URNIK:premaknjeno-srecanje:67819
ATTENDEE:4. letnik (PM)
ATTENDEE:5. letnik (PM)
CATEGORIES:Entry,Standard
COLOR:darkgreen
DESCRIPTION:Predmet: Matematika za nadarjene (PM-4\, PM-5)\, Vaje (V)\nLet
 niki: 4. letnik (PM)\, 5. letnik (PM)\nIzvajalci: Jure Kališnik\nProstor:
  3.06
LOCATION:3.06
ORGANIZER:Jure Kališnik
RELATED-TO:fmf-AFLABS-URNIK:srecanje:7106
X-WR-TIMEZONE:Europe/Ljubljana
END:VEVENT
BEGIN:VEVENT
SUMMARY:Matematika za nadarjene (PM-4\, PM-5)\, Vaje (V)
DTSTART;TZID=Europe/Ljubljana:20220509T080000
DTEND;TZID=Europe/Ljubljana:20220509T100000
DTSTAMP:20260425T032943Z
UID:fmf-AFLABS-URNIK:premaknjeno-srecanje:67820
ATTENDEE:4. letnik (PM)
ATTENDEE:5. letnik (PM)
CATEGORIES:Entry,Standard
COLOR:darkgreen
DESCRIPTION:Predmet: Matematika za nadarjene (PM-4\, PM-5)\, Vaje (V)\nLet
 niki: 4. letnik (PM)\, 5. letnik (PM)\nIzvajalci: Jure Kališnik\nProstor:
  3.06
LOCATION:3.06
ORGANIZER:Jure Kališnik
RELATED-TO:fmf-AFLABS-URNIK:srecanje:7106
X-WR-TIMEZONE:Europe/Ljubljana
END:VEVENT
BEGIN:VEVENT
SUMMARY:Matematika za nadarjene (PM-4\, PM-5)\, Vaje (V)
DTSTART;TZID=Europe/Ljubljana:20220516T080000
DTEND;TZID=Europe/Ljubljana:20220516T100000
DTSTAMP:20260425T032943Z
UID:fmf-AFLABS-URNIK:premaknjeno-srecanje:67821
ATTENDEE:4. letnik (PM)
ATTENDEE:5. letnik (PM)
CATEGORIES:Entry,Standard
COLOR:darkgreen
DESCRIPTION:Predmet: Matematika za nadarjene (PM-4\, PM-5)\, Vaje (V)\nLet
 niki: 4. letnik (PM)\, 5. letnik (PM)\nIzvajalci: Jure Kališnik\nProstor:
  3.06
LOCATION:3.06
ORGANIZER:Jure Kališnik
RELATED-TO:fmf-AFLABS-URNIK:srecanje:7106
X-WR-TIMEZONE:Europe/Ljubljana
END:VEVENT
BEGIN:VEVENT
SUMMARY:Matematika za nadarjene (PM-4\, PM-5)\, Vaje (V)
DTSTART;TZID=Europe/Ljubljana:20220523T080000
DTEND;TZID=Europe/Ljubljana:20220523T100000
DTSTAMP:20260425T032943Z
UID:fmf-AFLABS-URNIK:premaknjeno-srecanje:67822
ATTENDEE:4. letnik (PM)
ATTENDEE:5. letnik (PM)
CATEGORIES:Entry,Standard
COLOR:darkgreen
DESCRIPTION:Predmet: Matematika za nadarjene (PM-4\, PM-5)\, Vaje (V)\nLet
 niki: 4. letnik (PM)\, 5. letnik (PM)\nIzvajalci: Jure Kališnik\nProstor:
  3.06
LOCATION:3.06
ORGANIZER:Jure Kališnik
RELATED-TO:fmf-AFLABS-URNIK:srecanje:7106
X-WR-TIMEZONE:Europe/Ljubljana
END:VEVENT
BEGIN:VEVENT
SUMMARY:Matematika za nadarjene (PM-4\, PM-5)\, Vaje (V)
DTSTART;TZID=Europe/Ljubljana:20220530T080000
DTEND;TZID=Europe/Ljubljana:20220530T100000
DTSTAMP:20260425T032943Z
UID:fmf-AFLABS-URNIK:premaknjeno-srecanje:67823
ATTENDEE:4. letnik (PM)
ATTENDEE:5. letnik (PM)
CATEGORIES:Entry,Standard
COLOR:darkgreen
DESCRIPTION:Predmet: Matematika za nadarjene (PM-4\, PM-5)\, Vaje (V)\nLet
 niki: 4. letnik (PM)\, 5. letnik (PM)\nIzvajalci: Jure Kališnik\nProstor:
  3.06
LOCATION:3.06
ORGANIZER:Jure Kališnik
RELATED-TO:fmf-AFLABS-URNIK:srecanje:7106
X-WR-TIMEZONE:Europe/Ljubljana
END:VEVENT
BEGIN:VEVENT
SUMMARY:Algebraična topologija 2 (FM-M\, MAT-M\, PM-5)\, Vaje (V)
DTSTART;TZID=Europe/Ljubljana:20220503T160000
DTEND;TZID=Europe/Ljubljana:20220503T180000
DTSTAMP:20260425T032943Z
UID:fmf-AFLABS-URNIK:premaknjeno-srecanje:3931
ATTENDEE:5. letnik (PM)
ATTENDEE:magistrski študij (FM)
ATTENDEE:magistrski študij (M)
CATEGORIES:Entry,Standard
COLOR:darkgreen
DESCRIPTION:Predmet: Algebraična topologija 2 (FM-M\, MAT-M\, PM-5)\, Vaj
 e (V)\nLetniki: magistrski študij (FM)\, magistrski študij (M)\, 5. letn
 ik (PM)\nIzvajalci: Jure Kališnik\nProstor: 3.06
LOCATION:3.06
ORGANIZER:Jure Kališnik
RELATED-TO:fmf-AFLABS-URNIK:srecanje:6831
X-WR-TIMEZONE:Europe/Ljubljana
END:VEVENT
BEGIN:VEVENT
SUMMARY:Algebraična topologija 2 (FM-M\, MAT-M\, PM-5)\, Vaje (V)
DTSTART;TZID=Europe/Ljubljana:20220510T160000
DTEND;TZID=Europe/Ljubljana:20220510T180000
DTSTAMP:20260425T032943Z
UID:fmf-AFLABS-URNIK:premaknjeno-srecanje:3932
ATTENDEE:5. letnik (PM)
ATTENDEE:magistrski študij (FM)
ATTENDEE:magistrski študij (M)
CATEGORIES:Entry,Standard
COLOR:darkgreen
DESCRIPTION:Predmet: Algebraična topologija 2 (FM-M\, MAT-M\, PM-5)\, Vaj
 e (V)\nLetniki: magistrski študij (FM)\, magistrski študij (M)\, 5. letn
 ik (PM)\nIzvajalci: Jure Kališnik\nProstor: 3.06
LOCATION:3.06
ORGANIZER:Jure Kališnik
RELATED-TO:fmf-AFLABS-URNIK:srecanje:6831
X-WR-TIMEZONE:Europe/Ljubljana
END:VEVENT
BEGIN:VEVENT
SUMMARY:Algebraična topologija 2 (FM-M\, MAT-M\, PM-5)\, Vaje (V)
DTSTART;TZID=Europe/Ljubljana:20220517T160000
DTEND;TZID=Europe/Ljubljana:20220517T180000
DTSTAMP:20260425T032943Z
UID:fmf-AFLABS-URNIK:premaknjeno-srecanje:3933
ATTENDEE:5. letnik (PM)
ATTENDEE:magistrski študij (FM)
ATTENDEE:magistrski študij (M)
CATEGORIES:Entry,Standard
COLOR:darkgreen
DESCRIPTION:Predmet: Algebraična topologija 2 (FM-M\, MAT-M\, PM-5)\, Vaj
 e (V)\nLetniki: magistrski študij (FM)\, magistrski študij (M)\, 5. letn
 ik (PM)\nIzvajalci: Jure Kališnik\nProstor: 3.06
LOCATION:3.06
ORGANIZER:Jure Kališnik
RELATED-TO:fmf-AFLABS-URNIK:srecanje:6831
X-WR-TIMEZONE:Europe/Ljubljana
END:VEVENT
BEGIN:VEVENT
SUMMARY:Algebraična topologija 2 (FM-M\, MAT-M\, PM-5)\, Vaje (V)
DTSTART;TZID=Europe/Ljubljana:20220524T160000
DTEND;TZID=Europe/Ljubljana:20220524T180000
DTSTAMP:20260425T032943Z
UID:fmf-AFLABS-URNIK:premaknjeno-srecanje:3934
ATTENDEE:5. letnik (PM)
ATTENDEE:magistrski študij (FM)
ATTENDEE:magistrski študij (M)
CATEGORIES:Entry,Standard
COLOR:darkgreen
DESCRIPTION:Predmet: Algebraična topologija 2 (FM-M\, MAT-M\, PM-5)\, Vaj
 e (V)\nLetniki: magistrski študij (FM)\, magistrski študij (M)\, 5. letn
 ik (PM)\nIzvajalci: Jure Kališnik\nProstor: 3.06
LOCATION:3.06
ORGANIZER:Jure Kališnik
RELATED-TO:fmf-AFLABS-URNIK:srecanje:6831
X-WR-TIMEZONE:Europe/Ljubljana
END:VEVENT
BEGIN:VEVENT
SUMMARY:Algebraična topologija 2 (FM-M\, MAT-M\, PM-5)\, Vaje (V)
DTSTART;TZID=Europe/Ljubljana:20220531T160000
DTEND;TZID=Europe/Ljubljana:20220531T180000
DTSTAMP:20260425T032943Z
UID:fmf-AFLABS-URNIK:premaknjeno-srecanje:3935
ATTENDEE:5. letnik (PM)
ATTENDEE:magistrski študij (FM)
ATTENDEE:magistrski študij (M)
CATEGORIES:Entry,Standard
COLOR:darkgreen
DESCRIPTION:Predmet: Algebraična topologija 2 (FM-M\, MAT-M\, PM-5)\, Vaj
 e (V)\nLetniki: magistrski študij (FM)\, magistrski študij (M)\, 5. letn
 ik (PM)\nIzvajalci: Jure Kališnik\nProstor: 3.06
LOCATION:3.06
ORGANIZER:Jure Kališnik
RELATED-TO:fmf-AFLABS-URNIK:srecanje:6831
X-WR-TIMEZONE:Europe/Ljubljana
END:VEVENT
BEGIN:VEVENT
SUMMARY:Afina in projektivna geometrija (FM-3\, IŠRM-3\, MAT-2\, PM-2)\, 
 Vaje (V)
DTSTART;TZID=Europe/Ljubljana:20220505T160000
DTEND;TZID=Europe/Ljubljana:20220505T180000
DTSTAMP:20260425T032943Z
UID:fmf-AFLABS-URNIK:premaknjeno-srecanje:695
ATTENDEE:2. letnik (M)
ATTENDEE:2. letnik (PM)
ATTENDEE:3. letnik (FM)
ATTENDEE:3. letnik (IŠRM)
CATEGORIES:Entry,Standard
COLOR:darkgreen
DESCRIPTION:Predmet: Afina in projektivna geometrija (FM-3\, IŠRM-3\, MAT
 -2\, PM-2)\, Vaje (V)\nLetniki: 3. letnik (FM)\, 3. letnik (IŠRM)\, 2. le
 tnik (M)\, 2. letnik (PM)\nIzvajalci: Jure Kališnik\nProstor: 2.03
LOCATION:2.03
ORGANIZER:Jure Kališnik
RELATED-TO:fmf-AFLABS-URNIK:srecanje:6815
X-WR-TIMEZONE:Europe/Ljubljana
END:VEVENT
BEGIN:VEVENT
SUMMARY:Afina in projektivna geometrija (FM-3\, IŠRM-3\, MAT-2\, PM-2)\, 
 Vaje (V)
DTSTART;TZID=Europe/Ljubljana:20220512T160000
DTEND;TZID=Europe/Ljubljana:20220512T180000
DTSTAMP:20260425T032943Z
UID:fmf-AFLABS-URNIK:premaknjeno-srecanje:696
ATTENDEE:2. letnik (M)
ATTENDEE:2. letnik (PM)
ATTENDEE:3. letnik (FM)
ATTENDEE:3. letnik (IŠRM)
CATEGORIES:Entry,Standard
COLOR:darkgreen
DESCRIPTION:Predmet: Afina in projektivna geometrija (FM-3\, IŠRM-3\, MAT
 -2\, PM-2)\, Vaje (V)\nLetniki: 3. letnik (FM)\, 3. letnik (IŠRM)\, 2. le
 tnik (M)\, 2. letnik (PM)\nIzvajalci: Jure Kališnik\nProstor: 2.03
LOCATION:2.03
ORGANIZER:Jure Kališnik
RELATED-TO:fmf-AFLABS-URNIK:srecanje:6815
X-WR-TIMEZONE:Europe/Ljubljana
END:VEVENT
BEGIN:VEVENT
SUMMARY:Afina in projektivna geometrija (FM-3\, IŠRM-3\, MAT-2\, PM-2)\, 
 Vaje (V)
DTSTART;TZID=Europe/Ljubljana:20220519T160000
DTEND;TZID=Europe/Ljubljana:20220519T180000
DTSTAMP:20260425T032943Z
UID:fmf-AFLABS-URNIK:premaknjeno-srecanje:697
ATTENDEE:2. letnik (M)
ATTENDEE:2. letnik (PM)
ATTENDEE:3. letnik (FM)
ATTENDEE:3. letnik (IŠRM)
CATEGORIES:Entry,Standard
COLOR:darkgreen
DESCRIPTION:Predmet: Afina in projektivna geometrija (FM-3\, IŠRM-3\, MAT
 -2\, PM-2)\, Vaje (V)\nLetniki: 3. letnik (FM)\, 3. letnik (IŠRM)\, 2. le
 tnik (M)\, 2. letnik (PM)\nIzvajalci: Jure Kališnik\nProstor: 2.03
LOCATION:2.03
ORGANIZER:Jure Kališnik
RELATED-TO:fmf-AFLABS-URNIK:srecanje:6815
X-WR-TIMEZONE:Europe/Ljubljana
END:VEVENT
BEGIN:VEVENT
SUMMARY:Afina in projektivna geometrija (FM-3\, IŠRM-3\, MAT-2\, PM-2)\, 
 Vaje (V)
DTSTART;TZID=Europe/Ljubljana:20220526T160000
DTEND;TZID=Europe/Ljubljana:20220526T180000
DTSTAMP:20260425T032943Z
UID:fmf-AFLABS-URNIK:premaknjeno-srecanje:698
ATTENDEE:2. letnik (M)
ATTENDEE:2. letnik (PM)
ATTENDEE:3. letnik (FM)
ATTENDEE:3. letnik (IŠRM)
CATEGORIES:Entry,Standard
COLOR:darkgreen
DESCRIPTION:Predmet: Afina in projektivna geometrija (FM-3\, IŠRM-3\, MAT
 -2\, PM-2)\, Vaje (V)\nLetniki: 3. letnik (FM)\, 3. letnik (IŠRM)\, 2. le
 tnik (M)\, 2. letnik (PM)\nIzvajalci: Jure Kališnik\nProstor: 2.03
LOCATION:2.03
ORGANIZER:Jure Kališnik
RELATED-TO:fmf-AFLABS-URNIK:srecanje:6815
X-WR-TIMEZONE:Europe/Ljubljana
END:VEVENT
BEGIN:VEVENT
SUMMARY:Liejeve grupe (FM-M\, MAT-M\, PM-5)\, Vaje (V)
DTSTART;TZID=Europe/Ljubljana:20220506T120000
DTEND;TZID=Europe/Ljubljana:20220506T140000
DTSTAMP:20260425T032943Z
UID:fmf-AFLABS-URNIK:premaknjeno-srecanje:56773
ATTENDEE:5. letnik (PM)
ATTENDEE:magistrski študij (FM)
ATTENDEE:magistrski študij (M)
CATEGORIES:Entry,Standard
COLOR:darkgreen
DESCRIPTION:Predmet: Liejeve grupe (FM-M\, MAT-M\, PM-5)\, Vaje (V)\nLetni
 ki: magistrski študij (FM)\, magistrski študij (M)\, 5. letnik (PM)\nIzv
 ajalci: Jure Kališnik\nProstor: 3.04
LOCATION:3.04
ORGANIZER:Jure Kališnik
RELATED-TO:fmf-AFLABS-URNIK:srecanje:7031
X-WR-TIMEZONE:Europe/Ljubljana
END:VEVENT
BEGIN:VEVENT
SUMMARY:Liejeve grupe (FM-M\, MAT-M\, PM-5)\, Vaje (V)
DTSTART;TZID=Europe/Ljubljana:20220513T120000
DTEND;TZID=Europe/Ljubljana:20220513T140000
DTSTAMP:20260425T032943Z
UID:fmf-AFLABS-URNIK:premaknjeno-srecanje:56774
ATTENDEE:5. letnik (PM)
ATTENDEE:magistrski študij (FM)
ATTENDEE:magistrski študij (M)
CATEGORIES:Entry,Standard
COLOR:darkgreen
DESCRIPTION:Predmet: Liejeve grupe (FM-M\, MAT-M\, PM-5)\, Vaje (V)\nLetni
 ki: magistrski študij (FM)\, magistrski študij (M)\, 5. letnik (PM)\nIzv
 ajalci: Jure Kališnik\nProstor: 3.04
LOCATION:3.04
ORGANIZER:Jure Kališnik
RELATED-TO:fmf-AFLABS-URNIK:srecanje:7031
X-WR-TIMEZONE:Europe/Ljubljana
END:VEVENT
BEGIN:VEVENT
SUMMARY:Liejeve grupe (FM-M\, MAT-M\, PM-5)\, Vaje (V)
DTSTART;TZID=Europe/Ljubljana:20220520T120000
DTEND;TZID=Europe/Ljubljana:20220520T140000
DTSTAMP:20260425T032943Z
UID:fmf-AFLABS-URNIK:premaknjeno-srecanje:56775
ATTENDEE:5. letnik (PM)
ATTENDEE:magistrski študij (FM)
ATTENDEE:magistrski študij (M)
CATEGORIES:Entry,Standard
COLOR:darkgreen
DESCRIPTION:Predmet: Liejeve grupe (FM-M\, MAT-M\, PM-5)\, Vaje (V)\nLetni
 ki: magistrski študij (FM)\, magistrski študij (M)\, 5. letnik (PM)\nIzv
 ajalci: Jure Kališnik\nProstor: 3.04
LOCATION:3.04
ORGANIZER:Jure Kališnik
RELATED-TO:fmf-AFLABS-URNIK:srecanje:7031
X-WR-TIMEZONE:Europe/Ljubljana
END:VEVENT
BEGIN:VEVENT
SUMMARY:Liejeve grupe (FM-M\, MAT-M\, PM-5)\, Vaje (V)
DTSTART;TZID=Europe/Ljubljana:20220527T120000
DTEND;TZID=Europe/Ljubljana:20220527T140000
DTSTAMP:20260425T032943Z
UID:fmf-AFLABS-URNIK:premaknjeno-srecanje:56776
ATTENDEE:5. letnik (PM)
ATTENDEE:magistrski študij (FM)
ATTENDEE:magistrski študij (M)
CATEGORIES:Entry,Standard
COLOR:darkgreen
DESCRIPTION:Predmet: Liejeve grupe (FM-M\, MAT-M\, PM-5)\, Vaje (V)\nLetni
 ki: magistrski študij (FM)\, magistrski študij (M)\, 5. letnik (PM)\nIzv
 ajalci: Jure Kališnik\nProstor: 3.04
LOCATION:3.04
ORGANIZER:Jure Kališnik
RELATED-TO:fmf-AFLABS-URNIK:srecanje:7031
X-WR-TIMEZONE:Europe/Ljubljana
END:VEVENT
BEGIN:VEVENT
SUMMARY:Rezervacija
DTSTART;TZID=Europe/Ljubljana:20220601T090000
DTEND;TZID=Europe/Ljubljana:20220601T120000
DTSTAMP:20260425T032943Z
UID:fmf-AFLABS-URNIK:rezervacija:2635
CATEGORIES:Reservation
COLOR:royalblue
DESCRIPTION:Predmeti: \nLetniki: \nIzvajalci: Jure Kališnik\nProstori: 3.
 05
LOCATION:3.05
ORGANIZER:Jure Kališnik
X-WR-TIMEZONE:Europe/Ljubljana
END:VEVENT
BEGIN:VEVENT
SUMMARY:Rezervacija
DTSTART;TZID=Europe/Ljubljana:20220518T080000
DTEND;TZID=Europe/Ljubljana:20220518T100000
DTSTAMP:20260425T032943Z
UID:fmf-AFLABS-URNIK:rezervacija:9056
CATEGORIES:Reservation
COLOR:royalblue
DESCRIPTION:Predmeti: \nLetniki: \nIzvajalci: Jure Kališnik\nProstori: 3.
 07
LOCATION:3.07
ORGANIZER:Jure Kališnik
X-WR-TIMEZONE:Europe/Ljubljana
END:VEVENT
BEGIN:VEVENT
SUMMARY:Rezervacija
DTSTART;TZID=Europe/Ljubljana:20220616T100000
DTEND;TZID=Europe/Ljubljana:20220616T130000
DTSTAMP:20260425T032943Z
UID:fmf-AFLABS-URNIK:rezervacija:9369
CATEGORIES:Reservation
COLOR:royalblue
DESCRIPTION:Predmeti: \nLetniki: \nIzvajalci: Jure Kališnik\nProstori: 2.
 01
LOCATION:2.01
ORGANIZER:Jure Kališnik
X-WR-TIMEZONE:Europe/Ljubljana
END:VEVENT
BEGIN:VEVENT
SUMMARY:Rezervacija
DTSTART;TZID=Europe/Ljubljana:20220708T120000
DTEND;TZID=Europe/Ljubljana:20220708T150000
DTSTAMP:20260425T032943Z
UID:fmf-AFLABS-URNIK:rezervacija:9723
CATEGORIES:Reservation
COLOR:royalblue
DESCRIPTION:Predmeti: \nLetniki: \nIzvajalci: Jure Kališnik\nProstori: 2.
 01
LOCATION:2.01
ORGANIZER:Jure Kališnik
X-WR-TIMEZONE:Europe/Ljubljana
END:VEVENT
END:VCALENDAR
