BEGIN:VCALENDAR
VERSION:2.0
PRODID:-//AFLabs urnik izvoz - fmf//aflabs.si//SI
DTSTAMP:20260425T102746Z
NAME:UL FMF urnik
REFRESH-INTERVAL:PT1H
SOURCE:https://urnik.fmf.uni-lj.si/teacher/219?day=2020-09-28&export=1
URL:https://urnik.fmf.uni-lj.si/teacher/219?day=2020-09-28&export=1
X-PUBLISHED-TTL:PT1H
X-WR-CALNAME:UL FMF urnik
X-WR-TIMEZONE:Europe/Ljubljana
BEGIN:VTIMEZONE
TZID:Europe/Ljubljana
BEGIN:DAYLIGHT
DTSTART:20260329T020000
RDATE:20260329T020000
RDATE:20270328T020000
TZNAME:CEST
TZOFFSETFROM:+0100
TZOFFSETTO:+0200
END:DAYLIGHT
BEGIN:STANDARD
DTSTART:20261025T030000
RDATE:20261025T030000
RDATE:20271031T030000
TZNAME:CET
TZOFFSETFROM:+0200
TZOFFSETTO:+0100
END:STANDARD
END:VTIMEZONE
BEGIN:VEVENT
SUMMARY:Verjetnost (MAT-3\, PM-3)\, Predavanja (P)
DTSTART;TZID=Europe/Ljubljana:20201006T080000
DTEND;TZID=Europe/Ljubljana:20201006T100000
DTSTAMP:20260425T102746Z
UID:fmf-AFLABS-URNIK:premaknjeno-srecanje:118196
ATTENDEE:3. letnik (M)
ATTENDEE:3. letnik (PM)
CATEGORIES:Entry,Standard
COLOR:darkgreen
DESCRIPTION:Predmet: Verjetnost (MAT-3\, PM-3)\, Predavanja (P)\nLetniki: 
 3. letnik (M)\, 3. letnik (PM)\nIzvajalci: Mihael Perman\nProstor: 2.02
LOCATION:2.02
ORGANIZER:Mihael Perman
RELATED-TO:fmf-AFLABS-URNIK:srecanje:5268
X-WR-TIMEZONE:Europe/Ljubljana
END:VEVENT
BEGIN:VEVENT
SUMMARY:Verjetnost (MAT-3\, PM-3)\, Predavanja (P)
DTSTART;TZID=Europe/Ljubljana:20201013T080000
DTEND;TZID=Europe/Ljubljana:20201013T100000
DTSTAMP:20260425T102746Z
UID:fmf-AFLABS-URNIK:premaknjeno-srecanje:118197
ATTENDEE:3. letnik (M)
ATTENDEE:3. letnik (PM)
CATEGORIES:Entry,Standard
COLOR:darkgreen
DESCRIPTION:Predmet: Verjetnost (MAT-3\, PM-3)\, Predavanja (P)\nLetniki: 
 3. letnik (M)\, 3. letnik (PM)\nIzvajalci: Mihael Perman\nProstor: 2.02
LOCATION:2.02
ORGANIZER:Mihael Perman
RELATED-TO:fmf-AFLABS-URNIK:srecanje:5268
X-WR-TIMEZONE:Europe/Ljubljana
END:VEVENT
BEGIN:VEVENT
SUMMARY:Verjetnost (MAT-3\, PM-3)\, Predavanja (P)
DTSTART;TZID=Europe/Ljubljana:20201020T080000
DTEND;TZID=Europe/Ljubljana:20201020T100000
DTSTAMP:20260425T102746Z
UID:fmf-AFLABS-URNIK:premaknjeno-srecanje:118198
ATTENDEE:3. letnik (M)
ATTENDEE:3. letnik (PM)
CATEGORIES:Entry,Standard
COLOR:darkgreen
DESCRIPTION:Predmet: Verjetnost (MAT-3\, PM-3)\, Predavanja (P)\nLetniki: 
 3. letnik (M)\, 3. letnik (PM)\nIzvajalci: Mihael Perman\nProstor: 2.02
LOCATION:2.02
ORGANIZER:Mihael Perman
RELATED-TO:fmf-AFLABS-URNIK:srecanje:5268
X-WR-TIMEZONE:Europe/Ljubljana
END:VEVENT
BEGIN:VEVENT
SUMMARY:Verjetnost (MAT-3\, PM-3)\, Predavanja (P)
DTSTART;TZID=Europe/Ljubljana:20201027T080000
DTEND;TZID=Europe/Ljubljana:20201027T100000
DTSTAMP:20260425T102746Z
UID:fmf-AFLABS-URNIK:premaknjeno-srecanje:118199
ATTENDEE:3. letnik (M)
ATTENDEE:3. letnik (PM)
CATEGORIES:Entry,Standard
COLOR:darkgreen
DESCRIPTION:Predmet: Verjetnost (MAT-3\, PM-3)\, Predavanja (P)\nLetniki: 
 3. letnik (M)\, 3. letnik (PM)\nIzvajalci: Mihael Perman\nProstor: 2.02
LOCATION:2.02
ORGANIZER:Mihael Perman
RELATED-TO:fmf-AFLABS-URNIK:srecanje:5268
X-WR-TIMEZONE:Europe/Ljubljana
END:VEVENT
BEGIN:VEVENT
SUMMARY:FM2 (FM-M\, MAT-M\, PM-5)\, Predavanja (P)
DTSTART;TZID=Europe/Ljubljana:20201007T100000
DTEND;TZID=Europe/Ljubljana:20201007T130000
DTSTAMP:20260425T102746Z
UID:fmf-AFLABS-URNIK:premaknjeno-srecanje:20013
ATTENDEE:5. letnik (PM)
ATTENDEE:magistrski študij (FM)
ATTENDEE:magistrski študij (M)
CATEGORIES:Entry,Standard
COLOR:darkgreen
DESCRIPTION:Predmet: FM2 (FM-M\, MAT-M\, PM-5)\, Predavanja (P)\nLetniki: 
 magistrski študij (FM)\, magistrski študij (M)\, 5. letnik (PM)\nIzvajal
 ci: Mihael Perman\nProstor: 3.07
LOCATION:3.07
ORGANIZER:Mihael Perman
RELATED-TO:fmf-AFLABS-URNIK:srecanje:5316
X-WR-TIMEZONE:Europe/Ljubljana
END:VEVENT
BEGIN:VEVENT
SUMMARY:FM2 (FM-M\, MAT-M\, PM-5)\, Predavanja (P)
DTSTART;TZID=Europe/Ljubljana:20201014T100000
DTEND;TZID=Europe/Ljubljana:20201014T130000
DTSTAMP:20260425T102746Z
UID:fmf-AFLABS-URNIK:premaknjeno-srecanje:20014
ATTENDEE:5. letnik (PM)
ATTENDEE:magistrski študij (FM)
ATTENDEE:magistrski študij (M)
CATEGORIES:Entry,Standard
COLOR:darkgreen
DESCRIPTION:Predmet: FM2 (FM-M\, MAT-M\, PM-5)\, Predavanja (P)\nLetniki: 
 magistrski študij (FM)\, magistrski študij (M)\, 5. letnik (PM)\nIzvajal
 ci: Mihael Perman\nProstor: 3.07
LOCATION:3.07
ORGANIZER:Mihael Perman
RELATED-TO:fmf-AFLABS-URNIK:srecanje:5316
X-WR-TIMEZONE:Europe/Ljubljana
END:VEVENT
BEGIN:VEVENT
SUMMARY:FM2 (FM-M\, MAT-M\, PM-5)\, Predavanja (P)
DTSTART;TZID=Europe/Ljubljana:20201021T100000
DTEND;TZID=Europe/Ljubljana:20201021T130000
DTSTAMP:20260425T102746Z
UID:fmf-AFLABS-URNIK:premaknjeno-srecanje:20015
ATTENDEE:5. letnik (PM)
ATTENDEE:magistrski študij (FM)
ATTENDEE:magistrski študij (M)
CATEGORIES:Entry,Standard
COLOR:darkgreen
DESCRIPTION:Predmet: FM2 (FM-M\, MAT-M\, PM-5)\, Predavanja (P)\nLetniki: 
 magistrski študij (FM)\, magistrski študij (M)\, 5. letnik (PM)\nIzvajal
 ci: Mihael Perman\nProstor: 3.07
LOCATION:3.07
ORGANIZER:Mihael Perman
RELATED-TO:fmf-AFLABS-URNIK:srecanje:5316
X-WR-TIMEZONE:Europe/Ljubljana
END:VEVENT
BEGIN:VEVENT
SUMMARY:FM2 (FM-M\, MAT-M\, PM-5)\, Predavanja (P)
DTSTART;TZID=Europe/Ljubljana:20201028T100000
DTEND;TZID=Europe/Ljubljana:20201028T130000
DTSTAMP:20260425T102746Z
UID:fmf-AFLABS-URNIK:premaknjeno-srecanje:20016
ATTENDEE:5. letnik (PM)
ATTENDEE:magistrski študij (FM)
ATTENDEE:magistrski študij (M)
CATEGORIES:Entry,Standard
COLOR:darkgreen
DESCRIPTION:Predmet: FM2 (FM-M\, MAT-M\, PM-5)\, Predavanja (P)\nLetniki: 
 magistrski študij (FM)\, magistrski študij (M)\, 5. letnik (PM)\nIzvajal
 ci: Mihael Perman\nProstor: 3.07
LOCATION:3.07
ORGANIZER:Mihael Perman
RELATED-TO:fmf-AFLABS-URNIK:srecanje:5316
X-WR-TIMEZONE:Europe/Ljubljana
END:VEVENT
BEGIN:VEVENT
SUMMARY:Rezervacija
DTSTART;TZID=Europe/Ljubljana:20200904T090000
DTEND;TZID=Europe/Ljubljana:20200904T120000
DTSTAMP:20260425T102746Z
UID:fmf-AFLABS-URNIK:rezervacija:6243
ATTENDEE:3. letnik (M)
CATEGORIES:Reservation
COLOR:royalblue
DESCRIPTION:Predmeti: Statistika (MAT-3)\nLetniki: 3. letnik (M)\nIzvajalc
 i: Mihael Perman\nProstori: P.01
LOCATION:P.01
ORGANIZER:Mihael Perman
X-WR-TIMEZONE:Europe/Ljubljana
END:VEVENT
BEGIN:VEVENT
SUMMARY:Rezervacija
DTSTART;TZID=Europe/Ljubljana:20200907T090000
DTEND;TZID=Europe/Ljubljana:20200907T120000
DTSTAMP:20260425T102746Z
UID:fmf-AFLABS-URNIK:rezervacija:6271
CATEGORIES:Reservation
COLOR:royalblue
DESCRIPTION:Predmeti: \nLetniki: \nIzvajalci: Mihael Perman\nProstori: P.0
 1
LOCATION:P.01
ORGANIZER:Mihael Perman
X-WR-TIMEZONE:Europe/Ljubljana
END:VEVENT
BEGIN:VEVENT
SUMMARY:Rezervacija
DTSTART;TZID=Europe/Ljubljana:20200929T110000
DTEND;TZID=Europe/Ljubljana:20200929T150000
DTSTAMP:20260425T102746Z
UID:fmf-AFLABS-URNIK:rezervacija:6475
ATTENDEE:3. letnik (M)
ATTENDEE:3. letnik (PM)
CATEGORIES:Reservation
COLOR:royalblue
DESCRIPTION:Predmeti: Verjetnost (MAT-3\, PM-3)\nLetniki: 3. letnik (M)\, 
 3. letnik (PM)\nIzvajalci: Mihael Perman\nProstori: 3.06
LOCATION:3.06
ORGANIZER:Mihael Perman
X-WR-TIMEZONE:Europe/Ljubljana
END:VEVENT
END:VCALENDAR
