BEGIN:VCALENDAR
VERSION:2.0
PRODID:-//AFLabs urnik izvoz - fmf//aflabs.si//SI
DTSTAMP:20260423T063923Z
NAME:UL FMF urnik
REFRESH-INTERVAL:PT1H
SOURCE:https://urnik.fmf.uni-lj.si/teacher/219?day=2021-05-31&export=1
URL:https://urnik.fmf.uni-lj.si/teacher/219?day=2021-05-31&export=1
X-PUBLISHED-TTL:PT1H
X-WR-CALNAME:UL FMF urnik
X-WR-TIMEZONE:Europe/Ljubljana
BEGIN:VTIMEZONE
TZID:Europe/Ljubljana
BEGIN:DAYLIGHT
DTSTART:20260329T020000
RDATE:20260329T020000
RDATE:20270328T020000
TZNAME:CEST
TZOFFSETFROM:+0100
TZOFFSETTO:+0200
END:DAYLIGHT
BEGIN:STANDARD
DTSTART:20261025T030000
RDATE:20261025T030000
RDATE:20271031T030000
TZNAME:CET
TZOFFSETFROM:+0200
TZOFFSETTO:+0100
END:STANDARD
END:VTIMEZONE
BEGIN:VEVENT
SUMMARY:Izbrana poglavja iz verjetnosti in statistike (MAT-D)\, Predavanja
  (P)
DTSTART;TZID=Europe/Ljubljana:20210216T140000
DTEND;TZID=Europe/Ljubljana:20210216T160000
DTSTAMP:20260423T063923Z
UID:fmf-AFLABS-URNIK:premaknjeno-srecanje:44716
ATTENDEE:doktorski študij (M)
CATEGORIES:Entry,Standard
COLOR:darkgreen
DESCRIPTION:Predmet: Izbrana poglavja iz verjetnosti in statistike (MAT-D)
 \, Predavanja (P)\nLetniki: doktorski študij (M)\nIzvajalci: Mihael Perma
 n\nProstor: 3.06
LOCATION:3.06
ORGANIZER:Mihael Perman
RELATED-TO:fmf-AFLABS-URNIK:srecanje:5622
X-WR-TIMEZONE:Europe/Ljubljana
END:VEVENT
BEGIN:VEVENT
SUMMARY:Izbrana poglavja iz verjetnosti in statistike (MAT-D)\, Predavanja
  (P)
DTSTART;TZID=Europe/Ljubljana:20210223T140000
DTEND;TZID=Europe/Ljubljana:20210223T160000
DTSTAMP:20260423T063923Z
UID:fmf-AFLABS-URNIK:premaknjeno-srecanje:44717
ATTENDEE:doktorski študij (M)
CATEGORIES:Entry,Standard
COLOR:darkgreen
DESCRIPTION:Predmet: Izbrana poglavja iz verjetnosti in statistike (MAT-D)
 \, Predavanja (P)\nLetniki: doktorski študij (M)\nIzvajalci: Mihael Perma
 n\nProstor: 3.06
LOCATION:3.06
ORGANIZER:Mihael Perman
RELATED-TO:fmf-AFLABS-URNIK:srecanje:5622
X-WR-TIMEZONE:Europe/Ljubljana
END:VEVENT
BEGIN:VEVENT
SUMMARY:Izbrana poglavja iz verjetnosti in statistike (MAT-D)\, Predavanja
  (P)
DTSTART;TZID=Europe/Ljubljana:20210302T140000
DTEND;TZID=Europe/Ljubljana:20210302T160000
DTSTAMP:20260423T063923Z
UID:fmf-AFLABS-URNIK:premaknjeno-srecanje:44718
ATTENDEE:doktorski študij (M)
CATEGORIES:Entry,Standard
COLOR:darkgreen
DESCRIPTION:Predmet: Izbrana poglavja iz verjetnosti in statistike (MAT-D)
 \, Predavanja (P)\nLetniki: doktorski študij (M)\nIzvajalci: Mihael Perma
 n\nProstor: 3.06
LOCATION:3.06
ORGANIZER:Mihael Perman
RELATED-TO:fmf-AFLABS-URNIK:srecanje:5622
X-WR-TIMEZONE:Europe/Ljubljana
END:VEVENT
BEGIN:VEVENT
SUMMARY:Izbrana poglavja iz verjetnosti in statistike (MAT-D)\, Predavanja
  (P)
DTSTART;TZID=Europe/Ljubljana:20210309T140000
DTEND;TZID=Europe/Ljubljana:20210309T160000
DTSTAMP:20260423T063923Z
UID:fmf-AFLABS-URNIK:premaknjeno-srecanje:44719
ATTENDEE:doktorski študij (M)
CATEGORIES:Entry,Standard
COLOR:darkgreen
DESCRIPTION:Predmet: Izbrana poglavja iz verjetnosti in statistike (MAT-D)
 \, Predavanja (P)\nLetniki: doktorski študij (M)\nIzvajalci: Mihael Perma
 n\nProstor: 3.06
LOCATION:3.06
ORGANIZER:Mihael Perman
RELATED-TO:fmf-AFLABS-URNIK:srecanje:5622
X-WR-TIMEZONE:Europe/Ljubljana
END:VEVENT
BEGIN:VEVENT
SUMMARY:Izbrana poglavja iz verjetnosti in statistike (MAT-D)\, Predavanja
  (P)
DTSTART;TZID=Europe/Ljubljana:20210316T140000
DTEND;TZID=Europe/Ljubljana:20210316T160000
DTSTAMP:20260423T063923Z
UID:fmf-AFLABS-URNIK:premaknjeno-srecanje:44720
ATTENDEE:doktorski študij (M)
CATEGORIES:Entry,Standard
COLOR:darkgreen
DESCRIPTION:Predmet: Izbrana poglavja iz verjetnosti in statistike (MAT-D)
 \, Predavanja (P)\nLetniki: doktorski študij (M)\nIzvajalci: Mihael Perma
 n\nProstor: 3.06
LOCATION:3.06
ORGANIZER:Mihael Perman
RELATED-TO:fmf-AFLABS-URNIK:srecanje:5622
X-WR-TIMEZONE:Europe/Ljubljana
END:VEVENT
BEGIN:VEVENT
SUMMARY:Izbrana poglavja iz verjetnosti in statistike (MAT-D)\, Predavanja
  (P)
DTSTART;TZID=Europe/Ljubljana:20210323T140000
DTEND;TZID=Europe/Ljubljana:20210323T160000
DTSTAMP:20260423T063923Z
UID:fmf-AFLABS-URNIK:premaknjeno-srecanje:44721
ATTENDEE:doktorski študij (M)
CATEGORIES:Entry,Standard
COLOR:darkgreen
DESCRIPTION:Predmet: Izbrana poglavja iz verjetnosti in statistike (MAT-D)
 \, Predavanja (P)\nLetniki: doktorski študij (M)\nIzvajalci: Mihael Perma
 n\nProstor: 3.06
LOCATION:3.06
ORGANIZER:Mihael Perman
RELATED-TO:fmf-AFLABS-URNIK:srecanje:5622
X-WR-TIMEZONE:Europe/Ljubljana
END:VEVENT
BEGIN:VEVENT
SUMMARY:Izbrana poglavja iz verjetnosti in statistike (MAT-D)\, Predavanja
  (P)
DTSTART;TZID=Europe/Ljubljana:20210330T140000
DTEND;TZID=Europe/Ljubljana:20210330T160000
DTSTAMP:20260423T063923Z
UID:fmf-AFLABS-URNIK:premaknjeno-srecanje:44722
ATTENDEE:doktorski študij (M)
CATEGORIES:Entry,Standard
COLOR:darkgreen
DESCRIPTION:Predmet: Izbrana poglavja iz verjetnosti in statistike (MAT-D)
 \, Predavanja (P)\nLetniki: doktorski študij (M)\nIzvajalci: Mihael Perma
 n\nProstor: 3.06
LOCATION:3.06
ORGANIZER:Mihael Perman
RELATED-TO:fmf-AFLABS-URNIK:srecanje:5622
X-WR-TIMEZONE:Europe/Ljubljana
END:VEVENT
BEGIN:VEVENT
SUMMARY:Izbrana poglavja iz verjetnosti in statistike (MAT-D)\, Predavanja
  (P)
DTSTART;TZID=Europe/Ljubljana:20210406T140000
DTEND;TZID=Europe/Ljubljana:20210406T160000
DTSTAMP:20260423T063923Z
UID:fmf-AFLABS-URNIK:premaknjeno-srecanje:44723
ATTENDEE:doktorski študij (M)
CATEGORIES:Entry,Standard
COLOR:darkgreen
DESCRIPTION:Predmet: Izbrana poglavja iz verjetnosti in statistike (MAT-D)
 \, Predavanja (P)\nLetniki: doktorski študij (M)\nIzvajalci: Mihael Perma
 n\nProstor: 3.06
LOCATION:3.06
ORGANIZER:Mihael Perman
RELATED-TO:fmf-AFLABS-URNIK:srecanje:5622
X-WR-TIMEZONE:Europe/Ljubljana
END:VEVENT
BEGIN:VEVENT
SUMMARY:Izbrana poglavja iz verjetnosti in statistike (MAT-D)\, Predavanja
  (P)
DTSTART;TZID=Europe/Ljubljana:20210413T140000
DTEND;TZID=Europe/Ljubljana:20210413T160000
DTSTAMP:20260423T063923Z
UID:fmf-AFLABS-URNIK:premaknjeno-srecanje:44724
ATTENDEE:doktorski študij (M)
CATEGORIES:Entry,Standard
COLOR:darkgreen
DESCRIPTION:Predmet: Izbrana poglavja iz verjetnosti in statistike (MAT-D)
 \, Predavanja (P)\nLetniki: doktorski študij (M)\nIzvajalci: Mihael Perma
 n\nProstor: 3.06
LOCATION:3.06
ORGANIZER:Mihael Perman
RELATED-TO:fmf-AFLABS-URNIK:srecanje:5622
X-WR-TIMEZONE:Europe/Ljubljana
END:VEVENT
BEGIN:VEVENT
SUMMARY:Izbrana poglavja iz verjetnosti in statistike (MAT-D)\, Predavanja
  (P)
DTSTART;TZID=Europe/Ljubljana:20210420T140000
DTEND;TZID=Europe/Ljubljana:20210420T160000
DTSTAMP:20260423T063923Z
UID:fmf-AFLABS-URNIK:premaknjeno-srecanje:44725
ATTENDEE:doktorski študij (M)
CATEGORIES:Entry,Standard
COLOR:darkgreen
DESCRIPTION:Predmet: Izbrana poglavja iz verjetnosti in statistike (MAT-D)
 \, Predavanja (P)\nLetniki: doktorski študij (M)\nIzvajalci: Mihael Perma
 n\nProstor: 3.06
LOCATION:3.06
ORGANIZER:Mihael Perman
RELATED-TO:fmf-AFLABS-URNIK:srecanje:5622
X-WR-TIMEZONE:Europe/Ljubljana
END:VEVENT
BEGIN:VEVENT
SUMMARY:Izbrana poglavja iz verjetnosti in statistike (MAT-D)\, Predavanja
  (P)
DTSTART;TZID=Europe/Ljubljana:20210427T140000
DTEND;TZID=Europe/Ljubljana:20210427T160000
DTSTAMP:20260423T063923Z
UID:fmf-AFLABS-URNIK:premaknjeno-srecanje:44726
ATTENDEE:doktorski študij (M)
CATEGORIES:Entry,Standard
COLOR:darkgreen
DESCRIPTION:Predmet: Izbrana poglavja iz verjetnosti in statistike (MAT-D)
 \, Predavanja (P)\nLetniki: doktorski študij (M)\nIzvajalci: Mihael Perma
 n\nProstor: 3.06
LOCATION:3.06
ORGANIZER:Mihael Perman
RELATED-TO:fmf-AFLABS-URNIK:srecanje:5622
X-WR-TIMEZONE:Europe/Ljubljana
END:VEVENT
BEGIN:VEVENT
SUMMARY:Izbrana poglavja iz verjetnosti in statistike (MAT-D)\, Predavanja
  (P)
DTSTART;TZID=Europe/Ljubljana:20210504T140000
DTEND;TZID=Europe/Ljubljana:20210504T160000
DTSTAMP:20260423T063923Z
UID:fmf-AFLABS-URNIK:premaknjeno-srecanje:44727
ATTENDEE:doktorski študij (M)
CATEGORIES:Entry,Standard
COLOR:darkgreen
DESCRIPTION:Predmet: Izbrana poglavja iz verjetnosti in statistike (MAT-D)
 \, Predavanja (P)\nLetniki: doktorski študij (M)\nIzvajalci: Mihael Perma
 n\nProstor: 3.06
LOCATION:3.06
ORGANIZER:Mihael Perman
RELATED-TO:fmf-AFLABS-URNIK:srecanje:5622
X-WR-TIMEZONE:Europe/Ljubljana
END:VEVENT
BEGIN:VEVENT
SUMMARY:Izbrana poglavja iz verjetnosti in statistike (MAT-D)\, Predavanja
  (P)
DTSTART;TZID=Europe/Ljubljana:20210511T140000
DTEND;TZID=Europe/Ljubljana:20210511T160000
DTSTAMP:20260423T063923Z
UID:fmf-AFLABS-URNIK:premaknjeno-srecanje:44728
ATTENDEE:doktorski študij (M)
CATEGORIES:Entry,Standard
COLOR:darkgreen
DESCRIPTION:Predmet: Izbrana poglavja iz verjetnosti in statistike (MAT-D)
 \, Predavanja (P)\nLetniki: doktorski študij (M)\nIzvajalci: Mihael Perma
 n\nProstor: 3.06
LOCATION:3.06
ORGANIZER:Mihael Perman
RELATED-TO:fmf-AFLABS-URNIK:srecanje:5622
X-WR-TIMEZONE:Europe/Ljubljana
END:VEVENT
BEGIN:VEVENT
SUMMARY:Izbrana poglavja iz verjetnosti in statistike (MAT-D)\, Predavanja
  (P)
DTSTART;TZID=Europe/Ljubljana:20210518T140000
DTEND;TZID=Europe/Ljubljana:20210518T160000
DTSTAMP:20260423T063923Z
UID:fmf-AFLABS-URNIK:premaknjeno-srecanje:44729
ATTENDEE:doktorski študij (M)
CATEGORIES:Entry,Standard
COLOR:darkgreen
DESCRIPTION:Predmet: Izbrana poglavja iz verjetnosti in statistike (MAT-D)
 \, Predavanja (P)\nLetniki: doktorski študij (M)\nIzvajalci: Mihael Perma
 n\nProstor: 3.06
LOCATION:3.06
ORGANIZER:Mihael Perman
RELATED-TO:fmf-AFLABS-URNIK:srecanje:5622
X-WR-TIMEZONE:Europe/Ljubljana
END:VEVENT
BEGIN:VEVENT
SUMMARY:Izbrana poglavja iz verjetnosti in statistike (MAT-D)\, Predavanja
  (P)
DTSTART;TZID=Europe/Ljubljana:20210525T140000
DTEND;TZID=Europe/Ljubljana:20210525T160000
DTSTAMP:20260423T063923Z
UID:fmf-AFLABS-URNIK:premaknjeno-srecanje:44730
ATTENDEE:doktorski študij (M)
CATEGORIES:Entry,Standard
COLOR:darkgreen
DESCRIPTION:Predmet: Izbrana poglavja iz verjetnosti in statistike (MAT-D)
 \, Predavanja (P)\nLetniki: doktorski študij (M)\nIzvajalci: Mihael Perma
 n\nProstor: 3.06
LOCATION:3.06
ORGANIZER:Mihael Perman
RELATED-TO:fmf-AFLABS-URNIK:srecanje:5622
X-WR-TIMEZONE:Europe/Ljubljana
END:VEVENT
BEGIN:VEVENT
SUMMARY:Rezervacija
DTSTART;TZID=Europe/Ljubljana:20210629T150000
DTEND;TZID=Europe/Ljubljana:20210629T180000
DTSTAMP:20260423T063923Z
UID:fmf-AFLABS-URNIK:rezervacija:7121
ATTENDEE:3. letnik (M)
ATTENDEE:3. letnik (PM)
CATEGORIES:Reservation
COLOR:royalblue
DESCRIPTION:Predmeti: Verjetnost (MAT-3\, PM-3)\nLetniki: 3. letnik (M)\, 
 3. letnik (PM)\nIzvajalci: Mihael Perman\nProstori: 2.04
LOCATION:2.04
ORGANIZER:Mihael Perman
X-WR-TIMEZONE:Europe/Ljubljana
END:VEVENT
BEGIN:VEVENT
SUMMARY:Rezervacija
DTSTART;TZID=Europe/Ljubljana:20210629T150000
DTEND;TZID=Europe/Ljubljana:20210629T180000
DTSTAMP:20260423T063923Z
UID:fmf-AFLABS-URNIK:rezervacija:7122
ATTENDEE:3. letnik (M)
ATTENDEE:3. letnik (PM)
CATEGORIES:Reservation
COLOR:royalblue
DESCRIPTION:Predmeti: Verjetnost (MAT-3\, PM-3)\nLetniki: 3. letnik (M)\, 
 3. letnik (PM)\nIzvajalci: Mihael Perman\nProstori: F1
LOCATION:F1
ORGANIZER:Mihael Perman
X-WR-TIMEZONE:Europe/Ljubljana
END:VEVENT
END:VCALENDAR
