BEGIN:VCALENDAR
VERSION:2.0
PRODID:-//AFLabs urnik izvoz - fmf//aflabs.si//SI
DTSTAMP:20260421T060113Z
NAME:UL FMF urnik
REFRESH-INTERVAL:PT1H
SOURCE:https://urnik.fmf.uni-lj.si/teacher/219?day=2021-12-06&export=1
URL:https://urnik.fmf.uni-lj.si/teacher/219?day=2021-12-06&export=1
X-PUBLISHED-TTL:PT1H
X-WR-CALNAME:UL FMF urnik
X-WR-TIMEZONE:Europe/Ljubljana
BEGIN:VTIMEZONE
TZID:Europe/Ljubljana
BEGIN:DAYLIGHT
DTSTART:20260329T020000
RDATE:20260329T020000
RDATE:20270328T020000
TZNAME:CEST
TZOFFSETFROM:+0100
TZOFFSETTO:+0200
END:DAYLIGHT
BEGIN:STANDARD
DTSTART:20261025T030000
RDATE:20261025T030000
RDATE:20271031T030000
TZNAME:CET
TZOFFSETFROM:+0200
TZOFFSETTO:+0100
END:STANDARD
END:VTIMEZONE
BEGIN:VEVENT
SUMMARY:Verjetnost (MAT-3\, PM-3)\, Ostalo (O)
DTSTART;TZID=Europe/Ljubljana:20211004T130000
DTEND;TZID=Europe/Ljubljana:20211004T140000
DTSTAMP:20260421T060113Z
UID:fmf-AFLABS-URNIK:premaknjeno-srecanje:118164
ATTENDEE:3. letnik (M)
ATTENDEE:3. letnik (PM)
CATEGORIES:Entry,Standard
COLOR:darkgreen
DESCRIPTION:Predmet: Verjetnost (MAT-3\, PM-3)\, Ostalo (O)\nLetniki: 3. l
 etnik (M)\, 3. letnik (PM)\nIzvajalci: Mihael Perman\, Martin Raič\nProst
 or: P.01
LOCATION:P.01
ORGANIZER:Mihael Perman, Martin Raič
RELATED-TO:fmf-AFLABS-URNIK:srecanje:6673
X-WR-TIMEZONE:Europe/Ljubljana
END:VEVENT
BEGIN:VEVENT
SUMMARY:Verjetnost (MAT-3\, PM-3)\, Ostalo (O)
DTSTART;TZID=Europe/Ljubljana:20211011T130000
DTEND;TZID=Europe/Ljubljana:20211011T140000
DTSTAMP:20260421T060113Z
UID:fmf-AFLABS-URNIK:premaknjeno-srecanje:118165
ATTENDEE:3. letnik (M)
ATTENDEE:3. letnik (PM)
CATEGORIES:Entry,Standard
COLOR:darkgreen
DESCRIPTION:Predmet: Verjetnost (MAT-3\, PM-3)\, Ostalo (O)\nLetniki: 3. l
 etnik (M)\, 3. letnik (PM)\nIzvajalci: Mihael Perman\, Martin Raič\nProst
 or: P.01
LOCATION:P.01
ORGANIZER:Mihael Perman, Martin Raič
RELATED-TO:fmf-AFLABS-URNIK:srecanje:6673
X-WR-TIMEZONE:Europe/Ljubljana
END:VEVENT
BEGIN:VEVENT
SUMMARY:Verjetnost (MAT-3\, PM-3)\, Ostalo (O)
DTSTART;TZID=Europe/Ljubljana:20211018T130000
DTEND;TZID=Europe/Ljubljana:20211018T140000
DTSTAMP:20260421T060113Z
UID:fmf-AFLABS-URNIK:premaknjeno-srecanje:118166
ATTENDEE:3. letnik (M)
ATTENDEE:3. letnik (PM)
CATEGORIES:Entry,Standard
COLOR:darkgreen
DESCRIPTION:Predmet: Verjetnost (MAT-3\, PM-3)\, Ostalo (O)\nLetniki: 3. l
 etnik (M)\, 3. letnik (PM)\nIzvajalci: Mihael Perman\, Martin Raič\nProst
 or: P.01
LOCATION:P.01
ORGANIZER:Mihael Perman, Martin Raič
RELATED-TO:fmf-AFLABS-URNIK:srecanje:6673
X-WR-TIMEZONE:Europe/Ljubljana
END:VEVENT
BEGIN:VEVENT
SUMMARY:Verjetnost (MAT-3\, PM-3)\, Ostalo (O)
DTSTART;TZID=Europe/Ljubljana:20211025T130000
DTEND;TZID=Europe/Ljubljana:20211025T140000
DTSTAMP:20260421T060113Z
UID:fmf-AFLABS-URNIK:premaknjeno-srecanje:118167
ATTENDEE:3. letnik (M)
ATTENDEE:3. letnik (PM)
CATEGORIES:Entry,Standard
COLOR:darkgreen
DESCRIPTION:Predmet: Verjetnost (MAT-3\, PM-3)\, Ostalo (O)\nLetniki: 3. l
 etnik (M)\, 3. letnik (PM)\nIzvajalci: Mihael Perman\, Martin Raič\nProst
 or: P.01
LOCATION:P.01
ORGANIZER:Mihael Perman, Martin Raič
RELATED-TO:fmf-AFLABS-URNIK:srecanje:6673
X-WR-TIMEZONE:Europe/Ljubljana
END:VEVENT
BEGIN:VEVENT
SUMMARY:Verjetnost (MAT-3\, PM-3)\, Ostalo (O)
DTSTART;TZID=Europe/Ljubljana:20211101T130000
DTEND;TZID=Europe/Ljubljana:20211101T140000
DTSTAMP:20260421T060113Z
UID:fmf-AFLABS-URNIK:premaknjeno-srecanje:118168
ATTENDEE:3. letnik (M)
ATTENDEE:3. letnik (PM)
CATEGORIES:Entry,Standard
COLOR:darkgreen
DESCRIPTION:Predmet: Verjetnost (MAT-3\, PM-3)\, Ostalo (O)\nLetniki: 3. l
 etnik (M)\, 3. letnik (PM)\nIzvajalci: Mihael Perman\, Martin Raič\nProst
 or: P.01
LOCATION:P.01
ORGANIZER:Mihael Perman, Martin Raič
RELATED-TO:fmf-AFLABS-URNIK:srecanje:6673
X-WR-TIMEZONE:Europe/Ljubljana
END:VEVENT
BEGIN:VEVENT
SUMMARY:Verjetnost (MAT-3\, PM-3)\, Ostalo (O)
DTSTART;TZID=Europe/Ljubljana:20211108T130000
DTEND;TZID=Europe/Ljubljana:20211108T140000
DTSTAMP:20260421T060113Z
UID:fmf-AFLABS-URNIK:premaknjeno-srecanje:118169
ATTENDEE:3. letnik (M)
ATTENDEE:3. letnik (PM)
CATEGORIES:Entry,Standard
COLOR:darkgreen
DESCRIPTION:Predmet: Verjetnost (MAT-3\, PM-3)\, Ostalo (O)\nLetniki: 3. l
 etnik (M)\, 3. letnik (PM)\nIzvajalci: Mihael Perman\, Martin Raič\nProst
 or: P.01
LOCATION:P.01
ORGANIZER:Mihael Perman, Martin Raič
RELATED-TO:fmf-AFLABS-URNIK:srecanje:6673
X-WR-TIMEZONE:Europe/Ljubljana
END:VEVENT
BEGIN:VEVENT
SUMMARY:Verjetnost (MAT-3\, PM-3)\, Ostalo (O)
DTSTART;TZID=Europe/Ljubljana:20211115T130000
DTEND;TZID=Europe/Ljubljana:20211115T140000
DTSTAMP:20260421T060113Z
UID:fmf-AFLABS-URNIK:premaknjeno-srecanje:118170
ATTENDEE:3. letnik (M)
ATTENDEE:3. letnik (PM)
CATEGORIES:Entry,Standard
COLOR:darkgreen
DESCRIPTION:Predmet: Verjetnost (MAT-3\, PM-3)\, Ostalo (O)\nLetniki: 3. l
 etnik (M)\, 3. letnik (PM)\nIzvajalci: Mihael Perman\, Martin Raič\nProst
 or: P.01
LOCATION:P.01
ORGANIZER:Mihael Perman, Martin Raič
RELATED-TO:fmf-AFLABS-URNIK:srecanje:6673
X-WR-TIMEZONE:Europe/Ljubljana
END:VEVENT
BEGIN:VEVENT
SUMMARY:Verjetnost (MAT-3\, PM-3)\, Ostalo (O)
DTSTART;TZID=Europe/Ljubljana:20211122T130000
DTEND;TZID=Europe/Ljubljana:20211122T140000
DTSTAMP:20260421T060113Z
UID:fmf-AFLABS-URNIK:premaknjeno-srecanje:118171
ATTENDEE:3. letnik (M)
ATTENDEE:3. letnik (PM)
CATEGORIES:Entry,Standard
COLOR:darkgreen
DESCRIPTION:Predmet: Verjetnost (MAT-3\, PM-3)\, Ostalo (O)\nLetniki: 3. l
 etnik (M)\, 3. letnik (PM)\nIzvajalci: Mihael Perman\, Martin Raič\nProst
 or: P.01
LOCATION:P.01
ORGANIZER:Mihael Perman, Martin Raič
RELATED-TO:fmf-AFLABS-URNIK:srecanje:6673
X-WR-TIMEZONE:Europe/Ljubljana
END:VEVENT
BEGIN:VEVENT
SUMMARY:Verjetnost (MAT-3\, PM-3)\, Ostalo (O)
DTSTART;TZID=Europe/Ljubljana:20211129T130000
DTEND;TZID=Europe/Ljubljana:20211129T140000
DTSTAMP:20260421T060113Z
UID:fmf-AFLABS-URNIK:premaknjeno-srecanje:118172
ATTENDEE:3. letnik (M)
ATTENDEE:3. letnik (PM)
CATEGORIES:Entry,Standard
COLOR:darkgreen
DESCRIPTION:Predmet: Verjetnost (MAT-3\, PM-3)\, Ostalo (O)\nLetniki: 3. l
 etnik (M)\, 3. letnik (PM)\nIzvajalci: Mihael Perman\, Martin Raič\nProst
 or: P.01
LOCATION:P.01
ORGANIZER:Mihael Perman, Martin Raič
RELATED-TO:fmf-AFLABS-URNIK:srecanje:6673
X-WR-TIMEZONE:Europe/Ljubljana
END:VEVENT
BEGIN:VEVENT
SUMMARY:Verjetnost (MAT-3\, PM-3)\, Ostalo (O)
DTSTART;TZID=Europe/Ljubljana:20211206T130000
DTEND;TZID=Europe/Ljubljana:20211206T140000
DTSTAMP:20260421T060113Z
UID:fmf-AFLABS-URNIK:premaknjeno-srecanje:118173
ATTENDEE:3. letnik (M)
ATTENDEE:3. letnik (PM)
CATEGORIES:Entry,Standard
COLOR:darkgreen
DESCRIPTION:Predmet: Verjetnost (MAT-3\, PM-3)\, Ostalo (O)\nLetniki: 3. l
 etnik (M)\, 3. letnik (PM)\nIzvajalci: Mihael Perman\, Martin Raič\nProst
 or: P.01
LOCATION:P.01
ORGANIZER:Mihael Perman, Martin Raič
RELATED-TO:fmf-AFLABS-URNIK:srecanje:6673
X-WR-TIMEZONE:Europe/Ljubljana
END:VEVENT
BEGIN:VEVENT
SUMMARY:Verjetnost (MAT-3\, PM-3)\, Ostalo (O)
DTSTART;TZID=Europe/Ljubljana:20211213T130000
DTEND;TZID=Europe/Ljubljana:20211213T140000
DTSTAMP:20260421T060113Z
UID:fmf-AFLABS-URNIK:premaknjeno-srecanje:118174
ATTENDEE:3. letnik (M)
ATTENDEE:3. letnik (PM)
CATEGORIES:Entry,Standard
COLOR:darkgreen
DESCRIPTION:Predmet: Verjetnost (MAT-3\, PM-3)\, Ostalo (O)\nLetniki: 3. l
 etnik (M)\, 3. letnik (PM)\nIzvajalci: Mihael Perman\, Martin Raič\nProst
 or: P.01
LOCATION:P.01
ORGANIZER:Mihael Perman, Martin Raič
RELATED-TO:fmf-AFLABS-URNIK:srecanje:6673
X-WR-TIMEZONE:Europe/Ljubljana
END:VEVENT
BEGIN:VEVENT
SUMMARY:Verjetnost (MAT-3\, PM-3)\, Ostalo (O)
DTSTART;TZID=Europe/Ljubljana:20211220T130000
DTEND;TZID=Europe/Ljubljana:20211220T140000
DTSTAMP:20260421T060113Z
UID:fmf-AFLABS-URNIK:premaknjeno-srecanje:118175
ATTENDEE:3. letnik (M)
ATTENDEE:3. letnik (PM)
CATEGORIES:Entry,Standard
COLOR:darkgreen
DESCRIPTION:Predmet: Verjetnost (MAT-3\, PM-3)\, Ostalo (O)\nLetniki: 3. l
 etnik (M)\, 3. letnik (PM)\nIzvajalci: Mihael Perman\, Martin Raič\nProst
 or: P.01
LOCATION:P.01
ORGANIZER:Mihael Perman, Martin Raič
RELATED-TO:fmf-AFLABS-URNIK:srecanje:6673
X-WR-TIMEZONE:Europe/Ljubljana
END:VEVENT
BEGIN:VEVENT
SUMMARY:Verjetnost (MAT-3\, PM-3)\, Ostalo (O)
DTSTART;TZID=Europe/Ljubljana:20211227T130000
DTEND;TZID=Europe/Ljubljana:20211227T140000
DTSTAMP:20260421T060113Z
UID:fmf-AFLABS-URNIK:premaknjeno-srecanje:118176
ATTENDEE:3. letnik (M)
ATTENDEE:3. letnik (PM)
CATEGORIES:Entry,Standard
COLOR:darkgreen
DESCRIPTION:Predmet: Verjetnost (MAT-3\, PM-3)\, Ostalo (O)\nLetniki: 3. l
 etnik (M)\, 3. letnik (PM)\nIzvajalci: Mihael Perman\, Martin Raič\nProst
 or: P.01
LOCATION:P.01
ORGANIZER:Mihael Perman, Martin Raič
RELATED-TO:fmf-AFLABS-URNIK:srecanje:6673
X-WR-TIMEZONE:Europe/Ljubljana
END:VEVENT
BEGIN:VEVENT
SUMMARY:Verjetnost (MAT-3\, PM-3)\, Ostalo (O)
DTSTART;TZID=Europe/Ljubljana:20220103T130000
DTEND;TZID=Europe/Ljubljana:20220103T140000
DTSTAMP:20260421T060113Z
UID:fmf-AFLABS-URNIK:premaknjeno-srecanje:118177
ATTENDEE:3. letnik (M)
ATTENDEE:3. letnik (PM)
CATEGORIES:Entry,Standard
COLOR:darkgreen
DESCRIPTION:Predmet: Verjetnost (MAT-3\, PM-3)\, Ostalo (O)\nLetniki: 3. l
 etnik (M)\, 3. letnik (PM)\nIzvajalci: Mihael Perman\, Martin Raič\nProst
 or: P.01
LOCATION:P.01
ORGANIZER:Mihael Perman, Martin Raič
RELATED-TO:fmf-AFLABS-URNIK:srecanje:6673
X-WR-TIMEZONE:Europe/Ljubljana
END:VEVENT
BEGIN:VEVENT
SUMMARY:Verjetnost (MAT-3\, PM-3)\, Ostalo (O)
DTSTART;TZID=Europe/Ljubljana:20220110T130000
DTEND;TZID=Europe/Ljubljana:20220110T140000
DTSTAMP:20260421T060113Z
UID:fmf-AFLABS-URNIK:premaknjeno-srecanje:118178
ATTENDEE:3. letnik (M)
ATTENDEE:3. letnik (PM)
CATEGORIES:Entry,Standard
COLOR:darkgreen
DESCRIPTION:Predmet: Verjetnost (MAT-3\, PM-3)\, Ostalo (O)\nLetniki: 3. l
 etnik (M)\, 3. letnik (PM)\nIzvajalci: Mihael Perman\, Martin Raič\nProst
 or: P.01
LOCATION:P.01
ORGANIZER:Mihael Perman, Martin Raič
RELATED-TO:fmf-AFLABS-URNIK:srecanje:6673
X-WR-TIMEZONE:Europe/Ljubljana
END:VEVENT
BEGIN:VEVENT
SUMMARY:FM2 (FM-M\, MAT-M\, PM-5)\, Predavanja (P)
DTSTART;TZID=Europe/Ljubljana:20211006T120000
DTEND;TZID=Europe/Ljubljana:20211006T150000
DTSTAMP:20260421T060113Z
UID:fmf-AFLABS-URNIK:premaknjeno-srecanje:20059
ATTENDEE:5. letnik (PM)
ATTENDEE:magistrski študij (FM)
ATTENDEE:magistrski študij (M)
CATEGORIES:Entry,Standard
COLOR:darkgreen
DESCRIPTION:Predmet: FM2 (FM-M\, MAT-M\, PM-5)\, Predavanja (P)\nLetniki: 
 magistrski študij (FM)\, magistrski študij (M)\, 5. letnik (PM)\nIzvajal
 ci: Mihael Perman\nProstor: 3.07
LOCATION:3.07
ORGANIZER:Mihael Perman
RELATED-TO:fmf-AFLABS-URNIK:srecanje:6183
X-WR-TIMEZONE:Europe/Ljubljana
END:VEVENT
BEGIN:VEVENT
SUMMARY:FM2 (FM-M\, MAT-M\, PM-5)\, Predavanja (P)
DTSTART;TZID=Europe/Ljubljana:20211013T120000
DTEND;TZID=Europe/Ljubljana:20211013T150000
DTSTAMP:20260421T060113Z
UID:fmf-AFLABS-URNIK:premaknjeno-srecanje:20060
ATTENDEE:5. letnik (PM)
ATTENDEE:magistrski študij (FM)
ATTENDEE:magistrski študij (M)
CATEGORIES:Entry,Standard
COLOR:darkgreen
DESCRIPTION:Predmet: FM2 (FM-M\, MAT-M\, PM-5)\, Predavanja (P)\nLetniki: 
 magistrski študij (FM)\, magistrski študij (M)\, 5. letnik (PM)\nIzvajal
 ci: Mihael Perman\nProstor: 3.07
LOCATION:3.07
ORGANIZER:Mihael Perman
RELATED-TO:fmf-AFLABS-URNIK:srecanje:6183
X-WR-TIMEZONE:Europe/Ljubljana
END:VEVENT
BEGIN:VEVENT
SUMMARY:FM2 (FM-M\, MAT-M\, PM-5)\, Predavanja (P)
DTSTART;TZID=Europe/Ljubljana:20211020T120000
DTEND;TZID=Europe/Ljubljana:20211020T150000
DTSTAMP:20260421T060113Z
UID:fmf-AFLABS-URNIK:premaknjeno-srecanje:20061
ATTENDEE:5. letnik (PM)
ATTENDEE:magistrski študij (FM)
ATTENDEE:magistrski študij (M)
CATEGORIES:Entry,Standard
COLOR:darkgreen
DESCRIPTION:Predmet: FM2 (FM-M\, MAT-M\, PM-5)\, Predavanja (P)\nLetniki: 
 magistrski študij (FM)\, magistrski študij (M)\, 5. letnik (PM)\nIzvajal
 ci: Mihael Perman\nProstor: 3.07
LOCATION:3.07
ORGANIZER:Mihael Perman
RELATED-TO:fmf-AFLABS-URNIK:srecanje:6183
X-WR-TIMEZONE:Europe/Ljubljana
END:VEVENT
BEGIN:VEVENT
SUMMARY:FM2 (FM-M\, MAT-M\, PM-5)\, Predavanja (P)
DTSTART;TZID=Europe/Ljubljana:20211027T120000
DTEND;TZID=Europe/Ljubljana:20211027T150000
DTSTAMP:20260421T060113Z
UID:fmf-AFLABS-URNIK:premaknjeno-srecanje:20062
ATTENDEE:5. letnik (PM)
ATTENDEE:magistrski študij (FM)
ATTENDEE:magistrski študij (M)
CATEGORIES:Entry,Standard
COLOR:darkgreen
DESCRIPTION:Predmet: FM2 (FM-M\, MAT-M\, PM-5)\, Predavanja (P)\nLetniki: 
 magistrski študij (FM)\, magistrski študij (M)\, 5. letnik (PM)\nIzvajal
 ci: Mihael Perman\nProstor: 3.07
LOCATION:3.07
ORGANIZER:Mihael Perman
RELATED-TO:fmf-AFLABS-URNIK:srecanje:6183
X-WR-TIMEZONE:Europe/Ljubljana
END:VEVENT
BEGIN:VEVENT
SUMMARY:FM2 (FM-M\, MAT-M\, PM-5)\, Predavanja (P)
DTSTART;TZID=Europe/Ljubljana:20211103T120000
DTEND;TZID=Europe/Ljubljana:20211103T150000
DTSTAMP:20260421T060113Z
UID:fmf-AFLABS-URNIK:premaknjeno-srecanje:20063
ATTENDEE:5. letnik (PM)
ATTENDEE:magistrski študij (FM)
ATTENDEE:magistrski študij (M)
CATEGORIES:Entry,Standard
COLOR:darkgreen
DESCRIPTION:Predmet: FM2 (FM-M\, MAT-M\, PM-5)\, Predavanja (P)\nLetniki: 
 magistrski študij (FM)\, magistrski študij (M)\, 5. letnik (PM)\nIzvajal
 ci: Mihael Perman\nProstor: 3.07
LOCATION:3.07
ORGANIZER:Mihael Perman
RELATED-TO:fmf-AFLABS-URNIK:srecanje:6183
X-WR-TIMEZONE:Europe/Ljubljana
END:VEVENT
BEGIN:VEVENT
SUMMARY:FM2 (FM-M\, MAT-M\, PM-5)\, Predavanja (P)
DTSTART;TZID=Europe/Ljubljana:20211110T120000
DTEND;TZID=Europe/Ljubljana:20211110T150000
DTSTAMP:20260421T060113Z
UID:fmf-AFLABS-URNIK:premaknjeno-srecanje:20064
ATTENDEE:5. letnik (PM)
ATTENDEE:magistrski študij (FM)
ATTENDEE:magistrski študij (M)
CATEGORIES:Entry,Standard
COLOR:darkgreen
DESCRIPTION:Predmet: FM2 (FM-M\, MAT-M\, PM-5)\, Predavanja (P)\nLetniki: 
 magistrski študij (FM)\, magistrski študij (M)\, 5. letnik (PM)\nIzvajal
 ci: Mihael Perman\nProstor: 3.07
LOCATION:3.07
ORGANIZER:Mihael Perman
RELATED-TO:fmf-AFLABS-URNIK:srecanje:6183
X-WR-TIMEZONE:Europe/Ljubljana
END:VEVENT
BEGIN:VEVENT
SUMMARY:FM2 (FM-M\, MAT-M\, PM-5)\, Predavanja (P)
DTSTART;TZID=Europe/Ljubljana:20211117T120000
DTEND;TZID=Europe/Ljubljana:20211117T150000
DTSTAMP:20260421T060113Z
UID:fmf-AFLABS-URNIK:premaknjeno-srecanje:20065
ATTENDEE:5. letnik (PM)
ATTENDEE:magistrski študij (FM)
ATTENDEE:magistrski študij (M)
CATEGORIES:Entry,Standard
COLOR:darkgreen
DESCRIPTION:Predmet: FM2 (FM-M\, MAT-M\, PM-5)\, Predavanja (P)\nLetniki: 
 magistrski študij (FM)\, magistrski študij (M)\, 5. letnik (PM)\nIzvajal
 ci: Mihael Perman\nProstor: 3.07
LOCATION:3.07
ORGANIZER:Mihael Perman
RELATED-TO:fmf-AFLABS-URNIK:srecanje:6183
X-WR-TIMEZONE:Europe/Ljubljana
END:VEVENT
BEGIN:VEVENT
SUMMARY:FM2 (FM-M\, MAT-M\, PM-5)\, Predavanja (P)
DTSTART;TZID=Europe/Ljubljana:20211124T120000
DTEND;TZID=Europe/Ljubljana:20211124T150000
DTSTAMP:20260421T060113Z
UID:fmf-AFLABS-URNIK:premaknjeno-srecanje:20066
ATTENDEE:5. letnik (PM)
ATTENDEE:magistrski študij (FM)
ATTENDEE:magistrski študij (M)
CATEGORIES:Entry,Standard
COLOR:darkgreen
DESCRIPTION:Predmet: FM2 (FM-M\, MAT-M\, PM-5)\, Predavanja (P)\nLetniki: 
 magistrski študij (FM)\, magistrski študij (M)\, 5. letnik (PM)\nIzvajal
 ci: Mihael Perman\nProstor: 3.07
LOCATION:3.07
ORGANIZER:Mihael Perman
RELATED-TO:fmf-AFLABS-URNIK:srecanje:6183
X-WR-TIMEZONE:Europe/Ljubljana
END:VEVENT
BEGIN:VEVENT
SUMMARY:FM2 (FM-M\, MAT-M\, PM-5)\, Predavanja (P)
DTSTART;TZID=Europe/Ljubljana:20211201T120000
DTEND;TZID=Europe/Ljubljana:20211201T150000
DTSTAMP:20260421T060113Z
UID:fmf-AFLABS-URNIK:premaknjeno-srecanje:20067
ATTENDEE:5. letnik (PM)
ATTENDEE:magistrski študij (FM)
ATTENDEE:magistrski študij (M)
CATEGORIES:Entry,Standard
COLOR:darkgreen
DESCRIPTION:Predmet: FM2 (FM-M\, MAT-M\, PM-5)\, Predavanja (P)\nLetniki: 
 magistrski študij (FM)\, magistrski študij (M)\, 5. letnik (PM)\nIzvajal
 ci: Mihael Perman\nProstor: 3.07
LOCATION:3.07
ORGANIZER:Mihael Perman
RELATED-TO:fmf-AFLABS-URNIK:srecanje:6183
X-WR-TIMEZONE:Europe/Ljubljana
END:VEVENT
BEGIN:VEVENT
SUMMARY:FM2 (FM-M\, MAT-M\, PM-5)\, Predavanja (P)
DTSTART;TZID=Europe/Ljubljana:20211208T120000
DTEND;TZID=Europe/Ljubljana:20211208T150000
DTSTAMP:20260421T060113Z
UID:fmf-AFLABS-URNIK:premaknjeno-srecanje:20068
ATTENDEE:5. letnik (PM)
ATTENDEE:magistrski študij (FM)
ATTENDEE:magistrski študij (M)
CATEGORIES:Entry,Standard
COLOR:darkgreen
DESCRIPTION:Predmet: FM2 (FM-M\, MAT-M\, PM-5)\, Predavanja (P)\nLetniki: 
 magistrski študij (FM)\, magistrski študij (M)\, 5. letnik (PM)\nIzvajal
 ci: Mihael Perman\nProstor: 3.07
LOCATION:3.07
ORGANIZER:Mihael Perman
RELATED-TO:fmf-AFLABS-URNIK:srecanje:6183
X-WR-TIMEZONE:Europe/Ljubljana
END:VEVENT
BEGIN:VEVENT
SUMMARY:FM2 (FM-M\, MAT-M\, PM-5)\, Predavanja (P)
DTSTART;TZID=Europe/Ljubljana:20211215T120000
DTEND;TZID=Europe/Ljubljana:20211215T150000
DTSTAMP:20260421T060113Z
UID:fmf-AFLABS-URNIK:premaknjeno-srecanje:20069
ATTENDEE:5. letnik (PM)
ATTENDEE:magistrski študij (FM)
ATTENDEE:magistrski študij (M)
CATEGORIES:Entry,Standard
COLOR:darkgreen
DESCRIPTION:Predmet: FM2 (FM-M\, MAT-M\, PM-5)\, Predavanja (P)\nLetniki: 
 magistrski študij (FM)\, magistrski študij (M)\, 5. letnik (PM)\nIzvajal
 ci: Mihael Perman\nProstor: 3.07
LOCATION:3.07
ORGANIZER:Mihael Perman
RELATED-TO:fmf-AFLABS-URNIK:srecanje:6183
X-WR-TIMEZONE:Europe/Ljubljana
END:VEVENT
BEGIN:VEVENT
SUMMARY:FM2 (FM-M\, MAT-M\, PM-5)\, Predavanja (P)
DTSTART;TZID=Europe/Ljubljana:20211222T120000
DTEND;TZID=Europe/Ljubljana:20211222T150000
DTSTAMP:20260421T060113Z
UID:fmf-AFLABS-URNIK:premaknjeno-srecanje:20070
ATTENDEE:5. letnik (PM)
ATTENDEE:magistrski študij (FM)
ATTENDEE:magistrski študij (M)
CATEGORIES:Entry,Standard
COLOR:darkgreen
DESCRIPTION:Predmet: FM2 (FM-M\, MAT-M\, PM-5)\, Predavanja (P)\nLetniki: 
 magistrski študij (FM)\, magistrski študij (M)\, 5. letnik (PM)\nIzvajal
 ci: Mihael Perman\nProstor: 3.07
LOCATION:3.07
ORGANIZER:Mihael Perman
RELATED-TO:fmf-AFLABS-URNIK:srecanje:6183
X-WR-TIMEZONE:Europe/Ljubljana
END:VEVENT
BEGIN:VEVENT
SUMMARY:FM2 (FM-M\, MAT-M\, PM-5)\, Predavanja (P)
DTSTART;TZID=Europe/Ljubljana:20211229T120000
DTEND;TZID=Europe/Ljubljana:20211229T150000
DTSTAMP:20260421T060113Z
UID:fmf-AFLABS-URNIK:premaknjeno-srecanje:20071
ATTENDEE:5. letnik (PM)
ATTENDEE:magistrski študij (FM)
ATTENDEE:magistrski študij (M)
CATEGORIES:Entry,Standard
COLOR:darkgreen
DESCRIPTION:Predmet: FM2 (FM-M\, MAT-M\, PM-5)\, Predavanja (P)\nLetniki: 
 magistrski študij (FM)\, magistrski študij (M)\, 5. letnik (PM)\nIzvajal
 ci: Mihael Perman\nProstor: 3.07
LOCATION:3.07
ORGANIZER:Mihael Perman
RELATED-TO:fmf-AFLABS-URNIK:srecanje:6183
X-WR-TIMEZONE:Europe/Ljubljana
END:VEVENT
BEGIN:VEVENT
SUMMARY:FM2 (FM-M\, MAT-M\, PM-5)\, Predavanja (P)
DTSTART;TZID=Europe/Ljubljana:20220105T120000
DTEND;TZID=Europe/Ljubljana:20220105T150000
DTSTAMP:20260421T060113Z
UID:fmf-AFLABS-URNIK:premaknjeno-srecanje:20072
ATTENDEE:5. letnik (PM)
ATTENDEE:magistrski študij (FM)
ATTENDEE:magistrski študij (M)
CATEGORIES:Entry,Standard
COLOR:darkgreen
DESCRIPTION:Predmet: FM2 (FM-M\, MAT-M\, PM-5)\, Predavanja (P)\nLetniki: 
 magistrski študij (FM)\, magistrski študij (M)\, 5. letnik (PM)\nIzvajal
 ci: Mihael Perman\nProstor: 3.07
LOCATION:3.07
ORGANIZER:Mihael Perman
RELATED-TO:fmf-AFLABS-URNIK:srecanje:6183
X-WR-TIMEZONE:Europe/Ljubljana
END:VEVENT
BEGIN:VEVENT
SUMMARY:FM2 (FM-M\, MAT-M\, PM-5)\, Predavanja (P)
DTSTART;TZID=Europe/Ljubljana:20220112T120000
DTEND;TZID=Europe/Ljubljana:20220112T150000
DTSTAMP:20260421T060113Z
UID:fmf-AFLABS-URNIK:premaknjeno-srecanje:20073
ATTENDEE:5. letnik (PM)
ATTENDEE:magistrski študij (FM)
ATTENDEE:magistrski študij (M)
CATEGORIES:Entry,Standard
COLOR:darkgreen
DESCRIPTION:Predmet: FM2 (FM-M\, MAT-M\, PM-5)\, Predavanja (P)\nLetniki: 
 magistrski študij (FM)\, magistrski študij (M)\, 5. letnik (PM)\nIzvajal
 ci: Mihael Perman\nProstor: 3.07
LOCATION:3.07
ORGANIZER:Mihael Perman
RELATED-TO:fmf-AFLABS-URNIK:srecanje:6183
X-WR-TIMEZONE:Europe/Ljubljana
END:VEVENT
BEGIN:VEVENT
SUMMARY:Verjetnost (MAT-3\, PM-3)\, Predavanja (P)
DTSTART;TZID=Europe/Ljubljana:20211007T100000
DTEND;TZID=Europe/Ljubljana:20211007T120000
DTSTAMP:20260421T060113Z
UID:fmf-AFLABS-URNIK:premaknjeno-srecanje:118369
ATTENDEE:3. letnik (M)
ATTENDEE:3. letnik (PM)
CATEGORIES:Entry,Standard
COLOR:darkgreen
DESCRIPTION:Predmet: Verjetnost (MAT-3\, PM-3)\, Predavanja (P)\nLetniki: 
 3. letnik (M)\, 3. letnik (PM)\nIzvajalci: Mihael Perman\nProstor: 2.03
LOCATION:2.03
ORGANIZER:Mihael Perman
RELATED-TO:fmf-AFLABS-URNIK:srecanje:6674
X-WR-TIMEZONE:Europe/Ljubljana
END:VEVENT
BEGIN:VEVENT
SUMMARY:Verjetnost (MAT-3\, PM-3)\, Predavanja (P)
DTSTART;TZID=Europe/Ljubljana:20211014T100000
DTEND;TZID=Europe/Ljubljana:20211014T120000
DTSTAMP:20260421T060113Z
UID:fmf-AFLABS-URNIK:premaknjeno-srecanje:118370
ATTENDEE:3. letnik (M)
ATTENDEE:3. letnik (PM)
CATEGORIES:Entry,Standard
COLOR:darkgreen
DESCRIPTION:Predmet: Verjetnost (MAT-3\, PM-3)\, Predavanja (P)\nLetniki: 
 3. letnik (M)\, 3. letnik (PM)\nIzvajalci: Mihael Perman\nProstor: 2.03
LOCATION:2.03
ORGANIZER:Mihael Perman
RELATED-TO:fmf-AFLABS-URNIK:srecanje:6674
X-WR-TIMEZONE:Europe/Ljubljana
END:VEVENT
BEGIN:VEVENT
SUMMARY:Verjetnost (MAT-3\, PM-3)\, Predavanja (P)
DTSTART;TZID=Europe/Ljubljana:20211021T100000
DTEND;TZID=Europe/Ljubljana:20211021T120000
DTSTAMP:20260421T060113Z
UID:fmf-AFLABS-URNIK:premaknjeno-srecanje:118371
ATTENDEE:3. letnik (M)
ATTENDEE:3. letnik (PM)
CATEGORIES:Entry,Standard
COLOR:darkgreen
DESCRIPTION:Predmet: Verjetnost (MAT-3\, PM-3)\, Predavanja (P)\nLetniki: 
 3. letnik (M)\, 3. letnik (PM)\nIzvajalci: Mihael Perman\nProstor: 2.03
LOCATION:2.03
ORGANIZER:Mihael Perman
RELATED-TO:fmf-AFLABS-URNIK:srecanje:6674
X-WR-TIMEZONE:Europe/Ljubljana
END:VEVENT
BEGIN:VEVENT
SUMMARY:Verjetnost (MAT-3\, PM-3)\, Predavanja (P)
DTSTART;TZID=Europe/Ljubljana:20211028T100000
DTEND;TZID=Europe/Ljubljana:20211028T120000
DTSTAMP:20260421T060113Z
UID:fmf-AFLABS-URNIK:premaknjeno-srecanje:118372
ATTENDEE:3. letnik (M)
ATTENDEE:3. letnik (PM)
CATEGORIES:Entry,Standard
COLOR:darkgreen
DESCRIPTION:Predmet: Verjetnost (MAT-3\, PM-3)\, Predavanja (P)\nLetniki: 
 3. letnik (M)\, 3. letnik (PM)\nIzvajalci: Mihael Perman\nProstor: 2.03
LOCATION:2.03
ORGANIZER:Mihael Perman
RELATED-TO:fmf-AFLABS-URNIK:srecanje:6674
X-WR-TIMEZONE:Europe/Ljubljana
END:VEVENT
BEGIN:VEVENT
SUMMARY:Verjetnost (MAT-3\, PM-3)\, Predavanja (P)
DTSTART;TZID=Europe/Ljubljana:20211104T100000
DTEND;TZID=Europe/Ljubljana:20211104T120000
DTSTAMP:20260421T060113Z
UID:fmf-AFLABS-URNIK:premaknjeno-srecanje:118373
ATTENDEE:3. letnik (M)
ATTENDEE:3. letnik (PM)
CATEGORIES:Entry,Standard
COLOR:darkgreen
DESCRIPTION:Predmet: Verjetnost (MAT-3\, PM-3)\, Predavanja (P)\nLetniki: 
 3. letnik (M)\, 3. letnik (PM)\nIzvajalci: Mihael Perman\nProstor: 2.03
LOCATION:2.03
ORGANIZER:Mihael Perman
RELATED-TO:fmf-AFLABS-URNIK:srecanje:6674
X-WR-TIMEZONE:Europe/Ljubljana
END:VEVENT
BEGIN:VEVENT
SUMMARY:Verjetnost (MAT-3\, PM-3)\, Predavanja (P)
DTSTART;TZID=Europe/Ljubljana:20211111T100000
DTEND;TZID=Europe/Ljubljana:20211111T120000
DTSTAMP:20260421T060113Z
UID:fmf-AFLABS-URNIK:premaknjeno-srecanje:118374
ATTENDEE:3. letnik (M)
ATTENDEE:3. letnik (PM)
CATEGORIES:Entry,Standard
COLOR:darkgreen
DESCRIPTION:Predmet: Verjetnost (MAT-3\, PM-3)\, Predavanja (P)\nLetniki: 
 3. letnik (M)\, 3. letnik (PM)\nIzvajalci: Mihael Perman\nProstor: 2.03
LOCATION:2.03
ORGANIZER:Mihael Perman
RELATED-TO:fmf-AFLABS-URNIK:srecanje:6674
X-WR-TIMEZONE:Europe/Ljubljana
END:VEVENT
BEGIN:VEVENT
SUMMARY:Verjetnost (MAT-3\, PM-3)\, Predavanja (P)
DTSTART;TZID=Europe/Ljubljana:20211118T100000
DTEND;TZID=Europe/Ljubljana:20211118T120000
DTSTAMP:20260421T060113Z
UID:fmf-AFLABS-URNIK:premaknjeno-srecanje:118375
ATTENDEE:3. letnik (M)
ATTENDEE:3. letnik (PM)
CATEGORIES:Entry,Standard
COLOR:darkgreen
DESCRIPTION:Predmet: Verjetnost (MAT-3\, PM-3)\, Predavanja (P)\nLetniki: 
 3. letnik (M)\, 3. letnik (PM)\nIzvajalci: Mihael Perman\nProstor: 2.03
LOCATION:2.03
ORGANIZER:Mihael Perman
RELATED-TO:fmf-AFLABS-URNIK:srecanje:6674
X-WR-TIMEZONE:Europe/Ljubljana
END:VEVENT
BEGIN:VEVENT
SUMMARY:Verjetnost (MAT-3\, PM-3)\, Predavanja (P)
DTSTART;TZID=Europe/Ljubljana:20211125T100000
DTEND;TZID=Europe/Ljubljana:20211125T120000
DTSTAMP:20260421T060113Z
UID:fmf-AFLABS-URNIK:premaknjeno-srecanje:118376
ATTENDEE:3. letnik (M)
ATTENDEE:3. letnik (PM)
CATEGORIES:Entry,Standard
COLOR:darkgreen
DESCRIPTION:Predmet: Verjetnost (MAT-3\, PM-3)\, Predavanja (P)\nLetniki: 
 3. letnik (M)\, 3. letnik (PM)\nIzvajalci: Mihael Perman\nProstor: 2.03
LOCATION:2.03
ORGANIZER:Mihael Perman
RELATED-TO:fmf-AFLABS-URNIK:srecanje:6674
X-WR-TIMEZONE:Europe/Ljubljana
END:VEVENT
BEGIN:VEVENT
SUMMARY:Verjetnost (MAT-3\, PM-3)\, Predavanja (P)
DTSTART;TZID=Europe/Ljubljana:20211202T100000
DTEND;TZID=Europe/Ljubljana:20211202T120000
DTSTAMP:20260421T060113Z
UID:fmf-AFLABS-URNIK:premaknjeno-srecanje:118377
ATTENDEE:3. letnik (M)
ATTENDEE:3. letnik (PM)
CATEGORIES:Entry,Standard
COLOR:darkgreen
DESCRIPTION:Predmet: Verjetnost (MAT-3\, PM-3)\, Predavanja (P)\nLetniki: 
 3. letnik (M)\, 3. letnik (PM)\nIzvajalci: Mihael Perman\nProstor: 2.03
LOCATION:2.03
ORGANIZER:Mihael Perman
RELATED-TO:fmf-AFLABS-URNIK:srecanje:6674
X-WR-TIMEZONE:Europe/Ljubljana
END:VEVENT
BEGIN:VEVENT
SUMMARY:Verjetnost (MAT-3\, PM-3)\, Predavanja (P)
DTSTART;TZID=Europe/Ljubljana:20211209T100000
DTEND;TZID=Europe/Ljubljana:20211209T120000
DTSTAMP:20260421T060113Z
UID:fmf-AFLABS-URNIK:premaknjeno-srecanje:118378
ATTENDEE:3. letnik (M)
ATTENDEE:3. letnik (PM)
CATEGORIES:Entry,Standard
COLOR:darkgreen
DESCRIPTION:Predmet: Verjetnost (MAT-3\, PM-3)\, Predavanja (P)\nLetniki: 
 3. letnik (M)\, 3. letnik (PM)\nIzvajalci: Mihael Perman\nProstor: 2.03
LOCATION:2.03
ORGANIZER:Mihael Perman
RELATED-TO:fmf-AFLABS-URNIK:srecanje:6674
X-WR-TIMEZONE:Europe/Ljubljana
END:VEVENT
BEGIN:VEVENT
SUMMARY:Verjetnost (MAT-3\, PM-3)\, Predavanja (P)
DTSTART;TZID=Europe/Ljubljana:20211216T100000
DTEND;TZID=Europe/Ljubljana:20211216T120000
DTSTAMP:20260421T060113Z
UID:fmf-AFLABS-URNIK:premaknjeno-srecanje:118379
ATTENDEE:3. letnik (M)
ATTENDEE:3. letnik (PM)
CATEGORIES:Entry,Standard
COLOR:darkgreen
DESCRIPTION:Predmet: Verjetnost (MAT-3\, PM-3)\, Predavanja (P)\nLetniki: 
 3. letnik (M)\, 3. letnik (PM)\nIzvajalci: Mihael Perman\nProstor: 2.03
LOCATION:2.03
ORGANIZER:Mihael Perman
RELATED-TO:fmf-AFLABS-URNIK:srecanje:6674
X-WR-TIMEZONE:Europe/Ljubljana
END:VEVENT
BEGIN:VEVENT
SUMMARY:Verjetnost (MAT-3\, PM-3)\, Predavanja (P)
DTSTART;TZID=Europe/Ljubljana:20211223T100000
DTEND;TZID=Europe/Ljubljana:20211223T120000
DTSTAMP:20260421T060113Z
UID:fmf-AFLABS-URNIK:premaknjeno-srecanje:118380
ATTENDEE:3. letnik (M)
ATTENDEE:3. letnik (PM)
CATEGORIES:Entry,Standard
COLOR:darkgreen
DESCRIPTION:Predmet: Verjetnost (MAT-3\, PM-3)\, Predavanja (P)\nLetniki: 
 3. letnik (M)\, 3. letnik (PM)\nIzvajalci: Mihael Perman\nProstor: 2.03
LOCATION:2.03
ORGANIZER:Mihael Perman
RELATED-TO:fmf-AFLABS-URNIK:srecanje:6674
X-WR-TIMEZONE:Europe/Ljubljana
END:VEVENT
BEGIN:VEVENT
SUMMARY:Verjetnost (MAT-3\, PM-3)\, Predavanja (P)
DTSTART;TZID=Europe/Ljubljana:20211230T100000
DTEND;TZID=Europe/Ljubljana:20211230T120000
DTSTAMP:20260421T060113Z
UID:fmf-AFLABS-URNIK:premaknjeno-srecanje:118381
ATTENDEE:3. letnik (M)
ATTENDEE:3. letnik (PM)
CATEGORIES:Entry,Standard
COLOR:darkgreen
DESCRIPTION:Predmet: Verjetnost (MAT-3\, PM-3)\, Predavanja (P)\nLetniki: 
 3. letnik (M)\, 3. letnik (PM)\nIzvajalci: Mihael Perman\nProstor: 2.03
LOCATION:2.03
ORGANIZER:Mihael Perman
RELATED-TO:fmf-AFLABS-URNIK:srecanje:6674
X-WR-TIMEZONE:Europe/Ljubljana
END:VEVENT
BEGIN:VEVENT
SUMMARY:Verjetnost (MAT-3\, PM-3)\, Predavanja (P)
DTSTART;TZID=Europe/Ljubljana:20220106T100000
DTEND;TZID=Europe/Ljubljana:20220106T120000
DTSTAMP:20260421T060113Z
UID:fmf-AFLABS-URNIK:premaknjeno-srecanje:118382
ATTENDEE:3. letnik (M)
ATTENDEE:3. letnik (PM)
CATEGORIES:Entry,Standard
COLOR:darkgreen
DESCRIPTION:Predmet: Verjetnost (MAT-3\, PM-3)\, Predavanja (P)\nLetniki: 
 3. letnik (M)\, 3. letnik (PM)\nIzvajalci: Mihael Perman\nProstor: 2.03
LOCATION:2.03
ORGANIZER:Mihael Perman
RELATED-TO:fmf-AFLABS-URNIK:srecanje:6674
X-WR-TIMEZONE:Europe/Ljubljana
END:VEVENT
BEGIN:VEVENT
SUMMARY:Verjetnost (MAT-3\, PM-3)\, Predavanja (P)
DTSTART;TZID=Europe/Ljubljana:20220113T100000
DTEND;TZID=Europe/Ljubljana:20220113T120000
DTSTAMP:20260421T060113Z
UID:fmf-AFLABS-URNIK:premaknjeno-srecanje:118383
ATTENDEE:3. letnik (M)
ATTENDEE:3. letnik (PM)
CATEGORIES:Entry,Standard
COLOR:darkgreen
DESCRIPTION:Predmet: Verjetnost (MAT-3\, PM-3)\, Predavanja (P)\nLetniki: 
 3. letnik (M)\, 3. letnik (PM)\nIzvajalci: Mihael Perman\nProstor: 2.03
LOCATION:2.03
ORGANIZER:Mihael Perman
RELATED-TO:fmf-AFLABS-URNIK:srecanje:6674
X-WR-TIMEZONE:Europe/Ljubljana
END:VEVENT
END:VCALENDAR
