BEGIN:VCALENDAR
VERSION:2.0
PRODID:-//AFLabs urnik izvoz - fmf//aflabs.si//SI
DTSTAMP:20260422T015334Z
NAME:UL FMF urnik
REFRESH-INTERVAL:PT1H
SOURCE:https://urnik.fmf.uni-lj.si/teacher/219?day=2022-10-10&export=1
URL:https://urnik.fmf.uni-lj.si/teacher/219?day=2022-10-10&export=1
X-PUBLISHED-TTL:PT1H
X-WR-CALNAME:UL FMF urnik
X-WR-TIMEZONE:Europe/Ljubljana
BEGIN:VTIMEZONE
TZID:Europe/Ljubljana
BEGIN:DAYLIGHT
DTSTART:20260329T020000
RDATE:20260329T020000
RDATE:20270328T020000
TZNAME:CEST
TZOFFSETFROM:+0100
TZOFFSETTO:+0200
END:DAYLIGHT
BEGIN:STANDARD
DTSTART:20261025T030000
RDATE:20261025T030000
RDATE:20271031T030000
TZNAME:CET
TZOFFSETFROM:+0200
TZOFFSETTO:+0100
END:STANDARD
END:VTIMEZONE
BEGIN:VEVENT
SUMMARY:Verjetnost (MAT-3\, PM-3)\, Predavanja (P)
DTSTART;TZID=Europe/Ljubljana:20221004T080000
DTEND;TZID=Europe/Ljubljana:20221004T100000
DTSTAMP:20260422T015334Z
UID:fmf-AFLABS-URNIK:premaknjeno-srecanje:118211
ATTENDEE:3. letnik (M)
ATTENDEE:3. letnik (PM)
CATEGORIES:Entry,Standard
COLOR:darkgreen
DESCRIPTION:Predmet: Verjetnost (MAT-3\, PM-3)\, Predavanja (P)\nLetniki: 
 3. letnik (M)\, 3. letnik (PM)\nIzvajalci: Mihael Perman\nProstor: 3.06
LOCATION:3.06
ORGANIZER:Mihael Perman
RELATED-TO:fmf-AFLABS-URNIK:srecanje:8082
X-WR-TIMEZONE:Europe/Ljubljana
END:VEVENT
BEGIN:VEVENT
SUMMARY:Verjetnost (MAT-3\, PM-3)\, Predavanja (P)
DTSTART;TZID=Europe/Ljubljana:20221011T080000
DTEND;TZID=Europe/Ljubljana:20221011T100000
DTSTAMP:20260422T015334Z
UID:fmf-AFLABS-URNIK:premaknjeno-srecanje:118212
ATTENDEE:3. letnik (M)
ATTENDEE:3. letnik (PM)
CATEGORIES:Entry,Standard
COLOR:darkgreen
DESCRIPTION:Predmet: Verjetnost (MAT-3\, PM-3)\, Predavanja (P)\nLetniki: 
 3. letnik (M)\, 3. letnik (PM)\nIzvajalci: Mihael Perman\nProstor: 3.06
LOCATION:3.06
ORGANIZER:Mihael Perman
RELATED-TO:fmf-AFLABS-URNIK:srecanje:8082
X-WR-TIMEZONE:Europe/Ljubljana
END:VEVENT
BEGIN:VEVENT
SUMMARY:Verjetnost (MAT-3\, PM-3)\, Predavanja (P)
DTSTART;TZID=Europe/Ljubljana:20221018T080000
DTEND;TZID=Europe/Ljubljana:20221018T100000
DTSTAMP:20260422T015334Z
UID:fmf-AFLABS-URNIK:premaknjeno-srecanje:118213
ATTENDEE:3. letnik (M)
ATTENDEE:3. letnik (PM)
CATEGORIES:Entry,Standard
COLOR:darkgreen
DESCRIPTION:Predmet: Verjetnost (MAT-3\, PM-3)\, Predavanja (P)\nLetniki: 
 3. letnik (M)\, 3. letnik (PM)\nIzvajalci: Mihael Perman\nProstor: 3.06
LOCATION:3.06
ORGANIZER:Mihael Perman
RELATED-TO:fmf-AFLABS-URNIK:srecanje:8082
X-WR-TIMEZONE:Europe/Ljubljana
END:VEVENT
BEGIN:VEVENT
SUMMARY:Verjetnost (MAT-3\, PM-3)\, Predavanja (P)
DTSTART;TZID=Europe/Ljubljana:20221025T080000
DTEND;TZID=Europe/Ljubljana:20221025T100000
DTSTAMP:20260422T015334Z
UID:fmf-AFLABS-URNIK:premaknjeno-srecanje:118214
ATTENDEE:3. letnik (M)
ATTENDEE:3. letnik (PM)
CATEGORIES:Entry,Standard
COLOR:darkgreen
DESCRIPTION:Predmet: Verjetnost (MAT-3\, PM-3)\, Predavanja (P)\nLetniki: 
 3. letnik (M)\, 3. letnik (PM)\nIzvajalci: Mihael Perman\nProstor: 3.06
LOCATION:3.06
ORGANIZER:Mihael Perman
RELATED-TO:fmf-AFLABS-URNIK:srecanje:8082
X-WR-TIMEZONE:Europe/Ljubljana
END:VEVENT
BEGIN:VEVENT
SUMMARY:Verjetnost (MAT-3\, PM-3)\, Predavanja (P)
DTSTART;TZID=Europe/Ljubljana:20221101T080000
DTEND;TZID=Europe/Ljubljana:20221101T100000
DTSTAMP:20260422T015334Z
UID:fmf-AFLABS-URNIK:premaknjeno-srecanje:118215
ATTENDEE:3. letnik (M)
ATTENDEE:3. letnik (PM)
CATEGORIES:Entry,Standard
COLOR:darkgreen
DESCRIPTION:Predmet: Verjetnost (MAT-3\, PM-3)\, Predavanja (P)\nLetniki: 
 3. letnik (M)\, 3. letnik (PM)\nIzvajalci: Mihael Perman\nProstor: 3.06
LOCATION:3.06
ORGANIZER:Mihael Perman
RELATED-TO:fmf-AFLABS-URNIK:srecanje:8082
X-WR-TIMEZONE:Europe/Ljubljana
END:VEVENT
BEGIN:VEVENT
SUMMARY:Verjetnost (MAT-3\, PM-3)\, Predavanja (P)
DTSTART;TZID=Europe/Ljubljana:20221108T080000
DTEND;TZID=Europe/Ljubljana:20221108T100000
DTSTAMP:20260422T015334Z
UID:fmf-AFLABS-URNIK:premaknjeno-srecanje:118216
ATTENDEE:3. letnik (M)
ATTENDEE:3. letnik (PM)
CATEGORIES:Entry,Standard
COLOR:darkgreen
DESCRIPTION:Predmet: Verjetnost (MAT-3\, PM-3)\, Predavanja (P)\nLetniki: 
 3. letnik (M)\, 3. letnik (PM)\nIzvajalci: Mihael Perman\nProstor: 3.06
LOCATION:3.06
ORGANIZER:Mihael Perman
RELATED-TO:fmf-AFLABS-URNIK:srecanje:8082
X-WR-TIMEZONE:Europe/Ljubljana
END:VEVENT
BEGIN:VEVENT
SUMMARY:Verjetnost (MAT-3\, PM-3)\, Predavanja (P)
DTSTART;TZID=Europe/Ljubljana:20221115T080000
DTEND;TZID=Europe/Ljubljana:20221115T100000
DTSTAMP:20260422T015334Z
UID:fmf-AFLABS-URNIK:premaknjeno-srecanje:118217
ATTENDEE:3. letnik (M)
ATTENDEE:3. letnik (PM)
CATEGORIES:Entry,Standard
COLOR:darkgreen
DESCRIPTION:Predmet: Verjetnost (MAT-3\, PM-3)\, Predavanja (P)\nLetniki: 
 3. letnik (M)\, 3. letnik (PM)\nIzvajalci: Mihael Perman\nProstor: 3.06
LOCATION:3.06
ORGANIZER:Mihael Perman
RELATED-TO:fmf-AFLABS-URNIK:srecanje:8082
X-WR-TIMEZONE:Europe/Ljubljana
END:VEVENT
BEGIN:VEVENT
SUMMARY:Verjetnost (MAT-3\, PM-3)\, Predavanja (P)
DTSTART;TZID=Europe/Ljubljana:20221122T080000
DTEND;TZID=Europe/Ljubljana:20221122T100000
DTSTAMP:20260422T015334Z
UID:fmf-AFLABS-URNIK:premaknjeno-srecanje:118218
ATTENDEE:3. letnik (M)
ATTENDEE:3. letnik (PM)
CATEGORIES:Entry,Standard
COLOR:darkgreen
DESCRIPTION:Predmet: Verjetnost (MAT-3\, PM-3)\, Predavanja (P)\nLetniki: 
 3. letnik (M)\, 3. letnik (PM)\nIzvajalci: Mihael Perman\nProstor: 3.06
LOCATION:3.06
ORGANIZER:Mihael Perman
RELATED-TO:fmf-AFLABS-URNIK:srecanje:8082
X-WR-TIMEZONE:Europe/Ljubljana
END:VEVENT
BEGIN:VEVENT
SUMMARY:Verjetnost (MAT-3\, PM-3)\, Predavanja (P)
DTSTART;TZID=Europe/Ljubljana:20221129T080000
DTEND;TZID=Europe/Ljubljana:20221129T100000
DTSTAMP:20260422T015334Z
UID:fmf-AFLABS-URNIK:premaknjeno-srecanje:118219
ATTENDEE:3. letnik (M)
ATTENDEE:3. letnik (PM)
CATEGORIES:Entry,Standard
COLOR:darkgreen
DESCRIPTION:Predmet: Verjetnost (MAT-3\, PM-3)\, Predavanja (P)\nLetniki: 
 3. letnik (M)\, 3. letnik (PM)\nIzvajalci: Mihael Perman\nProstor: 3.06
LOCATION:3.06
ORGANIZER:Mihael Perman
RELATED-TO:fmf-AFLABS-URNIK:srecanje:8082
X-WR-TIMEZONE:Europe/Ljubljana
END:VEVENT
BEGIN:VEVENT
SUMMARY:Verjetnost (MAT-3\, PM-3)\, Predavanja (P)
DTSTART;TZID=Europe/Ljubljana:20221206T080000
DTEND;TZID=Europe/Ljubljana:20221206T100000
DTSTAMP:20260422T015334Z
UID:fmf-AFLABS-URNIK:premaknjeno-srecanje:118220
ATTENDEE:3. letnik (M)
ATTENDEE:3. letnik (PM)
CATEGORIES:Entry,Standard
COLOR:darkgreen
DESCRIPTION:Predmet: Verjetnost (MAT-3\, PM-3)\, Predavanja (P)\nLetniki: 
 3. letnik (M)\, 3. letnik (PM)\nIzvajalci: Mihael Perman\nProstor: 3.06
LOCATION:3.06
ORGANIZER:Mihael Perman
RELATED-TO:fmf-AFLABS-URNIK:srecanje:8082
X-WR-TIMEZONE:Europe/Ljubljana
END:VEVENT
BEGIN:VEVENT
SUMMARY:Verjetnost (MAT-3\, PM-3)\, Predavanja (P)
DTSTART;TZID=Europe/Ljubljana:20221213T080000
DTEND;TZID=Europe/Ljubljana:20221213T100000
DTSTAMP:20260422T015334Z
UID:fmf-AFLABS-URNIK:premaknjeno-srecanje:118221
ATTENDEE:3. letnik (M)
ATTENDEE:3. letnik (PM)
CATEGORIES:Entry,Standard
COLOR:darkgreen
DESCRIPTION:Predmet: Verjetnost (MAT-3\, PM-3)\, Predavanja (P)\nLetniki: 
 3. letnik (M)\, 3. letnik (PM)\nIzvajalci: Mihael Perman\nProstor: 3.06
LOCATION:3.06
ORGANIZER:Mihael Perman
RELATED-TO:fmf-AFLABS-URNIK:srecanje:8082
X-WR-TIMEZONE:Europe/Ljubljana
END:VEVENT
BEGIN:VEVENT
SUMMARY:Verjetnost (MAT-3\, PM-3)\, Predavanja (P)
DTSTART;TZID=Europe/Ljubljana:20221220T080000
DTEND;TZID=Europe/Ljubljana:20221220T100000
DTSTAMP:20260422T015334Z
UID:fmf-AFLABS-URNIK:premaknjeno-srecanje:118222
ATTENDEE:3. letnik (M)
ATTENDEE:3. letnik (PM)
CATEGORIES:Entry,Standard
COLOR:darkgreen
DESCRIPTION:Predmet: Verjetnost (MAT-3\, PM-3)\, Predavanja (P)\nLetniki: 
 3. letnik (M)\, 3. letnik (PM)\nIzvajalci: Mihael Perman\nProstor: 3.06
LOCATION:3.06
ORGANIZER:Mihael Perman
RELATED-TO:fmf-AFLABS-URNIK:srecanje:8082
X-WR-TIMEZONE:Europe/Ljubljana
END:VEVENT
BEGIN:VEVENT
SUMMARY:Verjetnost (MAT-3\, PM-3)\, Predavanja (P)
DTSTART;TZID=Europe/Ljubljana:20221227T080000
DTEND;TZID=Europe/Ljubljana:20221227T100000
DTSTAMP:20260422T015334Z
UID:fmf-AFLABS-URNIK:premaknjeno-srecanje:118223
ATTENDEE:3. letnik (M)
ATTENDEE:3. letnik (PM)
CATEGORIES:Entry,Standard
COLOR:darkgreen
DESCRIPTION:Predmet: Verjetnost (MAT-3\, PM-3)\, Predavanja (P)\nLetniki: 
 3. letnik (M)\, 3. letnik (PM)\nIzvajalci: Mihael Perman\nProstor: 3.06
LOCATION:3.06
ORGANIZER:Mihael Perman
RELATED-TO:fmf-AFLABS-URNIK:srecanje:8082
X-WR-TIMEZONE:Europe/Ljubljana
END:VEVENT
BEGIN:VEVENT
SUMMARY:Verjetnost (MAT-3\, PM-3)\, Predavanja (P)
DTSTART;TZID=Europe/Ljubljana:20230103T080000
DTEND;TZID=Europe/Ljubljana:20230103T100000
DTSTAMP:20260422T015334Z
UID:fmf-AFLABS-URNIK:premaknjeno-srecanje:118224
ATTENDEE:3. letnik (M)
ATTENDEE:3. letnik (PM)
CATEGORIES:Entry,Standard
COLOR:darkgreen
DESCRIPTION:Predmet: Verjetnost (MAT-3\, PM-3)\, Predavanja (P)\nLetniki: 
 3. letnik (M)\, 3. letnik (PM)\nIzvajalci: Mihael Perman\nProstor: 3.06
LOCATION:3.06
ORGANIZER:Mihael Perman
RELATED-TO:fmf-AFLABS-URNIK:srecanje:8082
X-WR-TIMEZONE:Europe/Ljubljana
END:VEVENT
BEGIN:VEVENT
SUMMARY:Verjetnost (MAT-3\, PM-3)\, Predavanja (P)
DTSTART;TZID=Europe/Ljubljana:20230110T080000
DTEND;TZID=Europe/Ljubljana:20230110T100000
DTSTAMP:20260422T015334Z
UID:fmf-AFLABS-URNIK:premaknjeno-srecanje:118225
ATTENDEE:3. letnik (M)
ATTENDEE:3. letnik (PM)
CATEGORIES:Entry,Standard
COLOR:darkgreen
DESCRIPTION:Predmet: Verjetnost (MAT-3\, PM-3)\, Predavanja (P)\nLetniki: 
 3. letnik (M)\, 3. letnik (PM)\nIzvajalci: Mihael Perman\nProstor: 3.06
LOCATION:3.06
ORGANIZER:Mihael Perman
RELATED-TO:fmf-AFLABS-URNIK:srecanje:8082
X-WR-TIMEZONE:Europe/Ljubljana
END:VEVENT
BEGIN:VEVENT
SUMMARY:FM2 (FM-M\, MAT-M\, PM-5)\, Predavanja (P)
DTSTART;TZID=Europe/Ljubljana:20221005T100000
DTEND;TZID=Europe/Ljubljana:20221005T130000
DTSTAMP:20260422T015334Z
UID:fmf-AFLABS-URNIK:premaknjeno-srecanje:20028
ATTENDEE:5. letnik (PM)
ATTENDEE:magistrski študij (FM)
ATTENDEE:magistrski študij (M)
CATEGORIES:Entry,Standard
COLOR:darkgreen
DESCRIPTION:Predmet: FM2 (FM-M\, MAT-M\, PM-5)\, Predavanja (P)\nLetniki: 
 magistrski študij (FM)\, magistrski študij (M)\, 5. letnik (PM)\nIzvajal
 ci: Mihael Perman\nProstor: 3.07
LOCATION:3.07
ORGANIZER:Mihael Perman
RELATED-TO:fmf-AFLABS-URNIK:srecanje:7540
X-WR-TIMEZONE:Europe/Ljubljana
END:VEVENT
BEGIN:VEVENT
SUMMARY:FM2 (FM-M\, MAT-M\, PM-5)\, Predavanja (P)
DTSTART;TZID=Europe/Ljubljana:20221012T100000
DTEND;TZID=Europe/Ljubljana:20221012T130000
DTSTAMP:20260422T015334Z
UID:fmf-AFLABS-URNIK:premaknjeno-srecanje:20029
ATTENDEE:5. letnik (PM)
ATTENDEE:magistrski študij (FM)
ATTENDEE:magistrski študij (M)
CATEGORIES:Entry,Standard
COLOR:darkgreen
DESCRIPTION:Predmet: FM2 (FM-M\, MAT-M\, PM-5)\, Predavanja (P)\nLetniki: 
 magistrski študij (FM)\, magistrski študij (M)\, 5. letnik (PM)\nIzvajal
 ci: Mihael Perman\nProstor: 3.07
LOCATION:3.07
ORGANIZER:Mihael Perman
RELATED-TO:fmf-AFLABS-URNIK:srecanje:7540
X-WR-TIMEZONE:Europe/Ljubljana
END:VEVENT
BEGIN:VEVENT
SUMMARY:FM2 (FM-M\, MAT-M\, PM-5)\, Predavanja (P)
DTSTART;TZID=Europe/Ljubljana:20221019T100000
DTEND;TZID=Europe/Ljubljana:20221019T130000
DTSTAMP:20260422T015334Z
UID:fmf-AFLABS-URNIK:premaknjeno-srecanje:20030
ATTENDEE:5. letnik (PM)
ATTENDEE:magistrski študij (FM)
ATTENDEE:magistrski študij (M)
CATEGORIES:Entry,Standard
COLOR:darkgreen
DESCRIPTION:Predmet: FM2 (FM-M\, MAT-M\, PM-5)\, Predavanja (P)\nLetniki: 
 magistrski študij (FM)\, magistrski študij (M)\, 5. letnik (PM)\nIzvajal
 ci: Mihael Perman\nProstor: 3.07
LOCATION:3.07
ORGANIZER:Mihael Perman
RELATED-TO:fmf-AFLABS-URNIK:srecanje:7540
X-WR-TIMEZONE:Europe/Ljubljana
END:VEVENT
BEGIN:VEVENT
SUMMARY:FM2 (FM-M\, MAT-M\, PM-5)\, Predavanja (P)
DTSTART;TZID=Europe/Ljubljana:20221026T100000
DTEND;TZID=Europe/Ljubljana:20221026T130000
DTSTAMP:20260422T015334Z
UID:fmf-AFLABS-URNIK:premaknjeno-srecanje:20031
ATTENDEE:5. letnik (PM)
ATTENDEE:magistrski študij (FM)
ATTENDEE:magistrski študij (M)
CATEGORIES:Entry,Standard
COLOR:darkgreen
DESCRIPTION:Predmet: FM2 (FM-M\, MAT-M\, PM-5)\, Predavanja (P)\nLetniki: 
 magistrski študij (FM)\, magistrski študij (M)\, 5. letnik (PM)\nIzvajal
 ci: Mihael Perman\nProstor: 3.07
LOCATION:3.07
ORGANIZER:Mihael Perman
RELATED-TO:fmf-AFLABS-URNIK:srecanje:7540
X-WR-TIMEZONE:Europe/Ljubljana
END:VEVENT
BEGIN:VEVENT
SUMMARY:FM2 (FM-M\, MAT-M\, PM-5)\, Predavanja (P)
DTSTART;TZID=Europe/Ljubljana:20221102T100000
DTEND;TZID=Europe/Ljubljana:20221102T130000
DTSTAMP:20260422T015334Z
UID:fmf-AFLABS-URNIK:premaknjeno-srecanje:20032
ATTENDEE:5. letnik (PM)
ATTENDEE:magistrski študij (FM)
ATTENDEE:magistrski študij (M)
CATEGORIES:Entry,Standard
COLOR:darkgreen
DESCRIPTION:Predmet: FM2 (FM-M\, MAT-M\, PM-5)\, Predavanja (P)\nLetniki: 
 magistrski študij (FM)\, magistrski študij (M)\, 5. letnik (PM)\nIzvajal
 ci: Mihael Perman\nProstor: 3.07
LOCATION:3.07
ORGANIZER:Mihael Perman
RELATED-TO:fmf-AFLABS-URNIK:srecanje:7540
X-WR-TIMEZONE:Europe/Ljubljana
END:VEVENT
BEGIN:VEVENT
SUMMARY:FM2 (FM-M\, MAT-M\, PM-5)\, Predavanja (P)
DTSTART;TZID=Europe/Ljubljana:20221109T100000
DTEND;TZID=Europe/Ljubljana:20221109T130000
DTSTAMP:20260422T015334Z
UID:fmf-AFLABS-URNIK:premaknjeno-srecanje:20033
ATTENDEE:5. letnik (PM)
ATTENDEE:magistrski študij (FM)
ATTENDEE:magistrski študij (M)
CATEGORIES:Entry,Standard
COLOR:darkgreen
DESCRIPTION:Predmet: FM2 (FM-M\, MAT-M\, PM-5)\, Predavanja (P)\nLetniki: 
 magistrski študij (FM)\, magistrski študij (M)\, 5. letnik (PM)\nIzvajal
 ci: Mihael Perman\nProstor: 3.07
LOCATION:3.07
ORGANIZER:Mihael Perman
RELATED-TO:fmf-AFLABS-URNIK:srecanje:7540
X-WR-TIMEZONE:Europe/Ljubljana
END:VEVENT
BEGIN:VEVENT
SUMMARY:FM2 (FM-M\, MAT-M\, PM-5)\, Predavanja (P)
DTSTART;TZID=Europe/Ljubljana:20221116T100000
DTEND;TZID=Europe/Ljubljana:20221116T130000
DTSTAMP:20260422T015334Z
UID:fmf-AFLABS-URNIK:premaknjeno-srecanje:20034
ATTENDEE:5. letnik (PM)
ATTENDEE:magistrski študij (FM)
ATTENDEE:magistrski študij (M)
CATEGORIES:Entry,Standard
COLOR:darkgreen
DESCRIPTION:Predmet: FM2 (FM-M\, MAT-M\, PM-5)\, Predavanja (P)\nLetniki: 
 magistrski študij (FM)\, magistrski študij (M)\, 5. letnik (PM)\nIzvajal
 ci: Mihael Perman\nProstor: 3.07
LOCATION:3.07
ORGANIZER:Mihael Perman
RELATED-TO:fmf-AFLABS-URNIK:srecanje:7540
X-WR-TIMEZONE:Europe/Ljubljana
END:VEVENT
BEGIN:VEVENT
SUMMARY:FM2 (FM-M\, MAT-M\, PM-5)\, Predavanja (P)
DTSTART;TZID=Europe/Ljubljana:20221123T100000
DTEND;TZID=Europe/Ljubljana:20221123T130000
DTSTAMP:20260422T015334Z
UID:fmf-AFLABS-URNIK:premaknjeno-srecanje:20035
ATTENDEE:5. letnik (PM)
ATTENDEE:magistrski študij (FM)
ATTENDEE:magistrski študij (M)
CATEGORIES:Entry,Standard
COLOR:darkgreen
DESCRIPTION:Predmet: FM2 (FM-M\, MAT-M\, PM-5)\, Predavanja (P)\nLetniki: 
 magistrski študij (FM)\, magistrski študij (M)\, 5. letnik (PM)\nIzvajal
 ci: Mihael Perman\nProstor: 3.07
LOCATION:3.07
ORGANIZER:Mihael Perman
RELATED-TO:fmf-AFLABS-URNIK:srecanje:7540
X-WR-TIMEZONE:Europe/Ljubljana
END:VEVENT
BEGIN:VEVENT
SUMMARY:FM2 (FM-M\, MAT-M\, PM-5)\, Predavanja (P)
DTSTART;TZID=Europe/Ljubljana:20221130T100000
DTEND;TZID=Europe/Ljubljana:20221130T130000
DTSTAMP:20260422T015334Z
UID:fmf-AFLABS-URNIK:premaknjeno-srecanje:20036
ATTENDEE:5. letnik (PM)
ATTENDEE:magistrski študij (FM)
ATTENDEE:magistrski študij (M)
CATEGORIES:Entry,Standard
COLOR:darkgreen
DESCRIPTION:Predmet: FM2 (FM-M\, MAT-M\, PM-5)\, Predavanja (P)\nLetniki: 
 magistrski študij (FM)\, magistrski študij (M)\, 5. letnik (PM)\nIzvajal
 ci: Mihael Perman\nProstor: 3.07
LOCATION:3.07
ORGANIZER:Mihael Perman
RELATED-TO:fmf-AFLABS-URNIK:srecanje:7540
X-WR-TIMEZONE:Europe/Ljubljana
END:VEVENT
BEGIN:VEVENT
SUMMARY:FM2 (FM-M\, MAT-M\, PM-5)\, Predavanja (P)
DTSTART;TZID=Europe/Ljubljana:20221207T100000
DTEND;TZID=Europe/Ljubljana:20221207T130000
DTSTAMP:20260422T015334Z
UID:fmf-AFLABS-URNIK:premaknjeno-srecanje:20037
ATTENDEE:5. letnik (PM)
ATTENDEE:magistrski študij (FM)
ATTENDEE:magistrski študij (M)
CATEGORIES:Entry,Standard
COLOR:darkgreen
DESCRIPTION:Predmet: FM2 (FM-M\, MAT-M\, PM-5)\, Predavanja (P)\nLetniki: 
 magistrski študij (FM)\, magistrski študij (M)\, 5. letnik (PM)\nIzvajal
 ci: Mihael Perman\nProstor: 3.07
LOCATION:3.07
ORGANIZER:Mihael Perman
RELATED-TO:fmf-AFLABS-URNIK:srecanje:7540
X-WR-TIMEZONE:Europe/Ljubljana
END:VEVENT
BEGIN:VEVENT
SUMMARY:FM2 (FM-M\, MAT-M\, PM-5)\, Predavanja (P)
DTSTART;TZID=Europe/Ljubljana:20221214T100000
DTEND;TZID=Europe/Ljubljana:20221214T130000
DTSTAMP:20260422T015334Z
UID:fmf-AFLABS-URNIK:premaknjeno-srecanje:20038
ATTENDEE:5. letnik (PM)
ATTENDEE:magistrski študij (FM)
ATTENDEE:magistrski študij (M)
CATEGORIES:Entry,Standard
COLOR:darkgreen
DESCRIPTION:Predmet: FM2 (FM-M\, MAT-M\, PM-5)\, Predavanja (P)\nLetniki: 
 magistrski študij (FM)\, magistrski študij (M)\, 5. letnik (PM)\nIzvajal
 ci: Mihael Perman\nProstor: 3.07
LOCATION:3.07
ORGANIZER:Mihael Perman
RELATED-TO:fmf-AFLABS-URNIK:srecanje:7540
X-WR-TIMEZONE:Europe/Ljubljana
END:VEVENT
BEGIN:VEVENT
SUMMARY:FM2 (FM-M\, MAT-M\, PM-5)\, Predavanja (P)
DTSTART;TZID=Europe/Ljubljana:20221221T100000
DTEND;TZID=Europe/Ljubljana:20221221T130000
DTSTAMP:20260422T015334Z
UID:fmf-AFLABS-URNIK:premaknjeno-srecanje:20039
ATTENDEE:5. letnik (PM)
ATTENDEE:magistrski študij (FM)
ATTENDEE:magistrski študij (M)
CATEGORIES:Entry,Standard
COLOR:darkgreen
DESCRIPTION:Predmet: FM2 (FM-M\, MAT-M\, PM-5)\, Predavanja (P)\nLetniki: 
 magistrski študij (FM)\, magistrski študij (M)\, 5. letnik (PM)\nIzvajal
 ci: Mihael Perman\nProstor: 3.07
LOCATION:3.07
ORGANIZER:Mihael Perman
RELATED-TO:fmf-AFLABS-URNIK:srecanje:7540
X-WR-TIMEZONE:Europe/Ljubljana
END:VEVENT
BEGIN:VEVENT
SUMMARY:FM2 (FM-M\, MAT-M\, PM-5)\, Predavanja (P)
DTSTART;TZID=Europe/Ljubljana:20221228T100000
DTEND;TZID=Europe/Ljubljana:20221228T130000
DTSTAMP:20260422T015334Z
UID:fmf-AFLABS-URNIK:premaknjeno-srecanje:20040
ATTENDEE:5. letnik (PM)
ATTENDEE:magistrski študij (FM)
ATTENDEE:magistrski študij (M)
CATEGORIES:Entry,Standard
COLOR:darkgreen
DESCRIPTION:Predmet: FM2 (FM-M\, MAT-M\, PM-5)\, Predavanja (P)\nLetniki: 
 magistrski študij (FM)\, magistrski študij (M)\, 5. letnik (PM)\nIzvajal
 ci: Mihael Perman\nProstor: 3.07
LOCATION:3.07
ORGANIZER:Mihael Perman
RELATED-TO:fmf-AFLABS-URNIK:srecanje:7540
X-WR-TIMEZONE:Europe/Ljubljana
END:VEVENT
BEGIN:VEVENT
SUMMARY:FM2 (FM-M\, MAT-M\, PM-5)\, Predavanja (P)
DTSTART;TZID=Europe/Ljubljana:20230104T100000
DTEND;TZID=Europe/Ljubljana:20230104T130000
DTSTAMP:20260422T015334Z
UID:fmf-AFLABS-URNIK:premaknjeno-srecanje:20041
ATTENDEE:5. letnik (PM)
ATTENDEE:magistrski študij (FM)
ATTENDEE:magistrski študij (M)
CATEGORIES:Entry,Standard
COLOR:darkgreen
DESCRIPTION:Predmet: FM2 (FM-M\, MAT-M\, PM-5)\, Predavanja (P)\nLetniki: 
 magistrski študij (FM)\, magistrski študij (M)\, 5. letnik (PM)\nIzvajal
 ci: Mihael Perman\nProstor: 3.07
LOCATION:3.07
ORGANIZER:Mihael Perman
RELATED-TO:fmf-AFLABS-URNIK:srecanje:7540
X-WR-TIMEZONE:Europe/Ljubljana
END:VEVENT
BEGIN:VEVENT
SUMMARY:FM2 (FM-M\, MAT-M\, PM-5)\, Predavanja (P)
DTSTART;TZID=Europe/Ljubljana:20230111T100000
DTEND;TZID=Europe/Ljubljana:20230111T130000
DTSTAMP:20260422T015334Z
UID:fmf-AFLABS-URNIK:premaknjeno-srecanje:20042
ATTENDEE:5. letnik (PM)
ATTENDEE:magistrski študij (FM)
ATTENDEE:magistrski študij (M)
CATEGORIES:Entry,Standard
COLOR:darkgreen
DESCRIPTION:Predmet: FM2 (FM-M\, MAT-M\, PM-5)\, Predavanja (P)\nLetniki: 
 magistrski študij (FM)\, magistrski študij (M)\, 5. letnik (PM)\nIzvajal
 ci: Mihael Perman\nProstor: 3.07
LOCATION:3.07
ORGANIZER:Mihael Perman
RELATED-TO:fmf-AFLABS-URNIK:srecanje:7540
X-WR-TIMEZONE:Europe/Ljubljana
END:VEVENT
END:VCALENDAR
