BEGIN:VCALENDAR
VERSION:2.0
PRODID:-//AFLabs urnik izvoz - fmf//aflabs.si//SI
DTSTAMP:20260424T115134Z
NAME:UL FMF urnik
REFRESH-INTERVAL:PT1H
SOURCE:https://urnik.fmf.uni-lj.si/teacher/220?day=2020-01-27&export=1
URL:https://urnik.fmf.uni-lj.si/teacher/220?day=2020-01-27&export=1
X-PUBLISHED-TTL:PT1H
X-WR-CALNAME:UL FMF urnik
X-WR-TIMEZONE:Europe/Ljubljana
BEGIN:VTIMEZONE
TZID:Europe/Ljubljana
BEGIN:DAYLIGHT
DTSTART:20260329T020000
RDATE:20260329T020000
RDATE:20270328T020000
TZNAME:CEST
TZOFFSETFROM:+0100
TZOFFSETTO:+0200
END:DAYLIGHT
BEGIN:STANDARD
DTSTART:20261025T030000
RDATE:20261025T030000
RDATE:20271031T030000
TZNAME:CET
TZOFFSETFROM:+0200
TZOFFSETTO:+0100
END:STANDARD
END:VTIMEZONE
BEGIN:VEVENT
SUMMARY:Kriptografija in računalniška varnost ()\, Vaje (V)
DTSTART;TZID=Europe/Ljubljana:20191223T150000
DTEND;TZID=Europe/Ljubljana:20191223T170000
DTSTAMP:20260424T115134Z
UID:fmf-AFLABS-URNIK:premaknjeno-srecanje:55587
CATEGORIES:Entry,Standard
COLOR:darkgreen
DESCRIPTION:Predmet: Kriptografija in računalniška varnost ()\, Vaje (V)
 \nLetniki: \nIzvajalci: Janoš Vidali\nProstor: FRI
LOCATION:FRI
ORGANIZER:Janoš Vidali
RELATED-TO:fmf-AFLABS-URNIK:srecanje:3496
X-WR-TIMEZONE:Europe/Ljubljana
END:VEVENT
BEGIN:VEVENT
SUMMARY:Kriptografija in računalniška varnost ()\, Vaje (V)
DTSTART;TZID=Europe/Ljubljana:20191230T150000
DTEND;TZID=Europe/Ljubljana:20191230T170000
DTSTAMP:20260424T115134Z
UID:fmf-AFLABS-URNIK:premaknjeno-srecanje:55588
CATEGORIES:Entry,Standard
COLOR:darkgreen
DESCRIPTION:Predmet: Kriptografija in računalniška varnost ()\, Vaje (V)
 \nLetniki: \nIzvajalci: Janoš Vidali\nProstor: FRI
LOCATION:FRI
ORGANIZER:Janoš Vidali
RELATED-TO:fmf-AFLABS-URNIK:srecanje:3496
X-WR-TIMEZONE:Europe/Ljubljana
END:VEVENT
BEGIN:VEVENT
SUMMARY:Kriptografija in računalniška varnost ()\, Vaje (V)
DTSTART;TZID=Europe/Ljubljana:20200106T150000
DTEND;TZID=Europe/Ljubljana:20200106T170000
DTSTAMP:20260424T115134Z
UID:fmf-AFLABS-URNIK:premaknjeno-srecanje:55589
CATEGORIES:Entry,Standard
COLOR:darkgreen
DESCRIPTION:Predmet: Kriptografija in računalniška varnost ()\, Vaje (V)
 \nLetniki: \nIzvajalci: Janoš Vidali\nProstor: FRI
LOCATION:FRI
ORGANIZER:Janoš Vidali
RELATED-TO:fmf-AFLABS-URNIK:srecanje:3496
X-WR-TIMEZONE:Europe/Ljubljana
END:VEVENT
BEGIN:VEVENT
SUMMARY:Kriptografija in računalniška varnost ()\, Vaje (V)
DTSTART;TZID=Europe/Ljubljana:20200113T150000
DTEND;TZID=Europe/Ljubljana:20200113T170000
DTSTAMP:20260424T115134Z
UID:fmf-AFLABS-URNIK:premaknjeno-srecanje:55590
CATEGORIES:Entry,Standard
COLOR:darkgreen
DESCRIPTION:Predmet: Kriptografija in računalniška varnost ()\, Vaje (V)
 \nLetniki: \nIzvajalci: Janoš Vidali\nProstor: FRI
LOCATION:FRI
ORGANIZER:Janoš Vidali
RELATED-TO:fmf-AFLABS-URNIK:srecanje:3496
X-WR-TIMEZONE:Europe/Ljubljana
END:VEVENT
BEGIN:VEVENT
SUMMARY:Podatkovne baze 1 (APM-2\, APM-3)\, Vaje (V)
DTSTART;TZID=Europe/Ljubljana:20191223T100000
DTEND;TZID=Europe/Ljubljana:20191223T120000
DTSTAMP:20260424T115134Z
UID:fmf-AFLABS-URNIK:premaknjeno-srecanje:82897
ATTENDEE:2. letnik (APM)
ATTENDEE:3. letnik (APM)
CATEGORIES:Entry,Standard
COLOR:darkgreen
DESCRIPTION:Predmet: Podatkovne baze 1 (APM-2\, APM-3)\, Vaje (V)\nLetniki
 : 2. letnik (APM)\, 3. letnik (APM)\nIzvajalci: Janoš Vidali\nProstor: 3.
 12
LOCATION:3.12
ORGANIZER:Janoš Vidali
RELATED-TO:fmf-AFLABS-URNIK:srecanje:3632
X-WR-TIMEZONE:Europe/Ljubljana
END:VEVENT
BEGIN:VEVENT
SUMMARY:Podatkovne baze 1 (APM-2\, APM-3)\, Vaje (V)
DTSTART;TZID=Europe/Ljubljana:20191230T100000
DTEND;TZID=Europe/Ljubljana:20191230T120000
DTSTAMP:20260424T115134Z
UID:fmf-AFLABS-URNIK:premaknjeno-srecanje:82898
ATTENDEE:2. letnik (APM)
ATTENDEE:3. letnik (APM)
CATEGORIES:Entry,Standard
COLOR:darkgreen
DESCRIPTION:Predmet: Podatkovne baze 1 (APM-2\, APM-3)\, Vaje (V)\nLetniki
 : 2. letnik (APM)\, 3. letnik (APM)\nIzvajalci: Janoš Vidali\nProstor: 3.
 12
LOCATION:3.12
ORGANIZER:Janoš Vidali
RELATED-TO:fmf-AFLABS-URNIK:srecanje:3632
X-WR-TIMEZONE:Europe/Ljubljana
END:VEVENT
BEGIN:VEVENT
SUMMARY:Podatkovne baze 1 (APM-2\, APM-3)\, Vaje (V)
DTSTART;TZID=Europe/Ljubljana:20200106T100000
DTEND;TZID=Europe/Ljubljana:20200106T120000
DTSTAMP:20260424T115134Z
UID:fmf-AFLABS-URNIK:premaknjeno-srecanje:82899
ATTENDEE:2. letnik (APM)
ATTENDEE:3. letnik (APM)
CATEGORIES:Entry,Standard
COLOR:darkgreen
DESCRIPTION:Predmet: Podatkovne baze 1 (APM-2\, APM-3)\, Vaje (V)\nLetniki
 : 2. letnik (APM)\, 3. letnik (APM)\nIzvajalci: Janoš Vidali\nProstor: 3.
 12
LOCATION:3.12
ORGANIZER:Janoš Vidali
RELATED-TO:fmf-AFLABS-URNIK:srecanje:3632
X-WR-TIMEZONE:Europe/Ljubljana
END:VEVENT
BEGIN:VEVENT
SUMMARY:Podatkovne baze 1 (APM-2\, APM-3)\, Vaje (V)
DTSTART;TZID=Europe/Ljubljana:20200113T100000
DTEND;TZID=Europe/Ljubljana:20200113T120000
DTSTAMP:20260424T115134Z
UID:fmf-AFLABS-URNIK:premaknjeno-srecanje:82900
ATTENDEE:2. letnik (APM)
ATTENDEE:3. letnik (APM)
CATEGORIES:Entry,Standard
COLOR:darkgreen
DESCRIPTION:Predmet: Podatkovne baze 1 (APM-2\, APM-3)\, Vaje (V)\nLetniki
 : 2. letnik (APM)\, 3. letnik (APM)\nIzvajalci: Janoš Vidali\nProstor: 3.
 12
LOCATION:3.12
ORGANIZER:Janoš Vidali
RELATED-TO:fmf-AFLABS-URNIK:srecanje:3632
X-WR-TIMEZONE:Europe/Ljubljana
END:VEVENT
BEGIN:VEVENT
SUMMARY:Analiza podatkov s programom R (FM-2)\, Vaje (V)\, [1]
DTSTART;TZID=Europe/Ljubljana:20191226T080000
DTEND;TZID=Europe/Ljubljana:20191226T100000
DTSTAMP:20260424T115134Z
UID:fmf-AFLABS-URNIK:premaknjeno-srecanje:10141
ATTENDEE:2. letnik (FM)
CATEGORIES:Entry,Standard
COLOR:darkgreen
DESCRIPTION:Predmet: Analiza podatkov s programom R (FM-2)\, Vaje (V)\, [1
 ]\nLetniki: 2. letnik (FM)\nIzvajalci: Janoš Vidali\nProstor: 3.11
LOCATION:3.11
ORGANIZER:Janoš Vidali
RELATED-TO:fmf-AFLABS-URNIK:srecanje:3263
X-WR-TIMEZONE:Europe/Ljubljana
END:VEVENT
BEGIN:VEVENT
SUMMARY:Analiza podatkov s programom R (FM-2)\, Vaje (V)\, [1]
DTSTART;TZID=Europe/Ljubljana:20200102T080000
DTEND;TZID=Europe/Ljubljana:20200102T100000
DTSTAMP:20260424T115134Z
UID:fmf-AFLABS-URNIK:premaknjeno-srecanje:10142
ATTENDEE:2. letnik (FM)
CATEGORIES:Entry,Standard
COLOR:darkgreen
DESCRIPTION:Predmet: Analiza podatkov s programom R (FM-2)\, Vaje (V)\, [1
 ]\nLetniki: 2. letnik (FM)\nIzvajalci: Janoš Vidali\nProstor: 3.11
LOCATION:3.11
ORGANIZER:Janoš Vidali
RELATED-TO:fmf-AFLABS-URNIK:srecanje:3263
X-WR-TIMEZONE:Europe/Ljubljana
END:VEVENT
BEGIN:VEVENT
SUMMARY:Analiza podatkov s programom R (FM-2)\, Vaje (V)\, [1]
DTSTART;TZID=Europe/Ljubljana:20200109T080000
DTEND;TZID=Europe/Ljubljana:20200109T100000
DTSTAMP:20260424T115134Z
UID:fmf-AFLABS-URNIK:premaknjeno-srecanje:10143
ATTENDEE:2. letnik (FM)
CATEGORIES:Entry,Standard
COLOR:darkgreen
DESCRIPTION:Predmet: Analiza podatkov s programom R (FM-2)\, Vaje (V)\, [1
 ]\nLetniki: 2. letnik (FM)\nIzvajalci: Janoš Vidali\nProstor: 3.11
LOCATION:3.11
ORGANIZER:Janoš Vidali
RELATED-TO:fmf-AFLABS-URNIK:srecanje:3263
X-WR-TIMEZONE:Europe/Ljubljana
END:VEVENT
BEGIN:VEVENT
SUMMARY:Analiza podatkov s programom R (FM-2)\, Vaje (V)\, [1]
DTSTART;TZID=Europe/Ljubljana:20200116T080000
DTEND;TZID=Europe/Ljubljana:20200116T100000
DTSTAMP:20260424T115134Z
UID:fmf-AFLABS-URNIK:premaknjeno-srecanje:10144
ATTENDEE:2. letnik (FM)
CATEGORIES:Entry,Standard
COLOR:darkgreen
DESCRIPTION:Predmet: Analiza podatkov s programom R (FM-2)\, Vaje (V)\, [1
 ]\nLetniki: 2. letnik (FM)\nIzvajalci: Janoš Vidali\nProstor: 3.11
LOCATION:3.11
ORGANIZER:Janoš Vidali
RELATED-TO:fmf-AFLABS-URNIK:srecanje:3263
X-WR-TIMEZONE:Europe/Ljubljana
END:VEVENT
BEGIN:VEVENT
SUMMARY:Diskretne strukture (FM-1)\, Vaje (V)\, [1]
DTSTART;TZID=Europe/Ljubljana:20191226T120000
DTEND;TZID=Europe/Ljubljana:20191226T140000
DTSTAMP:20260424T115134Z
UID:fmf-AFLABS-URNIK:premaknjeno-srecanje:16489
ATTENDEE:1. letnik (FM)
CATEGORIES:Entry,Standard
COLOR:darkgreen
DESCRIPTION:Predmet: Diskretne strukture (FM-1)\, Vaje (V)\, [1]\nLetniki:
  1. letnik (FM)\nIzvajalci: Janoš Vidali\nProstor: 3.04
LOCATION:3.04
ORGANIZER:Janoš Vidali
RELATED-TO:fmf-AFLABS-URNIK:srecanje:3842
X-WR-TIMEZONE:Europe/Ljubljana
END:VEVENT
BEGIN:VEVENT
SUMMARY:Diskretne strukture (FM-1)\, Vaje (V)\, [1]
DTSTART;TZID=Europe/Ljubljana:20200102T120000
DTEND;TZID=Europe/Ljubljana:20200102T140000
DTSTAMP:20260424T115134Z
UID:fmf-AFLABS-URNIK:premaknjeno-srecanje:16490
ATTENDEE:1. letnik (FM)
CATEGORIES:Entry,Standard
COLOR:darkgreen
DESCRIPTION:Predmet: Diskretne strukture (FM-1)\, Vaje (V)\, [1]\nLetniki:
  1. letnik (FM)\nIzvajalci: Janoš Vidali\nProstor: 3.04
LOCATION:3.04
ORGANIZER:Janoš Vidali
RELATED-TO:fmf-AFLABS-URNIK:srecanje:3842
X-WR-TIMEZONE:Europe/Ljubljana
END:VEVENT
BEGIN:VEVENT
SUMMARY:Diskretne strukture (FM-1)\, Vaje (V)\, [1]
DTSTART;TZID=Europe/Ljubljana:20200109T120000
DTEND;TZID=Europe/Ljubljana:20200109T140000
DTSTAMP:20260424T115134Z
UID:fmf-AFLABS-URNIK:premaknjeno-srecanje:16491
ATTENDEE:1. letnik (FM)
CATEGORIES:Entry,Standard
COLOR:darkgreen
DESCRIPTION:Predmet: Diskretne strukture (FM-1)\, Vaje (V)\, [1]\nLetniki:
  1. letnik (FM)\nIzvajalci: Janoš Vidali\nProstor: 3.04
LOCATION:3.04
ORGANIZER:Janoš Vidali
RELATED-TO:fmf-AFLABS-URNIK:srecanje:3842
X-WR-TIMEZONE:Europe/Ljubljana
END:VEVENT
BEGIN:VEVENT
SUMMARY:Diskretne strukture (FM-1)\, Vaje (V)\, [1]
DTSTART;TZID=Europe/Ljubljana:20200116T120000
DTEND;TZID=Europe/Ljubljana:20200116T140000
DTSTAMP:20260424T115134Z
UID:fmf-AFLABS-URNIK:premaknjeno-srecanje:16492
ATTENDEE:1. letnik (FM)
CATEGORIES:Entry,Standard
COLOR:darkgreen
DESCRIPTION:Predmet: Diskretne strukture (FM-1)\, Vaje (V)\, [1]\nLetniki:
  1. letnik (FM)\nIzvajalci: Janoš Vidali\nProstor: 3.04
LOCATION:3.04
ORGANIZER:Janoš Vidali
RELATED-TO:fmf-AFLABS-URNIK:srecanje:3842
X-WR-TIMEZONE:Europe/Ljubljana
END:VEVENT
BEGIN:VEVENT
SUMMARY:Diskretne strukture (FM-1)\, Vaje (V)\, [2]
DTSTART;TZID=Europe/Ljubljana:20191227T080000
DTEND;TZID=Europe/Ljubljana:20191227T100000
DTSTAMP:20260424T115134Z
UID:fmf-AFLABS-URNIK:premaknjeno-srecanje:16583
ATTENDEE:1. letnik (FM)
CATEGORIES:Entry,Standard
COLOR:darkgreen
DESCRIPTION:Predmet: Diskretne strukture (FM-1)\, Vaje (V)\, [2]\nLetniki:
  1. letnik (FM)\nIzvajalci: Janoš Vidali\nProstor: 3.05
LOCATION:3.05
ORGANIZER:Janoš Vidali
RELATED-TO:fmf-AFLABS-URNIK:srecanje:3843
X-WR-TIMEZONE:Europe/Ljubljana
END:VEVENT
BEGIN:VEVENT
SUMMARY:Diskretne strukture (FM-1)\, Vaje (V)\, [2]
DTSTART;TZID=Europe/Ljubljana:20200103T080000
DTEND;TZID=Europe/Ljubljana:20200103T100000
DTSTAMP:20260424T115134Z
UID:fmf-AFLABS-URNIK:premaknjeno-srecanje:16584
ATTENDEE:1. letnik (FM)
CATEGORIES:Entry,Standard
COLOR:darkgreen
DESCRIPTION:Predmet: Diskretne strukture (FM-1)\, Vaje (V)\, [2]\nLetniki:
  1. letnik (FM)\nIzvajalci: Janoš Vidali\nProstor: 3.05
LOCATION:3.05
ORGANIZER:Janoš Vidali
RELATED-TO:fmf-AFLABS-URNIK:srecanje:3843
X-WR-TIMEZONE:Europe/Ljubljana
END:VEVENT
BEGIN:VEVENT
SUMMARY:Diskretne strukture (FM-1)\, Vaje (V)\, [2]
DTSTART;TZID=Europe/Ljubljana:20200110T080000
DTEND;TZID=Europe/Ljubljana:20200110T100000
DTSTAMP:20260424T115134Z
UID:fmf-AFLABS-URNIK:premaknjeno-srecanje:16585
ATTENDEE:1. letnik (FM)
CATEGORIES:Entry,Standard
COLOR:darkgreen
DESCRIPTION:Predmet: Diskretne strukture (FM-1)\, Vaje (V)\, [2]\nLetniki:
  1. letnik (FM)\nIzvajalci: Janoš Vidali\nProstor: 3.05
LOCATION:3.05
ORGANIZER:Janoš Vidali
RELATED-TO:fmf-AFLABS-URNIK:srecanje:3843
X-WR-TIMEZONE:Europe/Ljubljana
END:VEVENT
BEGIN:VEVENT
SUMMARY:Diskretne strukture (FM-1)\, Vaje (V)\, [2]
DTSTART;TZID=Europe/Ljubljana:20200117T080000
DTEND;TZID=Europe/Ljubljana:20200117T100000
DTSTAMP:20260424T115134Z
UID:fmf-AFLABS-URNIK:premaknjeno-srecanje:16586
ATTENDEE:1. letnik (FM)
CATEGORIES:Entry,Standard
COLOR:darkgreen
DESCRIPTION:Predmet: Diskretne strukture (FM-1)\, Vaje (V)\, [2]\nLetniki:
  1. letnik (FM)\nIzvajalci: Janoš Vidali\nProstor: 3.05
LOCATION:3.05
ORGANIZER:Janoš Vidali
RELATED-TO:fmf-AFLABS-URNIK:srecanje:3843
X-WR-TIMEZONE:Europe/Ljubljana
END:VEVENT
BEGIN:VEVENT
SUMMARY:Operacijske raziskave (FM-2)\, Vaje (V)
DTSTART;TZID=Europe/Ljubljana:20200217T100000
DTEND;TZID=Europe/Ljubljana:20200217T120000
DTSTAMP:20260424T115134Z
UID:fmf-AFLABS-URNIK:premaknjeno-srecanje:79350
ATTENDEE:2. letnik (FM)
CATEGORIES:Entry,Standard
COLOR:darkgreen
DESCRIPTION:Predmet: Operacijske raziskave (FM-2)\, Vaje (V)\nLetniki: 2. 
 letnik (FM)\nIzvajalci: Janoš Vidali\nProstor: 3.04
LOCATION:3.04
ORGANIZER:Janoš Vidali
RELATED-TO:fmf-AFLABS-URNIK:srecanje:4341
X-WR-TIMEZONE:Europe/Ljubljana
END:VEVENT
BEGIN:VEVENT
SUMMARY:Operacijske raziskave (FM-2)\, Vaje (V)
DTSTART;TZID=Europe/Ljubljana:20200224T100000
DTEND;TZID=Europe/Ljubljana:20200224T120000
DTSTAMP:20260424T115134Z
UID:fmf-AFLABS-URNIK:premaknjeno-srecanje:79351
ATTENDEE:2. letnik (FM)
CATEGORIES:Entry,Standard
COLOR:darkgreen
DESCRIPTION:Predmet: Operacijske raziskave (FM-2)\, Vaje (V)\nLetniki: 2. 
 letnik (FM)\nIzvajalci: Janoš Vidali\nProstor: 3.04
LOCATION:3.04
ORGANIZER:Janoš Vidali
RELATED-TO:fmf-AFLABS-URNIK:srecanje:4341
X-WR-TIMEZONE:Europe/Ljubljana
END:VEVENT
BEGIN:VEVENT
SUMMARY:Operacijske raziskave (FM-2)\, Vaje (V)
DTSTART;TZID=Europe/Ljubljana:20200302T100000
DTEND;TZID=Europe/Ljubljana:20200302T120000
DTSTAMP:20260424T115134Z
UID:fmf-AFLABS-URNIK:premaknjeno-srecanje:79352
ATTENDEE:2. letnik (FM)
CATEGORIES:Entry,Standard
COLOR:darkgreen
DESCRIPTION:Predmet: Operacijske raziskave (FM-2)\, Vaje (V)\nLetniki: 2. 
 letnik (FM)\nIzvajalci: Janoš Vidali\nProstor: 3.04
LOCATION:3.04
ORGANIZER:Janoš Vidali
RELATED-TO:fmf-AFLABS-URNIK:srecanje:4341
X-WR-TIMEZONE:Europe/Ljubljana
END:VEVENT
BEGIN:VEVENT
SUMMARY:Optimizacijske metode (FM-1)\, Vaje (V)\, [2]
DTSTART;TZID=Europe/Ljubljana:20200218T140000
DTEND;TZID=Europe/Ljubljana:20200218T170000
DTSTAMP:20260424T115134Z
UID:fmf-AFLABS-URNIK:premaknjeno-srecanje:80640
ATTENDEE:1. letnik (FM)
CATEGORIES:Entry,Standard
COLOR:darkgreen
DESCRIPTION:Predmet: Optimizacijske metode (FM-1)\, Vaje (V)\, [2]\nLetnik
 i: 1. letnik (FM)\nIzvajalci: Janoš Vidali\nProstor: P.02
LOCATION:P.02
ORGANIZER:Janoš Vidali
RELATED-TO:fmf-AFLABS-URNIK:srecanje:4350
X-WR-TIMEZONE:Europe/Ljubljana
END:VEVENT
BEGIN:VEVENT
SUMMARY:Optimizacijske metode (FM-1)\, Vaje (V)\, [2]
DTSTART;TZID=Europe/Ljubljana:20200225T140000
DTEND;TZID=Europe/Ljubljana:20200225T170000
DTSTAMP:20260424T115134Z
UID:fmf-AFLABS-URNIK:premaknjeno-srecanje:80641
ATTENDEE:1. letnik (FM)
CATEGORIES:Entry,Standard
COLOR:darkgreen
DESCRIPTION:Predmet: Optimizacijske metode (FM-1)\, Vaje (V)\, [2]\nLetnik
 i: 1. letnik (FM)\nIzvajalci: Janoš Vidali\nProstor: P.02
LOCATION:P.02
ORGANIZER:Janoš Vidali
RELATED-TO:fmf-AFLABS-URNIK:srecanje:4350
X-WR-TIMEZONE:Europe/Ljubljana
END:VEVENT
BEGIN:VEVENT
SUMMARY:Osnove podatkovnih baz (FM-3\, MAT-3)\, Vaje (V)
DTSTART;TZID=Europe/Ljubljana:20200220T120000
DTEND;TZID=Europe/Ljubljana:20200220T140000
DTSTAMP:20260424T115134Z
UID:fmf-AFLABS-URNIK:premaknjeno-srecanje:81447
ATTENDEE:3. letnik (FM)
ATTENDEE:3. letnik (M)
CATEGORIES:Entry,Standard
COLOR:darkgreen
DESCRIPTION:Predmet: Osnove podatkovnih baz (FM-3\, MAT-3)\, Vaje (V)\nLet
 niki: 3. letnik (FM)\, 3. letnik (M)\nIzvajalci: Janoš Vidali\nProstor: 3
 .11
LOCATION:3.11
ORGANIZER:Janoš Vidali
RELATED-TO:fmf-AFLABS-URNIK:srecanje:4353
X-WR-TIMEZONE:Europe/Ljubljana
END:VEVENT
BEGIN:VEVENT
SUMMARY:Osnove podatkovnih baz (FM-3\, MAT-3)\, Vaje (V)
DTSTART;TZID=Europe/Ljubljana:20200227T120000
DTEND;TZID=Europe/Ljubljana:20200227T140000
DTSTAMP:20260424T115134Z
UID:fmf-AFLABS-URNIK:premaknjeno-srecanje:81448
ATTENDEE:3. letnik (FM)
ATTENDEE:3. letnik (M)
CATEGORIES:Entry,Standard
COLOR:darkgreen
DESCRIPTION:Predmet: Osnove podatkovnih baz (FM-3\, MAT-3)\, Vaje (V)\nLet
 niki: 3. letnik (FM)\, 3. letnik (M)\nIzvajalci: Janoš Vidali\nProstor: 3
 .11
LOCATION:3.11
ORGANIZER:Janoš Vidali
RELATED-TO:fmf-AFLABS-URNIK:srecanje:4353
X-WR-TIMEZONE:Europe/Ljubljana
END:VEVENT
BEGIN:VEVENT
SUMMARY:REZ FM ()\, Ostalo (O)
DTSTART;TZID=Europe/Ljubljana:20200221T120000
DTEND;TZID=Europe/Ljubljana:20200221T140000
DTSTAMP:20260424T115134Z
UID:fmf-AFLABS-URNIK:premaknjeno-srecanje:89950
CATEGORIES:Entry,Standard
COLOR:darkgreen
DESCRIPTION:Predmet: REZ FM ()\, Ostalo (O)\nLetniki: \nIzvajalci: Janoš 
 Vidali\nProstor: 3.11
LOCATION:3.11
ORGANIZER:Janoš Vidali
RELATED-TO:fmf-AFLABS-URNIK:srecanje:4637
X-WR-TIMEZONE:Europe/Ljubljana
END:VEVENT
BEGIN:VEVENT
SUMMARY:REZ FM ()\, Ostalo (O)
DTSTART;TZID=Europe/Ljubljana:20200228T120000
DTEND;TZID=Europe/Ljubljana:20200228T140000
DTSTAMP:20260424T115134Z
UID:fmf-AFLABS-URNIK:premaknjeno-srecanje:89951
CATEGORIES:Entry,Standard
COLOR:darkgreen
DESCRIPTION:Predmet: REZ FM ()\, Ostalo (O)\nLetniki: \nIzvajalci: Janoš 
 Vidali\nProstor: 3.11
LOCATION:3.11
ORGANIZER:Janoš Vidali
RELATED-TO:fmf-AFLABS-URNIK:srecanje:4637
X-WR-TIMEZONE:Europe/Ljubljana
END:VEVENT
BEGIN:VEVENT
SUMMARY:Rezervacija
DTSTART;TZID=Europe/Ljubljana:20200110T120000
DTEND;TZID=Europe/Ljubljana:20200110T130000
DTSTAMP:20260424T115134Z
UID:fmf-AFLABS-URNIK:rezervacija:4780
CATEGORIES:Reservation
COLOR:royalblue
DESCRIPTION:Predmeti: \nLetniki: \nIzvajalci: Janoš Vidali\nProstori: 3.0
 7
LOCATION:3.07
ORGANIZER:Janoš Vidali
X-WR-TIMEZONE:Europe/Ljubljana
END:VEVENT
BEGIN:VEVENT
SUMMARY:Rezervacija
DTSTART;TZID=Europe/Ljubljana:20200114T150000
DTEND;TZID=Europe/Ljubljana:20200114T180000
DTSTAMP:20260424T115134Z
UID:fmf-AFLABS-URNIK:rezervacija:4797
CATEGORIES:Reservation
COLOR:royalblue
DESCRIPTION:Predmeti: \nLetniki: \nIzvajalci: Janoš Vidali\nProstori: 3.1
 2
LOCATION:3.12
ORGANIZER:Janoš Vidali
X-WR-TIMEZONE:Europe/Ljubljana
END:VEVENT
BEGIN:VEVENT
SUMMARY:Rezervacija
DTSTART;TZID=Europe/Ljubljana:20200114T180000
DTEND;TZID=Europe/Ljubljana:20200114T200000
DTSTAMP:20260424T115134Z
UID:fmf-AFLABS-URNIK:rezervacija:4801
CATEGORIES:Reservation
COLOR:royalblue
DESCRIPTION:Predmeti: \nLetniki: \nIzvajalci: Riste Škrekovski\, Janoš V
 idali\nProstori: 2.01\, 2.05
LOCATION:2.01\, 2.05
ORGANIZER:Riste Škrekovski, Janoš Vidali
X-WR-TIMEZONE:Europe/Ljubljana
END:VEVENT
BEGIN:VEVENT
SUMMARY:Rezervacija
DTSTART;TZID=Europe/Ljubljana:20200115T080000
DTEND;TZID=Europe/Ljubljana:20200115T110000
DTSTAMP:20260424T115134Z
UID:fmf-AFLABS-URNIK:rezervacija:4806
CATEGORIES:Reservation
COLOR:royalblue
DESCRIPTION:Predmeti: \nLetniki: \nIzvajalci: Janoš Vidali\nProstori: 3.1
 2
LOCATION:3.12
ORGANIZER:Janoš Vidali
X-WR-TIMEZONE:Europe/Ljubljana
END:VEVENT
BEGIN:VEVENT
SUMMARY:Rezervacija
DTSTART;TZID=Europe/Ljubljana:20200120T100000
DTEND;TZID=Europe/Ljubljana:20200120T120000
DTSTAMP:20260424T115134Z
UID:fmf-AFLABS-URNIK:rezervacija:4845
CATEGORIES:Reservation
COLOR:royalblue
DESCRIPTION:Predmeti: \nLetniki: \nIzvajalci: Janoš Vidali\nProstori: 3.1
 1
LOCATION:3.11
ORGANIZER:Janoš Vidali
X-WR-TIMEZONE:Europe/Ljubljana
END:VEVENT
BEGIN:VEVENT
SUMMARY:Rezervacija
DTSTART;TZID=Europe/Ljubljana:20200130T100000
DTEND;TZID=Europe/Ljubljana:20200130T120000
DTSTAMP:20260424T115134Z
UID:fmf-AFLABS-URNIK:rezervacija:4982
CATEGORIES:Reservation
COLOR:royalblue
DESCRIPTION:Predmeti: \nLetniki: \nIzvajalci: Janoš Vidali\nProstori: 2.0
 2
LOCATION:2.02
ORGANIZER:Janoš Vidali
X-WR-TIMEZONE:Europe/Ljubljana
END:VEVENT
BEGIN:VEVENT
SUMMARY:Rezervacija
DTSTART;TZID=Europe/Ljubljana:20200131T090000
DTEND;TZID=Europe/Ljubljana:20200131T100000
DTSTAMP:20260424T115134Z
UID:fmf-AFLABS-URNIK:rezervacija:4994
CATEGORIES:Reservation
COLOR:royalblue
DESCRIPTION:Predmeti: \nLetniki: \nIzvajalci: Riste Škrekovski\, Janoš V
 idali\nProstori: 2.01\, 2.05
LOCATION:2.01\, 2.05
ORGANIZER:Riste Škrekovski, Janoš Vidali
X-WR-TIMEZONE:Europe/Ljubljana
END:VEVENT
BEGIN:VEVENT
SUMMARY:Rezervacija
DTSTART;TZID=Europe/Ljubljana:20200210T130000
DTEND;TZID=Europe/Ljubljana:20200210T150000
DTSTAMP:20260424T115134Z
UID:fmf-AFLABS-URNIK:rezervacija:5094
CATEGORIES:Reservation
COLOR:royalblue
DESCRIPTION:Predmeti: \nLetniki: \nIzvajalci: Janoš Vidali\nProstori: 3.1
 1
LOCATION:3.11
ORGANIZER:Janoš Vidali
X-WR-TIMEZONE:Europe/Ljubljana
END:VEVENT
END:VCALENDAR
