BEGIN:VCALENDAR
VERSION:2.0
PRODID:-//AFLabs urnik izvoz - fmf//aflabs.si//SI
DTSTAMP:20260422T065027Z
NAME:UL FMF urnik
REFRESH-INTERVAL:PT1H
SOURCE:https://urnik.fmf.uni-lj.si/teacher/220?day=2021-02-08&export=1
URL:https://urnik.fmf.uni-lj.si/teacher/220?day=2021-02-08&export=1
X-PUBLISHED-TTL:PT1H
X-WR-CALNAME:UL FMF urnik
X-WR-TIMEZONE:Europe/Ljubljana
BEGIN:VTIMEZONE
TZID:Europe/Ljubljana
BEGIN:DAYLIGHT
DTSTART:20260329T020000
RDATE:20260329T020000
RDATE:20270328T020000
TZNAME:CEST
TZOFFSETFROM:+0100
TZOFFSETTO:+0200
END:DAYLIGHT
BEGIN:STANDARD
DTSTART:20261025T030000
RDATE:20261025T030000
RDATE:20271031T030000
TZNAME:CET
TZOFFSETFROM:+0200
TZOFFSETTO:+0100
END:STANDARD
END:VTIMEZONE
BEGIN:VEVENT
SUMMARY:Podatkovne baze 1 (APM-2\, APM-3)\, Vaje (V)
DTSTART;TZID=Europe/Ljubljana:20210104T120000
DTEND;TZID=Europe/Ljubljana:20210104T140000
DTSTAMP:20260422T065027Z
UID:fmf-AFLABS-URNIK:premaknjeno-srecanje:82929
ATTENDEE:2. letnik (APM)
ATTENDEE:3. letnik (APM)
CATEGORIES:Entry,Standard
COLOR:darkgreen
DESCRIPTION:Predmet: Podatkovne baze 1 (APM-2\, APM-3)\, Vaje (V)\nLetniki
 : 2. letnik (APM)\, 3. letnik (APM)\nIzvajalci: Janoš Vidali\nProstor: 3.
 12
LOCATION:3.12
ORGANIZER:Janoš Vidali
RELATED-TO:fmf-AFLABS-URNIK:srecanje:5071
X-WR-TIMEZONE:Europe/Ljubljana
END:VEVENT
BEGIN:VEVENT
SUMMARY:Podatkovne baze 1 (APM-2\, APM-3)\, Vaje (V)
DTSTART;TZID=Europe/Ljubljana:20210111T120000
DTEND;TZID=Europe/Ljubljana:20210111T140000
DTSTAMP:20260422T065027Z
UID:fmf-AFLABS-URNIK:premaknjeno-srecanje:82930
ATTENDEE:2. letnik (APM)
ATTENDEE:3. letnik (APM)
CATEGORIES:Entry,Standard
COLOR:darkgreen
DESCRIPTION:Predmet: Podatkovne baze 1 (APM-2\, APM-3)\, Vaje (V)\nLetniki
 : 2. letnik (APM)\, 3. letnik (APM)\nIzvajalci: Janoš Vidali\nProstor: 3.
 12
LOCATION:3.12
ORGANIZER:Janoš Vidali
RELATED-TO:fmf-AFLABS-URNIK:srecanje:5071
X-WR-TIMEZONE:Europe/Ljubljana
END:VEVENT
BEGIN:VEVENT
SUMMARY:Kriptografija in računalniška varnost ()\, Vaje (V)
DTSTART;TZID=Europe/Ljubljana:20210105T160000
DTEND;TZID=Europe/Ljubljana:20210105T180000
DTSTAMP:20260422T065027Z
UID:fmf-AFLABS-URNIK:premaknjeno-srecanje:55604
CATEGORIES:Entry,Standard
COLOR:darkgreen
DESCRIPTION:Predmet: Kriptografija in računalniška varnost ()\, Vaje (V)
 \nLetniki: \nIzvajalci: Janoš Vidali\nProstor: FRI
LOCATION:FRI
ORGANIZER:Janoš Vidali
RELATED-TO:fmf-AFLABS-URNIK:srecanje:4924
X-WR-TIMEZONE:Europe/Ljubljana
END:VEVENT
BEGIN:VEVENT
SUMMARY:Kriptografija in računalniška varnost ()\, Vaje (V)
DTSTART;TZID=Europe/Ljubljana:20210112T160000
DTEND;TZID=Europe/Ljubljana:20210112T180000
DTSTAMP:20260422T065027Z
UID:fmf-AFLABS-URNIK:premaknjeno-srecanje:55605
CATEGORIES:Entry,Standard
COLOR:darkgreen
DESCRIPTION:Predmet: Kriptografija in računalniška varnost ()\, Vaje (V)
 \nLetniki: \nIzvajalci: Janoš Vidali\nProstor: FRI
LOCATION:FRI
ORGANIZER:Janoš Vidali
RELATED-TO:fmf-AFLABS-URNIK:srecanje:4924
X-WR-TIMEZONE:Europe/Ljubljana
END:VEVENT
BEGIN:VEVENT
SUMMARY:Diskretne strukture (FM-1)\, Vaje (V)\, [1]
DTSTART;TZID=Europe/Ljubljana:20210106T140000
DTEND;TZID=Europe/Ljubljana:20210106T160000
DTSTAMP:20260422T065027Z
UID:fmf-AFLABS-URNIK:premaknjeno-srecanje:16459
ATTENDEE:1. letnik (FM)
CATEGORIES:Entry,Standard
COLOR:darkgreen
DESCRIPTION:Predmet: Diskretne strukture (FM-1)\, Vaje (V)\, [1]\nLetniki:
  1. letnik (FM)\nIzvajalci: Janoš Vidali\nProstor: 2.01
LOCATION:2.01
ORGANIZER:Janoš Vidali
RELATED-TO:fmf-AFLABS-URNIK:srecanje:4719
X-WR-TIMEZONE:Europe/Ljubljana
END:VEVENT
BEGIN:VEVENT
SUMMARY:Diskretne strukture (FM-1)\, Vaje (V)\, [1]
DTSTART;TZID=Europe/Ljubljana:20210113T140000
DTEND;TZID=Europe/Ljubljana:20210113T160000
DTSTAMP:20260422T065027Z
UID:fmf-AFLABS-URNIK:premaknjeno-srecanje:16460
ATTENDEE:1. letnik (FM)
CATEGORIES:Entry,Standard
COLOR:darkgreen
DESCRIPTION:Predmet: Diskretne strukture (FM-1)\, Vaje (V)\, [1]\nLetniki:
  1. letnik (FM)\nIzvajalci: Janoš Vidali\nProstor: 2.01
LOCATION:2.01
ORGANIZER:Janoš Vidali
RELATED-TO:fmf-AFLABS-URNIK:srecanje:4719
X-WR-TIMEZONE:Europe/Ljubljana
END:VEVENT
BEGIN:VEVENT
SUMMARY:Analiza podatkov s programom R (FM-2)\, Vaje (V)
DTSTART;TZID=Europe/Ljubljana:20210107T080000
DTEND;TZID=Europe/Ljubljana:20210107T100000
DTSTAMP:20260422T065027Z
UID:fmf-AFLABS-URNIK:premaknjeno-srecanje:10079
ATTENDEE:2. letnik (FM)
CATEGORIES:Entry,Standard
COLOR:darkgreen
DESCRIPTION:Predmet: Analiza podatkov s programom R (FM-2)\, Vaje (V)\nLet
 niki: 2. letnik (FM)\nIzvajalci: Janoš Vidali\nProstor: 3.11
LOCATION:3.11
ORGANIZER:Janoš Vidali
RELATED-TO:fmf-AFLABS-URNIK:srecanje:4694
X-WR-TIMEZONE:Europe/Ljubljana
END:VEVENT
BEGIN:VEVENT
SUMMARY:Analiza podatkov s programom R (FM-2)\, Vaje (V)
DTSTART;TZID=Europe/Ljubljana:20210114T080000
DTEND;TZID=Europe/Ljubljana:20210114T100000
DTSTAMP:20260422T065027Z
UID:fmf-AFLABS-URNIK:premaknjeno-srecanje:10080
ATTENDEE:2. letnik (FM)
CATEGORIES:Entry,Standard
COLOR:darkgreen
DESCRIPTION:Predmet: Analiza podatkov s programom R (FM-2)\, Vaje (V)\nLet
 niki: 2. letnik (FM)\nIzvajalci: Janoš Vidali\nProstor: 3.11
LOCATION:3.11
ORGANIZER:Janoš Vidali
RELATED-TO:fmf-AFLABS-URNIK:srecanje:4694
X-WR-TIMEZONE:Europe/Ljubljana
END:VEVENT
BEGIN:VEVENT
SUMMARY:Diskretne strukture (FM-1)\, Vaje (V)\, [2]
DTSTART;TZID=Europe/Ljubljana:20210107T120000
DTEND;TZID=Europe/Ljubljana:20210107T140000
DTSTAMP:20260422T065027Z
UID:fmf-AFLABS-URNIK:premaknjeno-srecanje:16553
ATTENDEE:1. letnik (FM)
CATEGORIES:Entry,Standard
COLOR:darkgreen
DESCRIPTION:Predmet: Diskretne strukture (FM-1)\, Vaje (V)\, [2]\nLetniki:
  1. letnik (FM)\nIzvajalci: Janoš Vidali\nProstor: Na daljavo
LOCATION:Na daljavo
ORGANIZER:Janoš Vidali
RELATED-TO:fmf-AFLABS-URNIK:srecanje:5298
X-WR-TIMEZONE:Europe/Ljubljana
END:VEVENT
BEGIN:VEVENT
SUMMARY:Diskretne strukture (FM-1)\, Vaje (V)\, [2]
DTSTART;TZID=Europe/Ljubljana:20210114T120000
DTEND;TZID=Europe/Ljubljana:20210114T140000
DTSTAMP:20260422T065027Z
UID:fmf-AFLABS-URNIK:premaknjeno-srecanje:16554
ATTENDEE:1. letnik (FM)
CATEGORIES:Entry,Standard
COLOR:darkgreen
DESCRIPTION:Predmet: Diskretne strukture (FM-1)\, Vaje (V)\, [2]\nLetniki:
  1. letnik (FM)\nIzvajalci: Janoš Vidali\nProstor: Na daljavo
LOCATION:Na daljavo
ORGANIZER:Janoš Vidali
RELATED-TO:fmf-AFLABS-URNIK:srecanje:5298
X-WR-TIMEZONE:Europe/Ljubljana
END:VEVENT
BEGIN:VEVENT
SUMMARY:Operacijske raziskave (FM-2)\, Vaje (V)
DTSTART;TZID=Europe/Ljubljana:20210215T100000
DTEND;TZID=Europe/Ljubljana:20210215T120000
DTSTAMP:20260422T065027Z
UID:fmf-AFLABS-URNIK:premaknjeno-srecanje:79365
ATTENDEE:2. letnik (FM)
CATEGORIES:Entry,Standard
COLOR:darkgreen
DESCRIPTION:Predmet: Operacijske raziskave (FM-2)\, Vaje (V)\nLetniki: 2. 
 letnik (FM)\nIzvajalci: Janoš Vidali\nProstor: 2.04
LOCATION:2.04
ORGANIZER:Janoš Vidali
RELATED-TO:fmf-AFLABS-URNIK:srecanje:5785
X-WR-TIMEZONE:Europe/Ljubljana
END:VEVENT
BEGIN:VEVENT
SUMMARY:Operacijske raziskave (FM-2)\, Vaje (V)
DTSTART;TZID=Europe/Ljubljana:20210222T100000
DTEND;TZID=Europe/Ljubljana:20210222T120000
DTSTAMP:20260422T065027Z
UID:fmf-AFLABS-URNIK:premaknjeno-srecanje:79366
ATTENDEE:2. letnik (FM)
CATEGORIES:Entry,Standard
COLOR:darkgreen
DESCRIPTION:Predmet: Operacijske raziskave (FM-2)\, Vaje (V)\nLetniki: 2. 
 letnik (FM)\nIzvajalci: Janoš Vidali\nProstor: 2.04
LOCATION:2.04
ORGANIZER:Janoš Vidali
RELATED-TO:fmf-AFLABS-URNIK:srecanje:5785
X-WR-TIMEZONE:Europe/Ljubljana
END:VEVENT
BEGIN:VEVENT
SUMMARY:Operacijske raziskave (FM-2)\, Vaje (V)
DTSTART;TZID=Europe/Ljubljana:20210301T100000
DTEND;TZID=Europe/Ljubljana:20210301T120000
DTSTAMP:20260422T065027Z
UID:fmf-AFLABS-URNIK:premaknjeno-srecanje:79367
ATTENDEE:2. letnik (FM)
CATEGORIES:Entry,Standard
COLOR:darkgreen
DESCRIPTION:Predmet: Operacijske raziskave (FM-2)\, Vaje (V)\nLetniki: 2. 
 letnik (FM)\nIzvajalci: Janoš Vidali\nProstor: 2.04
LOCATION:2.04
ORGANIZER:Janoš Vidali
RELATED-TO:fmf-AFLABS-URNIK:srecanje:5785
X-WR-TIMEZONE:Europe/Ljubljana
END:VEVENT
BEGIN:VEVENT
SUMMARY:Operacijske raziskave (FM-2)\, Vaje (V)
DTSTART;TZID=Europe/Ljubljana:20210308T100000
DTEND;TZID=Europe/Ljubljana:20210308T120000
DTSTAMP:20260422T065027Z
UID:fmf-AFLABS-URNIK:premaknjeno-srecanje:79368
ATTENDEE:2. letnik (FM)
CATEGORIES:Entry,Standard
COLOR:darkgreen
DESCRIPTION:Predmet: Operacijske raziskave (FM-2)\, Vaje (V)\nLetniki: 2. 
 letnik (FM)\nIzvajalci: Janoš Vidali\nProstor: 2.04
LOCATION:2.04
ORGANIZER:Janoš Vidali
RELATED-TO:fmf-AFLABS-URNIK:srecanje:5785
X-WR-TIMEZONE:Europe/Ljubljana
END:VEVENT
BEGIN:VEVENT
SUMMARY:Operacijske raziskave (FM-2)\, Vaje (V)
DTSTART;TZID=Europe/Ljubljana:20210315T100000
DTEND;TZID=Europe/Ljubljana:20210315T120000
DTSTAMP:20260422T065027Z
UID:fmf-AFLABS-URNIK:premaknjeno-srecanje:79369
ATTENDEE:2. letnik (FM)
CATEGORIES:Entry,Standard
COLOR:darkgreen
DESCRIPTION:Predmet: Operacijske raziskave (FM-2)\, Vaje (V)\nLetniki: 2. 
 letnik (FM)\nIzvajalci: Janoš Vidali\nProstor: 2.04
LOCATION:2.04
ORGANIZER:Janoš Vidali
RELATED-TO:fmf-AFLABS-URNIK:srecanje:5785
X-WR-TIMEZONE:Europe/Ljubljana
END:VEVENT
BEGIN:VEVENT
SUMMARY:Računska geometrija (IŠRM-M)\, Vaje (V)
DTSTART;TZID=Europe/Ljubljana:20210217T140000
DTEND;TZID=Europe/Ljubljana:20210217T160000
DTSTAMP:20260422T065027Z
UID:fmf-AFLABS-URNIK:premaknjeno-srecanje:44436
ATTENDEE:magistrski študij (IŠRM)
CATEGORIES:Entry,Standard
COLOR:darkgreen
DESCRIPTION:Predmet: Računska geometrija (IŠRM-M)\, Vaje (V)\nLetniki: m
 agistrski študij (IŠRM)\nIzvajalci: Janoš Vidali\nProstor: 3.05
LOCATION:3.05
ORGANIZER:Janoš Vidali
RELATED-TO:fmf-AFLABS-URNIK:srecanje:5620
X-WR-TIMEZONE:Europe/Ljubljana
END:VEVENT
BEGIN:VEVENT
SUMMARY:Računska geometrija (IŠRM-M)\, Vaje (V)
DTSTART;TZID=Europe/Ljubljana:20210224T140000
DTEND;TZID=Europe/Ljubljana:20210224T160000
DTSTAMP:20260422T065027Z
UID:fmf-AFLABS-URNIK:premaknjeno-srecanje:44437
ATTENDEE:magistrski študij (IŠRM)
CATEGORIES:Entry,Standard
COLOR:darkgreen
DESCRIPTION:Predmet: Računska geometrija (IŠRM-M)\, Vaje (V)\nLetniki: m
 agistrski študij (IŠRM)\nIzvajalci: Janoš Vidali\nProstor: 3.05
LOCATION:3.05
ORGANIZER:Janoš Vidali
RELATED-TO:fmf-AFLABS-URNIK:srecanje:5620
X-WR-TIMEZONE:Europe/Ljubljana
END:VEVENT
BEGIN:VEVENT
SUMMARY:Računska geometrija (IŠRM-M)\, Vaje (V)
DTSTART;TZID=Europe/Ljubljana:20210303T140000
DTEND;TZID=Europe/Ljubljana:20210303T160000
DTSTAMP:20260422T065027Z
UID:fmf-AFLABS-URNIK:premaknjeno-srecanje:44438
ATTENDEE:magistrski študij (IŠRM)
CATEGORIES:Entry,Standard
COLOR:darkgreen
DESCRIPTION:Predmet: Računska geometrija (IŠRM-M)\, Vaje (V)\nLetniki: m
 agistrski študij (IŠRM)\nIzvajalci: Janoš Vidali\nProstor: 3.05
LOCATION:3.05
ORGANIZER:Janoš Vidali
RELATED-TO:fmf-AFLABS-URNIK:srecanje:5620
X-WR-TIMEZONE:Europe/Ljubljana
END:VEVENT
BEGIN:VEVENT
SUMMARY:Računska geometrija (IŠRM-M)\, Vaje (V)
DTSTART;TZID=Europe/Ljubljana:20210310T140000
DTEND;TZID=Europe/Ljubljana:20210310T160000
DTSTAMP:20260422T065027Z
UID:fmf-AFLABS-URNIK:premaknjeno-srecanje:44439
ATTENDEE:magistrski študij (IŠRM)
CATEGORIES:Entry,Standard
COLOR:darkgreen
DESCRIPTION:Predmet: Računska geometrija (IŠRM-M)\, Vaje (V)\nLetniki: m
 agistrski študij (IŠRM)\nIzvajalci: Janoš Vidali\nProstor: 3.05
LOCATION:3.05
ORGANIZER:Janoš Vidali
RELATED-TO:fmf-AFLABS-URNIK:srecanje:5620
X-WR-TIMEZONE:Europe/Ljubljana
END:VEVENT
BEGIN:VEVENT
SUMMARY:Osnove podatkovnih baz (FM-3\, MAT-3)\, Vaje (V)\, [2]
DTSTART;TZID=Europe/Ljubljana:20210218T120000
DTEND;TZID=Europe/Ljubljana:20210218T140000
DTSTAMP:20260422T065027Z
UID:fmf-AFLABS-URNIK:premaknjeno-srecanje:81555
ATTENDEE:3. letnik (FM)
ATTENDEE:3. letnik (M)
CATEGORIES:Entry,Standard
COLOR:darkgreen
DESCRIPTION:Predmet: Osnove podatkovnih baz (FM-3\, MAT-3)\, Vaje (V)\, [2
 ]\nLetniki: 3. letnik (FM)\, 3. letnik (M)\nIzvajalci: Janoš Vidali\nPros
 tor: 3.11
LOCATION:3.11
ORGANIZER:Janoš Vidali
RELATED-TO:fmf-AFLABS-URNIK:srecanje:5804
X-WR-TIMEZONE:Europe/Ljubljana
END:VEVENT
BEGIN:VEVENT
SUMMARY:Osnove podatkovnih baz (FM-3\, MAT-3)\, Vaje (V)\, [2]
DTSTART;TZID=Europe/Ljubljana:20210225T120000
DTEND;TZID=Europe/Ljubljana:20210225T140000
DTSTAMP:20260422T065027Z
UID:fmf-AFLABS-URNIK:premaknjeno-srecanje:81556
ATTENDEE:3. letnik (FM)
ATTENDEE:3. letnik (M)
CATEGORIES:Entry,Standard
COLOR:darkgreen
DESCRIPTION:Predmet: Osnove podatkovnih baz (FM-3\, MAT-3)\, Vaje (V)\, [2
 ]\nLetniki: 3. letnik (FM)\, 3. letnik (M)\nIzvajalci: Janoš Vidali\nPros
 tor: 3.11
LOCATION:3.11
ORGANIZER:Janoš Vidali
RELATED-TO:fmf-AFLABS-URNIK:srecanje:5804
X-WR-TIMEZONE:Europe/Ljubljana
END:VEVENT
BEGIN:VEVENT
SUMMARY:Osnove podatkovnih baz (FM-3\, MAT-3)\, Vaje (V)\, [2]
DTSTART;TZID=Europe/Ljubljana:20210304T120000
DTEND;TZID=Europe/Ljubljana:20210304T140000
DTSTAMP:20260422T065027Z
UID:fmf-AFLABS-URNIK:premaknjeno-srecanje:81557
ATTENDEE:3. letnik (FM)
ATTENDEE:3. letnik (M)
CATEGORIES:Entry,Standard
COLOR:darkgreen
DESCRIPTION:Predmet: Osnove podatkovnih baz (FM-3\, MAT-3)\, Vaje (V)\, [2
 ]\nLetniki: 3. letnik (FM)\, 3. letnik (M)\nIzvajalci: Janoš Vidali\nPros
 tor: 3.11
LOCATION:3.11
ORGANIZER:Janoš Vidali
RELATED-TO:fmf-AFLABS-URNIK:srecanje:5804
X-WR-TIMEZONE:Europe/Ljubljana
END:VEVENT
BEGIN:VEVENT
SUMMARY:Osnove podatkovnih baz (FM-3\, MAT-3)\, Vaje (V)\, [2]
DTSTART;TZID=Europe/Ljubljana:20210311T120000
DTEND;TZID=Europe/Ljubljana:20210311T140000
DTSTAMP:20260422T065027Z
UID:fmf-AFLABS-URNIK:premaknjeno-srecanje:81558
ATTENDEE:3. letnik (FM)
ATTENDEE:3. letnik (M)
CATEGORIES:Entry,Standard
COLOR:darkgreen
DESCRIPTION:Predmet: Osnove podatkovnih baz (FM-3\, MAT-3)\, Vaje (V)\, [2
 ]\nLetniki: 3. letnik (FM)\, 3. letnik (M)\nIzvajalci: Janoš Vidali\nPros
 tor: 3.11
LOCATION:3.11
ORGANIZER:Janoš Vidali
RELATED-TO:fmf-AFLABS-URNIK:srecanje:5804
X-WR-TIMEZONE:Europe/Ljubljana
END:VEVENT
BEGIN:VEVENT
SUMMARY:Optimizacijske metode (FM-1)\, Vaje (V)
DTSTART;TZID=Europe/Ljubljana:20210219T130000
DTEND;TZID=Europe/Ljubljana:20210219T160000
DTSTAMP:20260422T065027Z
UID:fmf-AFLABS-URNIK:premaknjeno-srecanje:80533
ATTENDEE:1. letnik (FM)
CATEGORIES:Entry,Standard
COLOR:darkgreen
DESCRIPTION:Predmet: Optimizacijske metode (FM-1)\, Vaje (V)\nLetniki: 1. 
 letnik (FM)\nIzvajalci: Janoš Vidali\nProstor: 2.01
LOCATION:2.01
ORGANIZER:Janoš Vidali
RELATED-TO:fmf-AFLABS-URNIK:srecanje:5793
X-WR-TIMEZONE:Europe/Ljubljana
END:VEVENT
BEGIN:VEVENT
SUMMARY:Optimizacijske metode (FM-1)\, Vaje (V)
DTSTART;TZID=Europe/Ljubljana:20210226T130000
DTEND;TZID=Europe/Ljubljana:20210226T160000
DTSTAMP:20260422T065027Z
UID:fmf-AFLABS-URNIK:premaknjeno-srecanje:80534
ATTENDEE:1. letnik (FM)
CATEGORIES:Entry,Standard
COLOR:darkgreen
DESCRIPTION:Predmet: Optimizacijske metode (FM-1)\, Vaje (V)\nLetniki: 1. 
 letnik (FM)\nIzvajalci: Janoš Vidali\nProstor: 2.01
LOCATION:2.01
ORGANIZER:Janoš Vidali
RELATED-TO:fmf-AFLABS-URNIK:srecanje:5793
X-WR-TIMEZONE:Europe/Ljubljana
END:VEVENT
BEGIN:VEVENT
SUMMARY:Optimizacijske metode (FM-1)\, Vaje (V)
DTSTART;TZID=Europe/Ljubljana:20210305T130000
DTEND;TZID=Europe/Ljubljana:20210305T160000
DTSTAMP:20260422T065027Z
UID:fmf-AFLABS-URNIK:premaknjeno-srecanje:80535
ATTENDEE:1. letnik (FM)
CATEGORIES:Entry,Standard
COLOR:darkgreen
DESCRIPTION:Predmet: Optimizacijske metode (FM-1)\, Vaje (V)\nLetniki: 1. 
 letnik (FM)\nIzvajalci: Janoš Vidali\nProstor: 2.01
LOCATION:2.01
ORGANIZER:Janoš Vidali
RELATED-TO:fmf-AFLABS-URNIK:srecanje:5793
X-WR-TIMEZONE:Europe/Ljubljana
END:VEVENT
BEGIN:VEVENT
SUMMARY:Optimizacijske metode (FM-1)\, Vaje (V)
DTSTART;TZID=Europe/Ljubljana:20210312T130000
DTEND;TZID=Europe/Ljubljana:20210312T160000
DTSTAMP:20260422T065027Z
UID:fmf-AFLABS-URNIK:premaknjeno-srecanje:80536
ATTENDEE:1. letnik (FM)
CATEGORIES:Entry,Standard
COLOR:darkgreen
DESCRIPTION:Predmet: Optimizacijske metode (FM-1)\, Vaje (V)\nLetniki: 1. 
 letnik (FM)\nIzvajalci: Janoš Vidali\nProstor: 2.01
LOCATION:2.01
ORGANIZER:Janoš Vidali
RELATED-TO:fmf-AFLABS-URNIK:srecanje:5793
X-WR-TIMEZONE:Europe/Ljubljana
END:VEVENT
BEGIN:VEVENT
SUMMARY:Rezervacija
DTSTART;TZID=Europe/Ljubljana:20210104T100000
DTEND;TZID=Europe/Ljubljana:20210104T120000
DTSTAMP:20260422T065027Z
UID:fmf-AFLABS-URNIK:rezervacija:6558
ATTENDEE:2. letnik (APM)
ATTENDEE:3. letnik (APM)
CATEGORIES:Reservation
COLOR:royalblue
DESCRIPTION:Predmeti: Podatkovne baze 1 (APM-2\, APM-3)\nLetniki: 2. letni
 k (APM)\, 3. letnik (APM)\nIzvajalci: Janoš Vidali\nProstori: Na daljavo
LOCATION:Na daljavo
ORGANIZER:Janoš Vidali
X-WR-TIMEZONE:Europe/Ljubljana
END:VEVENT
BEGIN:VEVENT
SUMMARY:Rezervacija
DTSTART;TZID=Europe/Ljubljana:20210105T090000
DTEND;TZID=Europe/Ljubljana:20210105T110000
DTSTAMP:20260422T065027Z
UID:fmf-AFLABS-URNIK:rezervacija:6559
ATTENDEE:2. letnik (FM)
CATEGORIES:Reservation
COLOR:royalblue
DESCRIPTION:Predmeti: Analiza podatkov s programom R (FM-2)\nLetniki: 2. l
 etnik (FM)\nIzvajalci: Janoš Vidali\nProstori: Na daljavo
LOCATION:Na daljavo
ORGANIZER:Janoš Vidali
X-WR-TIMEZONE:Europe/Ljubljana
END:VEVENT
BEGIN:VEVENT
SUMMARY:Rezervacija
DTSTART;TZID=Europe/Ljubljana:20210113T090000
DTEND;TZID=Europe/Ljubljana:20210113T120000
DTSTAMP:20260422T065027Z
UID:fmf-AFLABS-URNIK:rezervacija:6562
ATTENDEE:2. letnik (APM)
ATTENDEE:3. letnik (APM)
CATEGORIES:Reservation
COLOR:royalblue
DESCRIPTION:Predmeti: Podatkovne baze 1 (APM-2\, APM-3)\nLetniki: 2. letni
 k (APM)\, 3. letnik (APM)\nIzvajalci: Janoš Vidali\nProstori: Na daljavo
LOCATION:Na daljavo
ORGANIZER:Janoš Vidali
X-WR-TIMEZONE:Europe/Ljubljana
END:VEVENT
BEGIN:VEVENT
SUMMARY:Rezervacija
DTSTART;TZID=Europe/Ljubljana:20210113T120000
DTEND;TZID=Europe/Ljubljana:20210113T140000
DTSTAMP:20260422T065027Z
UID:fmf-AFLABS-URNIK:rezervacija:6563
ATTENDEE:1. letnik (FM)
CATEGORIES:Reservation
COLOR:royalblue
DESCRIPTION:Predmeti: Diskretne strukture (FM-1)\nLetniki: 1. letnik (FM)\
 nIzvajalci: Janoš Vidali\nProstori: Na daljavo
LOCATION:Na daljavo
ORGANIZER:Janoš Vidali
X-WR-TIMEZONE:Europe/Ljubljana
END:VEVENT
BEGIN:VEVENT
SUMMARY:Rezervacija
DTSTART;TZID=Europe/Ljubljana:20210115T100000
DTEND;TZID=Europe/Ljubljana:20210115T120000
DTSTAMP:20260422T065027Z
UID:fmf-AFLABS-URNIK:rezervacija:6566
ATTENDEE:2. letnik (FM)
CATEGORIES:Reservation
COLOR:royalblue
DESCRIPTION:Predmeti: Analiza podatkov s programom R (FM-2)\nLetniki: 2. l
 etnik (FM)\nIzvajalci: Janoš Vidali\nProstori: Na daljavo
LOCATION:Na daljavo
ORGANIZER:Janoš Vidali
X-WR-TIMEZONE:Europe/Ljubljana
END:VEVENT
END:VCALENDAR
