BEGIN:VCALENDAR
VERSION:2.0
PRODID:-//AFLabs urnik izvoz - fmf//aflabs.si//SI
DTSTAMP:20260421T041043Z
NAME:UL FMF urnik
REFRESH-INTERVAL:PT1H
SOURCE:https://urnik.fmf.uni-lj.si/teacher/220?day=2023-01-30&export=1
URL:https://urnik.fmf.uni-lj.si/teacher/220?day=2023-01-30&export=1
X-PUBLISHED-TTL:PT1H
X-WR-CALNAME:UL FMF urnik
X-WR-TIMEZONE:Europe/Ljubljana
BEGIN:VTIMEZONE
TZID:Europe/Ljubljana
BEGIN:DAYLIGHT
DTSTART:20260329T020000
RDATE:20260329T020000
RDATE:20270328T020000
TZNAME:CEST
TZOFFSETFROM:+0100
TZOFFSETTO:+0200
END:DAYLIGHT
BEGIN:STANDARD
DTSTART:20261025T030000
RDATE:20261025T030000
RDATE:20271031T030000
TZNAME:CET
TZOFFSETFROM:+0200
TZOFFSETTO:+0100
END:STANDARD
END:VTIMEZONE
BEGIN:VEVENT
SUMMARY:Diskretne strukture (FM-1)\, Vaje (V)\, [1]
DTSTART;TZID=Europe/Ljubljana:20221227T140000
DTEND;TZID=Europe/Ljubljana:20221227T160000
DTSTAMP:20260421T041043Z
UID:fmf-AFLABS-URNIK:premaknjeno-srecanje:16427
ATTENDEE:1. letnik (FM)
CATEGORIES:Entry,Standard
COLOR:darkgreen
DESCRIPTION:Predmet: Diskretne strukture (FM-1)\, Vaje (V)\, [1]\nLetniki:
  1. letnik (FM)\nIzvajalci: Janoš Vidali\nProstor: 2.04
LOCATION:2.04
ORGANIZER:Janoš Vidali
RELATED-TO:fmf-AFLABS-URNIK:srecanje:8115
X-WR-TIMEZONE:Europe/Ljubljana
END:VEVENT
BEGIN:VEVENT
SUMMARY:Diskretne strukture (FM-1)\, Vaje (V)\, [1]
DTSTART;TZID=Europe/Ljubljana:20230103T140000
DTEND;TZID=Europe/Ljubljana:20230103T160000
DTSTAMP:20260421T041043Z
UID:fmf-AFLABS-URNIK:premaknjeno-srecanje:16428
ATTENDEE:1. letnik (FM)
CATEGORIES:Entry,Standard
COLOR:darkgreen
DESCRIPTION:Predmet: Diskretne strukture (FM-1)\, Vaje (V)\, [1]\nLetniki:
  1. letnik (FM)\nIzvajalci: Janoš Vidali\nProstor: 2.04
LOCATION:2.04
ORGANIZER:Janoš Vidali
RELATED-TO:fmf-AFLABS-URNIK:srecanje:8115
X-WR-TIMEZONE:Europe/Ljubljana
END:VEVENT
BEGIN:VEVENT
SUMMARY:Diskretne strukture (FM-1)\, Vaje (V)\, [1]
DTSTART;TZID=Europe/Ljubljana:20230110T140000
DTEND;TZID=Europe/Ljubljana:20230110T160000
DTSTAMP:20260421T041043Z
UID:fmf-AFLABS-URNIK:premaknjeno-srecanje:16429
ATTENDEE:1. letnik (FM)
CATEGORIES:Entry,Standard
COLOR:darkgreen
DESCRIPTION:Predmet: Diskretne strukture (FM-1)\, Vaje (V)\, [1]\nLetniki:
  1. letnik (FM)\nIzvajalci: Janoš Vidali\nProstor: 2.04
LOCATION:2.04
ORGANIZER:Janoš Vidali
RELATED-TO:fmf-AFLABS-URNIK:srecanje:8115
X-WR-TIMEZONE:Europe/Ljubljana
END:VEVENT
BEGIN:VEVENT
SUMMARY:Diskretne strukture (FM-1)\, Vaje (V)\, [2]
DTSTART;TZID=Europe/Ljubljana:20221228T120000
DTEND;TZID=Europe/Ljubljana:20221228T140000
DTSTAMP:20260421T041043Z
UID:fmf-AFLABS-URNIK:premaknjeno-srecanje:16536
ATTENDEE:1. letnik (FM)
CATEGORIES:Entry,Standard
COLOR:darkgreen
DESCRIPTION:Predmet: Diskretne strukture (FM-1)\, Vaje (V)\, [2]\nLetniki:
  1. letnik (FM)\nIzvajalci: Janoš Vidali\nProstor: 2.01
LOCATION:2.01
ORGANIZER:Janoš Vidali
RELATED-TO:fmf-AFLABS-URNIK:srecanje:7525
X-WR-TIMEZONE:Europe/Ljubljana
END:VEVENT
BEGIN:VEVENT
SUMMARY:Diskretne strukture (FM-1)\, Vaje (V)\, [2]
DTSTART;TZID=Europe/Ljubljana:20230104T120000
DTEND;TZID=Europe/Ljubljana:20230104T140000
DTSTAMP:20260421T041043Z
UID:fmf-AFLABS-URNIK:premaknjeno-srecanje:16537
ATTENDEE:1. letnik (FM)
CATEGORIES:Entry,Standard
COLOR:darkgreen
DESCRIPTION:Predmet: Diskretne strukture (FM-1)\, Vaje (V)\, [2]\nLetniki:
  1. letnik (FM)\nIzvajalci: Janoš Vidali\nProstor: 2.01
LOCATION:2.01
ORGANIZER:Janoš Vidali
RELATED-TO:fmf-AFLABS-URNIK:srecanje:7525
X-WR-TIMEZONE:Europe/Ljubljana
END:VEVENT
BEGIN:VEVENT
SUMMARY:Diskretne strukture (FM-1)\, Vaje (V)\, [2]
DTSTART;TZID=Europe/Ljubljana:20230111T120000
DTEND;TZID=Europe/Ljubljana:20230111T140000
DTSTAMP:20260421T041043Z
UID:fmf-AFLABS-URNIK:premaknjeno-srecanje:16538
ATTENDEE:1. letnik (FM)
CATEGORIES:Entry,Standard
COLOR:darkgreen
DESCRIPTION:Predmet: Diskretne strukture (FM-1)\, Vaje (V)\, [2]\nLetniki:
  1. letnik (FM)\nIzvajalci: Janoš Vidali\nProstor: 2.01
LOCATION:2.01
ORGANIZER:Janoš Vidali
RELATED-TO:fmf-AFLABS-URNIK:srecanje:7525
X-WR-TIMEZONE:Europe/Ljubljana
END:VEVENT
BEGIN:VEVENT
SUMMARY:FP (FM-3)\, Seminar (S)
DTSTART;TZID=Europe/Ljubljana:20221230T110000
DTEND;TZID=Europe/Ljubljana:20221230T130000
DTSTAMP:20260421T041043Z
UID:fmf-AFLABS-URNIK:premaknjeno-srecanje:20402
ATTENDEE:3. letnik (FM)
CATEGORIES:Entry,Standard
COLOR:darkgreen
DESCRIPTION:Predmet: FP (FM-3)\, Seminar (S)\nLetniki: 3. letnik (FM)\nIzv
 ajalci: Janoš Vidali\nProstor: 3.12
LOCATION:3.12
ORGANIZER:Janoš Vidali
RELATED-TO:fmf-AFLABS-URNIK:srecanje:8190
X-WR-TIMEZONE:Europe/Ljubljana
END:VEVENT
BEGIN:VEVENT
SUMMARY:FP (FM-3)\, Seminar (S)
DTSTART;TZID=Europe/Ljubljana:20230106T110000
DTEND;TZID=Europe/Ljubljana:20230106T130000
DTSTAMP:20260421T041043Z
UID:fmf-AFLABS-URNIK:premaknjeno-srecanje:20403
ATTENDEE:3. letnik (FM)
CATEGORIES:Entry,Standard
COLOR:darkgreen
DESCRIPTION:Predmet: FP (FM-3)\, Seminar (S)\nLetniki: 3. letnik (FM)\nIzv
 ajalci: Janoš Vidali\nProstor: 3.12
LOCATION:3.12
ORGANIZER:Janoš Vidali
RELATED-TO:fmf-AFLABS-URNIK:srecanje:8190
X-WR-TIMEZONE:Europe/Ljubljana
END:VEVENT
BEGIN:VEVENT
SUMMARY:FP (FM-3)\, Seminar (S)
DTSTART;TZID=Europe/Ljubljana:20230113T110000
DTEND;TZID=Europe/Ljubljana:20230113T130000
DTSTAMP:20260421T041043Z
UID:fmf-AFLABS-URNIK:premaknjeno-srecanje:20404
ATTENDEE:3. letnik (FM)
CATEGORIES:Entry,Standard
COLOR:darkgreen
DESCRIPTION:Predmet: FP (FM-3)\, Seminar (S)\nLetniki: 3. letnik (FM)\nIzv
 ajalci: Janoš Vidali\nProstor: 3.12
LOCATION:3.12
ORGANIZER:Janoš Vidali
RELATED-TO:fmf-AFLABS-URNIK:srecanje:8190
X-WR-TIMEZONE:Europe/Ljubljana
END:VEVENT
BEGIN:VEVENT
SUMMARY:Kriptografija in računalniška varnost ()\, Vaje (V)
DTSTART;TZID=Europe/Ljubljana:20221230T070000
DTEND;TZID=Europe/Ljubljana:20221230T090000
DTSTAMP:20260421T041043Z
UID:fmf-AFLABS-URNIK:premaknjeno-srecanje:55618
CATEGORIES:Entry,Standard
COLOR:darkgreen
DESCRIPTION:Predmet: Kriptografija in računalniška varnost ()\, Vaje (V)
 \nLetniki: \nIzvajalci: Janoš Vidali\nProstor: FRI
LOCATION:FRI
ORGANIZER:Janoš Vidali
RELATED-TO:fmf-AFLABS-URNIK:srecanje:7734
X-WR-TIMEZONE:Europe/Ljubljana
END:VEVENT
BEGIN:VEVENT
SUMMARY:Kriptografija in računalniška varnost ()\, Vaje (V)
DTSTART;TZID=Europe/Ljubljana:20230106T070000
DTEND;TZID=Europe/Ljubljana:20230106T090000
DTSTAMP:20260421T041043Z
UID:fmf-AFLABS-URNIK:premaknjeno-srecanje:55619
CATEGORIES:Entry,Standard
COLOR:darkgreen
DESCRIPTION:Predmet: Kriptografija in računalniška varnost ()\, Vaje (V)
 \nLetniki: \nIzvajalci: Janoš Vidali\nProstor: FRI
LOCATION:FRI
ORGANIZER:Janoš Vidali
RELATED-TO:fmf-AFLABS-URNIK:srecanje:7734
X-WR-TIMEZONE:Europe/Ljubljana
END:VEVENT
BEGIN:VEVENT
SUMMARY:Kriptografija in računalniška varnost ()\, Vaje (V)
DTSTART;TZID=Europe/Ljubljana:20230113T070000
DTEND;TZID=Europe/Ljubljana:20230113T090000
DTSTAMP:20260421T041043Z
UID:fmf-AFLABS-URNIK:premaknjeno-srecanje:55620
CATEGORIES:Entry,Standard
COLOR:darkgreen
DESCRIPTION:Predmet: Kriptografija in računalniška varnost ()\, Vaje (V)
 \nLetniki: \nIzvajalci: Janoš Vidali\nProstor: FRI
LOCATION:FRI
ORGANIZER:Janoš Vidali
RELATED-TO:fmf-AFLABS-URNIK:srecanje:7734
X-WR-TIMEZONE:Europe/Ljubljana
END:VEVENT
BEGIN:VEVENT
SUMMARY:Operacijske raziskave (FM-2)\, Vaje (V)
DTSTART;TZID=Europe/Ljubljana:20230213T100000
DTEND;TZID=Europe/Ljubljana:20230213T120000
DTSTAMP:20260421T041043Z
UID:fmf-AFLABS-URNIK:premaknjeno-srecanje:79381
ATTENDEE:2. letnik (FM)
CATEGORIES:Entry,Standard
COLOR:darkgreen
DESCRIPTION:Predmet: Operacijske raziskave (FM-2)\, Vaje (V)\nLetniki: 2. 
 letnik (FM)\nIzvajalci: Janoš Vidali\nProstor: 2.04
LOCATION:2.04
ORGANIZER:Janoš Vidali
RELATED-TO:fmf-AFLABS-URNIK:srecanje:8596
X-WR-TIMEZONE:Europe/Ljubljana
END:VEVENT
BEGIN:VEVENT
SUMMARY:Operacijske raziskave (FM-2)\, Vaje (V)
DTSTART;TZID=Europe/Ljubljana:20230220T100000
DTEND;TZID=Europe/Ljubljana:20230220T120000
DTSTAMP:20260421T041043Z
UID:fmf-AFLABS-URNIK:premaknjeno-srecanje:79382
ATTENDEE:2. letnik (FM)
CATEGORIES:Entry,Standard
COLOR:darkgreen
DESCRIPTION:Predmet: Operacijske raziskave (FM-2)\, Vaje (V)\nLetniki: 2. 
 letnik (FM)\nIzvajalci: Janoš Vidali\nProstor: 2.04
LOCATION:2.04
ORGANIZER:Janoš Vidali
RELATED-TO:fmf-AFLABS-URNIK:srecanje:8596
X-WR-TIMEZONE:Europe/Ljubljana
END:VEVENT
BEGIN:VEVENT
SUMMARY:Operacijske raziskave (FM-2)\, Vaje (V)
DTSTART;TZID=Europe/Ljubljana:20230227T100000
DTEND;TZID=Europe/Ljubljana:20230227T120000
DTSTAMP:20260421T041043Z
UID:fmf-AFLABS-URNIK:premaknjeno-srecanje:79383
ATTENDEE:2. letnik (FM)
CATEGORIES:Entry,Standard
COLOR:darkgreen
DESCRIPTION:Predmet: Operacijske raziskave (FM-2)\, Vaje (V)\nLetniki: 2. 
 letnik (FM)\nIzvajalci: Janoš Vidali\nProstor: 2.04
LOCATION:2.04
ORGANIZER:Janoš Vidali
RELATED-TO:fmf-AFLABS-URNIK:srecanje:8596
X-WR-TIMEZONE:Europe/Ljubljana
END:VEVENT
BEGIN:VEVENT
SUMMARY:Operacijske raziskave (FM-2)\, Vaje (V)
DTSTART;TZID=Europe/Ljubljana:20230306T100000
DTEND;TZID=Europe/Ljubljana:20230306T120000
DTSTAMP:20260421T041043Z
UID:fmf-AFLABS-URNIK:premaknjeno-srecanje:79384
ATTENDEE:2. letnik (FM)
CATEGORIES:Entry,Standard
COLOR:darkgreen
DESCRIPTION:Predmet: Operacijske raziskave (FM-2)\, Vaje (V)\nLetniki: 2. 
 letnik (FM)\nIzvajalci: Janoš Vidali\nProstor: 2.04
LOCATION:2.04
ORGANIZER:Janoš Vidali
RELATED-TO:fmf-AFLABS-URNIK:srecanje:8596
X-WR-TIMEZONE:Europe/Ljubljana
END:VEVENT
BEGIN:VEVENT
SUMMARY:Osnove podatkovnih baz (FM-3\, MAT-3)\, Predavanja (P)
DTSTART;TZID=Europe/Ljubljana:20230213T120000
DTEND;TZID=Europe/Ljubljana:20230213T140000
DTSTAMP:20260421T041043Z
UID:fmf-AFLABS-URNIK:premaknjeno-srecanje:81431
ATTENDEE:3. letnik (FM)
ATTENDEE:3. letnik (M)
CATEGORIES:Entry,Standard
COLOR:darkgreen
DESCRIPTION:Predmet: Osnove podatkovnih baz (FM-3\, MAT-3)\, Predavanja (P
 )\nLetniki: 3. letnik (FM)\, 3. letnik (M)\nIzvajalci: Janoš Vidali\nPros
 tor: 3.04
LOCATION:3.04
ORGANIZER:Janoš Vidali
RELATED-TO:fmf-AFLABS-URNIK:srecanje:8616
X-WR-TIMEZONE:Europe/Ljubljana
END:VEVENT
BEGIN:VEVENT
SUMMARY:Osnove podatkovnih baz (FM-3\, MAT-3)\, Predavanja (P)
DTSTART;TZID=Europe/Ljubljana:20230220T120000
DTEND;TZID=Europe/Ljubljana:20230220T140000
DTSTAMP:20260421T041043Z
UID:fmf-AFLABS-URNIK:premaknjeno-srecanje:81432
ATTENDEE:3. letnik (FM)
ATTENDEE:3. letnik (M)
CATEGORIES:Entry,Standard
COLOR:darkgreen
DESCRIPTION:Predmet: Osnove podatkovnih baz (FM-3\, MAT-3)\, Predavanja (P
 )\nLetniki: 3. letnik (FM)\, 3. letnik (M)\nIzvajalci: Janoš Vidali\nPros
 tor: 3.04
LOCATION:3.04
ORGANIZER:Janoš Vidali
RELATED-TO:fmf-AFLABS-URNIK:srecanje:8616
X-WR-TIMEZONE:Europe/Ljubljana
END:VEVENT
BEGIN:VEVENT
SUMMARY:Osnove podatkovnih baz (FM-3\, MAT-3)\, Predavanja (P)
DTSTART;TZID=Europe/Ljubljana:20230227T120000
DTEND;TZID=Europe/Ljubljana:20230227T140000
DTSTAMP:20260421T041043Z
UID:fmf-AFLABS-URNIK:premaknjeno-srecanje:81433
ATTENDEE:3. letnik (FM)
ATTENDEE:3. letnik (M)
CATEGORIES:Entry,Standard
COLOR:darkgreen
DESCRIPTION:Predmet: Osnove podatkovnih baz (FM-3\, MAT-3)\, Predavanja (P
 )\nLetniki: 3. letnik (FM)\, 3. letnik (M)\nIzvajalci: Janoš Vidali\nPros
 tor: 3.04
LOCATION:3.04
ORGANIZER:Janoš Vidali
RELATED-TO:fmf-AFLABS-URNIK:srecanje:8616
X-WR-TIMEZONE:Europe/Ljubljana
END:VEVENT
BEGIN:VEVENT
SUMMARY:Osnove podatkovnih baz (FM-3\, MAT-3)\, Predavanja (P)
DTSTART;TZID=Europe/Ljubljana:20230306T120000
DTEND;TZID=Europe/Ljubljana:20230306T140000
DTSTAMP:20260421T041043Z
UID:fmf-AFLABS-URNIK:premaknjeno-srecanje:81434
ATTENDEE:3. letnik (FM)
ATTENDEE:3. letnik (M)
CATEGORIES:Entry,Standard
COLOR:darkgreen
DESCRIPTION:Predmet: Osnove podatkovnih baz (FM-3\, MAT-3)\, Predavanja (P
 )\nLetniki: 3. letnik (FM)\, 3. letnik (M)\nIzvajalci: Janoš Vidali\nPros
 tor: 3.04
LOCATION:3.04
ORGANIZER:Janoš Vidali
RELATED-TO:fmf-AFLABS-URNIK:srecanje:8616
X-WR-TIMEZONE:Europe/Ljubljana
END:VEVENT
BEGIN:VEVENT
SUMMARY:Računska geometrija (IŠRM-M)\, Vaje (V)
DTSTART;TZID=Europe/Ljubljana:20230215T140000
DTEND;TZID=Europe/Ljubljana:20230215T160000
DTSTAMP:20260421T041043Z
UID:fmf-AFLABS-URNIK:premaknjeno-srecanje:44451
ATTENDEE:magistrski študij (IŠRM)
CATEGORIES:Entry,Standard
COLOR:darkgreen
DESCRIPTION:Predmet: Računska geometrija (IŠRM-M)\, Vaje (V)\nLetniki: m
 agistrski študij (IŠRM)\nIzvajalci: Janoš Vidali\nProstor: 3.05
LOCATION:3.05
ORGANIZER:Janoš Vidali
RELATED-TO:fmf-AFLABS-URNIK:srecanje:8429
X-WR-TIMEZONE:Europe/Ljubljana
END:VEVENT
BEGIN:VEVENT
SUMMARY:Računska geometrija (IŠRM-M)\, Vaje (V)
DTSTART;TZID=Europe/Ljubljana:20230222T140000
DTEND;TZID=Europe/Ljubljana:20230222T160000
DTSTAMP:20260421T041043Z
UID:fmf-AFLABS-URNIK:premaknjeno-srecanje:44452
ATTENDEE:magistrski študij (IŠRM)
CATEGORIES:Entry,Standard
COLOR:darkgreen
DESCRIPTION:Predmet: Računska geometrija (IŠRM-M)\, Vaje (V)\nLetniki: m
 agistrski študij (IŠRM)\nIzvajalci: Janoš Vidali\nProstor: 3.05
LOCATION:3.05
ORGANIZER:Janoš Vidali
RELATED-TO:fmf-AFLABS-URNIK:srecanje:8429
X-WR-TIMEZONE:Europe/Ljubljana
END:VEVENT
BEGIN:VEVENT
SUMMARY:Računska geometrija (IŠRM-M)\, Vaje (V)
DTSTART;TZID=Europe/Ljubljana:20230301T140000
DTEND;TZID=Europe/Ljubljana:20230301T160000
DTSTAMP:20260421T041043Z
UID:fmf-AFLABS-URNIK:premaknjeno-srecanje:44453
ATTENDEE:magistrski študij (IŠRM)
CATEGORIES:Entry,Standard
COLOR:darkgreen
DESCRIPTION:Predmet: Računska geometrija (IŠRM-M)\, Vaje (V)\nLetniki: m
 agistrski študij (IŠRM)\nIzvajalci: Janoš Vidali\nProstor: 3.05
LOCATION:3.05
ORGANIZER:Janoš Vidali
RELATED-TO:fmf-AFLABS-URNIK:srecanje:8429
X-WR-TIMEZONE:Europe/Ljubljana
END:VEVENT
BEGIN:VEVENT
SUMMARY:Optimizacijske metode (FM-1)\, Predavanja (P)
DTSTART;TZID=Europe/Ljubljana:20230216T120000
DTEND;TZID=Europe/Ljubljana:20230216T130000
DTSTAMP:20260421T041043Z
UID:fmf-AFLABS-URNIK:premaknjeno-srecanje:80377
ATTENDEE:1. letnik (FM)
CATEGORIES:Entry,Standard
COLOR:darkgreen
DESCRIPTION:Predmet: Optimizacijske metode (FM-1)\, Predavanja (P)\nLetnik
 i: 1. letnik (FM)\nIzvajalci: Janoš Vidali\nProstor: 2.01
LOCATION:2.01
ORGANIZER:Janoš Vidali
RELATED-TO:fmf-AFLABS-URNIK:srecanje:8605
X-WR-TIMEZONE:Europe/Ljubljana
END:VEVENT
BEGIN:VEVENT
SUMMARY:Optimizacijske metode (FM-1)\, Predavanja (P)
DTSTART;TZID=Europe/Ljubljana:20230223T120000
DTEND;TZID=Europe/Ljubljana:20230223T130000
DTSTAMP:20260421T041043Z
UID:fmf-AFLABS-URNIK:premaknjeno-srecanje:80378
ATTENDEE:1. letnik (FM)
CATEGORIES:Entry,Standard
COLOR:darkgreen
DESCRIPTION:Predmet: Optimizacijske metode (FM-1)\, Predavanja (P)\nLetnik
 i: 1. letnik (FM)\nIzvajalci: Janoš Vidali\nProstor: 2.01
LOCATION:2.01
ORGANIZER:Janoš Vidali
RELATED-TO:fmf-AFLABS-URNIK:srecanje:8605
X-WR-TIMEZONE:Europe/Ljubljana
END:VEVENT
BEGIN:VEVENT
SUMMARY:Optimizacijske metode (FM-1)\, Predavanja (P)
DTSTART;TZID=Europe/Ljubljana:20230302T120000
DTEND;TZID=Europe/Ljubljana:20230302T130000
DTSTAMP:20260421T041043Z
UID:fmf-AFLABS-URNIK:premaknjeno-srecanje:80379
ATTENDEE:1. letnik (FM)
CATEGORIES:Entry,Standard
COLOR:darkgreen
DESCRIPTION:Predmet: Optimizacijske metode (FM-1)\, Predavanja (P)\nLetnik
 i: 1. letnik (FM)\nIzvajalci: Janoš Vidali\nProstor: 2.01
LOCATION:2.01
ORGANIZER:Janoš Vidali
RELATED-TO:fmf-AFLABS-URNIK:srecanje:8605
X-WR-TIMEZONE:Europe/Ljubljana
END:VEVENT
BEGIN:VEVENT
SUMMARY:Optimizacijske metode (FM-1)\, Predavanja (P)
DTSTART;TZID=Europe/Ljubljana:20230217T080000
DTEND;TZID=Europe/Ljubljana:20230217T100000
DTSTAMP:20260421T041043Z
UID:fmf-AFLABS-URNIK:premaknjeno-srecanje:80393
ATTENDEE:1. letnik (FM)
CATEGORIES:Entry,Standard
COLOR:darkgreen
DESCRIPTION:Predmet: Optimizacijske metode (FM-1)\, Predavanja (P)\nLetnik
 i: 1. letnik (FM)\nIzvajalci: Janoš Vidali\nProstor: 2.01
LOCATION:2.01
ORGANIZER:Janoš Vidali
RELATED-TO:fmf-AFLABS-URNIK:srecanje:8604
X-WR-TIMEZONE:Europe/Ljubljana
END:VEVENT
BEGIN:VEVENT
SUMMARY:Optimizacijske metode (FM-1)\, Predavanja (P)
DTSTART;TZID=Europe/Ljubljana:20230224T080000
DTEND;TZID=Europe/Ljubljana:20230224T100000
DTSTAMP:20260421T041043Z
UID:fmf-AFLABS-URNIK:premaknjeno-srecanje:80394
ATTENDEE:1. letnik (FM)
CATEGORIES:Entry,Standard
COLOR:darkgreen
DESCRIPTION:Predmet: Optimizacijske metode (FM-1)\, Predavanja (P)\nLetnik
 i: 1. letnik (FM)\nIzvajalci: Janoš Vidali\nProstor: 2.01
LOCATION:2.01
ORGANIZER:Janoš Vidali
RELATED-TO:fmf-AFLABS-URNIK:srecanje:8604
X-WR-TIMEZONE:Europe/Ljubljana
END:VEVENT
BEGIN:VEVENT
SUMMARY:Optimizacijske metode (FM-1)\, Predavanja (P)
DTSTART;TZID=Europe/Ljubljana:20230303T080000
DTEND;TZID=Europe/Ljubljana:20230303T100000
DTSTAMP:20260421T041043Z
UID:fmf-AFLABS-URNIK:premaknjeno-srecanje:80395
ATTENDEE:1. letnik (FM)
CATEGORIES:Entry,Standard
COLOR:darkgreen
DESCRIPTION:Predmet: Optimizacijske metode (FM-1)\, Predavanja (P)\nLetnik
 i: 1. letnik (FM)\nIzvajalci: Janoš Vidali\nProstor: 2.01
LOCATION:2.01
ORGANIZER:Janoš Vidali
RELATED-TO:fmf-AFLABS-URNIK:srecanje:8604
X-WR-TIMEZONE:Europe/Ljubljana
END:VEVENT
BEGIN:VEVENT
SUMMARY:Rezervacija
DTSTART;TZID=Europe/Ljubljana:20230110T180000
DTEND;TZID=Europe/Ljubljana:20230110T200000
DTSTAMP:20260421T041043Z
UID:fmf-AFLABS-URNIK:rezervacija:10806
ATTENDEE:1. letnik (FM)
CATEGORIES:Reservation
COLOR:royalblue
DESCRIPTION:Predmeti: Diskretne strukture (FM-1)\nLetniki: 1. letnik (FM)\
 nIzvajalci: Janoš Vidali\nProstori: 2.01\, 2.05
LOCATION:2.01\, 2.05
ORGANIZER:Janoš Vidali
X-WR-TIMEZONE:Europe/Ljubljana
END:VEVENT
BEGIN:VEVENT
SUMMARY:Rezervacija
DTSTART;TZID=Europe/Ljubljana:20230117T090000
DTEND;TZID=Europe/Ljubljana:20230117T120000
DTSTAMP:20260421T041043Z
UID:fmf-AFLABS-URNIK:rezervacija:10880
CATEGORIES:Reservation
COLOR:royalblue
DESCRIPTION:Predmeti: \nLetniki: \nIzvajalci: Janoš Vidali\nProstori: 3.0
 4
LOCATION:3.04
ORGANIZER:Janoš Vidali
X-WR-TIMEZONE:Europe/Ljubljana
END:VEVENT
BEGIN:VEVENT
SUMMARY:Rezervacija
DTSTART;TZID=Europe/Ljubljana:20230118T100000
DTEND;TZID=Europe/Ljubljana:20230118T120000
DTSTAMP:20260421T041043Z
UID:fmf-AFLABS-URNIK:rezervacija:10918
ATTENDEE:3. letnik (FM)
CATEGORIES:Reservation
COLOR:royalblue
DESCRIPTION:Predmeti: FP (FM-3)\nLetniki: 3. letnik (FM)\nIzvajalci: Jano
 š Vidali\nProstori: 3.06
LOCATION:3.06
ORGANIZER:Janoš Vidali
X-WR-TIMEZONE:Europe/Ljubljana
END:VEVENT
BEGIN:VEVENT
SUMMARY:Rezervacija
DTSTART;TZID=Europe/Ljubljana:20230119T140000
DTEND;TZID=Europe/Ljubljana:20230119T150000
DTSTAMP:20260421T041043Z
UID:fmf-AFLABS-URNIK:rezervacija:10948
ATTENDEE:3. letnik (FM)
CATEGORIES:Reservation
COLOR:royalblue
DESCRIPTION:Predmeti: FP (FM-3)\nLetniki: 3. letnik (FM)\nIzvajalci: Jano
 š Vidali\nProstori: 3.06
LOCATION:3.06
ORGANIZER:Janoš Vidali
X-WR-TIMEZONE:Europe/Ljubljana
END:VEVENT
BEGIN:VEVENT
SUMMARY:Rezervacija
DTSTART;TZID=Europe/Ljubljana:20230119T150000
DTEND;TZID=Europe/Ljubljana:20230119T170000
DTSTAMP:20260421T041043Z
UID:fmf-AFLABS-URNIK:rezervacija:10952
ATTENDEE:3. letnik (FM)
CATEGORIES:Reservation
COLOR:royalblue
DESCRIPTION:Predmeti: FP (FM-3)\nLetniki: 3. letnik (FM)\nIzvajalci: Jano
 š Vidali\nProstori: 3.06
LOCATION:3.06
ORGANIZER:Janoš Vidali
X-WR-TIMEZONE:Europe/Ljubljana
END:VEVENT
BEGIN:VEVENT
SUMMARY:Rezervacija
DTSTART;TZID=Europe/Ljubljana:20230120T140000
DTEND;TZID=Europe/Ljubljana:20230120T150000
DTSTAMP:20260421T041043Z
UID:fmf-AFLABS-URNIK:rezervacija:10972
ATTENDEE:1. letnik (FM)
CATEGORIES:Reservation
COLOR:royalblue
DESCRIPTION:Predmeti: Diskretne strukture (FM-1)\nLetniki: 1. letnik (FM)\
 nIzvajalci: Janoš Vidali\nProstori: 3.07
LOCATION:3.07
ORGANIZER:Janoš Vidali
X-WR-TIMEZONE:Europe/Ljubljana
END:VEVENT
BEGIN:VEVENT
SUMMARY:Rezervacija
DTSTART;TZID=Europe/Ljubljana:20230120T150000
DTEND;TZID=Europe/Ljubljana:20230120T170000
DTSTAMP:20260421T041043Z
UID:fmf-AFLABS-URNIK:rezervacija:10976
ATTENDEE:3. letnik (FM)
CATEGORIES:Reservation
COLOR:royalblue
DESCRIPTION:Predmeti: FP (FM-3)\nLetniki: 3. letnik (FM)\nIzvajalci: Jano
 š Vidali\nProstori: 3.06
LOCATION:3.06
ORGANIZER:Janoš Vidali
X-WR-TIMEZONE:Europe/Ljubljana
END:VEVENT
BEGIN:VEVENT
SUMMARY:Rezervacija
DTSTART;TZID=Europe/Ljubljana:20230126T150000
DTEND;TZID=Europe/Ljubljana:20230126T170000
DTSTAMP:20260421T041043Z
UID:fmf-AFLABS-URNIK:rezervacija:11045
ATTENDEE:1. letnik (FM)
CATEGORIES:Reservation
COLOR:royalblue
DESCRIPTION:Predmeti: Diskretne strukture (FM-1)\nLetniki: 1. letnik (FM)\
 nIzvajalci: Janoš Vidali\nProstori: 2.05
LOCATION:2.05
ORGANIZER:Janoš Vidali
X-WR-TIMEZONE:Europe/Ljubljana
END:VEVENT
BEGIN:VEVENT
SUMMARY:Rezervacija
DTSTART;TZID=Europe/Ljubljana:20230207T110000
DTEND;TZID=Europe/Ljubljana:20230207T120000
DTSTAMP:20260421T041043Z
UID:fmf-AFLABS-URNIK:rezervacija:11206
CATEGORIES:Reservation
COLOR:royalblue
DESCRIPTION:Predmeti: \nLetniki: \nIzvajalci: Janoš Vidali\nProstori: 3.0
 7
LOCATION:3.07
ORGANIZER:Janoš Vidali
X-WR-TIMEZONE:Europe/Ljubljana
END:VEVENT
BEGIN:VEVENT
SUMMARY:Rezervacija
DTSTART;TZID=Europe/Ljubljana:20230214T110000
DTEND;TZID=Europe/Ljubljana:20230214T120000
DTSTAMP:20260421T041043Z
UID:fmf-AFLABS-URNIK:rezervacija:11254
CATEGORIES:Reservation
COLOR:royalblue
DESCRIPTION:Predmeti: \nLetniki: \nIzvajalci: Janoš Vidali\nProstori: 3.0
 7
LOCATION:3.07
ORGANIZER:Janoš Vidali
X-WR-TIMEZONE:Europe/Ljubljana
END:VEVENT
BEGIN:VEVENT
SUMMARY:Rezervacija
DTSTART;TZID=Europe/Ljubljana:20230227T090000
DTEND;TZID=Europe/Ljubljana:20230227T100000
DTSTAMP:20260421T041043Z
UID:fmf-AFLABS-URNIK:rezervacija:11343
ATTENDEE:2. letnik (FM)
CATEGORIES:Reservation
COLOR:royalblue
DESCRIPTION:Predmeti: Operacijske raziskave (FM-2)\nLetniki: 2. letnik (FM
 )\nIzvajalci: Janoš Vidali\nProstori: 2.04
LOCATION:2.04
ORGANIZER:Janoš Vidali
X-WR-TIMEZONE:Europe/Ljubljana
END:VEVENT
END:VCALENDAR
