BEGIN:VCALENDAR
VERSION:2.0
PRODID:-//AFLabs urnik izvoz - fmf//aflabs.si//SI
DTSTAMP:20260423T042716Z
NAME:UL FMF urnik
REFRESH-INTERVAL:PT1H
SOURCE:https://urnik.fmf.uni-lj.si/teacher/220?day=2024-09-02&export=1
URL:https://urnik.fmf.uni-lj.si/teacher/220?day=2024-09-02&export=1
X-PUBLISHED-TTL:PT1H
X-WR-CALNAME:UL FMF urnik
X-WR-TIMEZONE:Europe/Ljubljana
BEGIN:VTIMEZONE
TZID:Europe/Ljubljana
BEGIN:DAYLIGHT
DTSTART:20260329T020000
RDATE:20260329T020000
RDATE:20270328T020000
TZNAME:CEST
TZOFFSETFROM:+0100
TZOFFSETTO:+0200
END:DAYLIGHT
BEGIN:STANDARD
DTSTART:20261025T030000
RDATE:20261025T030000
RDATE:20271031T030000
TZNAME:CET
TZOFFSETFROM:+0200
TZOFFSETTO:+0100
END:STANDARD
END:VTIMEZONE
BEGIN:VEVENT
SUMMARY:Podatkovne baze 1 (APM-2\, APM-3)\, Predavanja (P)
DTSTART;TZID=Europe/Ljubljana:20241001T080000
DTEND;TZID=Europe/Ljubljana:20241001T100000
DTSTAMP:20260423T042716Z
UID:fmf-AFLABS-URNIK:premaknjeno-srecanje:188987
ATTENDEE:2. letnik (APM)
ATTENDEE:3. letnik (APM)
CATEGORIES:Entry,Standard
COLOR:darkgreen
DESCRIPTION:Predmet: Podatkovne baze 1 (APM-2\, APM-3)\, Predavanja (P)\nL
 etniki: 2. letnik (APM)\, 3. letnik (APM)\nIzvajalci: Janoš Vidali\nProst
 or: 3.10
LOCATION:3.10
ORGANIZER:Janoš Vidali
RELATED-TO:fmf-AFLABS-URNIK:srecanje:14411
X-WR-TIMEZONE:Europe/Ljubljana
END:VEVENT
BEGIN:VEVENT
SUMMARY:Diskretne strukture (FM-1)\, Vaje (V)\, [1]
DTSTART;TZID=Europe/Ljubljana:20241002T140000
DTEND;TZID=Europe/Ljubljana:20241002T160000
DTSTAMP:20260423T042716Z
UID:fmf-AFLABS-URNIK:premaknjeno-srecanje:178282
ATTENDEE:1. letnik (FM)
CATEGORIES:Entry,Standard
COLOR:darkgreen
DESCRIPTION:Predmet: Diskretne strukture (FM-1)\, Vaje (V)\, [1]\nLetniki:
  1. letnik (FM)\nIzvajalci: Janoš Vidali\nProstor: 3.05
LOCATION:3.05
ORGANIZER:Janoš Vidali
RELATED-TO:fmf-AFLABS-URNIK:srecanje:14356
X-WR-TIMEZONE:Europe/Ljubljana
END:VEVENT
BEGIN:VEVENT
SUMMARY:Podatkovne baze 1 (APM-2\, APM-3)\, Seminar (S)
DTSTART;TZID=Europe/Ljubljana:20241002T110000
DTEND;TZID=Europe/Ljubljana:20241002T120000
DTSTAMP:20260423T042716Z
UID:fmf-AFLABS-URNIK:premaknjeno-srecanje:189019
ATTENDEE:2. letnik (APM)
ATTENDEE:3. letnik (APM)
CATEGORIES:Entry,Standard
COLOR:darkgreen
DESCRIPTION:Predmet: Podatkovne baze 1 (APM-2\, APM-3)\, Seminar (S)\nLetn
 iki: 2. letnik (APM)\, 3. letnik (APM)\nIzvajalci: Janoš Vidali\nProstor:
  3.10
LOCATION:3.10
ORGANIZER:Janoš Vidali
RELATED-TO:fmf-AFLABS-URNIK:srecanje:13952
X-WR-TIMEZONE:Europe/Ljubljana
END:VEVENT
BEGIN:VEVENT
SUMMARY:FP (FM-3)\, Seminar (S)
DTSTART;TZID=Europe/Ljubljana:20241003T100000
DTEND;TZID=Europe/Ljubljana:20241003T120000
DTSTAMP:20260423T042716Z
UID:fmf-AFLABS-URNIK:premaknjeno-srecanje:180067
ATTENDEE:3. letnik (FM)
CATEGORIES:Entry,Standard
COLOR:darkgreen
DESCRIPTION:Predmet: FP (FM-3)\, Seminar (S)\nLetniki: 3. letnik (FM)\nIzv
 ajalci: Janoš Vidali\nProstor: 3.12
LOCATION:3.12
ORGANIZER:Janoš Vidali
RELATED-TO:fmf-AFLABS-URNIK:srecanje:13724
X-WR-TIMEZONE:Europe/Ljubljana
END:VEVENT
BEGIN:VEVENT
SUMMARY:Računska geometrija (IŠRM-M)\, Vaje (V)
DTSTART;TZID=Europe/Ljubljana:20241003T150000
DTEND;TZID=Europe/Ljubljana:20241003T170000
DTSTAMP:20260423T042716Z
UID:fmf-AFLABS-URNIK:premaknjeno-srecanje:191627
ATTENDEE:magistrski študij (IŠRM)
CATEGORIES:Entry,Standard
COLOR:darkgreen
DESCRIPTION:Predmet: Računska geometrija (IŠRM-M)\, Vaje (V)\nLetniki: m
 agistrski študij (IŠRM)\nIzvajalci: Janoš Vidali\nProstor: 2.01
LOCATION:2.01
ORGANIZER:Janoš Vidali
RELATED-TO:fmf-AFLABS-URNIK:srecanje:14516
X-WR-TIMEZONE:Europe/Ljubljana
END:VEVENT
BEGIN:VEVENT
SUMMARY:3. pisni izpit in 5. izpit iz teorije
DTSTART;TZID=Europe/Ljubljana:20240826T090000
DTEND;TZID=Europe/Ljubljana:20240826T130000
DTSTAMP:20260423T042716Z
UID:fmf-AFLABS-URNIK:rezervacija:14764
ATTENDEE:1. letnik (FM)
CATEGORIES:Reservation
COLOR:royalblue
DESCRIPTION:Predmeti: Optimizacijske metode (FM-1)\nLetniki: 1. letnik (FM
 )\nIzvajalci: Jan Rems\, Gregor Šega\, Janoš Vidali\nProstori: 2.01
LOCATION:2.01
ORGANIZER:Jan Rems, Gregor Šega, Janoš Vidali
X-WR-TIMEZONE:Europe/Ljubljana
END:VEVENT
BEGIN:VEVENT
SUMMARY:6. izpit iz teorije
DTSTART;TZID=Europe/Ljubljana:20240903T100000
DTEND;TZID=Europe/Ljubljana:20240903T120000
DTSTAMP:20260423T042716Z
UID:fmf-AFLABS-URNIK:rezervacija:14765
ATTENDEE:1. letnik (FM)
CATEGORIES:Reservation
COLOR:royalblue
DESCRIPTION:Predmeti: Optimizacijske metode (FM-1)\nLetniki: 1. letnik (FM
 )\nIzvajalci: Janoš Vidali\nProstori: 2.01
LOCATION:2.01
ORGANIZER:Janoš Vidali
X-WR-TIMEZONE:Europe/Ljubljana
END:VEVENT
BEGIN:VEVENT
SUMMARY:Ustni izpiti
DTSTART;TZID=Europe/Ljubljana:20240820T090000
DTEND;TZID=Europe/Ljubljana:20240820T130000
DTSTAMP:20260423T042716Z
UID:fmf-AFLABS-URNIK:rezervacija:17734
ATTENDEE:3. letnik (FM)
ATTENDEE:3. letnik (M)
CATEGORIES:Reservation
COLOR:royalblue
DESCRIPTION:Predmeti: Osnove podatkovnih baz (FM-3\, MAT-3)\nLetniki: 3. l
 etnik (FM)\, 3. letnik (M)\nIzvajalci: Janoš Vidali\nProstori: 2.03
LOCATION:2.03
ORGANIZER:Janoš Vidali
X-WR-TIMEZONE:Europe/Ljubljana
END:VEVENT
BEGIN:VEVENT
SUMMARY:Ustni izpiti
DTSTART;TZID=Europe/Ljubljana:20240823T100000
DTEND;TZID=Europe/Ljubljana:20240823T120000
DTSTAMP:20260423T042716Z
UID:fmf-AFLABS-URNIK:rezervacija:17775
ATTENDEE:2. letnik (APM)
ATTENDEE:3. letnik (APM)
CATEGORIES:Reservation
COLOR:royalblue
DESCRIPTION:Predmeti: Podatkovne baze 1 (APM-2\, APM-3)\nLetniki: 2. letni
 k (APM)\, 3. letnik (APM)\nIzvajalci: Janoš Vidali\nProstori: 2.03
LOCATION:2.03
ORGANIZER:Janoš Vidali
X-WR-TIMEZONE:Europe/Ljubljana
END:VEVENT
BEGIN:VEVENT
SUMMARY:Ustni izpiti
DTSTART;TZID=Europe/Ljubljana:20240829T090000
DTEND;TZID=Europe/Ljubljana:20240829T130000
DTSTAMP:20260423T042716Z
UID:fmf-AFLABS-URNIK:rezervacija:17780
ATTENDEE:3. letnik (FM)
ATTENDEE:3. letnik (M)
CATEGORIES:Reservation
COLOR:royalblue
DESCRIPTION:Predmeti: Osnove podatkovnih baz (FM-3\, MAT-3)\nLetniki: 3. l
 etnik (FM)\, 3. letnik (M)\nIzvajalci: Janoš Vidali\nProstori: 2.04
LOCATION:2.04
ORGANIZER:Janoš Vidali
X-WR-TIMEZONE:Europe/Ljubljana
END:VEVENT
BEGIN:VEVENT
SUMMARY:3. pisni izpit iz diskretnih struktur (FiM)
DTSTART;TZID=Europe/Ljubljana:20240902T100000
DTEND;TZID=Europe/Ljubljana:20240902T120000
DTSTAMP:20260423T042716Z
UID:fmf-AFLABS-URNIK:rezervacija:17790
ATTENDEE:1. letnik (FM)
CATEGORIES:Reservation
COLOR:royalblue
DESCRIPTION:Predmeti: Diskretne strukture (FM-1)\nLetniki: 1. letnik (FM)\
 nIzvajalci: Urban Jezernik\, Sebastian Mežnar\, Janoš Vidali\nProstori: 
 2.01
LOCATION:2.01
ORGANIZER:Urban Jezernik, Sebastian Mežnar, Janoš Vidali
X-WR-TIMEZONE:Europe/Ljubljana
END:VEVENT
BEGIN:VEVENT
SUMMARY:Operacijske raziskave - 3. izpit in teorija
DTSTART;TZID=Europe/Ljubljana:20240828T100000
DTEND;TZID=Europe/Ljubljana:20240828T130000
DTSTAMP:20260423T042716Z
UID:fmf-AFLABS-URNIK:rezervacija:17806
ATTENDEE:2. letnik (FM)
CATEGORIES:Reservation
COLOR:royalblue
DESCRIPTION:Predmeti: Operacijske raziskave (FM-2)\nLetniki: 2. letnik (FM
 )\nIzvajalci: Janoš Vidali\, Arjana Žitnik\nProstori: 2.04
LOCATION:2.04
ORGANIZER:Janoš Vidali, Arjana Žitnik
X-WR-TIMEZONE:Europe/Ljubljana
END:VEVENT
BEGIN:VEVENT
SUMMARY:Ustni izpiti
DTSTART;TZID=Europe/Ljubljana:20240830T090000
DTEND;TZID=Europe/Ljubljana:20240830T120000
DTSTAMP:20260423T042716Z
UID:fmf-AFLABS-URNIK:rezervacija:17910
ATTENDEE:3. letnik (FM)
ATTENDEE:3. letnik (M)
CATEGORIES:Reservation
COLOR:royalblue
DESCRIPTION:Predmeti: Osnove podatkovnih baz (FM-3\, MAT-3)\nLetniki: 3. l
 etnik (FM)\, 3. letnik (M)\nIzvajalci: Janoš Vidali\nProstori: 3.06
LOCATION:3.06
ORGANIZER:Janoš Vidali
X-WR-TIMEZONE:Europe/Ljubljana
END:VEVENT
BEGIN:VEVENT
SUMMARY:Ustni izpit
DTSTART;TZID=Europe/Ljubljana:20240828T090000
DTEND;TZID=Europe/Ljubljana:20240828T100000
DTSTAMP:20260423T042716Z
UID:fmf-AFLABS-URNIK:rezervacija:17917
ATTENDEE:2. letnik (APM)
ATTENDEE:3. letnik (APM)
CATEGORIES:Reservation
COLOR:royalblue
DESCRIPTION:Predmeti: Podatkovne baze 1 (APM-2\, APM-3)\nLetniki: 2. letni
 k (APM)\, 3. letnik (APM)\nIzvajalci: Janoš Vidali\nProstori: 2.04
LOCATION:2.04
ORGANIZER:Janoš Vidali
X-WR-TIMEZONE:Europe/Ljubljana
END:VEVENT
BEGIN:VEVENT
SUMMARY:Ustni izpiti
DTSTART;TZID=Europe/Ljubljana:20240903T090000
DTEND;TZID=Europe/Ljubljana:20240903T110000
DTSTAMP:20260423T042716Z
UID:fmf-AFLABS-URNIK:rezervacija:18038
ATTENDEE:2. letnik (APM)
ATTENDEE:3. letnik (APM)
CATEGORIES:Reservation
COLOR:royalblue
DESCRIPTION:Predmeti: Podatkovne baze 1 (APM-2\, APM-3)\nLetniki: 2. letni
 k (APM)\, 3. letnik (APM)\nIzvajalci: Janoš Vidali\nProstori: 3.06
LOCATION:3.06
ORGANIZER:Janoš Vidali
X-WR-TIMEZONE:Europe/Ljubljana
END:VEVENT
BEGIN:VEVENT
SUMMARY:Ustni izpiti
DTSTART;TZID=Europe/Ljubljana:20240912T100000
DTEND;TZID=Europe/Ljubljana:20240912T190000
DTSTAMP:20260423T042716Z
UID:fmf-AFLABS-URNIK:rezervacija:18039
ATTENDEE:2. letnik (APM)
ATTENDEE:3. letnik (APM)
ATTENDEE:3. letnik (FM)
ATTENDEE:3. letnik (M)
CATEGORIES:Reservation
COLOR:royalblue
DESCRIPTION:Predmeti: Podatkovne baze 1 (APM-2\, APM-3)\, Osnove podatkovn
 ih baz (FM-3\, MAT-3)\nLetniki: 2. letnik (APM)\, 3. letnik (APM)\, 3. let
 nik (FM)\, 3. letnik (M)\nIzvajalci: Janoš Vidali\nProstori: 2.04
LOCATION:2.04
ORGANIZER:Janoš Vidali
X-WR-TIMEZONE:Europe/Ljubljana
END:VEVENT
BEGIN:VEVENT
SUMMARY:Ustni izpiti
DTSTART;TZID=Europe/Ljubljana:20240913T090000
DTEND;TZID=Europe/Ljubljana:20240913T160000
DTSTAMP:20260423T042716Z
UID:fmf-AFLABS-URNIK:rezervacija:18040
ATTENDEE:2. letnik (APM)
ATTENDEE:3. letnik (APM)
ATTENDEE:3. letnik (FM)
ATTENDEE:3. letnik (M)
CATEGORIES:Reservation
COLOR:royalblue
DESCRIPTION:Predmeti: Podatkovne baze 1 (APM-2\, APM-3)\, Osnove podatkovn
 ih baz (FM-3\, MAT-3)\nLetniki: 2. letnik (APM)\, 3. letnik (APM)\, 3. let
 nik (FM)\, 3. letnik (M)\nIzvajalci: Janoš Vidali\nProstori: 2.04
LOCATION:2.04
ORGANIZER:Janoš Vidali
X-WR-TIMEZONE:Europe/Ljubljana
END:VEVENT
BEGIN:VEVENT
SUMMARY:Ustni izpiti
DTSTART;TZID=Europe/Ljubljana:20240925T090000
DTEND;TZID=Europe/Ljubljana:20240925T120000
DTSTAMP:20260423T042716Z
UID:fmf-AFLABS-URNIK:rezervacija:18391
ATTENDEE:2. letnik (APM)
ATTENDEE:3. letnik (APM)
CATEGORIES:Reservation
COLOR:royalblue
DESCRIPTION:Predmeti: Podatkovne baze 1 (APM-2\, APM-3)\nLetniki: 2. letni
 k (APM)\, 3. letnik (APM)\nIzvajalci: Janoš Vidali\nProstori: 2.04
LOCATION:2.04
ORGANIZER:Janoš Vidali
X-WR-TIMEZONE:Europe/Ljubljana
END:VEVENT
END:VCALENDAR
