BEGIN:VCALENDAR
VERSION:2.0
PRODID:-//AFLabs urnik izvoz - fmf//aflabs.si//SI
DTSTAMP:20260422T150646Z
NAME:UL FMF urnik
REFRESH-INTERVAL:PT1H
SOURCE:https://urnik.fmf.uni-lj.si/teacher/224?day=2020-06-01&export=1
URL:https://urnik.fmf.uni-lj.si/teacher/224?day=2020-06-01&export=1
X-PUBLISHED-TTL:PT1H
X-WR-CALNAME:UL FMF urnik
X-WR-TIMEZONE:Europe/Ljubljana
BEGIN:VTIMEZONE
TZID:Europe/Ljubljana
BEGIN:DAYLIGHT
DTSTART:20260329T020000
RDATE:20260329T020000
RDATE:20270328T020000
TZNAME:CEST
TZOFFSETFROM:+0100
TZOFFSETTO:+0200
END:DAYLIGHT
BEGIN:STANDARD
DTSTART:20261025T030000
RDATE:20261025T030000
RDATE:20271031T030000
TZNAME:CET
TZOFFSETFROM:+0200
TZOFFSETTO:+0100
END:STANDARD
END:VTIMEZONE
BEGIN:VEVENT
SUMMARY:Govorilna ura ()\, Predavanja (P)
DTSTART;TZID=Europe/Ljubljana:20200429T080000
DTEND;TZID=Europe/Ljubljana:20200429T090000
DTSTAMP:20260422T150646Z
UID:fmf-AFLABS-URNIK:premaknjeno-srecanje:40803
CATEGORIES:Entry,Standard
COLOR:darkgreen
DESCRIPTION:Predmet: Govorilna ura ()\, Predavanja (P)\nLetniki: \nIzvajal
 ci: Klemen Šivic\nProstor: 5.01
LOCATION:5.01
ORGANIZER:Klemen Šivic
RELATED-TO:fmf-AFLABS-URNIK:srecanje:4152
X-WR-TIMEZONE:Europe/Ljubljana
END:VEVENT
BEGIN:VEVENT
SUMMARY:Govorilna ura ()\, Predavanja (P)
DTSTART;TZID=Europe/Ljubljana:20200506T080000
DTEND;TZID=Europe/Ljubljana:20200506T090000
DTSTAMP:20260422T150646Z
UID:fmf-AFLABS-URNIK:premaknjeno-srecanje:40804
CATEGORIES:Entry,Standard
COLOR:darkgreen
DESCRIPTION:Predmet: Govorilna ura ()\, Predavanja (P)\nLetniki: \nIzvajal
 ci: Klemen Šivic\nProstor: 5.01
LOCATION:5.01
ORGANIZER:Klemen Šivic
RELATED-TO:fmf-AFLABS-URNIK:srecanje:4152
X-WR-TIMEZONE:Europe/Ljubljana
END:VEVENT
BEGIN:VEVENT
SUMMARY:Govorilna ura ()\, Predavanja (P)
DTSTART;TZID=Europe/Ljubljana:20200513T080000
DTEND;TZID=Europe/Ljubljana:20200513T090000
DTSTAMP:20260422T150646Z
UID:fmf-AFLABS-URNIK:premaknjeno-srecanje:40805
CATEGORIES:Entry,Standard
COLOR:darkgreen
DESCRIPTION:Predmet: Govorilna ura ()\, Predavanja (P)\nLetniki: \nIzvajal
 ci: Klemen Šivic\nProstor: 5.01
LOCATION:5.01
ORGANIZER:Klemen Šivic
RELATED-TO:fmf-AFLABS-URNIK:srecanje:4152
X-WR-TIMEZONE:Europe/Ljubljana
END:VEVENT
BEGIN:VEVENT
SUMMARY:Govorilna ura ()\, Predavanja (P)
DTSTART;TZID=Europe/Ljubljana:20200520T080000
DTEND;TZID=Europe/Ljubljana:20200520T090000
DTSTAMP:20260422T150646Z
UID:fmf-AFLABS-URNIK:premaknjeno-srecanje:40806
CATEGORIES:Entry,Standard
COLOR:darkgreen
DESCRIPTION:Predmet: Govorilna ura ()\, Predavanja (P)\nLetniki: \nIzvajal
 ci: Klemen Šivic\nProstor: 5.01
LOCATION:5.01
ORGANIZER:Klemen Šivic
RELATED-TO:fmf-AFLABS-URNIK:srecanje:4152
X-WR-TIMEZONE:Europe/Ljubljana
END:VEVENT
BEGIN:VEVENT
SUMMARY:Govorilna ura ()\, Predavanja (P)
DTSTART;TZID=Europe/Ljubljana:20200527T080000
DTEND;TZID=Europe/Ljubljana:20200527T090000
DTSTAMP:20260422T150646Z
UID:fmf-AFLABS-URNIK:premaknjeno-srecanje:40807
CATEGORIES:Entry,Standard
COLOR:darkgreen
DESCRIPTION:Predmet: Govorilna ura ()\, Predavanja (P)\nLetniki: \nIzvajal
 ci: Klemen Šivic\nProstor: 5.01
LOCATION:5.01
ORGANIZER:Klemen Šivic
RELATED-TO:fmf-AFLABS-URNIK:srecanje:4152
X-WR-TIMEZONE:Europe/Ljubljana
END:VEVENT
BEGIN:VEVENT
SUMMARY:Algebra 1 (MAT-1\, PM-1)\, Predavanja (P)
DTSTART;TZID=Europe/Ljubljana:20200501T080000
DTEND;TZID=Europe/Ljubljana:20200501T110000
DTSTAMP:20260422T150646Z
UID:fmf-AFLABS-URNIK:premaknjeno-srecanje:1458
ATTENDEE:1. letnik (M)
ATTENDEE:1. letnik (PM)
CATEGORIES:Entry,Standard
COLOR:darkgreen
DESCRIPTION:Predmet: Algebra 1 (MAT-1\, PM-1)\, Predavanja (P)\nLetniki: 1
 . letnik (M)\, 1. letnik (PM)\nIzvajalci: Klemen Šivic\nProstor: 2.05
LOCATION:2.05
ORGANIZER:Klemen Šivic
RELATED-TO:fmf-AFLABS-URNIK:srecanje:3977
X-WR-TIMEZONE:Europe/Ljubljana
END:VEVENT
BEGIN:VEVENT
SUMMARY:Algebra 1 (MAT-1\, PM-1)\, Predavanja (P)
DTSTART;TZID=Europe/Ljubljana:20200508T080000
DTEND;TZID=Europe/Ljubljana:20200508T110000
DTSTAMP:20260422T150646Z
UID:fmf-AFLABS-URNIK:premaknjeno-srecanje:1459
ATTENDEE:1. letnik (M)
ATTENDEE:1. letnik (PM)
CATEGORIES:Entry,Standard
COLOR:darkgreen
DESCRIPTION:Predmet: Algebra 1 (MAT-1\, PM-1)\, Predavanja (P)\nLetniki: 1
 . letnik (M)\, 1. letnik (PM)\nIzvajalci: Klemen Šivic\nProstor: 2.05
LOCATION:2.05
ORGANIZER:Klemen Šivic
RELATED-TO:fmf-AFLABS-URNIK:srecanje:3977
X-WR-TIMEZONE:Europe/Ljubljana
END:VEVENT
BEGIN:VEVENT
SUMMARY:Algebra 1 (MAT-1\, PM-1)\, Predavanja (P)
DTSTART;TZID=Europe/Ljubljana:20200515T080000
DTEND;TZID=Europe/Ljubljana:20200515T110000
DTSTAMP:20260422T150646Z
UID:fmf-AFLABS-URNIK:premaknjeno-srecanje:1460
ATTENDEE:1. letnik (M)
ATTENDEE:1. letnik (PM)
CATEGORIES:Entry,Standard
COLOR:darkgreen
DESCRIPTION:Predmet: Algebra 1 (MAT-1\, PM-1)\, Predavanja (P)\nLetniki: 1
 . letnik (M)\, 1. letnik (PM)\nIzvajalci: Klemen Šivic\nProstor: 2.05
LOCATION:2.05
ORGANIZER:Klemen Šivic
RELATED-TO:fmf-AFLABS-URNIK:srecanje:3977
X-WR-TIMEZONE:Europe/Ljubljana
END:VEVENT
BEGIN:VEVENT
SUMMARY:Algebra 1 (MAT-1\, PM-1)\, Predavanja (P)
DTSTART;TZID=Europe/Ljubljana:20200522T080000
DTEND;TZID=Europe/Ljubljana:20200522T110000
DTSTAMP:20260422T150646Z
UID:fmf-AFLABS-URNIK:premaknjeno-srecanje:1461
ATTENDEE:1. letnik (M)
ATTENDEE:1. letnik (PM)
CATEGORIES:Entry,Standard
COLOR:darkgreen
DESCRIPTION:Predmet: Algebra 1 (MAT-1\, PM-1)\, Predavanja (P)\nLetniki: 1
 . letnik (M)\, 1. letnik (PM)\nIzvajalci: Klemen Šivic\nProstor: 2.05
LOCATION:2.05
ORGANIZER:Klemen Šivic
RELATED-TO:fmf-AFLABS-URNIK:srecanje:3977
X-WR-TIMEZONE:Europe/Ljubljana
END:VEVENT
BEGIN:VEVENT
SUMMARY:Algebra 1 (MAT-1\, PM-1)\, Predavanja (P)
DTSTART;TZID=Europe/Ljubljana:20200529T080000
DTEND;TZID=Europe/Ljubljana:20200529T110000
DTSTAMP:20260422T150646Z
UID:fmf-AFLABS-URNIK:premaknjeno-srecanje:1462
ATTENDEE:1. letnik (M)
ATTENDEE:1. letnik (PM)
CATEGORIES:Entry,Standard
COLOR:darkgreen
DESCRIPTION:Predmet: Algebra 1 (MAT-1\, PM-1)\, Predavanja (P)\nLetniki: 1
 . letnik (M)\, 1. letnik (PM)\nIzvajalci: Klemen Šivic\nProstor: 2.05
LOCATION:2.05
ORGANIZER:Klemen Šivic
RELATED-TO:fmf-AFLABS-URNIK:srecanje:3977
X-WR-TIMEZONE:Europe/Ljubljana
END:VEVENT
BEGIN:VEVENT
SUMMARY:Rezervacija
DTSTART;TZID=Europe/Ljubljana:20200610T090000
DTEND;TZID=Europe/Ljubljana:20200610T110000
DTSTAMP:20260422T150646Z
UID:fmf-AFLABS-URNIK:rezervacija:5453
CATEGORIES:Reservation
COLOR:royalblue
DESCRIPTION:Predmeti: \nLetniki: \nIzvajalci: Lucijan Plevnik\, Klemen Ši
 vic\nProstori: 2.01\, 2.05\, 3.04\, 3.05
LOCATION:2.01\, 2.05\, 3.04\, 3.05
ORGANIZER:Lucijan Plevnik, Klemen Šivic
X-WR-TIMEZONE:Europe/Ljubljana
END:VEVENT
BEGIN:VEVENT
SUMMARY:Rezervacija
DTSTART;TZID=Europe/Ljubljana:20200624T120000
DTEND;TZID=Europe/Ljubljana:20200624T140000
DTSTAMP:20260422T150646Z
UID:fmf-AFLABS-URNIK:rezervacija:5657
CATEGORIES:Reservation
COLOR:royalblue
DESCRIPTION:Predmeti: \nLetniki: \nIzvajalci: Lucijan Plevnik\, Klemen Ši
 vic\nProstori: 2.01\, 2.05
LOCATION:2.01\, 2.05
ORGANIZER:Lucijan Plevnik, Klemen Šivic
X-WR-TIMEZONE:Europe/Ljubljana
END:VEVENT
BEGIN:VEVENT
SUMMARY:Rezervacija
DTSTART;TZID=Europe/Ljubljana:20200630T120000
DTEND;TZID=Europe/Ljubljana:20200630T180000
DTSTAMP:20260422T150646Z
UID:fmf-AFLABS-URNIK:rezervacija:5725
CATEGORIES:Reservation
COLOR:royalblue
DESCRIPTION:Predmeti: \nLetniki: \nIzvajalci: Klemen Šivic\nProstori: 3.0
 6
LOCATION:3.06
ORGANIZER:Klemen Šivic
X-WR-TIMEZONE:Europe/Ljubljana
END:VEVENT
BEGIN:VEVENT
SUMMARY:Rezervacija
DTSTART;TZID=Europe/Ljubljana:20200701T080000
DTEND;TZID=Europe/Ljubljana:20200701T180000
DTSTAMP:20260422T150646Z
UID:fmf-AFLABS-URNIK:rezervacija:5726
CATEGORIES:Reservation
COLOR:royalblue
DESCRIPTION:Predmeti: \nLetniki: \nIzvajalci: Klemen Šivic\nProstori: 3.0
 5
LOCATION:3.05
ORGANIZER:Klemen Šivic
X-WR-TIMEZONE:Europe/Ljubljana
END:VEVENT
BEGIN:VEVENT
SUMMARY:Rezervacija
DTSTART;TZID=Europe/Ljubljana:20200702T080000
DTEND;TZID=Europe/Ljubljana:20200702T180000
DTSTAMP:20260422T150646Z
UID:fmf-AFLABS-URNIK:rezervacija:5744
CATEGORIES:Reservation
COLOR:royalblue
DESCRIPTION:Predmeti: \nLetniki: \nIzvajalci: Klemen Šivic\nProstori: 3.0
 6
LOCATION:3.06
ORGANIZER:Klemen Šivic
X-WR-TIMEZONE:Europe/Ljubljana
END:VEVENT
BEGIN:VEVENT
SUMMARY:Rezervacija
DTSTART;TZID=Europe/Ljubljana:20200703T080000
DTEND;TZID=Europe/Ljubljana:20200703T100000
DTSTAMP:20260422T150646Z
UID:fmf-AFLABS-URNIK:rezervacija:5761
CATEGORIES:Reservation
COLOR:royalblue
DESCRIPTION:Predmeti: \nLetniki: \nIzvajalci: Klemen Šivic\nProstori: 3.0
 5
LOCATION:3.05
ORGANIZER:Klemen Šivic
X-WR-TIMEZONE:Europe/Ljubljana
END:VEVENT
BEGIN:VEVENT
SUMMARY:Rezervacija
DTSTART;TZID=Europe/Ljubljana:20200703T130000
DTEND;TZID=Europe/Ljubljana:20200703T160000
DTSTAMP:20260422T150646Z
UID:fmf-AFLABS-URNIK:rezervacija:5777
CATEGORIES:Reservation
COLOR:royalblue
DESCRIPTION:Predmeti: \nLetniki: \nIzvajalci: Klemen Šivic\nProstori: 3.0
 5
LOCATION:3.05
ORGANIZER:Klemen Šivic
X-WR-TIMEZONE:Europe/Ljubljana
END:VEVENT
BEGIN:VEVENT
SUMMARY:Rezervacija
DTSTART;TZID=Europe/Ljubljana:20200703T160000
DTEND;TZID=Europe/Ljubljana:20200703T170000
DTSTAMP:20260422T150646Z
UID:fmf-AFLABS-URNIK:rezervacija:5782
CATEGORIES:Reservation
COLOR:royalblue
DESCRIPTION:Predmeti: \nLetniki: \nIzvajalci: Klemen Šivic\nProstori: 3.0
 5
LOCATION:3.05
ORGANIZER:Klemen Šivic
X-WR-TIMEZONE:Europe/Ljubljana
END:VEVENT
END:VCALENDAR
