BEGIN:VCALENDAR
VERSION:2.0
PRODID:-//AFLabs urnik izvoz - fmf//aflabs.si//SI
DTSTAMP:20260423T135314Z
NAME:UL FMF urnik
REFRESH-INTERVAL:PT1H
SOURCE:https://urnik.fmf.uni-lj.si/teacher/224?day=2021-01-25&export=1
URL:https://urnik.fmf.uni-lj.si/teacher/224?day=2021-01-25&export=1
X-PUBLISHED-TTL:PT1H
X-WR-CALNAME:UL FMF urnik
X-WR-TIMEZONE:Europe/Ljubljana
BEGIN:VTIMEZONE
TZID:Europe/Ljubljana
BEGIN:DAYLIGHT
DTSTART:20260329T020000
RDATE:20260329T020000
RDATE:20270328T020000
TZNAME:CEST
TZOFFSETFROM:+0100
TZOFFSETTO:+0200
END:DAYLIGHT
BEGIN:STANDARD
DTSTART:20261025T030000
RDATE:20261025T030000
RDATE:20271031T030000
TZNAME:CET
TZOFFSETFROM:+0200
TZOFFSETTO:+0100
END:STANDARD
END:VTIMEZONE
BEGIN:VEVENT
SUMMARY:Algebra 1 (FM-1)\, Predavanja (P)
DTSTART;TZID=Europe/Ljubljana:20201221T120000
DTEND;TZID=Europe/Ljubljana:20201221T140000
DTSTAMP:20260423T135314Z
UID:fmf-AFLABS-URNIK:premaknjeno-srecanje:1038
ATTENDEE:1. letnik (FM)
CATEGORIES:Entry,Standard
COLOR:darkgreen
DESCRIPTION:Predmet: Algebra 1 (FM-1)\, Predavanja (P)\nLetniki: 1. letnik
  (FM)\nIzvajalci: Klemen Šivic\nProstor: 2.01
LOCATION:2.01
ORGANIZER:Klemen Šivic
RELATED-TO:fmf-AFLABS-URNIK:srecanje:4651
X-WR-TIMEZONE:Europe/Ljubljana
END:VEVENT
BEGIN:VEVENT
SUMMARY:Algebra 1 (FM-1)\, Predavanja (P)
DTSTART;TZID=Europe/Ljubljana:20201228T120000
DTEND;TZID=Europe/Ljubljana:20201228T140000
DTSTAMP:20260423T135314Z
UID:fmf-AFLABS-URNIK:premaknjeno-srecanje:1039
ATTENDEE:1. letnik (FM)
CATEGORIES:Entry,Standard
COLOR:darkgreen
DESCRIPTION:Predmet: Algebra 1 (FM-1)\, Predavanja (P)\nLetniki: 1. letnik
  (FM)\nIzvajalci: Klemen Šivic\nProstor: 2.01
LOCATION:2.01
ORGANIZER:Klemen Šivic
RELATED-TO:fmf-AFLABS-URNIK:srecanje:4651
X-WR-TIMEZONE:Europe/Ljubljana
END:VEVENT
BEGIN:VEVENT
SUMMARY:Algebra 1 (FM-1)\, Predavanja (P)
DTSTART;TZID=Europe/Ljubljana:20210104T120000
DTEND;TZID=Europe/Ljubljana:20210104T140000
DTSTAMP:20260423T135314Z
UID:fmf-AFLABS-URNIK:premaknjeno-srecanje:1040
ATTENDEE:1. letnik (FM)
CATEGORIES:Entry,Standard
COLOR:darkgreen
DESCRIPTION:Predmet: Algebra 1 (FM-1)\, Predavanja (P)\nLetniki: 1. letnik
  (FM)\nIzvajalci: Klemen Šivic\nProstor: 2.01
LOCATION:2.01
ORGANIZER:Klemen Šivic
RELATED-TO:fmf-AFLABS-URNIK:srecanje:4651
X-WR-TIMEZONE:Europe/Ljubljana
END:VEVENT
BEGIN:VEVENT
SUMMARY:Algebra 1 (FM-1)\, Predavanja (P)
DTSTART;TZID=Europe/Ljubljana:20210111T120000
DTEND;TZID=Europe/Ljubljana:20210111T140000
DTSTAMP:20260423T135314Z
UID:fmf-AFLABS-URNIK:premaknjeno-srecanje:1041
ATTENDEE:1. letnik (FM)
CATEGORIES:Entry,Standard
COLOR:darkgreen
DESCRIPTION:Predmet: Algebra 1 (FM-1)\, Predavanja (P)\nLetniki: 1. letnik
  (FM)\nIzvajalci: Klemen Šivic\nProstor: 2.01
LOCATION:2.01
ORGANIZER:Klemen Šivic
RELATED-TO:fmf-AFLABS-URNIK:srecanje:4651
X-WR-TIMEZONE:Europe/Ljubljana
END:VEVENT
BEGIN:VEVENT
SUMMARY:Govorilna ura ()\, Ostalo (O)
DTSTART;TZID=Europe/Ljubljana:20201221T110000
DTEND;TZID=Europe/Ljubljana:20201221T120000
DTSTAMP:20260423T135314Z
UID:fmf-AFLABS-URNIK:premaknjeno-srecanje:38865
CATEGORIES:Entry,Standard
COLOR:darkgreen
DESCRIPTION:Predmet: Govorilna ura ()\, Ostalo (O)\nLetniki: \nIzvajalci: 
 Klemen Šivic\nProstor: 5.01
LOCATION:5.01
ORGANIZER:Klemen Šivic
RELATED-TO:fmf-AFLABS-URNIK:srecanje:4845
X-WR-TIMEZONE:Europe/Ljubljana
END:VEVENT
BEGIN:VEVENT
SUMMARY:Govorilna ura ()\, Ostalo (O)
DTSTART;TZID=Europe/Ljubljana:20201228T110000
DTEND;TZID=Europe/Ljubljana:20201228T120000
DTSTAMP:20260423T135314Z
UID:fmf-AFLABS-URNIK:premaknjeno-srecanje:38866
CATEGORIES:Entry,Standard
COLOR:darkgreen
DESCRIPTION:Predmet: Govorilna ura ()\, Ostalo (O)\nLetniki: \nIzvajalci: 
 Klemen Šivic\nProstor: 5.01
LOCATION:5.01
ORGANIZER:Klemen Šivic
RELATED-TO:fmf-AFLABS-URNIK:srecanje:4845
X-WR-TIMEZONE:Europe/Ljubljana
END:VEVENT
BEGIN:VEVENT
SUMMARY:Govorilna ura ()\, Ostalo (O)
DTSTART;TZID=Europe/Ljubljana:20210104T110000
DTEND;TZID=Europe/Ljubljana:20210104T120000
DTSTAMP:20260423T135314Z
UID:fmf-AFLABS-URNIK:premaknjeno-srecanje:38867
CATEGORIES:Entry,Standard
COLOR:darkgreen
DESCRIPTION:Predmet: Govorilna ura ()\, Ostalo (O)\nLetniki: \nIzvajalci: 
 Klemen Šivic\nProstor: 5.01
LOCATION:5.01
ORGANIZER:Klemen Šivic
RELATED-TO:fmf-AFLABS-URNIK:srecanje:4845
X-WR-TIMEZONE:Europe/Ljubljana
END:VEVENT
BEGIN:VEVENT
SUMMARY:Govorilna ura ()\, Ostalo (O)
DTSTART;TZID=Europe/Ljubljana:20210111T110000
DTEND;TZID=Europe/Ljubljana:20210111T120000
DTSTAMP:20260423T135314Z
UID:fmf-AFLABS-URNIK:premaknjeno-srecanje:38868
CATEGORIES:Entry,Standard
COLOR:darkgreen
DESCRIPTION:Predmet: Govorilna ura ()\, Ostalo (O)\nLetniki: \nIzvajalci: 
 Klemen Šivic\nProstor: 5.01
LOCATION:5.01
ORGANIZER:Klemen Šivic
RELATED-TO:fmf-AFLABS-URNIK:srecanje:4845
X-WR-TIMEZONE:Europe/Ljubljana
END:VEVENT
BEGIN:VEVENT
SUMMARY:Algebra 1 (FM-1)\, Predavanja (P)
DTSTART;TZID=Europe/Ljubljana:20201224T080000
DTEND;TZID=Europe/Ljubljana:20201224T100000
DTSTAMP:20260423T135314Z
UID:fmf-AFLABS-URNIK:premaknjeno-srecanje:1242
ATTENDEE:1. letnik (FM)
CATEGORIES:Entry,Standard
COLOR:darkgreen
DESCRIPTION:Predmet: Algebra 1 (FM-1)\, Predavanja (P)\nLetniki: 1. letnik
  (FM)\nIzvajalci: Klemen Šivic\nProstor: 2.01
LOCATION:2.01
ORGANIZER:Klemen Šivic
RELATED-TO:fmf-AFLABS-URNIK:srecanje:4652
X-WR-TIMEZONE:Europe/Ljubljana
END:VEVENT
BEGIN:VEVENT
SUMMARY:Algebra 1 (FM-1)\, Predavanja (P)
DTSTART;TZID=Europe/Ljubljana:20201231T080000
DTEND;TZID=Europe/Ljubljana:20201231T100000
DTSTAMP:20260423T135314Z
UID:fmf-AFLABS-URNIK:premaknjeno-srecanje:1243
ATTENDEE:1. letnik (FM)
CATEGORIES:Entry,Standard
COLOR:darkgreen
DESCRIPTION:Predmet: Algebra 1 (FM-1)\, Predavanja (P)\nLetniki: 1. letnik
  (FM)\nIzvajalci: Klemen Šivic\nProstor: 2.01
LOCATION:2.01
ORGANIZER:Klemen Šivic
RELATED-TO:fmf-AFLABS-URNIK:srecanje:4652
X-WR-TIMEZONE:Europe/Ljubljana
END:VEVENT
BEGIN:VEVENT
SUMMARY:Algebra 1 (FM-1)\, Predavanja (P)
DTSTART;TZID=Europe/Ljubljana:20210107T080000
DTEND;TZID=Europe/Ljubljana:20210107T100000
DTSTAMP:20260423T135314Z
UID:fmf-AFLABS-URNIK:premaknjeno-srecanje:1244
ATTENDEE:1. letnik (FM)
CATEGORIES:Entry,Standard
COLOR:darkgreen
DESCRIPTION:Predmet: Algebra 1 (FM-1)\, Predavanja (P)\nLetniki: 1. letnik
  (FM)\nIzvajalci: Klemen Šivic\nProstor: 2.01
LOCATION:2.01
ORGANIZER:Klemen Šivic
RELATED-TO:fmf-AFLABS-URNIK:srecanje:4652
X-WR-TIMEZONE:Europe/Ljubljana
END:VEVENT
BEGIN:VEVENT
SUMMARY:Algebra 1 (FM-1)\, Predavanja (P)
DTSTART;TZID=Europe/Ljubljana:20210114T080000
DTEND;TZID=Europe/Ljubljana:20210114T100000
DTSTAMP:20260423T135314Z
UID:fmf-AFLABS-URNIK:premaknjeno-srecanje:1245
ATTENDEE:1. letnik (FM)
CATEGORIES:Entry,Standard
COLOR:darkgreen
DESCRIPTION:Predmet: Algebra 1 (FM-1)\, Predavanja (P)\nLetniki: 1. letnik
  (FM)\nIzvajalci: Klemen Šivic\nProstor: 2.01
LOCATION:2.01
ORGANIZER:Klemen Šivic
RELATED-TO:fmf-AFLABS-URNIK:srecanje:4652
X-WR-TIMEZONE:Europe/Ljubljana
END:VEVENT
BEGIN:VEVENT
SUMMARY:Rezervacija ()\, Ostalo (O)
DTSTART;TZID=Europe/Ljubljana:20201224T100000
DTEND;TZID=Europe/Ljubljana:20201224T120000
DTSTAMP:20260423T135314Z
UID:fmf-AFLABS-URNIK:premaknjeno-srecanje:95720
CATEGORIES:Entry,Standard
COLOR:darkgreen
DESCRIPTION:Predmet: Rezervacija ()\, Ostalo (O)\nLetniki: \nIzvajalci: Kl
 emen Šivic\nProstor: 3.06
LOCATION:3.06
ORGANIZER:Klemen Šivic
RELATED-TO:fmf-AFLABS-URNIK:srecanje:5406
X-WR-TIMEZONE:Europe/Ljubljana
END:VEVENT
BEGIN:VEVENT
SUMMARY:Rezervacija ()\, Ostalo (O)
DTSTART;TZID=Europe/Ljubljana:20201231T100000
DTEND;TZID=Europe/Ljubljana:20201231T120000
DTSTAMP:20260423T135314Z
UID:fmf-AFLABS-URNIK:premaknjeno-srecanje:95721
CATEGORIES:Entry,Standard
COLOR:darkgreen
DESCRIPTION:Predmet: Rezervacija ()\, Ostalo (O)\nLetniki: \nIzvajalci: Kl
 emen Šivic\nProstor: 3.06
LOCATION:3.06
ORGANIZER:Klemen Šivic
RELATED-TO:fmf-AFLABS-URNIK:srecanje:5406
X-WR-TIMEZONE:Europe/Ljubljana
END:VEVENT
BEGIN:VEVENT
SUMMARY:Rezervacija ()\, Ostalo (O)
DTSTART;TZID=Europe/Ljubljana:20210107T100000
DTEND;TZID=Europe/Ljubljana:20210107T120000
DTSTAMP:20260423T135314Z
UID:fmf-AFLABS-URNIK:premaknjeno-srecanje:95722
CATEGORIES:Entry,Standard
COLOR:darkgreen
DESCRIPTION:Predmet: Rezervacija ()\, Ostalo (O)\nLetniki: \nIzvajalci: Kl
 emen Šivic\nProstor: 3.06
LOCATION:3.06
ORGANIZER:Klemen Šivic
RELATED-TO:fmf-AFLABS-URNIK:srecanje:5406
X-WR-TIMEZONE:Europe/Ljubljana
END:VEVENT
BEGIN:VEVENT
SUMMARY:Rezervacija ()\, Ostalo (O)
DTSTART;TZID=Europe/Ljubljana:20210114T100000
DTEND;TZID=Europe/Ljubljana:20210114T120000
DTSTAMP:20260423T135314Z
UID:fmf-AFLABS-URNIK:premaknjeno-srecanje:95723
CATEGORIES:Entry,Standard
COLOR:darkgreen
DESCRIPTION:Predmet: Rezervacija ()\, Ostalo (O)\nLetniki: \nIzvajalci: Kl
 emen Šivic\nProstor: 3.06
LOCATION:3.06
ORGANIZER:Klemen Šivic
RELATED-TO:fmf-AFLABS-URNIK:srecanje:5406
X-WR-TIMEZONE:Europe/Ljubljana
END:VEVENT
BEGIN:VEVENT
SUMMARY:Algebra 1 (FM-1)\, Predavanja (P)
DTSTART;TZID=Europe/Ljubljana:20210218T080000
DTEND;TZID=Europe/Ljubljana:20210218T100000
DTSTAMP:20260423T135314Z
UID:fmf-AFLABS-URNIK:premaknjeno-srecanje:1246
ATTENDEE:1. letnik (FM)
CATEGORIES:Entry,Standard
COLOR:darkgreen
DESCRIPTION:Predmet: Algebra 1 (FM-1)\, Predavanja (P)\nLetniki: 1. letnik
  (FM)\nIzvajalci: Klemen Šivic\nProstor: 2.01
LOCATION:2.01
ORGANIZER:Klemen Šivic
RELATED-TO:fmf-AFLABS-URNIK:srecanje:5434
X-WR-TIMEZONE:Europe/Ljubljana
END:VEVENT
BEGIN:VEVENT
SUMMARY:Algebra 1 (FM-1)\, Predavanja (P)
DTSTART;TZID=Europe/Ljubljana:20210225T080000
DTEND;TZID=Europe/Ljubljana:20210225T100000
DTSTAMP:20260423T135314Z
UID:fmf-AFLABS-URNIK:premaknjeno-srecanje:1247
ATTENDEE:1. letnik (FM)
CATEGORIES:Entry,Standard
COLOR:darkgreen
DESCRIPTION:Predmet: Algebra 1 (FM-1)\, Predavanja (P)\nLetniki: 1. letnik
  (FM)\nIzvajalci: Klemen Šivic\nProstor: 2.01
LOCATION:2.01
ORGANIZER:Klemen Šivic
RELATED-TO:fmf-AFLABS-URNIK:srecanje:5434
X-WR-TIMEZONE:Europe/Ljubljana
END:VEVENT
END:VCALENDAR
