BEGIN:VCALENDAR
VERSION:2.0
PRODID:-//AFLabs urnik izvoz - fmf//aflabs.si//SI
DTSTAMP:20260425T123010Z
NAME:UL FMF urnik
REFRESH-INTERVAL:PT1H
SOURCE:https://urnik.fmf.uni-lj.si/teacher/225?day=2022-06-06&export=1
URL:https://urnik.fmf.uni-lj.si/teacher/225?day=2022-06-06&export=1
X-PUBLISHED-TTL:PT1H
X-WR-CALNAME:UL FMF urnik
X-WR-TIMEZONE:Europe/Ljubljana
BEGIN:VTIMEZONE
TZID:Europe/Ljubljana
BEGIN:DAYLIGHT
DTSTART:20260329T020000
RDATE:20260329T020000
RDATE:20270328T020000
TZNAME:CEST
TZOFFSETFROM:+0100
TZOFFSETTO:+0200
END:DAYLIGHT
BEGIN:STANDARD
DTSTART:20261025T030000
RDATE:20261025T030000
RDATE:20271031T030000
TZNAME:CET
TZOFFSETFROM:+0200
TZOFFSETTO:+0100
END:STANDARD
END:VTIMEZONE
BEGIN:VEVENT
SUMMARY:Seminar (FM-2)\, Seminar (S)
DTSTART;TZID=Europe/Ljubljana:20220502T080000
DTEND;TZID=Europe/Ljubljana:20220502T100000
DTSTAMP:20260425T123010Z
UID:fmf-AFLABS-URNIK:premaknjeno-srecanje:100628
ATTENDEE:2. letnik (FM)
CATEGORIES:Entry,Standard
COLOR:darkgreen
DESCRIPTION:Predmet: Seminar (FM-2)\, Seminar (S)\nLetniki: 2. letnik (FM)
 \nIzvajalci: Janez Bernik\nProstor: 3.05
LOCATION:3.05
ORGANIZER:Janez Bernik
RELATED-TO:fmf-AFLABS-URNIK:srecanje:7265
X-WR-TIMEZONE:Europe/Ljubljana
END:VEVENT
BEGIN:VEVENT
SUMMARY:Seminar (FM-2)\, Seminar (S)
DTSTART;TZID=Europe/Ljubljana:20220509T080000
DTEND;TZID=Europe/Ljubljana:20220509T100000
DTSTAMP:20260425T123010Z
UID:fmf-AFLABS-URNIK:premaknjeno-srecanje:100629
ATTENDEE:2. letnik (FM)
CATEGORIES:Entry,Standard
COLOR:darkgreen
DESCRIPTION:Predmet: Seminar (FM-2)\, Seminar (S)\nLetniki: 2. letnik (FM)
 \nIzvajalci: Janez Bernik\nProstor: 3.05
LOCATION:3.05
ORGANIZER:Janez Bernik
RELATED-TO:fmf-AFLABS-URNIK:srecanje:7265
X-WR-TIMEZONE:Europe/Ljubljana
END:VEVENT
BEGIN:VEVENT
SUMMARY:Seminar (FM-2)\, Seminar (S)
DTSTART;TZID=Europe/Ljubljana:20220516T080000
DTEND;TZID=Europe/Ljubljana:20220516T100000
DTSTAMP:20260425T123010Z
UID:fmf-AFLABS-URNIK:premaknjeno-srecanje:100630
ATTENDEE:2. letnik (FM)
CATEGORIES:Entry,Standard
COLOR:darkgreen
DESCRIPTION:Predmet: Seminar (FM-2)\, Seminar (S)\nLetniki: 2. letnik (FM)
 \nIzvajalci: Janez Bernik\nProstor: 3.05
LOCATION:3.05
ORGANIZER:Janez Bernik
RELATED-TO:fmf-AFLABS-URNIK:srecanje:7265
X-WR-TIMEZONE:Europe/Ljubljana
END:VEVENT
BEGIN:VEVENT
SUMMARY:Seminar (FM-2)\, Seminar (S)
DTSTART;TZID=Europe/Ljubljana:20220523T080000
DTEND;TZID=Europe/Ljubljana:20220523T100000
DTSTAMP:20260425T123010Z
UID:fmf-AFLABS-URNIK:premaknjeno-srecanje:100631
ATTENDEE:2. letnik (FM)
CATEGORIES:Entry,Standard
COLOR:darkgreen
DESCRIPTION:Predmet: Seminar (FM-2)\, Seminar (S)\nLetniki: 2. letnik (FM)
 \nIzvajalci: Janez Bernik\nProstor: 3.05
LOCATION:3.05
ORGANIZER:Janez Bernik
RELATED-TO:fmf-AFLABS-URNIK:srecanje:7265
X-WR-TIMEZONE:Europe/Ljubljana
END:VEVENT
BEGIN:VEVENT
SUMMARY:Seminar (FM-2)\, Seminar (S)
DTSTART;TZID=Europe/Ljubljana:20220530T080000
DTEND;TZID=Europe/Ljubljana:20220530T100000
DTSTAMP:20260425T123010Z
UID:fmf-AFLABS-URNIK:premaknjeno-srecanje:100632
ATTENDEE:2. letnik (FM)
CATEGORIES:Entry,Standard
COLOR:darkgreen
DESCRIPTION:Predmet: Seminar (FM-2)\, Seminar (S)\nLetniki: 2. letnik (FM)
 \nIzvajalci: Janez Bernik\nProstor: 3.05
LOCATION:3.05
ORGANIZER:Janez Bernik
RELATED-TO:fmf-AFLABS-URNIK:srecanje:7265
X-WR-TIMEZONE:Europe/Ljubljana
END:VEVENT
BEGIN:VEVENT
SUMMARY:Slučajni procesi 1 (FM-3\, MAT-3)\, Predavanja (P)
DTSTART;TZID=Europe/Ljubljana:20220502T160000
DTEND;TZID=Europe/Ljubljana:20220502T180000
DTSTAMP:20260425T123010Z
UID:fmf-AFLABS-URNIK:premaknjeno-srecanje:103946
ATTENDEE:3. letnik (FM)
ATTENDEE:3. letnik (M)
CATEGORIES:Entry,Standard
COLOR:darkgreen
DESCRIPTION:Predmet: Slučajni procesi 1 (FM-3\, MAT-3)\, Predavanja (P)\n
 Letniki: 3. letnik (FM)\, 3. letnik (M)\nIzvajalci: Janez Bernik\nProstor:
  2.02
LOCATION:2.02
ORGANIZER:Janez Bernik
RELATED-TO:fmf-AFLABS-URNIK:srecanje:7286
X-WR-TIMEZONE:Europe/Ljubljana
END:VEVENT
BEGIN:VEVENT
SUMMARY:Slučajni procesi 1 (FM-3\, MAT-3)\, Predavanja (P)
DTSTART;TZID=Europe/Ljubljana:20220509T160000
DTEND;TZID=Europe/Ljubljana:20220509T180000
DTSTAMP:20260425T123010Z
UID:fmf-AFLABS-URNIK:premaknjeno-srecanje:103947
ATTENDEE:3. letnik (FM)
ATTENDEE:3. letnik (M)
CATEGORIES:Entry,Standard
COLOR:darkgreen
DESCRIPTION:Predmet: Slučajni procesi 1 (FM-3\, MAT-3)\, Predavanja (P)\n
 Letniki: 3. letnik (FM)\, 3. letnik (M)\nIzvajalci: Janez Bernik\nProstor:
  2.02
LOCATION:2.02
ORGANIZER:Janez Bernik
RELATED-TO:fmf-AFLABS-URNIK:srecanje:7286
X-WR-TIMEZONE:Europe/Ljubljana
END:VEVENT
BEGIN:VEVENT
SUMMARY:Slučajni procesi 1 (FM-3\, MAT-3)\, Predavanja (P)
DTSTART;TZID=Europe/Ljubljana:20220516T160000
DTEND;TZID=Europe/Ljubljana:20220516T180000
DTSTAMP:20260425T123010Z
UID:fmf-AFLABS-URNIK:premaknjeno-srecanje:103948
ATTENDEE:3. letnik (FM)
ATTENDEE:3. letnik (M)
CATEGORIES:Entry,Standard
COLOR:darkgreen
DESCRIPTION:Predmet: Slučajni procesi 1 (FM-3\, MAT-3)\, Predavanja (P)\n
 Letniki: 3. letnik (FM)\, 3. letnik (M)\nIzvajalci: Janez Bernik\nProstor:
  2.02
LOCATION:2.02
ORGANIZER:Janez Bernik
RELATED-TO:fmf-AFLABS-URNIK:srecanje:7286
X-WR-TIMEZONE:Europe/Ljubljana
END:VEVENT
BEGIN:VEVENT
SUMMARY:Slučajni procesi 1 (FM-3\, MAT-3)\, Predavanja (P)
DTSTART;TZID=Europe/Ljubljana:20220523T160000
DTEND;TZID=Europe/Ljubljana:20220523T180000
DTSTAMP:20260425T123010Z
UID:fmf-AFLABS-URNIK:premaknjeno-srecanje:103949
ATTENDEE:3. letnik (FM)
ATTENDEE:3. letnik (M)
CATEGORIES:Entry,Standard
COLOR:darkgreen
DESCRIPTION:Predmet: Slučajni procesi 1 (FM-3\, MAT-3)\, Predavanja (P)\n
 Letniki: 3. letnik (FM)\, 3. letnik (M)\nIzvajalci: Janez Bernik\nProstor:
  2.02
LOCATION:2.02
ORGANIZER:Janez Bernik
RELATED-TO:fmf-AFLABS-URNIK:srecanje:7286
X-WR-TIMEZONE:Europe/Ljubljana
END:VEVENT
BEGIN:VEVENT
SUMMARY:Slučajni procesi 1 (FM-3\, MAT-3)\, Predavanja (P)
DTSTART;TZID=Europe/Ljubljana:20220530T160000
DTEND;TZID=Europe/Ljubljana:20220530T180000
DTSTAMP:20260425T123010Z
UID:fmf-AFLABS-URNIK:premaknjeno-srecanje:103950
ATTENDEE:3. letnik (FM)
ATTENDEE:3. letnik (M)
CATEGORIES:Entry,Standard
COLOR:darkgreen
DESCRIPTION:Predmet: Slučajni procesi 1 (FM-3\, MAT-3)\, Predavanja (P)\n
 Letniki: 3. letnik (FM)\, 3. letnik (M)\nIzvajalci: Janez Bernik\nProstor:
  2.02
LOCATION:2.02
ORGANIZER:Janez Bernik
RELATED-TO:fmf-AFLABS-URNIK:srecanje:7286
X-WR-TIMEZONE:Europe/Ljubljana
END:VEVENT
BEGIN:VEVENT
SUMMARY:Diplomski seminar (FM-3)\, Seminar (S)
DTSTART;TZID=Europe/Ljubljana:20220505T100000
DTEND;TZID=Europe/Ljubljana:20220505T120000
DTSTAMP:20260425T123010Z
UID:fmf-AFLABS-URNIK:premaknjeno-srecanje:15742
ATTENDEE:3. letnik (FM)
CATEGORIES:Entry,Standard
COLOR:darkgreen
DESCRIPTION:Predmet: Diplomski seminar (FM-3)\, Seminar (S)\nLetniki: 3. l
 etnik (FM)\nIzvajalci: Janez Bernik\nProstor: 3.06
LOCATION:3.06
ORGANIZER:Janez Bernik
RELATED-TO:fmf-AFLABS-URNIK:srecanje:6890
X-WR-TIMEZONE:Europe/Ljubljana
END:VEVENT
BEGIN:VEVENT
SUMMARY:Diplomski seminar (FM-3)\, Seminar (S)
DTSTART;TZID=Europe/Ljubljana:20220512T100000
DTEND;TZID=Europe/Ljubljana:20220512T120000
DTSTAMP:20260425T123010Z
UID:fmf-AFLABS-URNIK:premaknjeno-srecanje:15743
ATTENDEE:3. letnik (FM)
CATEGORIES:Entry,Standard
COLOR:darkgreen
DESCRIPTION:Predmet: Diplomski seminar (FM-3)\, Seminar (S)\nLetniki: 3. l
 etnik (FM)\nIzvajalci: Janez Bernik\nProstor: 3.06
LOCATION:3.06
ORGANIZER:Janez Bernik
RELATED-TO:fmf-AFLABS-URNIK:srecanje:6890
X-WR-TIMEZONE:Europe/Ljubljana
END:VEVENT
BEGIN:VEVENT
SUMMARY:Diplomski seminar (FM-3)\, Seminar (S)
DTSTART;TZID=Europe/Ljubljana:20220519T100000
DTEND;TZID=Europe/Ljubljana:20220519T120000
DTSTAMP:20260425T123010Z
UID:fmf-AFLABS-URNIK:premaknjeno-srecanje:15744
ATTENDEE:3. letnik (FM)
CATEGORIES:Entry,Standard
COLOR:darkgreen
DESCRIPTION:Predmet: Diplomski seminar (FM-3)\, Seminar (S)\nLetniki: 3. l
 etnik (FM)\nIzvajalci: Janez Bernik\nProstor: 3.06
LOCATION:3.06
ORGANIZER:Janez Bernik
RELATED-TO:fmf-AFLABS-URNIK:srecanje:6890
X-WR-TIMEZONE:Europe/Ljubljana
END:VEVENT
BEGIN:VEVENT
SUMMARY:Diplomski seminar (FM-3)\, Seminar (S)
DTSTART;TZID=Europe/Ljubljana:20220526T100000
DTEND;TZID=Europe/Ljubljana:20220526T120000
DTSTAMP:20260425T123010Z
UID:fmf-AFLABS-URNIK:premaknjeno-srecanje:15745
ATTENDEE:3. letnik (FM)
CATEGORIES:Entry,Standard
COLOR:darkgreen
DESCRIPTION:Predmet: Diplomski seminar (FM-3)\, Seminar (S)\nLetniki: 3. l
 etnik (FM)\nIzvajalci: Janez Bernik\nProstor: 3.06
LOCATION:3.06
ORGANIZER:Janez Bernik
RELATED-TO:fmf-AFLABS-URNIK:srecanje:6890
X-WR-TIMEZONE:Europe/Ljubljana
END:VEVENT
BEGIN:VEVENT
SUMMARY:Seminar (FM-2)\, Seminar (S)
DTSTART;TZID=Europe/Ljubljana:20220505T120000
DTEND;TZID=Europe/Ljubljana:20220505T140000
DTSTAMP:20260425T123010Z
UID:fmf-AFLABS-URNIK:premaknjeno-srecanje:100784
ATTENDEE:2. letnik (FM)
CATEGORIES:Entry,Standard
COLOR:darkgreen
DESCRIPTION:Predmet: Seminar (FM-2)\, Seminar (S)\nLetniki: 2. letnik (FM)
 \nIzvajalci: Janez Bernik\nProstor: 2.03
LOCATION:2.03
ORGANIZER:Janez Bernik
RELATED-TO:fmf-AFLABS-URNIK:srecanje:7267
X-WR-TIMEZONE:Europe/Ljubljana
END:VEVENT
BEGIN:VEVENT
SUMMARY:Seminar (FM-2)\, Seminar (S)
DTSTART;TZID=Europe/Ljubljana:20220512T120000
DTEND;TZID=Europe/Ljubljana:20220512T140000
DTSTAMP:20260425T123010Z
UID:fmf-AFLABS-URNIK:premaknjeno-srecanje:100785
ATTENDEE:2. letnik (FM)
CATEGORIES:Entry,Standard
COLOR:darkgreen
DESCRIPTION:Predmet: Seminar (FM-2)\, Seminar (S)\nLetniki: 2. letnik (FM)
 \nIzvajalci: Janez Bernik\nProstor: 2.03
LOCATION:2.03
ORGANIZER:Janez Bernik
RELATED-TO:fmf-AFLABS-URNIK:srecanje:7267
X-WR-TIMEZONE:Europe/Ljubljana
END:VEVENT
BEGIN:VEVENT
SUMMARY:Seminar (FM-2)\, Seminar (S)
DTSTART;TZID=Europe/Ljubljana:20220519T120000
DTEND;TZID=Europe/Ljubljana:20220519T140000
DTSTAMP:20260425T123010Z
UID:fmf-AFLABS-URNIK:premaknjeno-srecanje:100786
ATTENDEE:2. letnik (FM)
CATEGORIES:Entry,Standard
COLOR:darkgreen
DESCRIPTION:Predmet: Seminar (FM-2)\, Seminar (S)\nLetniki: 2. letnik (FM)
 \nIzvajalci: Janez Bernik\nProstor: 2.03
LOCATION:2.03
ORGANIZER:Janez Bernik
RELATED-TO:fmf-AFLABS-URNIK:srecanje:7267
X-WR-TIMEZONE:Europe/Ljubljana
END:VEVENT
BEGIN:VEVENT
SUMMARY:Seminar (FM-2)\, Seminar (S)
DTSTART;TZID=Europe/Ljubljana:20220526T120000
DTEND;TZID=Europe/Ljubljana:20220526T140000
DTSTAMP:20260425T123010Z
UID:fmf-AFLABS-URNIK:premaknjeno-srecanje:100787
ATTENDEE:2. letnik (FM)
CATEGORIES:Entry,Standard
COLOR:darkgreen
DESCRIPTION:Predmet: Seminar (FM-2)\, Seminar (S)\nLetniki: 2. letnik (FM)
 \nIzvajalci: Janez Bernik\nProstor: 2.03
LOCATION:2.03
ORGANIZER:Janez Bernik
RELATED-TO:fmf-AFLABS-URNIK:srecanje:7267
X-WR-TIMEZONE:Europe/Ljubljana
END:VEVENT
BEGIN:VEVENT
SUMMARY:Seminar za finančno matematiko (MAT-D)\, Seminar (S)
DTSTART;TZID=Europe/Ljubljana:20220505T140000
DTEND;TZID=Europe/Ljubljana:20220505T160000
DTSTAMP:20260425T123010Z
UID:fmf-AFLABS-URNIK:premaknjeno-srecanje:102429
ATTENDEE:doktorski študij (M)
CATEGORIES:Entry,Standard
COLOR:darkgreen
DESCRIPTION:Predmet: Seminar za finančno matematiko (MAT-D)\, Seminar (S)
 \nLetniki: doktorski študij (M)\nIzvajalci: Janez Bernik\nProstor: 3.06
LOCATION:3.06
ORGANIZER:Janez Bernik
RELATED-TO:fmf-AFLABS-URNIK:srecanje:7277
X-WR-TIMEZONE:Europe/Ljubljana
END:VEVENT
BEGIN:VEVENT
SUMMARY:Seminar za finančno matematiko (MAT-D)\, Seminar (S)
DTSTART;TZID=Europe/Ljubljana:20220512T140000
DTEND;TZID=Europe/Ljubljana:20220512T160000
DTSTAMP:20260425T123010Z
UID:fmf-AFLABS-URNIK:premaknjeno-srecanje:102430
ATTENDEE:doktorski študij (M)
CATEGORIES:Entry,Standard
COLOR:darkgreen
DESCRIPTION:Predmet: Seminar za finančno matematiko (MAT-D)\, Seminar (S)
 \nLetniki: doktorski študij (M)\nIzvajalci: Janez Bernik\nProstor: 3.06
LOCATION:3.06
ORGANIZER:Janez Bernik
RELATED-TO:fmf-AFLABS-URNIK:srecanje:7277
X-WR-TIMEZONE:Europe/Ljubljana
END:VEVENT
BEGIN:VEVENT
SUMMARY:Seminar za finančno matematiko (MAT-D)\, Seminar (S)
DTSTART;TZID=Europe/Ljubljana:20220519T140000
DTEND;TZID=Europe/Ljubljana:20220519T160000
DTSTAMP:20260425T123010Z
UID:fmf-AFLABS-URNIK:premaknjeno-srecanje:102431
ATTENDEE:doktorski študij (M)
CATEGORIES:Entry,Standard
COLOR:darkgreen
DESCRIPTION:Predmet: Seminar za finančno matematiko (MAT-D)\, Seminar (S)
 \nLetniki: doktorski študij (M)\nIzvajalci: Janez Bernik\nProstor: 3.06
LOCATION:3.06
ORGANIZER:Janez Bernik
RELATED-TO:fmf-AFLABS-URNIK:srecanje:7277
X-WR-TIMEZONE:Europe/Ljubljana
END:VEVENT
BEGIN:VEVENT
SUMMARY:Seminar za finančno matematiko (MAT-D)\, Seminar (S)
DTSTART;TZID=Europe/Ljubljana:20220526T140000
DTEND;TZID=Europe/Ljubljana:20220526T160000
DTSTAMP:20260425T123010Z
UID:fmf-AFLABS-URNIK:premaknjeno-srecanje:102432
ATTENDEE:doktorski študij (M)
CATEGORIES:Entry,Standard
COLOR:darkgreen
DESCRIPTION:Predmet: Seminar za finančno matematiko (MAT-D)\, Seminar (S)
 \nLetniki: doktorski študij (M)\nIzvajalci: Janez Bernik\nProstor: 3.06
LOCATION:3.06
ORGANIZER:Janez Bernik
RELATED-TO:fmf-AFLABS-URNIK:srecanje:7277
X-WR-TIMEZONE:Europe/Ljubljana
END:VEVENT
BEGIN:VEVENT
SUMMARY:Rezervacija
DTSTART;TZID=Europe/Ljubljana:20220602T140000
DTEND;TZID=Europe/Ljubljana:20220602T160000
DTSTAMP:20260425T123010Z
UID:fmf-AFLABS-URNIK:rezervacija:9157
CATEGORIES:Reservation
COLOR:royalblue
DESCRIPTION:Predmeti: \nLetniki: \nIzvajalci: Janez Bernik\nProstori: 2.05
LOCATION:2.05
ORGANIZER:Janez Bernik
X-WR-TIMEZONE:Europe/Ljubljana
END:VEVENT
BEGIN:VEVENT
SUMMARY:Rezervacija
DTSTART;TZID=Europe/Ljubljana:20220617T100000
DTEND;TZID=Europe/Ljubljana:20220617T120000
DTSTAMP:20260425T123010Z
UID:fmf-AFLABS-URNIK:rezervacija:9385
ATTENDEE:3. letnik (FM)
ATTENDEE:3. letnik (M)
CATEGORIES:Reservation
COLOR:royalblue
DESCRIPTION:Predmeti: Slučajni procesi 1 (FM-3\, MAT-3)\nLetniki: 3. letn
 ik (FM)\, 3. letnik (M)\nIzvajalci: Janez Bernik\nProstori: 2.03
LOCATION:2.03
ORGANIZER:Janez Bernik
X-WR-TIMEZONE:Europe/Ljubljana
END:VEVENT
BEGIN:VEVENT
SUMMARY:Rezervacija
DTSTART;TZID=Europe/Ljubljana:20220624T100000
DTEND;TZID=Europe/Ljubljana:20220624T120000
DTSTAMP:20260425T123010Z
UID:fmf-AFLABS-URNIK:rezervacija:9507
ATTENDEE:3. letnik (FM)
ATTENDEE:3. letnik (M)
CATEGORIES:Reservation
COLOR:royalblue
DESCRIPTION:Predmeti: Slučajni procesi 1 (FM-3\, MAT-3)\nLetniki: 3. letn
 ik (FM)\, 3. letnik (M)\nIzvajalci: Janez Bernik\nProstori: 2.05
LOCATION:2.05
ORGANIZER:Janez Bernik
X-WR-TIMEZONE:Europe/Ljubljana
END:VEVENT
END:VCALENDAR
