BEGIN:VCALENDAR
VERSION:2.0
PRODID:-//AFLabs urnik izvoz - fmf//aflabs.si//SI
DTSTAMP:20260425T110445Z
NAME:UL FMF urnik
REFRESH-INTERVAL:PT1H
SOURCE:https://urnik.fmf.uni-lj.si/teacher/225?day=2025-02-10&export=1
URL:https://urnik.fmf.uni-lj.si/teacher/225?day=2025-02-10&export=1
X-PUBLISHED-TTL:PT1H
X-WR-CALNAME:UL FMF urnik
X-WR-TIMEZONE:Europe/Ljubljana
BEGIN:VTIMEZONE
TZID:Europe/Ljubljana
BEGIN:DAYLIGHT
DTSTART:20260329T020000
RDATE:20260329T020000
RDATE:20270328T020000
TZNAME:CEST
TZOFFSETFROM:+0100
TZOFFSETTO:+0200
END:DAYLIGHT
BEGIN:STANDARD
DTSTART:20261025T030000
RDATE:20261025T030000
RDATE:20271031T030000
TZNAME:CET
TZOFFSETFROM:+0200
TZOFFSETTO:+0100
END:STANDARD
END:VTIMEZONE
BEGIN:VEVENT
SUMMARY:Seminar (FM-2)\, Seminar (S)\, [1]
DTSTART;TZID=Europe/Ljubljana:20250217T140000
DTEND;TZID=Europe/Ljubljana:20250217T160000
DTSTAMP:20260425T110445Z
UID:fmf-AFLABS-URNIK:premaknjeno-srecanje:205624
ATTENDEE:2. letnik (FM)
CATEGORIES:Entry,Standard
COLOR:darkgreen
DESCRIPTION:Predmet: Seminar (FM-2)\, Seminar (S)\, [1]\nLetniki: 2. letni
 k (FM)\nIzvajalci: Janez Bernik\nProstor: 3.07
LOCATION:3.07
ORGANIZER:Janez Bernik
RELATED-TO:fmf-AFLABS-URNIK:srecanje:15705
X-WR-TIMEZONE:Europe/Ljubljana
END:VEVENT
BEGIN:VEVENT
SUMMARY:Seminar (FM-2)\, Seminar (S)\, [1]
DTSTART;TZID=Europe/Ljubljana:20250224T140000
DTEND;TZID=Europe/Ljubljana:20250224T160000
DTSTAMP:20260425T110445Z
UID:fmf-AFLABS-URNIK:premaknjeno-srecanje:205625
ATTENDEE:2. letnik (FM)
CATEGORIES:Entry,Standard
COLOR:darkgreen
DESCRIPTION:Predmet: Seminar (FM-2)\, Seminar (S)\, [1]\nLetniki: 2. letni
 k (FM)\nIzvajalci: Janez Bernik\nProstor: 3.07
LOCATION:3.07
ORGANIZER:Janez Bernik
RELATED-TO:fmf-AFLABS-URNIK:srecanje:15705
X-WR-TIMEZONE:Europe/Ljubljana
END:VEVENT
BEGIN:VEVENT
SUMMARY:Seminar (FM-2)\, Seminar (S)\, [1]
DTSTART;TZID=Europe/Ljubljana:20250303T140000
DTEND;TZID=Europe/Ljubljana:20250303T160000
DTSTAMP:20260425T110445Z
UID:fmf-AFLABS-URNIK:premaknjeno-srecanje:205626
ATTENDEE:2. letnik (FM)
CATEGORIES:Entry,Standard
COLOR:darkgreen
DESCRIPTION:Predmet: Seminar (FM-2)\, Seminar (S)\, [1]\nLetniki: 2. letni
 k (FM)\nIzvajalci: Janez Bernik\nProstor: 3.07
LOCATION:3.07
ORGANIZER:Janez Bernik
RELATED-TO:fmf-AFLABS-URNIK:srecanje:15705
X-WR-TIMEZONE:Europe/Ljubljana
END:VEVENT
BEGIN:VEVENT
SUMMARY:Seminar (FM-2)\, Seminar (S)\, [1]
DTSTART;TZID=Europe/Ljubljana:20250310T140000
DTEND;TZID=Europe/Ljubljana:20250310T160000
DTSTAMP:20260425T110445Z
UID:fmf-AFLABS-URNIK:premaknjeno-srecanje:205627
ATTENDEE:2. letnik (FM)
CATEGORIES:Entry,Standard
COLOR:darkgreen
DESCRIPTION:Predmet: Seminar (FM-2)\, Seminar (S)\, [1]\nLetniki: 2. letni
 k (FM)\nIzvajalci: Janez Bernik\nProstor: 3.07
LOCATION:3.07
ORGANIZER:Janez Bernik
RELATED-TO:fmf-AFLABS-URNIK:srecanje:15705
X-WR-TIMEZONE:Europe/Ljubljana
END:VEVENT
BEGIN:VEVENT
SUMMARY:Seminar (FM-2)\, Seminar (S)\, [1]
DTSTART;TZID=Europe/Ljubljana:20250317T140000
DTEND;TZID=Europe/Ljubljana:20250317T160000
DTSTAMP:20260425T110445Z
UID:fmf-AFLABS-URNIK:premaknjeno-srecanje:205628
ATTENDEE:2. letnik (FM)
CATEGORIES:Entry,Standard
COLOR:darkgreen
DESCRIPTION:Predmet: Seminar (FM-2)\, Seminar (S)\, [1]\nLetniki: 2. letni
 k (FM)\nIzvajalci: Janez Bernik\nProstor: 3.07
LOCATION:3.07
ORGANIZER:Janez Bernik
RELATED-TO:fmf-AFLABS-URNIK:srecanje:15705
X-WR-TIMEZONE:Europe/Ljubljana
END:VEVENT
BEGIN:VEVENT
SUMMARY:Slučajni procesi 1 (FM-3\, MAT-3)\, Predavanja (P)
DTSTART;TZID=Europe/Ljubljana:20250217T160000
DTEND;TZID=Europe/Ljubljana:20250217T180000
DTSTAMP:20260425T110445Z
UID:fmf-AFLABS-URNIK:premaknjeno-srecanje:206024
ATTENDEE:3. letnik (FM)
ATTENDEE:3. letnik (M)
CATEGORIES:Entry,Standard
COLOR:darkgreen
DESCRIPTION:Predmet: Slučajni procesi 1 (FM-3\, MAT-3)\, Predavanja (P)\n
 Letniki: 3. letnik (FM)\, 3. letnik (M)\nIzvajalci: Janez Bernik\nProstor:
  P.01
LOCATION:P.01
ORGANIZER:Janez Bernik
RELATED-TO:fmf-AFLABS-URNIK:srecanje:15352
X-WR-TIMEZONE:Europe/Ljubljana
END:VEVENT
BEGIN:VEVENT
SUMMARY:Slučajni procesi 1 (FM-3\, MAT-3)\, Predavanja (P)
DTSTART;TZID=Europe/Ljubljana:20250224T160000
DTEND;TZID=Europe/Ljubljana:20250224T180000
DTSTAMP:20260425T110445Z
UID:fmf-AFLABS-URNIK:premaknjeno-srecanje:206025
ATTENDEE:3. letnik (FM)
ATTENDEE:3. letnik (M)
CATEGORIES:Entry,Standard
COLOR:darkgreen
DESCRIPTION:Predmet: Slučajni procesi 1 (FM-3\, MAT-3)\, Predavanja (P)\n
 Letniki: 3. letnik (FM)\, 3. letnik (M)\nIzvajalci: Janez Bernik\nProstor:
  P.01
LOCATION:P.01
ORGANIZER:Janez Bernik
RELATED-TO:fmf-AFLABS-URNIK:srecanje:15352
X-WR-TIMEZONE:Europe/Ljubljana
END:VEVENT
BEGIN:VEVENT
SUMMARY:Slučajni procesi 1 (FM-3\, MAT-3)\, Predavanja (P)
DTSTART;TZID=Europe/Ljubljana:20250303T160000
DTEND;TZID=Europe/Ljubljana:20250303T180000
DTSTAMP:20260425T110445Z
UID:fmf-AFLABS-URNIK:premaknjeno-srecanje:206026
ATTENDEE:3. letnik (FM)
ATTENDEE:3. letnik (M)
CATEGORIES:Entry,Standard
COLOR:darkgreen
DESCRIPTION:Predmet: Slučajni procesi 1 (FM-3\, MAT-3)\, Predavanja (P)\n
 Letniki: 3. letnik (FM)\, 3. letnik (M)\nIzvajalci: Janez Bernik\nProstor:
  P.01
LOCATION:P.01
ORGANIZER:Janez Bernik
RELATED-TO:fmf-AFLABS-URNIK:srecanje:15352
X-WR-TIMEZONE:Europe/Ljubljana
END:VEVENT
BEGIN:VEVENT
SUMMARY:Slučajni procesi 1 (FM-3\, MAT-3)\, Predavanja (P)
DTSTART;TZID=Europe/Ljubljana:20250310T160000
DTEND;TZID=Europe/Ljubljana:20250310T180000
DTSTAMP:20260425T110445Z
UID:fmf-AFLABS-URNIK:premaknjeno-srecanje:206027
ATTENDEE:3. letnik (FM)
ATTENDEE:3. letnik (M)
CATEGORIES:Entry,Standard
COLOR:darkgreen
DESCRIPTION:Predmet: Slučajni procesi 1 (FM-3\, MAT-3)\, Predavanja (P)\n
 Letniki: 3. letnik (FM)\, 3. letnik (M)\nIzvajalci: Janez Bernik\nProstor:
  P.01
LOCATION:P.01
ORGANIZER:Janez Bernik
RELATED-TO:fmf-AFLABS-URNIK:srecanje:15352
X-WR-TIMEZONE:Europe/Ljubljana
END:VEVENT
BEGIN:VEVENT
SUMMARY:Slučajni procesi 1 (FM-3\, MAT-3)\, Predavanja (P)
DTSTART;TZID=Europe/Ljubljana:20250317T160000
DTEND;TZID=Europe/Ljubljana:20250317T180000
DTSTAMP:20260425T110445Z
UID:fmf-AFLABS-URNIK:premaknjeno-srecanje:206028
ATTENDEE:3. letnik (FM)
ATTENDEE:3. letnik (M)
CATEGORIES:Entry,Standard
COLOR:darkgreen
DESCRIPTION:Predmet: Slučajni procesi 1 (FM-3\, MAT-3)\, Predavanja (P)\n
 Letniki: 3. letnik (FM)\, 3. letnik (M)\nIzvajalci: Janez Bernik\nProstor:
  P.01
LOCATION:P.01
ORGANIZER:Janez Bernik
RELATED-TO:fmf-AFLABS-URNIK:srecanje:15352
X-WR-TIMEZONE:Europe/Ljubljana
END:VEVENT
BEGIN:VEVENT
SUMMARY:Seminar za finančno matematiko (MAT-D)\, Seminar (S)
DTSTART;TZID=Europe/Ljubljana:20250220T140000
DTEND;TZID=Europe/Ljubljana:20250220T160000
DTSTAMP:20260425T110445Z
UID:fmf-AFLABS-URNIK:premaknjeno-srecanje:205816
ATTENDEE:doktorski študij (M)
CATEGORIES:Entry,Standard
COLOR:darkgreen
DESCRIPTION:Predmet: Seminar za finančno matematiko (MAT-D)\, Seminar (S)
 \nLetniki: doktorski študij (M)\nIzvajalci: Janez Bernik\nProstor: 3.07
LOCATION:3.07
ORGANIZER:Janez Bernik
RELATED-TO:fmf-AFLABS-URNIK:srecanje:15501
X-WR-TIMEZONE:Europe/Ljubljana
END:VEVENT
BEGIN:VEVENT
SUMMARY:Seminar za finančno matematiko (MAT-D)\, Seminar (S)
DTSTART;TZID=Europe/Ljubljana:20250227T140000
DTEND;TZID=Europe/Ljubljana:20250227T160000
DTSTAMP:20260425T110445Z
UID:fmf-AFLABS-URNIK:premaknjeno-srecanje:205817
ATTENDEE:doktorski študij (M)
CATEGORIES:Entry,Standard
COLOR:darkgreen
DESCRIPTION:Predmet: Seminar za finančno matematiko (MAT-D)\, Seminar (S)
 \nLetniki: doktorski študij (M)\nIzvajalci: Janez Bernik\nProstor: 3.07
LOCATION:3.07
ORGANIZER:Janez Bernik
RELATED-TO:fmf-AFLABS-URNIK:srecanje:15501
X-WR-TIMEZONE:Europe/Ljubljana
END:VEVENT
BEGIN:VEVENT
SUMMARY:Seminar za finančno matematiko (MAT-D)\, Seminar (S)
DTSTART;TZID=Europe/Ljubljana:20250306T140000
DTEND;TZID=Europe/Ljubljana:20250306T160000
DTSTAMP:20260425T110445Z
UID:fmf-AFLABS-URNIK:premaknjeno-srecanje:205818
ATTENDEE:doktorski študij (M)
CATEGORIES:Entry,Standard
COLOR:darkgreen
DESCRIPTION:Predmet: Seminar za finančno matematiko (MAT-D)\, Seminar (S)
 \nLetniki: doktorski študij (M)\nIzvajalci: Janez Bernik\nProstor: 3.07
LOCATION:3.07
ORGANIZER:Janez Bernik
RELATED-TO:fmf-AFLABS-URNIK:srecanje:15501
X-WR-TIMEZONE:Europe/Ljubljana
END:VEVENT
BEGIN:VEVENT
SUMMARY:Seminar za finančno matematiko (MAT-D)\, Seminar (S)
DTSTART;TZID=Europe/Ljubljana:20250313T140000
DTEND;TZID=Europe/Ljubljana:20250313T160000
DTSTAMP:20260425T110445Z
UID:fmf-AFLABS-URNIK:premaknjeno-srecanje:205819
ATTENDEE:doktorski študij (M)
CATEGORIES:Entry,Standard
COLOR:darkgreen
DESCRIPTION:Predmet: Seminar za finančno matematiko (MAT-D)\, Seminar (S)
 \nLetniki: doktorski študij (M)\nIzvajalci: Janez Bernik\nProstor: 3.07
LOCATION:3.07
ORGANIZER:Janez Bernik
RELATED-TO:fmf-AFLABS-URNIK:srecanje:15501
X-WR-TIMEZONE:Europe/Ljubljana
END:VEVENT
BEGIN:VEVENT
SUMMARY:Diplomski seminar (FM-3)\, Seminar (S)\, [1]
DTSTART;TZID=Europe/Ljubljana:20250221T160000
DTEND;TZID=Europe/Ljubljana:20250221T180000
DTSTAMP:20260425T110445Z
UID:fmf-AFLABS-URNIK:premaknjeno-srecanje:213117
ATTENDEE:3. letnik (FM)
CATEGORIES:Entry,Standard
COLOR:darkgreen
DESCRIPTION:Predmet: Diplomski seminar (FM-3)\, Seminar (S)\, [1]\nLetniki
 : 3. letnik (FM)\nIzvajalci: Janez Bernik\nProstor: 3.06
LOCATION:3.06
ORGANIZER:Janez Bernik
RELATED-TO:fmf-AFLABS-URNIK:srecanje:15298
X-WR-TIMEZONE:Europe/Ljubljana
END:VEVENT
BEGIN:VEVENT
SUMMARY:Diplomski seminar (FM-3)\, Seminar (S)\, [1]
DTSTART;TZID=Europe/Ljubljana:20250228T160000
DTEND;TZID=Europe/Ljubljana:20250228T180000
DTSTAMP:20260425T110445Z
UID:fmf-AFLABS-URNIK:premaknjeno-srecanje:213118
ATTENDEE:3. letnik (FM)
CATEGORIES:Entry,Standard
COLOR:darkgreen
DESCRIPTION:Predmet: Diplomski seminar (FM-3)\, Seminar (S)\, [1]\nLetniki
 : 3. letnik (FM)\nIzvajalci: Janez Bernik\nProstor: 3.06
LOCATION:3.06
ORGANIZER:Janez Bernik
RELATED-TO:fmf-AFLABS-URNIK:srecanje:15298
X-WR-TIMEZONE:Europe/Ljubljana
END:VEVENT
BEGIN:VEVENT
SUMMARY:Diplomski seminar (FM-3)\, Seminar (S)\, [1]
DTSTART;TZID=Europe/Ljubljana:20250307T160000
DTEND;TZID=Europe/Ljubljana:20250307T180000
DTSTAMP:20260425T110445Z
UID:fmf-AFLABS-URNIK:premaknjeno-srecanje:213119
ATTENDEE:3. letnik (FM)
CATEGORIES:Entry,Standard
COLOR:darkgreen
DESCRIPTION:Predmet: Diplomski seminar (FM-3)\, Seminar (S)\, [1]\nLetniki
 : 3. letnik (FM)\nIzvajalci: Janez Bernik\nProstor: 3.06
LOCATION:3.06
ORGANIZER:Janez Bernik
RELATED-TO:fmf-AFLABS-URNIK:srecanje:15298
X-WR-TIMEZONE:Europe/Ljubljana
END:VEVENT
BEGIN:VEVENT
SUMMARY:Diplomski seminar (FM-3)\, Seminar (S)\, [1]
DTSTART;TZID=Europe/Ljubljana:20250314T160000
DTEND;TZID=Europe/Ljubljana:20250314T180000
DTSTAMP:20260425T110445Z
UID:fmf-AFLABS-URNIK:premaknjeno-srecanje:213120
ATTENDEE:3. letnik (FM)
CATEGORIES:Entry,Standard
COLOR:darkgreen
DESCRIPTION:Predmet: Diplomski seminar (FM-3)\, Seminar (S)\, [1]\nLetniki
 : 3. letnik (FM)\nIzvajalci: Janez Bernik\nProstor: 3.06
LOCATION:3.06
ORGANIZER:Janez Bernik
RELATED-TO:fmf-AFLABS-URNIK:srecanje:15298
X-WR-TIMEZONE:Europe/Ljubljana
END:VEVENT
END:VCALENDAR
