BEGIN:VCALENDAR
VERSION:2.0
PRODID:-//AFLabs urnik izvoz - fmf//aflabs.si//SI
DTSTAMP:20260425T133736Z
NAME:UL FMF urnik
REFRESH-INTERVAL:PT1H
SOURCE:https://urnik.fmf.uni-lj.si/teacher/233?day=2019-09-30&export=1
URL:https://urnik.fmf.uni-lj.si/teacher/233?day=2019-09-30&export=1
X-PUBLISHED-TTL:PT1H
X-WR-CALNAME:UL FMF urnik
X-WR-TIMEZONE:Europe/Ljubljana
BEGIN:VTIMEZONE
TZID:Europe/Ljubljana
BEGIN:DAYLIGHT
DTSTART:20260329T020000
RDATE:20260329T020000
RDATE:20270328T020000
TZNAME:CEST
TZOFFSETFROM:+0100
TZOFFSETTO:+0200
END:DAYLIGHT
BEGIN:STANDARD
DTSTART:20261025T030000
RDATE:20261025T030000
RDATE:20271031T030000
TZNAME:CET
TZOFFSETFROM:+0200
TZOFFSETTO:+0100
END:STANDARD
END:VTIMEZONE
BEGIN:VEVENT
SUMMARY:Proseminar (FM-1)\, Vaje (V)\, [1]
DTSTART;TZID=Europe/Ljubljana:20191001T140000
DTEND;TZID=Europe/Ljubljana:20191001T160000
DTSTAMP:20260425T133736Z
UID:fmf-AFLABS-URNIK:premaknjeno-srecanje:88367
ATTENDEE:1. letnik (FM)
CATEGORIES:Entry,Standard
COLOR:darkgreen
DESCRIPTION:Predmet: Proseminar (FM-1)\, Vaje (V)\, [1]\nLetniki: 1. letni
 k (FM)\nIzvajalci: Jure Slak\nProstor: 2.05
LOCATION:2.05
ORGANIZER:Jure Slak
RELATED-TO:fmf-AFLABS-URNIK:srecanje:3659
X-WR-TIMEZONE:Europe/Ljubljana
END:VEVENT
BEGIN:VEVENT
SUMMARY:Proseminar (FM-1)\, Vaje (V)\, [1]
DTSTART;TZID=Europe/Ljubljana:20191008T140000
DTEND;TZID=Europe/Ljubljana:20191008T160000
DTSTAMP:20260425T133736Z
UID:fmf-AFLABS-URNIK:premaknjeno-srecanje:88368
ATTENDEE:1. letnik (FM)
CATEGORIES:Entry,Standard
COLOR:darkgreen
DESCRIPTION:Predmet: Proseminar (FM-1)\, Vaje (V)\, [1]\nLetniki: 1. letni
 k (FM)\nIzvajalci: Jure Slak\nProstor: 2.05
LOCATION:2.05
ORGANIZER:Jure Slak
RELATED-TO:fmf-AFLABS-URNIK:srecanje:3659
X-WR-TIMEZONE:Europe/Ljubljana
END:VEVENT
BEGIN:VEVENT
SUMMARY:Proseminar (FM-1)\, Vaje (V)\, [1]
DTSTART;TZID=Europe/Ljubljana:20191015T140000
DTEND;TZID=Europe/Ljubljana:20191015T160000
DTSTAMP:20260425T133736Z
UID:fmf-AFLABS-URNIK:premaknjeno-srecanje:88369
ATTENDEE:1. letnik (FM)
CATEGORIES:Entry,Standard
COLOR:darkgreen
DESCRIPTION:Predmet: Proseminar (FM-1)\, Vaje (V)\, [1]\nLetniki: 1. letni
 k (FM)\nIzvajalci: Jure Slak\nProstor: 2.05
LOCATION:2.05
ORGANIZER:Jure Slak
RELATED-TO:fmf-AFLABS-URNIK:srecanje:3659
X-WR-TIMEZONE:Europe/Ljubljana
END:VEVENT
BEGIN:VEVENT
SUMMARY:Proseminar (FM-1)\, Vaje (V)\, [1]
DTSTART;TZID=Europe/Ljubljana:20191022T140000
DTEND;TZID=Europe/Ljubljana:20191022T160000
DTSTAMP:20260425T133736Z
UID:fmf-AFLABS-URNIK:premaknjeno-srecanje:88370
ATTENDEE:1. letnik (FM)
CATEGORIES:Entry,Standard
COLOR:darkgreen
DESCRIPTION:Predmet: Proseminar (FM-1)\, Vaje (V)\, [1]\nLetniki: 1. letni
 k (FM)\nIzvajalci: Jure Slak\nProstor: 2.05
LOCATION:2.05
ORGANIZER:Jure Slak
RELATED-TO:fmf-AFLABS-URNIK:srecanje:3659
X-WR-TIMEZONE:Europe/Ljubljana
END:VEVENT
BEGIN:VEVENT
SUMMARY:Proseminar (FM-1)\, Vaje (V)\, [1]
DTSTART;TZID=Europe/Ljubljana:20191029T140000
DTEND;TZID=Europe/Ljubljana:20191029T160000
DTSTAMP:20260425T133736Z
UID:fmf-AFLABS-URNIK:premaknjeno-srecanje:88371
ATTENDEE:1. letnik (FM)
CATEGORIES:Entry,Standard
COLOR:darkgreen
DESCRIPTION:Predmet: Proseminar (FM-1)\, Vaje (V)\, [1]\nLetniki: 1. letni
 k (FM)\nIzvajalci: Jure Slak\nProstor: 2.05
LOCATION:2.05
ORGANIZER:Jure Slak
RELATED-TO:fmf-AFLABS-URNIK:srecanje:3659
X-WR-TIMEZONE:Europe/Ljubljana
END:VEVENT
BEGIN:VEVENT
SUMMARY:Numerične metode (IŠRM-3)\, Vaje (V)
DTSTART;TZID=Europe/Ljubljana:20191003T140000
DTEND;TZID=Europe/Ljubljana:20191003T170000
DTSTAMP:20260425T133736Z
UID:fmf-AFLABS-URNIK:premaknjeno-srecanje:77031
ATTENDEE:3. letnik (IŠRM)
CATEGORIES:Entry,Standard
COLOR:darkgreen
DESCRIPTION:Predmet: Numerične metode (IŠRM-3)\, Vaje (V)\nLetniki: 3. l
 etnik (IŠRM)\nIzvajalci: Jure Slak\nProstor: 3.05
LOCATION:3.05
ORGANIZER:Jure Slak
RELATED-TO:fmf-AFLABS-URNIK:srecanje:3607
X-WR-TIMEZONE:Europe/Ljubljana
END:VEVENT
BEGIN:VEVENT
SUMMARY:Numerične metode (IŠRM-3)\, Vaje (V)
DTSTART;TZID=Europe/Ljubljana:20191010T140000
DTEND;TZID=Europe/Ljubljana:20191010T170000
DTSTAMP:20260425T133736Z
UID:fmf-AFLABS-URNIK:premaknjeno-srecanje:77032
ATTENDEE:3. letnik (IŠRM)
CATEGORIES:Entry,Standard
COLOR:darkgreen
DESCRIPTION:Predmet: Numerične metode (IŠRM-3)\, Vaje (V)\nLetniki: 3. l
 etnik (IŠRM)\nIzvajalci: Jure Slak\nProstor: 3.05
LOCATION:3.05
ORGANIZER:Jure Slak
RELATED-TO:fmf-AFLABS-URNIK:srecanje:3607
X-WR-TIMEZONE:Europe/Ljubljana
END:VEVENT
BEGIN:VEVENT
SUMMARY:Numerične metode (IŠRM-3)\, Vaje (V)
DTSTART;TZID=Europe/Ljubljana:20191017T140000
DTEND;TZID=Europe/Ljubljana:20191017T170000
DTSTAMP:20260425T133736Z
UID:fmf-AFLABS-URNIK:premaknjeno-srecanje:77033
ATTENDEE:3. letnik (IŠRM)
CATEGORIES:Entry,Standard
COLOR:darkgreen
DESCRIPTION:Predmet: Numerične metode (IŠRM-3)\, Vaje (V)\nLetniki: 3. l
 etnik (IŠRM)\nIzvajalci: Jure Slak\nProstor: 3.05
LOCATION:3.05
ORGANIZER:Jure Slak
RELATED-TO:fmf-AFLABS-URNIK:srecanje:3607
X-WR-TIMEZONE:Europe/Ljubljana
END:VEVENT
BEGIN:VEVENT
SUMMARY:Numerične metode (IŠRM-3)\, Vaje (V)
DTSTART;TZID=Europe/Ljubljana:20191024T140000
DTEND;TZID=Europe/Ljubljana:20191024T170000
DTSTAMP:20260425T133736Z
UID:fmf-AFLABS-URNIK:premaknjeno-srecanje:77034
ATTENDEE:3. letnik (IŠRM)
CATEGORIES:Entry,Standard
COLOR:darkgreen
DESCRIPTION:Predmet: Numerične metode (IŠRM-3)\, Vaje (V)\nLetniki: 3. l
 etnik (IŠRM)\nIzvajalci: Jure Slak\nProstor: 3.05
LOCATION:3.05
ORGANIZER:Jure Slak
RELATED-TO:fmf-AFLABS-URNIK:srecanje:3607
X-WR-TIMEZONE:Europe/Ljubljana
END:VEVENT
BEGIN:VEVENT
SUMMARY:Numerične metode (IŠRM-3)\, Vaje (V)
DTSTART;TZID=Europe/Ljubljana:20191031T140000
DTEND;TZID=Europe/Ljubljana:20191031T170000
DTSTAMP:20260425T133736Z
UID:fmf-AFLABS-URNIK:premaknjeno-srecanje:77035
ATTENDEE:3. letnik (IŠRM)
CATEGORIES:Entry,Standard
COLOR:darkgreen
DESCRIPTION:Predmet: Numerične metode (IŠRM-3)\, Vaje (V)\nLetniki: 3. l
 etnik (IŠRM)\nIzvajalci: Jure Slak\nProstor: 3.05
LOCATION:3.05
ORGANIZER:Jure Slak
RELATED-TO:fmf-AFLABS-URNIK:srecanje:3607
X-WR-TIMEZONE:Europe/Ljubljana
END:VEVENT
BEGIN:VEVENT
SUMMARY:REZ FM ()\, Vaje (V)
DTSTART;TZID=Europe/Ljubljana:20191003T120000
DTEND;TZID=Europe/Ljubljana:20191003T140000
DTSTAMP:20260425T133736Z
UID:fmf-AFLABS-URNIK:premaknjeno-srecanje:90421
CATEGORIES:Entry,Standard
COLOR:darkgreen
DESCRIPTION:Predmet: REZ FM ()\, Vaje (V)\nLetniki: \nIzvajalci: Jure Slak
 \nProstor: 3.11
LOCATION:3.11
ORGANIZER:Jure Slak
RELATED-TO:fmf-AFLABS-URNIK:srecanje:3908
X-WR-TIMEZONE:Europe/Ljubljana
END:VEVENT
BEGIN:VEVENT
SUMMARY:REZ FM ()\, Vaje (V)
DTSTART;TZID=Europe/Ljubljana:20191010T120000
DTEND;TZID=Europe/Ljubljana:20191010T140000
DTSTAMP:20260425T133736Z
UID:fmf-AFLABS-URNIK:premaknjeno-srecanje:90422
CATEGORIES:Entry,Standard
COLOR:darkgreen
DESCRIPTION:Predmet: REZ FM ()\, Vaje (V)\nLetniki: \nIzvajalci: Jure Slak
 \nProstor: 3.11
LOCATION:3.11
ORGANIZER:Jure Slak
RELATED-TO:fmf-AFLABS-URNIK:srecanje:3908
X-WR-TIMEZONE:Europe/Ljubljana
END:VEVENT
BEGIN:VEVENT
SUMMARY:REZ FM ()\, Vaje (V)
DTSTART;TZID=Europe/Ljubljana:20191017T120000
DTEND;TZID=Europe/Ljubljana:20191017T140000
DTSTAMP:20260425T133736Z
UID:fmf-AFLABS-URNIK:premaknjeno-srecanje:90423
CATEGORIES:Entry,Standard
COLOR:darkgreen
DESCRIPTION:Predmet: REZ FM ()\, Vaje (V)\nLetniki: \nIzvajalci: Jure Slak
 \nProstor: 3.11
LOCATION:3.11
ORGANIZER:Jure Slak
RELATED-TO:fmf-AFLABS-URNIK:srecanje:3908
X-WR-TIMEZONE:Europe/Ljubljana
END:VEVENT
BEGIN:VEVENT
SUMMARY:REZ FM ()\, Vaje (V)
DTSTART;TZID=Europe/Ljubljana:20191024T120000
DTEND;TZID=Europe/Ljubljana:20191024T140000
DTSTAMP:20260425T133736Z
UID:fmf-AFLABS-URNIK:premaknjeno-srecanje:90424
CATEGORIES:Entry,Standard
COLOR:darkgreen
DESCRIPTION:Predmet: REZ FM ()\, Vaje (V)\nLetniki: \nIzvajalci: Jure Slak
 \nProstor: 3.11
LOCATION:3.11
ORGANIZER:Jure Slak
RELATED-TO:fmf-AFLABS-URNIK:srecanje:3908
X-WR-TIMEZONE:Europe/Ljubljana
END:VEVENT
BEGIN:VEVENT
SUMMARY:REZ FM ()\, Vaje (V)
DTSTART;TZID=Europe/Ljubljana:20191031T120000
DTEND;TZID=Europe/Ljubljana:20191031T140000
DTSTAMP:20260425T133736Z
UID:fmf-AFLABS-URNIK:premaknjeno-srecanje:90425
CATEGORIES:Entry,Standard
COLOR:darkgreen
DESCRIPTION:Predmet: REZ FM ()\, Vaje (V)\nLetniki: \nIzvajalci: Jure Slak
 \nProstor: 3.11
LOCATION:3.11
ORGANIZER:Jure Slak
RELATED-TO:fmf-AFLABS-URNIK:srecanje:3908
X-WR-TIMEZONE:Europe/Ljubljana
END:VEVENT
BEGIN:VEVENT
SUMMARY:Računalniški praktikum FIZ UNI (FIZ-1)\, Vaje (V)
DTSTART;TZID=Europe/Ljubljana:20191007T130000
DTEND;TZID=Europe/Ljubljana:20191007T150000
DTSTAMP:20260425T133736Z
UID:fmf-AFLABS-URNIK:premaknjeno-srecanje:92198
ATTENDEE:1. letnik (Fizika, 1. stopnja)
CATEGORIES:Entry,Standard
COLOR:darkgreen
DESCRIPTION:Predmet: Računalniški praktikum FIZ UNI (FIZ-1)\, Vaje (V)\n
 Letniki: 1. letnik (Fizika\, 1. stopnja)\nIzvajalci: Jure Slak\nProstor: V
 FP
LOCATION:VFP
ORGANIZER:Jure Slak
RELATED-TO:fmf-AFLABS-URNIK:srecanje:3674
X-WR-TIMEZONE:Europe/Ljubljana
END:VEVENT
BEGIN:VEVENT
SUMMARY:Računalniški praktikum FIZ UNI (FIZ-1)\, Vaje (V)
DTSTART;TZID=Europe/Ljubljana:20191014T130000
DTEND;TZID=Europe/Ljubljana:20191014T150000
DTSTAMP:20260425T133736Z
UID:fmf-AFLABS-URNIK:premaknjeno-srecanje:92199
ATTENDEE:1. letnik (Fizika, 1. stopnja)
CATEGORIES:Entry,Standard
COLOR:darkgreen
DESCRIPTION:Predmet: Računalniški praktikum FIZ UNI (FIZ-1)\, Vaje (V)\n
 Letniki: 1. letnik (Fizika\, 1. stopnja)\nIzvajalci: Jure Slak\nProstor: V
 FP
LOCATION:VFP
ORGANIZER:Jure Slak
RELATED-TO:fmf-AFLABS-URNIK:srecanje:3674
X-WR-TIMEZONE:Europe/Ljubljana
END:VEVENT
BEGIN:VEVENT
SUMMARY:Računalniški praktikum FIZ UNI (FIZ-1)\, Vaje (V)
DTSTART;TZID=Europe/Ljubljana:20191021T130000
DTEND;TZID=Europe/Ljubljana:20191021T150000
DTSTAMP:20260425T133736Z
UID:fmf-AFLABS-URNIK:premaknjeno-srecanje:92200
ATTENDEE:1. letnik (Fizika, 1. stopnja)
CATEGORIES:Entry,Standard
COLOR:darkgreen
DESCRIPTION:Predmet: Računalniški praktikum FIZ UNI (FIZ-1)\, Vaje (V)\n
 Letniki: 1. letnik (Fizika\, 1. stopnja)\nIzvajalci: Jure Slak\nProstor: V
 FP
LOCATION:VFP
ORGANIZER:Jure Slak
RELATED-TO:fmf-AFLABS-URNIK:srecanje:3674
X-WR-TIMEZONE:Europe/Ljubljana
END:VEVENT
BEGIN:VEVENT
SUMMARY:Računalniški praktikum FIZ UNI (FIZ-1)\, Vaje (V)
DTSTART;TZID=Europe/Ljubljana:20191028T130000
DTEND;TZID=Europe/Ljubljana:20191028T150000
DTSTAMP:20260425T133736Z
UID:fmf-AFLABS-URNIK:premaknjeno-srecanje:92201
ATTENDEE:1. letnik (Fizika, 1. stopnja)
CATEGORIES:Entry,Standard
COLOR:darkgreen
DESCRIPTION:Predmet: Računalniški praktikum FIZ UNI (FIZ-1)\, Vaje (V)\n
 Letniki: 1. letnik (Fizika\, 1. stopnja)\nIzvajalci: Jure Slak\nProstor: V
 FP
LOCATION:VFP
ORGANIZER:Jure Slak
RELATED-TO:fmf-AFLABS-URNIK:srecanje:3674
X-WR-TIMEZONE:Europe/Ljubljana
END:VEVENT
BEGIN:VEVENT
SUMMARY:Računalniški praktikum FIZ UNI (FIZ-1)\, Vaje (V)
DTSTART;TZID=Europe/Ljubljana:20191104T130000
DTEND;TZID=Europe/Ljubljana:20191104T150000
DTSTAMP:20260425T133736Z
UID:fmf-AFLABS-URNIK:premaknjeno-srecanje:92202
ATTENDEE:1. letnik (Fizika, 1. stopnja)
CATEGORIES:Entry,Standard
COLOR:darkgreen
DESCRIPTION:Predmet: Računalniški praktikum FIZ UNI (FIZ-1)\, Vaje (V)\n
 Letniki: 1. letnik (Fizika\, 1. stopnja)\nIzvajalci: Jure Slak\nProstor: V
 FP
LOCATION:VFP
ORGANIZER:Jure Slak
RELATED-TO:fmf-AFLABS-URNIK:srecanje:3674
X-WR-TIMEZONE:Europe/Ljubljana
END:VEVENT
BEGIN:VEVENT
SUMMARY:Rezervacija
DTSTART;TZID=Europe/Ljubljana:20190827T100000
DTEND;TZID=Europe/Ljubljana:20190827T130000
DTSTAMP:20260425T133736Z
UID:fmf-AFLABS-URNIK:rezervacija:4003
CATEGORIES:Reservation
COLOR:royalblue
DESCRIPTION:Predmeti: \nLetniki: \nIzvajalci: Jure Slak\nProstori: 2.02
LOCATION:2.02
ORGANIZER:Jure Slak
X-WR-TIMEZONE:Europe/Ljubljana
END:VEVENT
BEGIN:VEVENT
SUMMARY:Rezervacija
DTSTART;TZID=Europe/Ljubljana:20190905T100000
DTEND;TZID=Europe/Ljubljana:20190905T130000
DTSTAMP:20260425T133736Z
UID:fmf-AFLABS-URNIK:rezervacija:4136
CATEGORIES:Reservation
COLOR:royalblue
DESCRIPTION:Predmeti: \nLetniki: \nIzvajalci: Matija Pretnar\, Jure Slak\n
 Prostori: 3.04
LOCATION:3.04
ORGANIZER:Matija Pretnar, Jure Slak
X-WR-TIMEZONE:Europe/Ljubljana
END:VEVENT
BEGIN:VEVENT
SUMMARY:Rezervacija
DTSTART;TZID=Europe/Ljubljana:20190925T090000
DTEND;TZID=Europe/Ljubljana:20190925T110000
DTSTAMP:20260425T133736Z
UID:fmf-AFLABS-URNIK:rezervacija:4309
CATEGORIES:Reservation
COLOR:royalblue
DESCRIPTION:Predmeti: \nLetniki: \nIzvajalci: Jure Slak\nProstori: 3.05
LOCATION:3.05
ORGANIZER:Jure Slak
X-WR-TIMEZONE:Europe/Ljubljana
END:VEVENT
END:VCALENDAR
