BEGIN:VCALENDAR
VERSION:2.0
PRODID:-//AFLabs urnik izvoz - fmf//aflabs.si//SI
DTSTAMP:20260423T223739Z
NAME:UL FMF urnik
REFRESH-INTERVAL:PT1H
SOURCE:https://urnik.fmf.uni-lj.si/teacher/233?day=2020-03-30&export=1
URL:https://urnik.fmf.uni-lj.si/teacher/233?day=2020-03-30&export=1
X-PUBLISHED-TTL:PT1H
X-WR-CALNAME:UL FMF urnik
X-WR-TIMEZONE:Europe/Ljubljana
BEGIN:VTIMEZONE
TZID:Europe/Ljubljana
BEGIN:DAYLIGHT
DTSTART:20260329T020000
RDATE:20260329T020000
RDATE:20270328T020000
TZNAME:CEST
TZOFFSETFROM:+0100
TZOFFSETTO:+0200
END:DAYLIGHT
BEGIN:STANDARD
DTSTART:20261025T030000
RDATE:20261025T030000
RDATE:20271031T030000
TZNAME:CET
TZOFFSETFROM:+0200
TZOFFSETTO:+0100
END:STANDARD
END:VTIMEZONE
BEGIN:VEVENT
SUMMARY:Podatkovne strukture in algoritmi 1 (FM-3\, MAT-3)\, Vaje (V)
DTSTART;TZID=Europe/Ljubljana:20200220T100000
DTEND;TZID=Europe/Ljubljana:20200220T120000
DTSTAMP:20260423T223739Z
UID:fmf-AFLABS-URNIK:premaknjeno-srecanje:83101
ATTENDEE:3. letnik (FM)
ATTENDEE:3. letnik (M)
CATEGORIES:Entry,Standard
COLOR:darkgreen
DESCRIPTION:Predmet: Podatkovne strukture in algoritmi 1 (FM-3\, MAT-3)\, 
 Vaje (V)\nLetniki: 3. letnik (FM)\, 3. letnik (M)\nIzvajalci: Jure Slak\nP
 rostor: 3.11
LOCATION:3.11
ORGANIZER:Jure Slak
RELATED-TO:fmf-AFLABS-URNIK:srecanje:4503
X-WR-TIMEZONE:Europe/Ljubljana
END:VEVENT
BEGIN:VEVENT
SUMMARY:Podatkovne strukture in algoritmi 1 (FM-3\, MAT-3)\, Vaje (V)
DTSTART;TZID=Europe/Ljubljana:20200227T100000
DTEND;TZID=Europe/Ljubljana:20200227T120000
DTSTAMP:20260423T223739Z
UID:fmf-AFLABS-URNIK:premaknjeno-srecanje:83102
ATTENDEE:3. letnik (FM)
ATTENDEE:3. letnik (M)
CATEGORIES:Entry,Standard
COLOR:darkgreen
DESCRIPTION:Predmet: Podatkovne strukture in algoritmi 1 (FM-3\, MAT-3)\, 
 Vaje (V)\nLetniki: 3. letnik (FM)\, 3. letnik (M)\nIzvajalci: Jure Slak\nP
 rostor: 3.11
LOCATION:3.11
ORGANIZER:Jure Slak
RELATED-TO:fmf-AFLABS-URNIK:srecanje:4503
X-WR-TIMEZONE:Europe/Ljubljana
END:VEVENT
BEGIN:VEVENT
SUMMARY:Podatkovne strukture in algoritmi 1 (FM-3\, MAT-3)\, Vaje (V)
DTSTART;TZID=Europe/Ljubljana:20200305T100000
DTEND;TZID=Europe/Ljubljana:20200305T120000
DTSTAMP:20260423T223739Z
UID:fmf-AFLABS-URNIK:premaknjeno-srecanje:83103
ATTENDEE:3. letnik (FM)
ATTENDEE:3. letnik (M)
CATEGORIES:Entry,Standard
COLOR:darkgreen
DESCRIPTION:Predmet: Podatkovne strukture in algoritmi 1 (FM-3\, MAT-3)\, 
 Vaje (V)\nLetniki: 3. letnik (FM)\, 3. letnik (M)\nIzvajalci: Jure Slak\nP
 rostor: 3.11
LOCATION:3.11
ORGANIZER:Jure Slak
RELATED-TO:fmf-AFLABS-URNIK:srecanje:4503
X-WR-TIMEZONE:Europe/Ljubljana
END:VEVENT
BEGIN:VEVENT
SUMMARY:Podatkovne strukture in algoritmi 1 (FM-3\, MAT-3)\, Vaje (V)
DTSTART;TZID=Europe/Ljubljana:20200312T100000
DTEND;TZID=Europe/Ljubljana:20200312T120000
DTSTAMP:20260423T223739Z
UID:fmf-AFLABS-URNIK:premaknjeno-srecanje:83104
ATTENDEE:3. letnik (FM)
ATTENDEE:3. letnik (M)
CATEGORIES:Entry,Standard
COLOR:darkgreen
DESCRIPTION:Predmet: Podatkovne strukture in algoritmi 1 (FM-3\, MAT-3)\, 
 Vaje (V)\nLetniki: 3. letnik (FM)\, 3. letnik (M)\nIzvajalci: Jure Slak\nP
 rostor: 3.11
LOCATION:3.11
ORGANIZER:Jure Slak
RELATED-TO:fmf-AFLABS-URNIK:srecanje:4503
X-WR-TIMEZONE:Europe/Ljubljana
END:VEVENT
BEGIN:VEVENT
SUMMARY:Podatkovne strukture in algoritmi 1 (FM-3\, MAT-3)\, Vaje (V)
DTSTART;TZID=Europe/Ljubljana:20200319T100000
DTEND;TZID=Europe/Ljubljana:20200319T120000
DTSTAMP:20260423T223739Z
UID:fmf-AFLABS-URNIK:premaknjeno-srecanje:83105
ATTENDEE:3. letnik (FM)
ATTENDEE:3. letnik (M)
CATEGORIES:Entry,Standard
COLOR:darkgreen
DESCRIPTION:Predmet: Podatkovne strukture in algoritmi 1 (FM-3\, MAT-3)\, 
 Vaje (V)\nLetniki: 3. letnik (FM)\, 3. letnik (M)\nIzvajalci: Jure Slak\nP
 rostor: 3.11
LOCATION:3.11
ORGANIZER:Jure Slak
RELATED-TO:fmf-AFLABS-URNIK:srecanje:4503
X-WR-TIMEZONE:Europe/Ljubljana
END:VEVENT
BEGIN:VEVENT
SUMMARY:Podatkovne strukture in algoritmi 1 (FM-3\, MAT-3)\, Vaje (V)
DTSTART;TZID=Europe/Ljubljana:20200326T100000
DTEND;TZID=Europe/Ljubljana:20200326T120000
DTSTAMP:20260423T223739Z
UID:fmf-AFLABS-URNIK:premaknjeno-srecanje:83106
ATTENDEE:3. letnik (FM)
ATTENDEE:3. letnik (M)
CATEGORIES:Entry,Standard
COLOR:darkgreen
DESCRIPTION:Predmet: Podatkovne strukture in algoritmi 1 (FM-3\, MAT-3)\, 
 Vaje (V)\nLetniki: 3. letnik (FM)\, 3. letnik (M)\nIzvajalci: Jure Slak\nP
 rostor: 3.11
LOCATION:3.11
ORGANIZER:Jure Slak
RELATED-TO:fmf-AFLABS-URNIK:srecanje:4503
X-WR-TIMEZONE:Europe/Ljubljana
END:VEVENT
BEGIN:VEVENT
SUMMARY:Podatkovne strukture in algoritmi 1 (FM-3\, MAT-3)\, Vaje (V)
DTSTART;TZID=Europe/Ljubljana:20200402T100000
DTEND;TZID=Europe/Ljubljana:20200402T120000
DTSTAMP:20260423T223739Z
UID:fmf-AFLABS-URNIK:premaknjeno-srecanje:83107
ATTENDEE:3. letnik (FM)
ATTENDEE:3. letnik (M)
CATEGORIES:Entry,Standard
COLOR:darkgreen
DESCRIPTION:Predmet: Podatkovne strukture in algoritmi 1 (FM-3\, MAT-3)\, 
 Vaje (V)\nLetniki: 3. letnik (FM)\, 3. letnik (M)\nIzvajalci: Jure Slak\nP
 rostor: 3.11
LOCATION:3.11
ORGANIZER:Jure Slak
RELATED-TO:fmf-AFLABS-URNIK:srecanje:4503
X-WR-TIMEZONE:Europe/Ljubljana
END:VEVENT
BEGIN:VEVENT
SUMMARY:Podatkovne strukture in algoritmi 1 (FM-3\, MAT-3)\, Vaje (V)
DTSTART;TZID=Europe/Ljubljana:20200409T100000
DTEND;TZID=Europe/Ljubljana:20200409T120000
DTSTAMP:20260423T223739Z
UID:fmf-AFLABS-URNIK:premaknjeno-srecanje:83108
ATTENDEE:3. letnik (FM)
ATTENDEE:3. letnik (M)
CATEGORIES:Entry,Standard
COLOR:darkgreen
DESCRIPTION:Predmet: Podatkovne strukture in algoritmi 1 (FM-3\, MAT-3)\, 
 Vaje (V)\nLetniki: 3. letnik (FM)\, 3. letnik (M)\nIzvajalci: Jure Slak\nP
 rostor: 3.11
LOCATION:3.11
ORGANIZER:Jure Slak
RELATED-TO:fmf-AFLABS-URNIK:srecanje:4503
X-WR-TIMEZONE:Europe/Ljubljana
END:VEVENT
BEGIN:VEVENT
SUMMARY:Podatkovne strukture in algoritmi 1 (FM-3\, MAT-3)\, Vaje (V)
DTSTART;TZID=Europe/Ljubljana:20200416T100000
DTEND;TZID=Europe/Ljubljana:20200416T120000
DTSTAMP:20260423T223739Z
UID:fmf-AFLABS-URNIK:premaknjeno-srecanje:83109
ATTENDEE:3. letnik (FM)
ATTENDEE:3. letnik (M)
CATEGORIES:Entry,Standard
COLOR:darkgreen
DESCRIPTION:Predmet: Podatkovne strukture in algoritmi 1 (FM-3\, MAT-3)\, 
 Vaje (V)\nLetniki: 3. letnik (FM)\, 3. letnik (M)\nIzvajalci: Jure Slak\nP
 rostor: 3.11
LOCATION:3.11
ORGANIZER:Jure Slak
RELATED-TO:fmf-AFLABS-URNIK:srecanje:4503
X-WR-TIMEZONE:Europe/Ljubljana
END:VEVENT
BEGIN:VEVENT
SUMMARY:Podatkovne strukture in algoritmi 1 (FM-3\, MAT-3)\, Vaje (V)
DTSTART;TZID=Europe/Ljubljana:20200423T100000
DTEND;TZID=Europe/Ljubljana:20200423T120000
DTSTAMP:20260423T223739Z
UID:fmf-AFLABS-URNIK:premaknjeno-srecanje:83110
ATTENDEE:3. letnik (FM)
ATTENDEE:3. letnik (M)
CATEGORIES:Entry,Standard
COLOR:darkgreen
DESCRIPTION:Predmet: Podatkovne strukture in algoritmi 1 (FM-3\, MAT-3)\, 
 Vaje (V)\nLetniki: 3. letnik (FM)\, 3. letnik (M)\nIzvajalci: Jure Slak\nP
 rostor: 3.11
LOCATION:3.11
ORGANIZER:Jure Slak
RELATED-TO:fmf-AFLABS-URNIK:srecanje:4503
X-WR-TIMEZONE:Europe/Ljubljana
END:VEVENT
BEGIN:VEVENT
SUMMARY:Podatkovne strukture in algoritmi 1 (FM-3\, MAT-3)\, Vaje (V)
DTSTART;TZID=Europe/Ljubljana:20200430T100000
DTEND;TZID=Europe/Ljubljana:20200430T120000
DTSTAMP:20260423T223739Z
UID:fmf-AFLABS-URNIK:premaknjeno-srecanje:83111
ATTENDEE:3. letnik (FM)
ATTENDEE:3. letnik (M)
CATEGORIES:Entry,Standard
COLOR:darkgreen
DESCRIPTION:Predmet: Podatkovne strukture in algoritmi 1 (FM-3\, MAT-3)\, 
 Vaje (V)\nLetniki: 3. letnik (FM)\, 3. letnik (M)\nIzvajalci: Jure Slak\nP
 rostor: 3.11
LOCATION:3.11
ORGANIZER:Jure Slak
RELATED-TO:fmf-AFLABS-URNIK:srecanje:4503
X-WR-TIMEZONE:Europe/Ljubljana
END:VEVENT
BEGIN:VEVENT
SUMMARY:Podatkovne strukture in algoritmi 1 (FM-3\, MAT-3)\, Vaje (V)
DTSTART;TZID=Europe/Ljubljana:20200507T100000
DTEND;TZID=Europe/Ljubljana:20200507T120000
DTSTAMP:20260423T223739Z
UID:fmf-AFLABS-URNIK:premaknjeno-srecanje:83112
ATTENDEE:3. letnik (FM)
ATTENDEE:3. letnik (M)
CATEGORIES:Entry,Standard
COLOR:darkgreen
DESCRIPTION:Predmet: Podatkovne strukture in algoritmi 1 (FM-3\, MAT-3)\, 
 Vaje (V)\nLetniki: 3. letnik (FM)\, 3. letnik (M)\nIzvajalci: Jure Slak\nP
 rostor: 3.11
LOCATION:3.11
ORGANIZER:Jure Slak
RELATED-TO:fmf-AFLABS-URNIK:srecanje:4503
X-WR-TIMEZONE:Europe/Ljubljana
END:VEVENT
BEGIN:VEVENT
SUMMARY:Podatkovne strukture in algoritmi 1 (FM-3\, MAT-3)\, Vaje (V)
DTSTART;TZID=Europe/Ljubljana:20200514T100000
DTEND;TZID=Europe/Ljubljana:20200514T120000
DTSTAMP:20260423T223739Z
UID:fmf-AFLABS-URNIK:premaknjeno-srecanje:83113
ATTENDEE:3. letnik (FM)
ATTENDEE:3. letnik (M)
CATEGORIES:Entry,Standard
COLOR:darkgreen
DESCRIPTION:Predmet: Podatkovne strukture in algoritmi 1 (FM-3\, MAT-3)\, 
 Vaje (V)\nLetniki: 3. letnik (FM)\, 3. letnik (M)\nIzvajalci: Jure Slak\nP
 rostor: 3.11
LOCATION:3.11
ORGANIZER:Jure Slak
RELATED-TO:fmf-AFLABS-URNIK:srecanje:4503
X-WR-TIMEZONE:Europe/Ljubljana
END:VEVENT
BEGIN:VEVENT
SUMMARY:Podatkovne strukture in algoritmi 1 (FM-3\, MAT-3)\, Vaje (V)
DTSTART;TZID=Europe/Ljubljana:20200521T100000
DTEND;TZID=Europe/Ljubljana:20200521T120000
DTSTAMP:20260423T223739Z
UID:fmf-AFLABS-URNIK:premaknjeno-srecanje:83114
ATTENDEE:3. letnik (FM)
ATTENDEE:3. letnik (M)
CATEGORIES:Entry,Standard
COLOR:darkgreen
DESCRIPTION:Predmet: Podatkovne strukture in algoritmi 1 (FM-3\, MAT-3)\, 
 Vaje (V)\nLetniki: 3. letnik (FM)\, 3. letnik (M)\nIzvajalci: Jure Slak\nP
 rostor: 3.11
LOCATION:3.11
ORGANIZER:Jure Slak
RELATED-TO:fmf-AFLABS-URNIK:srecanje:4503
X-WR-TIMEZONE:Europe/Ljubljana
END:VEVENT
BEGIN:VEVENT
SUMMARY:Podatkovne strukture in algoritmi 1 (FM-3\, MAT-3)\, Vaje (V)
DTSTART;TZID=Europe/Ljubljana:20200528T100000
DTEND;TZID=Europe/Ljubljana:20200528T120000
DTSTAMP:20260423T223739Z
UID:fmf-AFLABS-URNIK:premaknjeno-srecanje:83115
ATTENDEE:3. letnik (FM)
ATTENDEE:3. letnik (M)
CATEGORIES:Entry,Standard
COLOR:darkgreen
DESCRIPTION:Predmet: Podatkovne strukture in algoritmi 1 (FM-3\, MAT-3)\, 
 Vaje (V)\nLetniki: 3. letnik (FM)\, 3. letnik (M)\nIzvajalci: Jure Slak\nP
 rostor: 3.11
LOCATION:3.11
ORGANIZER:Jure Slak
RELATED-TO:fmf-AFLABS-URNIK:srecanje:4503
X-WR-TIMEZONE:Europe/Ljubljana
END:VEVENT
END:VCALENDAR
