BEGIN:VCALENDAR
VERSION:2.0
PRODID:-//AFLabs urnik izvoz - fmf//aflabs.si//SI
DTSTAMP:20260424T114947Z
NAME:UL FMF urnik
REFRESH-INTERVAL:PT1H
SOURCE:https://urnik.fmf.uni-lj.si/teacher/233?day=2021-02-01&export=1
URL:https://urnik.fmf.uni-lj.si/teacher/233?day=2021-02-01&export=1
X-PUBLISHED-TTL:PT1H
X-WR-CALNAME:UL FMF urnik
X-WR-TIMEZONE:Europe/Ljubljana
BEGIN:VTIMEZONE
TZID:Europe/Ljubljana
BEGIN:DAYLIGHT
DTSTART:20260329T020000
RDATE:20260329T020000
RDATE:20270328T020000
TZNAME:CEST
TZOFFSETFROM:+0100
TZOFFSETTO:+0200
END:DAYLIGHT
BEGIN:STANDARD
DTSTART:20261025T030000
RDATE:20261025T030000
RDATE:20271031T030000
TZNAME:CET
TZOFFSETFROM:+0200
TZOFFSETTO:+0100
END:STANDARD
END:VTIMEZONE
BEGIN:VEVENT
SUMMARY:Računalniški praktikum FIZ UNI (FIZ-1)\, Predavanja (P)
DTSTART;TZID=Europe/Ljubljana:20201230T120000
DTEND;TZID=Europe/Ljubljana:20201230T140000
DTSTAMP:20260424T114947Z
UID:fmf-AFLABS-URNIK:premaknjeno-srecanje:92037
ATTENDEE:1. letnik (Fizika, 1. stopnja)
CATEGORIES:Entry,Standard
COLOR:darkgreen
DESCRIPTION:Predmet: Računalniški praktikum FIZ UNI (FIZ-1)\, Predavanja
  (P)\nLetniki: 1. letnik (Fizika\, 1. stopnja)\nIzvajalci: Jure Slak\nPros
 tor: F1
LOCATION:F1
ORGANIZER:Jure Slak
RELATED-TO:fmf-AFLABS-URNIK:srecanje:5122
X-WR-TIMEZONE:Europe/Ljubljana
END:VEVENT
BEGIN:VEVENT
SUMMARY:Računalniški praktikum FIZ UNI (FIZ-1)\, Predavanja (P)
DTSTART;TZID=Europe/Ljubljana:20210106T120000
DTEND;TZID=Europe/Ljubljana:20210106T140000
DTSTAMP:20260424T114947Z
UID:fmf-AFLABS-URNIK:premaknjeno-srecanje:92038
ATTENDEE:1. letnik (Fizika, 1. stopnja)
CATEGORIES:Entry,Standard
COLOR:darkgreen
DESCRIPTION:Predmet: Računalniški praktikum FIZ UNI (FIZ-1)\, Predavanja
  (P)\nLetniki: 1. letnik (Fizika\, 1. stopnja)\nIzvajalci: Jure Slak\nPros
 tor: F1
LOCATION:F1
ORGANIZER:Jure Slak
RELATED-TO:fmf-AFLABS-URNIK:srecanje:5122
X-WR-TIMEZONE:Europe/Ljubljana
END:VEVENT
BEGIN:VEVENT
SUMMARY:Računalniški praktikum FIZ UNI (FIZ-1)\, Predavanja (P)
DTSTART;TZID=Europe/Ljubljana:20210113T120000
DTEND;TZID=Europe/Ljubljana:20210113T140000
DTSTAMP:20260424T114947Z
UID:fmf-AFLABS-URNIK:premaknjeno-srecanje:92039
ATTENDEE:1. letnik (Fizika, 1. stopnja)
CATEGORIES:Entry,Standard
COLOR:darkgreen
DESCRIPTION:Predmet: Računalniški praktikum FIZ UNI (FIZ-1)\, Predavanja
  (P)\nLetniki: 1. letnik (Fizika\, 1. stopnja)\nIzvajalci: Jure Slak\nPros
 tor: F1
LOCATION:F1
ORGANIZER:Jure Slak
RELATED-TO:fmf-AFLABS-URNIK:srecanje:5122
X-WR-TIMEZONE:Europe/Ljubljana
END:VEVENT
BEGIN:VEVENT
SUMMARY:Numerične metode (IŠRM-3)\, Vaje (V)
DTSTART;TZID=Europe/Ljubljana:20201231T150000
DTEND;TZID=Europe/Ljubljana:20201231T160000
DTSTAMP:20260424T114947Z
UID:fmf-AFLABS-URNIK:premaknjeno-srecanje:77075
ATTENDEE:3. letnik (IŠRM)
CATEGORIES:Entry,Standard
COLOR:darkgreen
DESCRIPTION:Predmet: Numerične metode (IŠRM-3)\, Vaje (V)\nLetniki: 3. l
 etnik (IŠRM)\nIzvajalci: Jure Slak\nProstor: 3.06
LOCATION:3.06
ORGANIZER:Jure Slak
RELATED-TO:fmf-AFLABS-URNIK:srecanje:5041
X-WR-TIMEZONE:Europe/Ljubljana
END:VEVENT
BEGIN:VEVENT
SUMMARY:Numerične metode (IŠRM-3)\, Vaje (V)
DTSTART;TZID=Europe/Ljubljana:20210107T150000
DTEND;TZID=Europe/Ljubljana:20210107T160000
DTSTAMP:20260424T114947Z
UID:fmf-AFLABS-URNIK:premaknjeno-srecanje:77076
ATTENDEE:3. letnik (IŠRM)
CATEGORIES:Entry,Standard
COLOR:darkgreen
DESCRIPTION:Predmet: Numerične metode (IŠRM-3)\, Vaje (V)\nLetniki: 3. l
 etnik (IŠRM)\nIzvajalci: Jure Slak\nProstor: 3.06
LOCATION:3.06
ORGANIZER:Jure Slak
RELATED-TO:fmf-AFLABS-URNIK:srecanje:5041
X-WR-TIMEZONE:Europe/Ljubljana
END:VEVENT
BEGIN:VEVENT
SUMMARY:Numerične metode (IŠRM-3)\, Vaje (V)
DTSTART;TZID=Europe/Ljubljana:20210114T150000
DTEND;TZID=Europe/Ljubljana:20210114T160000
DTSTAMP:20260424T114947Z
UID:fmf-AFLABS-URNIK:premaknjeno-srecanje:77077
ATTENDEE:3. letnik (IŠRM)
CATEGORIES:Entry,Standard
COLOR:darkgreen
DESCRIPTION:Predmet: Numerične metode (IŠRM-3)\, Vaje (V)\nLetniki: 3. l
 etnik (IŠRM)\nIzvajalci: Jure Slak\nProstor: 3.06
LOCATION:3.06
ORGANIZER:Jure Slak
RELATED-TO:fmf-AFLABS-URNIK:srecanje:5041
X-WR-TIMEZONE:Europe/Ljubljana
END:VEVENT
BEGIN:VEVENT
SUMMARY:Numerične metode (IŠRM-3)\, Vaje (V)
DTSTART;TZID=Europe/Ljubljana:20210101T100000
DTEND;TZID=Europe/Ljubljana:20210101T120000
DTSTAMP:20260424T114947Z
UID:fmf-AFLABS-URNIK:premaknjeno-srecanje:77185
ATTENDEE:3. letnik (IŠRM)
CATEGORIES:Entry,Standard
COLOR:darkgreen
DESCRIPTION:Predmet: Numerične metode (IŠRM-3)\, Vaje (V)\nLetniki: 3. l
 etnik (IŠRM)\nIzvajalci: Jure Slak\nProstor: 3.11
LOCATION:3.11
ORGANIZER:Jure Slak
RELATED-TO:fmf-AFLABS-URNIK:srecanje:5042
X-WR-TIMEZONE:Europe/Ljubljana
END:VEVENT
BEGIN:VEVENT
SUMMARY:Numerične metode (IŠRM-3)\, Vaje (V)
DTSTART;TZID=Europe/Ljubljana:20210108T100000
DTEND;TZID=Europe/Ljubljana:20210108T120000
DTSTAMP:20260424T114947Z
UID:fmf-AFLABS-URNIK:premaknjeno-srecanje:77186
ATTENDEE:3. letnik (IŠRM)
CATEGORIES:Entry,Standard
COLOR:darkgreen
DESCRIPTION:Predmet: Numerične metode (IŠRM-3)\, Vaje (V)\nLetniki: 3. l
 etnik (IŠRM)\nIzvajalci: Jure Slak\nProstor: 3.11
LOCATION:3.11
ORGANIZER:Jure Slak
RELATED-TO:fmf-AFLABS-URNIK:srecanje:5042
X-WR-TIMEZONE:Europe/Ljubljana
END:VEVENT
BEGIN:VEVENT
SUMMARY:Numerične metode (IŠRM-3)\, Vaje (V)
DTSTART;TZID=Europe/Ljubljana:20210115T100000
DTEND;TZID=Europe/Ljubljana:20210115T120000
DTSTAMP:20260424T114947Z
UID:fmf-AFLABS-URNIK:premaknjeno-srecanje:77187
ATTENDEE:3. letnik (IŠRM)
CATEGORIES:Entry,Standard
COLOR:darkgreen
DESCRIPTION:Predmet: Numerične metode (IŠRM-3)\, Vaje (V)\nLetniki: 3. l
 etnik (IŠRM)\nIzvajalci: Jure Slak\nProstor: 3.11
LOCATION:3.11
ORGANIZER:Jure Slak
RELATED-TO:fmf-AFLABS-URNIK:srecanje:5042
X-WR-TIMEZONE:Europe/Ljubljana
END:VEVENT
BEGIN:VEVENT
SUMMARY:Podatkovne strukture in algoritmi 1 (FM-3\, MAT-3)\, Vaje (V)
DTSTART;TZID=Europe/Ljubljana:20210101T130000
DTEND;TZID=Europe/Ljubljana:20210101T150000
DTSTAMP:20260424T114947Z
UID:fmf-AFLABS-URNIK:premaknjeno-srecanje:83161
ATTENDEE:3. letnik (FM)
ATTENDEE:3. letnik (M)
CATEGORIES:Entry,Standard
COLOR:darkgreen
DESCRIPTION:Predmet: Podatkovne strukture in algoritmi 1 (FM-3\, MAT-3)\, 
 Vaje (V)\nLetniki: 3. letnik (FM)\, 3. letnik (M)\nIzvajalci: Jure Slak\nP
 rostor: 2.04
LOCATION:2.04
ORGANIZER:Jure Slak
RELATED-TO:fmf-AFLABS-URNIK:srecanje:5073
X-WR-TIMEZONE:Europe/Ljubljana
END:VEVENT
BEGIN:VEVENT
SUMMARY:Podatkovne strukture in algoritmi 1 (FM-3\, MAT-3)\, Vaje (V)
DTSTART;TZID=Europe/Ljubljana:20210108T130000
DTEND;TZID=Europe/Ljubljana:20210108T150000
DTSTAMP:20260424T114947Z
UID:fmf-AFLABS-URNIK:premaknjeno-srecanje:83162
ATTENDEE:3. letnik (FM)
ATTENDEE:3. letnik (M)
CATEGORIES:Entry,Standard
COLOR:darkgreen
DESCRIPTION:Predmet: Podatkovne strukture in algoritmi 1 (FM-3\, MAT-3)\, 
 Vaje (V)\nLetniki: 3. letnik (FM)\, 3. letnik (M)\nIzvajalci: Jure Slak\nP
 rostor: 2.04
LOCATION:2.04
ORGANIZER:Jure Slak
RELATED-TO:fmf-AFLABS-URNIK:srecanje:5073
X-WR-TIMEZONE:Europe/Ljubljana
END:VEVENT
BEGIN:VEVENT
SUMMARY:Podatkovne strukture in algoritmi 1 (FM-3\, MAT-3)\, Vaje (V)
DTSTART;TZID=Europe/Ljubljana:20210115T130000
DTEND;TZID=Europe/Ljubljana:20210115T150000
DTSTAMP:20260424T114947Z
UID:fmf-AFLABS-URNIK:premaknjeno-srecanje:83163
ATTENDEE:3. letnik (FM)
ATTENDEE:3. letnik (M)
CATEGORIES:Entry,Standard
COLOR:darkgreen
DESCRIPTION:Predmet: Podatkovne strukture in algoritmi 1 (FM-3\, MAT-3)\, 
 Vaje (V)\nLetniki: 3. letnik (FM)\, 3. letnik (M)\nIzvajalci: Jure Slak\nP
 rostor: 2.04
LOCATION:2.04
ORGANIZER:Jure Slak
RELATED-TO:fmf-AFLABS-URNIK:srecanje:5073
X-WR-TIMEZONE:Europe/Ljubljana
END:VEVENT
BEGIN:VEVENT
SUMMARY:REZ FM ()\, Vaje (V)
DTSTART;TZID=Europe/Ljubljana:20210101T100000
DTEND;TZID=Europe/Ljubljana:20210101T120000
DTSTAMP:20260424T114947Z
UID:fmf-AFLABS-URNIK:premaknjeno-srecanje:90543
CATEGORIES:Entry,Standard
COLOR:darkgreen
DESCRIPTION:Predmet: REZ FM ()\, Vaje (V)\nLetniki: \nIzvajalci: Jure Slak
 \nProstor: 2.03
LOCATION:2.03
ORGANIZER:Jure Slak
RELATED-TO:fmf-AFLABS-URNIK:srecanje:5115
X-WR-TIMEZONE:Europe/Ljubljana
END:VEVENT
BEGIN:VEVENT
SUMMARY:REZ FM ()\, Vaje (V)
DTSTART;TZID=Europe/Ljubljana:20210108T100000
DTEND;TZID=Europe/Ljubljana:20210108T120000
DTSTAMP:20260424T114947Z
UID:fmf-AFLABS-URNIK:premaknjeno-srecanje:90544
CATEGORIES:Entry,Standard
COLOR:darkgreen
DESCRIPTION:Predmet: REZ FM ()\, Vaje (V)\nLetniki: \nIzvajalci: Jure Slak
 \nProstor: 2.03
LOCATION:2.03
ORGANIZER:Jure Slak
RELATED-TO:fmf-AFLABS-URNIK:srecanje:5115
X-WR-TIMEZONE:Europe/Ljubljana
END:VEVENT
BEGIN:VEVENT
SUMMARY:REZ FM ()\, Vaje (V)
DTSTART;TZID=Europe/Ljubljana:20210115T100000
DTEND;TZID=Europe/Ljubljana:20210115T120000
DTSTAMP:20260424T114947Z
UID:fmf-AFLABS-URNIK:premaknjeno-srecanje:90545
CATEGORIES:Entry,Standard
COLOR:darkgreen
DESCRIPTION:Predmet: REZ FM ()\, Vaje (V)\nLetniki: \nIzvajalci: Jure Slak
 \nProstor: 2.03
LOCATION:2.03
ORGANIZER:Jure Slak
RELATED-TO:fmf-AFLABS-URNIK:srecanje:5115
X-WR-TIMEZONE:Europe/Ljubljana
END:VEVENT
BEGIN:VEVENT
SUMMARY:Rezervacija
DTSTART;TZID=Europe/Ljubljana:20210305T100000
DTEND;TZID=Europe/Ljubljana:20210305T130000
DTSTAMP:20260424T114947Z
UID:fmf-AFLABS-URNIK:rezervacija:6586
ATTENDEE:1. letnik (Fizika, 1. stopnja)
CATEGORIES:Reservation
COLOR:royalblue
DESCRIPTION:Predmeti: Računalniški praktikum FIZ UNI (FIZ-1)\nLetniki: 1
 . letnik (Fizika\, 1. stopnja)\nIzvajalci: Jure Slak\nProstori: 3.05\, 3.1
 0\, 3.11\, 3.12\, P.01\, P.02
LOCATION:3.05\, 3.10\, 3.11\, 3.12\, P.01\, P.02
ORGANIZER:Jure Slak
X-WR-TIMEZONE:Europe/Ljubljana
END:VEVENT
END:VCALENDAR
