BEGIN:VCALENDAR
VERSION:2.0
PRODID:-//AFLabs urnik izvoz - fmf//aflabs.si//SI
DTSTAMP:20260425T103527Z
NAME:UL FMF urnik
REFRESH-INTERVAL:PT1H
SOURCE:https://urnik.fmf.uni-lj.si/teacher/235?day=2021-07-05&export=1
URL:https://urnik.fmf.uni-lj.si/teacher/235?day=2021-07-05&export=1
X-PUBLISHED-TTL:PT1H
X-WR-CALNAME:UL FMF urnik
X-WR-TIMEZONE:Europe/Ljubljana
BEGIN:VTIMEZONE
TZID:Europe/Ljubljana
BEGIN:DAYLIGHT
DTSTART:20260329T020000
RDATE:20260329T020000
RDATE:20270328T020000
TZNAME:CEST
TZOFFSETFROM:+0100
TZOFFSETTO:+0200
END:DAYLIGHT
BEGIN:STANDARD
DTSTART:20261025T030000
RDATE:20261025T030000
RDATE:20271031T030000
TZNAME:CET
TZOFFSETFROM:+0200
TZOFFSETTO:+0100
END:STANDARD
END:VTIMEZONE
BEGIN:VEVENT
SUMMARY:Statistika (APM-2)\, Predavanja (P)
DTSTART;TZID=Europe/Ljubljana:20210531T080000
DTEND;TZID=Europe/Ljubljana:20210531T100000
DTSTAMP:20260425T103527Z
UID:fmf-AFLABS-URNIK:premaknjeno-srecanje:105537
ATTENDEE:2. letnik (APM)
CATEGORIES:Entry,Standard
COLOR:darkgreen
DESCRIPTION:Predmet: Statistika (APM-2)\, Predavanja (P)\nLetniki: 2. letn
 ik (APM)\nIzvajalci: Matija Vidmar\nProstor: 2.03
LOCATION:2.03
ORGANIZER:Matija Vidmar
RELATED-TO:fmf-AFLABS-URNIK:srecanje:5912
X-WR-TIMEZONE:Europe/Ljubljana
END:VEVENT
BEGIN:VEVENT
SUMMARY:Rezervacija
DTSTART;TZID=Europe/Ljubljana:20210601T080000
DTEND;TZID=Europe/Ljubljana:20210601T090000
DTSTAMP:20260425T103527Z
UID:fmf-AFLABS-URNIK:rezervacija:6697
ATTENDEE:3. letnik (FM)
ATTENDEE:3. letnik (IŠRM)
ATTENDEE:3. letnik (M)
CATEGORIES:Reservation
COLOR:royalblue
DESCRIPTION:Predmeti: Teorija iger (FM-3\, IŠRM-3\, MAT-3)\nLetniki: 3. l
 etnik (FM)\, 3. letnik (IŠRM)\, 3. letnik (M)\nIzvajalci: Matija Vidmar\n
 Prostori: 2.02
LOCATION:2.02
ORGANIZER:Matija Vidmar
X-WR-TIMEZONE:Europe/Ljubljana
END:VEVENT
BEGIN:VEVENT
SUMMARY:Rezervacija
DTSTART;TZID=Europe/Ljubljana:20210608T080000
DTEND;TZID=Europe/Ljubljana:20210608T090000
DTSTAMP:20260425T103527Z
UID:fmf-AFLABS-URNIK:rezervacija:6770
ATTENDEE:3. letnik (FM)
CATEGORIES:Reservation
COLOR:royalblue
DESCRIPTION:Predmeti: Verjetnost z mero (FM-3)\nLetniki: 3. letnik (FM)\nI
 zvajalci: Matija Vidmar\nProstori: 2.02
LOCATION:2.02
ORGANIZER:Matija Vidmar
X-WR-TIMEZONE:Europe/Ljubljana
END:VEVENT
BEGIN:VEVENT
SUMMARY:Rezervacija
DTSTART;TZID=Europe/Ljubljana:20210611T090000
DTEND;TZID=Europe/Ljubljana:20210611T100000
DTSTAMP:20260425T103527Z
UID:fmf-AFLABS-URNIK:rezervacija:6827
ATTENDEE:2. letnik (APM)
CATEGORIES:Reservation
COLOR:royalblue
DESCRIPTION:Predmeti: Statistika (APM-2)\nLetniki: 2. letnik (APM)\nIzvaja
 lci: Matija Vidmar\nProstori: 2.05
LOCATION:2.05
ORGANIZER:Matija Vidmar
X-WR-TIMEZONE:Europe/Ljubljana
END:VEVENT
BEGIN:VEVENT
SUMMARY:Rezervacija
DTSTART;TZID=Europe/Ljubljana:20210618T090000
DTEND;TZID=Europe/Ljubljana:20210618T100000
DTSTAMP:20260425T103527Z
UID:fmf-AFLABS-URNIK:rezervacija:6945
ATTENDEE:3. letnik (IŠRM)
CATEGORIES:Reservation
COLOR:royalblue
DESCRIPTION:Predmeti: Verjetnostni račun in statistika (IŠRM-3)\nLetniki
 : 3. letnik (IŠRM)\nIzvajalci: Matija Vidmar\nProstori: 2.05
LOCATION:2.05
ORGANIZER:Matija Vidmar
X-WR-TIMEZONE:Europe/Ljubljana
END:VEVENT
BEGIN:VEVENT
SUMMARY:Rezervacija
DTSTART;TZID=Europe/Ljubljana:20210621T080000
DTEND;TZID=Europe/Ljubljana:20210621T090000
DTSTAMP:20260425T103527Z
UID:fmf-AFLABS-URNIK:rezervacija:6970
ATTENDEE:2. letnik (APM)
CATEGORIES:Reservation
COLOR:royalblue
DESCRIPTION:Predmeti: Statistika (APM-2)\nLetniki: 2. letnik (APM)\nIzvaja
 lci: Matija Vidmar\nProstori: 2.02
LOCATION:2.02
ORGANIZER:Matija Vidmar
X-WR-TIMEZONE:Europe/Ljubljana
END:VEVENT
BEGIN:VEVENT
SUMMARY:Rezervacija
DTSTART;TZID=Europe/Ljubljana:20210629T080000
DTEND;TZID=Europe/Ljubljana:20210629T090000
DTSTAMP:20260425T103527Z
UID:fmf-AFLABS-URNIK:rezervacija:7088
ATTENDEE:3. letnik (IŠRM)
CATEGORIES:Reservation
COLOR:royalblue
DESCRIPTION:Predmeti: Verjetnostni račun in statistika (IŠRM-3)\nLetniki
 : 3. letnik (IŠRM)\nIzvajalci: Matija Vidmar\nProstori: 2.02
LOCATION:2.02
ORGANIZER:Matija Vidmar
X-WR-TIMEZONE:Europe/Ljubljana
END:VEVENT
END:VCALENDAR
