BEGIN:VCALENDAR
VERSION:2.0
PRODID:-//AFLabs urnik izvoz - fmf//aflabs.si//SI
DTSTAMP:20260425T211423Z
NAME:UL FMF urnik
REFRESH-INTERVAL:PT1H
SOURCE:https://urnik.fmf.uni-lj.si/teacher/236?day=2020-09-21&export=1
URL:https://urnik.fmf.uni-lj.si/teacher/236?day=2020-09-21&export=1
X-PUBLISHED-TTL:PT1H
X-WR-CALNAME:UL FMF urnik
X-WR-TIMEZONE:Europe/Ljubljana
BEGIN:VTIMEZONE
TZID:Europe/Ljubljana
BEGIN:DAYLIGHT
DTSTART:20260329T020000
RDATE:20260329T020000
RDATE:20270328T020000
TZNAME:CEST
TZOFFSETFROM:+0100
TZOFFSETTO:+0200
END:DAYLIGHT
BEGIN:STANDARD
DTSTART:20261025T030000
RDATE:20261025T030000
RDATE:20271031T030000
TZNAME:CET
TZOFFSETFROM:+0200
TZOFFSETTO:+0100
END:STANDARD
END:VTIMEZONE
BEGIN:VEVENT
SUMMARY:Matematika v družbi (APM-1)\, Vaje (V)
DTSTART;TZID=Europe/Ljubljana:20201001T080000
DTEND;TZID=Europe/Ljubljana:20201001T100000
DTSTAMP:20260425T211423Z
UID:fmf-AFLABS-URNIK:premaknjeno-srecanje:67639
ATTENDEE:1. letnik (APM)
CATEGORIES:Entry,Standard
COLOR:darkgreen
DESCRIPTION:Predmet: Matematika v družbi (APM-1)\, Vaje (V)\nLetniki: 1. 
 letnik (APM)\nIzvajalci: Pino Koc\nProstor: 2.02
LOCATION:2.02
ORGANIZER:Pino Koc
RELATED-TO:fmf-AFLABS-URNIK:srecanje:5000
X-WR-TIMEZONE:Europe/Ljubljana
END:VEVENT
BEGIN:VEVENT
SUMMARY:Matematika v družbi (APM-1)\, Vaje (V)
DTSTART;TZID=Europe/Ljubljana:20201008T080000
DTEND;TZID=Europe/Ljubljana:20201008T100000
DTSTAMP:20260425T211423Z
UID:fmf-AFLABS-URNIK:premaknjeno-srecanje:67640
ATTENDEE:1. letnik (APM)
CATEGORIES:Entry,Standard
COLOR:darkgreen
DESCRIPTION:Predmet: Matematika v družbi (APM-1)\, Vaje (V)\nLetniki: 1. 
 letnik (APM)\nIzvajalci: Pino Koc\nProstor: 2.02
LOCATION:2.02
ORGANIZER:Pino Koc
RELATED-TO:fmf-AFLABS-URNIK:srecanje:5000
X-WR-TIMEZONE:Europe/Ljubljana
END:VEVENT
BEGIN:VEVENT
SUMMARY:Matematika v družbi (APM-1)\, Vaje (V)
DTSTART;TZID=Europe/Ljubljana:20201015T080000
DTEND;TZID=Europe/Ljubljana:20201015T100000
DTSTAMP:20260425T211423Z
UID:fmf-AFLABS-URNIK:premaknjeno-srecanje:67641
ATTENDEE:1. letnik (APM)
CATEGORIES:Entry,Standard
COLOR:darkgreen
DESCRIPTION:Predmet: Matematika v družbi (APM-1)\, Vaje (V)\nLetniki: 1. 
 letnik (APM)\nIzvajalci: Pino Koc\nProstor: 2.02
LOCATION:2.02
ORGANIZER:Pino Koc
RELATED-TO:fmf-AFLABS-URNIK:srecanje:5000
X-WR-TIMEZONE:Europe/Ljubljana
END:VEVENT
BEGIN:VEVENT
SUMMARY:Matematika v družbi (APM-1)\, Vaje (V)
DTSTART;TZID=Europe/Ljubljana:20201022T080000
DTEND;TZID=Europe/Ljubljana:20201022T100000
DTSTAMP:20260425T211423Z
UID:fmf-AFLABS-URNIK:premaknjeno-srecanje:67642
ATTENDEE:1. letnik (APM)
CATEGORIES:Entry,Standard
COLOR:darkgreen
DESCRIPTION:Predmet: Matematika v družbi (APM-1)\, Vaje (V)\nLetniki: 1. 
 letnik (APM)\nIzvajalci: Pino Koc\nProstor: 2.02
LOCATION:2.02
ORGANIZER:Pino Koc
RELATED-TO:fmf-AFLABS-URNIK:srecanje:5000
X-WR-TIMEZONE:Europe/Ljubljana
END:VEVENT
BEGIN:VEVENT
SUMMARY:Mehanika 1 (NTF) ()\, Vaje (V)
DTSTART;TZID=Europe/Ljubljana:20201001T100000
DTEND;TZID=Europe/Ljubljana:20201001T120000
DTSTAMP:20260425T211423Z
UID:fmf-AFLABS-URNIK:premaknjeno-srecanje:71340
CATEGORIES:Entry,Standard
COLOR:darkgreen
DESCRIPTION:Predmet: Mehanika 1 (NTF) ()\, Vaje (V)\nLetniki: \nIzvajalci:
  Pino Koc\nProstor: NTF
LOCATION:NTF
ORGANIZER:Pino Koc
RELATED-TO:fmf-AFLABS-URNIK:srecanje:5015
X-WR-TIMEZONE:Europe/Ljubljana
END:VEVENT
BEGIN:VEVENT
SUMMARY:Mehanika 1 (NTF) ()\, Vaje (V)
DTSTART;TZID=Europe/Ljubljana:20201008T100000
DTEND;TZID=Europe/Ljubljana:20201008T120000
DTSTAMP:20260425T211423Z
UID:fmf-AFLABS-URNIK:premaknjeno-srecanje:71341
CATEGORIES:Entry,Standard
COLOR:darkgreen
DESCRIPTION:Predmet: Mehanika 1 (NTF) ()\, Vaje (V)\nLetniki: \nIzvajalci:
  Pino Koc\nProstor: NTF
LOCATION:NTF
ORGANIZER:Pino Koc
RELATED-TO:fmf-AFLABS-URNIK:srecanje:5015
X-WR-TIMEZONE:Europe/Ljubljana
END:VEVENT
BEGIN:VEVENT
SUMMARY:Mehanika 1 (NTF) ()\, Vaje (V)
DTSTART;TZID=Europe/Ljubljana:20201015T100000
DTEND;TZID=Europe/Ljubljana:20201015T120000
DTSTAMP:20260425T211423Z
UID:fmf-AFLABS-URNIK:premaknjeno-srecanje:71342
CATEGORIES:Entry,Standard
COLOR:darkgreen
DESCRIPTION:Predmet: Mehanika 1 (NTF) ()\, Vaje (V)\nLetniki: \nIzvajalci:
  Pino Koc\nProstor: NTF
LOCATION:NTF
ORGANIZER:Pino Koc
RELATED-TO:fmf-AFLABS-URNIK:srecanje:5015
X-WR-TIMEZONE:Europe/Ljubljana
END:VEVENT
BEGIN:VEVENT
SUMMARY:Mehanika 1 (NTF) ()\, Vaje (V)
DTSTART;TZID=Europe/Ljubljana:20201022T100000
DTEND;TZID=Europe/Ljubljana:20201022T120000
DTSTAMP:20260425T211423Z
UID:fmf-AFLABS-URNIK:premaknjeno-srecanje:71343
CATEGORIES:Entry,Standard
COLOR:darkgreen
DESCRIPTION:Predmet: Mehanika 1 (NTF) ()\, Vaje (V)\nLetniki: \nIzvajalci:
  Pino Koc\nProstor: NTF
LOCATION:NTF
ORGANIZER:Pino Koc
RELATED-TO:fmf-AFLABS-URNIK:srecanje:5015
X-WR-TIMEZONE:Europe/Ljubljana
END:VEVENT
BEGIN:VEVENT
SUMMARY:Matematika v družbi (APM-1)\, Predavanja (P)
DTSTART;TZID=Europe/Ljubljana:20201005T100000
DTEND;TZID=Europe/Ljubljana:20201005T120000
DTSTAMP:20260425T211423Z
UID:fmf-AFLABS-URNIK:premaknjeno-srecanje:67528
ATTENDEE:1. letnik (APM)
CATEGORIES:Entry,Standard
COLOR:darkgreen
DESCRIPTION:Predmet: Matematika v družbi (APM-1)\, Predavanja (P)\nLetnik
 i: 1. letnik (APM)\nIzvajalci: Pino Koc\nProstor: 2.02
LOCATION:2.02
ORGANIZER:Pino Koc
RELATED-TO:fmf-AFLABS-URNIK:srecanje:4999
X-WR-TIMEZONE:Europe/Ljubljana
END:VEVENT
BEGIN:VEVENT
SUMMARY:Matematika v družbi (APM-1)\, Predavanja (P)
DTSTART;TZID=Europe/Ljubljana:20201012T100000
DTEND;TZID=Europe/Ljubljana:20201012T120000
DTSTAMP:20260425T211423Z
UID:fmf-AFLABS-URNIK:premaknjeno-srecanje:67529
ATTENDEE:1. letnik (APM)
CATEGORIES:Entry,Standard
COLOR:darkgreen
DESCRIPTION:Predmet: Matematika v družbi (APM-1)\, Predavanja (P)\nLetnik
 i: 1. letnik (APM)\nIzvajalci: Pino Koc\nProstor: 2.02
LOCATION:2.02
ORGANIZER:Pino Koc
RELATED-TO:fmf-AFLABS-URNIK:srecanje:4999
X-WR-TIMEZONE:Europe/Ljubljana
END:VEVENT
BEGIN:VEVENT
SUMMARY:Matematika v družbi (APM-1)\, Predavanja (P)
DTSTART;TZID=Europe/Ljubljana:20201019T100000
DTEND;TZID=Europe/Ljubljana:20201019T120000
DTSTAMP:20260425T211423Z
UID:fmf-AFLABS-URNIK:premaknjeno-srecanje:67530
ATTENDEE:1. letnik (APM)
CATEGORIES:Entry,Standard
COLOR:darkgreen
DESCRIPTION:Predmet: Matematika v družbi (APM-1)\, Predavanja (P)\nLetnik
 i: 1. letnik (APM)\nIzvajalci: Pino Koc\nProstor: 2.02
LOCATION:2.02
ORGANIZER:Pino Koc
RELATED-TO:fmf-AFLABS-URNIK:srecanje:4999
X-WR-TIMEZONE:Europe/Ljubljana
END:VEVENT
BEGIN:VEVENT
SUMMARY:Matematika v družbi (APM-1)\, Predavanja (P)
DTSTART;TZID=Europe/Ljubljana:20201026T100000
DTEND;TZID=Europe/Ljubljana:20201026T120000
DTSTAMP:20260425T211423Z
UID:fmf-AFLABS-URNIK:premaknjeno-srecanje:67531
ATTENDEE:1. letnik (APM)
CATEGORIES:Entry,Standard
COLOR:darkgreen
DESCRIPTION:Predmet: Matematika v družbi (APM-1)\, Predavanja (P)\nLetnik
 i: 1. letnik (APM)\nIzvajalci: Pino Koc\nProstor: 2.02
LOCATION:2.02
ORGANIZER:Pino Koc
RELATED-TO:fmf-AFLABS-URNIK:srecanje:4999
X-WR-TIMEZONE:Europe/Ljubljana
END:VEVENT
BEGIN:VEVENT
SUMMARY:Mehanika 1 (NTF) ()\, Predavanja (P)
DTSTART;TZID=Europe/Ljubljana:20201007T090000
DTEND;TZID=Europe/Ljubljana:20201007T120000
DTSTAMP:20260425T211423Z
UID:fmf-AFLABS-URNIK:premaknjeno-srecanje:71246
CATEGORIES:Entry,Standard
COLOR:darkgreen
DESCRIPTION:Predmet: Mehanika 1 (NTF) ()\, Predavanja (P)\nLetniki: \nIzva
 jalci: Pino Koc\nProstor: NTF
LOCATION:NTF
ORGANIZER:Pino Koc
RELATED-TO:fmf-AFLABS-URNIK:srecanje:5014
X-WR-TIMEZONE:Europe/Ljubljana
END:VEVENT
BEGIN:VEVENT
SUMMARY:Mehanika 1 (NTF) ()\, Predavanja (P)
DTSTART;TZID=Europe/Ljubljana:20201014T090000
DTEND;TZID=Europe/Ljubljana:20201014T120000
DTSTAMP:20260425T211423Z
UID:fmf-AFLABS-URNIK:premaknjeno-srecanje:71247
CATEGORIES:Entry,Standard
COLOR:darkgreen
DESCRIPTION:Predmet: Mehanika 1 (NTF) ()\, Predavanja (P)\nLetniki: \nIzva
 jalci: Pino Koc\nProstor: NTF
LOCATION:NTF
ORGANIZER:Pino Koc
RELATED-TO:fmf-AFLABS-URNIK:srecanje:5014
X-WR-TIMEZONE:Europe/Ljubljana
END:VEVENT
BEGIN:VEVENT
SUMMARY:Mehanika 1 (NTF) ()\, Predavanja (P)
DTSTART;TZID=Europe/Ljubljana:20201021T090000
DTEND;TZID=Europe/Ljubljana:20201021T120000
DTSTAMP:20260425T211423Z
UID:fmf-AFLABS-URNIK:premaknjeno-srecanje:71248
CATEGORIES:Entry,Standard
COLOR:darkgreen
DESCRIPTION:Predmet: Mehanika 1 (NTF) ()\, Predavanja (P)\nLetniki: \nIzva
 jalci: Pino Koc\nProstor: NTF
LOCATION:NTF
ORGANIZER:Pino Koc
RELATED-TO:fmf-AFLABS-URNIK:srecanje:5014
X-WR-TIMEZONE:Europe/Ljubljana
END:VEVENT
BEGIN:VEVENT
SUMMARY:Rezervacija
DTSTART;TZID=Europe/Ljubljana:20200828T120000
DTEND;TZID=Europe/Ljubljana:20200828T140000
DTSTAMP:20260425T211423Z
UID:fmf-AFLABS-URNIK:rezervacija:6114
ATTENDEE:1. letnik (APM)
CATEGORIES:Reservation
COLOR:royalblue
DESCRIPTION:Predmeti: Matematika v družbi (APM-1)\nLetniki: 1. letnik (AP
 M)\nIzvajalci: Pino Koc\nProstori: P.02
LOCATION:P.02
ORGANIZER:Pino Koc
X-WR-TIMEZONE:Europe/Ljubljana
END:VEVENT
END:VCALENDAR
