BEGIN:VCALENDAR
VERSION:2.0
PRODID:-//AFLabs urnik izvoz - fmf//aflabs.si//SI
DTSTAMP:20260421T143013Z
NAME:UL FMF urnik
REFRESH-INTERVAL:PT1H
SOURCE:https://urnik.fmf.uni-lj.si/teacher/236?day=2022-01-10&export=1
URL:https://urnik.fmf.uni-lj.si/teacher/236?day=2022-01-10&export=1
X-PUBLISHED-TTL:PT1H
X-WR-CALNAME:UL FMF urnik
X-WR-TIMEZONE:Europe/Ljubljana
BEGIN:VTIMEZONE
TZID:Europe/Ljubljana
BEGIN:DAYLIGHT
DTSTART:20260329T020000
RDATE:20260329T020000
RDATE:20270328T020000
TZNAME:CEST
TZOFFSETFROM:+0100
TZOFFSETTO:+0200
END:DAYLIGHT
BEGIN:STANDARD
DTSTART:20261025T030000
RDATE:20261025T030000
RDATE:20271031T030000
TZNAME:CET
TZOFFSETFROM:+0200
TZOFFSETTO:+0100
END:STANDARD
END:VTIMEZONE
BEGIN:VEVENT
SUMMARY:Matematika v družbi (APM-1)\, Predavanja (P)
DTSTART;TZID=Europe/Ljubljana:20211004T100000
DTEND;TZID=Europe/Ljubljana:20211004T120000
DTSTAMP:20260421T143013Z
UID:fmf-AFLABS-URNIK:premaknjeno-srecanje:67543
ATTENDEE:1. letnik (APM)
CATEGORIES:Entry,Standard
COLOR:darkgreen
DESCRIPTION:Predmet: Matematika v družbi (APM-1)\, Predavanja (P)\nLetnik
 i: 1. letnik (APM)\nIzvajalci: Pino Koc\nProstor: P.02
LOCATION:P.02
ORGANIZER:Pino Koc
RELATED-TO:fmf-AFLABS-URNIK:srecanje:6426
X-WR-TIMEZONE:Europe/Ljubljana
END:VEVENT
BEGIN:VEVENT
SUMMARY:Matematika v družbi (APM-1)\, Predavanja (P)
DTSTART;TZID=Europe/Ljubljana:20211011T100000
DTEND;TZID=Europe/Ljubljana:20211011T120000
DTSTAMP:20260421T143013Z
UID:fmf-AFLABS-URNIK:premaknjeno-srecanje:67544
ATTENDEE:1. letnik (APM)
CATEGORIES:Entry,Standard
COLOR:darkgreen
DESCRIPTION:Predmet: Matematika v družbi (APM-1)\, Predavanja (P)\nLetnik
 i: 1. letnik (APM)\nIzvajalci: Pino Koc\nProstor: P.02
LOCATION:P.02
ORGANIZER:Pino Koc
RELATED-TO:fmf-AFLABS-URNIK:srecanje:6426
X-WR-TIMEZONE:Europe/Ljubljana
END:VEVENT
BEGIN:VEVENT
SUMMARY:Matematika v družbi (APM-1)\, Predavanja (P)
DTSTART;TZID=Europe/Ljubljana:20211018T100000
DTEND;TZID=Europe/Ljubljana:20211018T120000
DTSTAMP:20260421T143013Z
UID:fmf-AFLABS-URNIK:premaknjeno-srecanje:67545
ATTENDEE:1. letnik (APM)
CATEGORIES:Entry,Standard
COLOR:darkgreen
DESCRIPTION:Predmet: Matematika v družbi (APM-1)\, Predavanja (P)\nLetnik
 i: 1. letnik (APM)\nIzvajalci: Pino Koc\nProstor: P.02
LOCATION:P.02
ORGANIZER:Pino Koc
RELATED-TO:fmf-AFLABS-URNIK:srecanje:6426
X-WR-TIMEZONE:Europe/Ljubljana
END:VEVENT
BEGIN:VEVENT
SUMMARY:Matematika v družbi (APM-1)\, Predavanja (P)
DTSTART;TZID=Europe/Ljubljana:20211025T100000
DTEND;TZID=Europe/Ljubljana:20211025T120000
DTSTAMP:20260421T143013Z
UID:fmf-AFLABS-URNIK:premaknjeno-srecanje:67546
ATTENDEE:1. letnik (APM)
CATEGORIES:Entry,Standard
COLOR:darkgreen
DESCRIPTION:Predmet: Matematika v družbi (APM-1)\, Predavanja (P)\nLetnik
 i: 1. letnik (APM)\nIzvajalci: Pino Koc\nProstor: P.02
LOCATION:P.02
ORGANIZER:Pino Koc
RELATED-TO:fmf-AFLABS-URNIK:srecanje:6426
X-WR-TIMEZONE:Europe/Ljubljana
END:VEVENT
BEGIN:VEVENT
SUMMARY:Matematika v družbi (APM-1)\, Predavanja (P)
DTSTART;TZID=Europe/Ljubljana:20211101T100000
DTEND;TZID=Europe/Ljubljana:20211101T120000
DTSTAMP:20260421T143013Z
UID:fmf-AFLABS-URNIK:premaknjeno-srecanje:67547
ATTENDEE:1. letnik (APM)
CATEGORIES:Entry,Standard
COLOR:darkgreen
DESCRIPTION:Predmet: Matematika v družbi (APM-1)\, Predavanja (P)\nLetnik
 i: 1. letnik (APM)\nIzvajalci: Pino Koc\nProstor: P.02
LOCATION:P.02
ORGANIZER:Pino Koc
RELATED-TO:fmf-AFLABS-URNIK:srecanje:6426
X-WR-TIMEZONE:Europe/Ljubljana
END:VEVENT
BEGIN:VEVENT
SUMMARY:Matematika v družbi (APM-1)\, Predavanja (P)
DTSTART;TZID=Europe/Ljubljana:20211108T100000
DTEND;TZID=Europe/Ljubljana:20211108T120000
DTSTAMP:20260421T143013Z
UID:fmf-AFLABS-URNIK:premaknjeno-srecanje:67548
ATTENDEE:1. letnik (APM)
CATEGORIES:Entry,Standard
COLOR:darkgreen
DESCRIPTION:Predmet: Matematika v družbi (APM-1)\, Predavanja (P)\nLetnik
 i: 1. letnik (APM)\nIzvajalci: Pino Koc\nProstor: P.02
LOCATION:P.02
ORGANIZER:Pino Koc
RELATED-TO:fmf-AFLABS-URNIK:srecanje:6426
X-WR-TIMEZONE:Europe/Ljubljana
END:VEVENT
BEGIN:VEVENT
SUMMARY:Matematika v družbi (APM-1)\, Predavanja (P)
DTSTART;TZID=Europe/Ljubljana:20211115T100000
DTEND;TZID=Europe/Ljubljana:20211115T120000
DTSTAMP:20260421T143013Z
UID:fmf-AFLABS-URNIK:premaknjeno-srecanje:67549
ATTENDEE:1. letnik (APM)
CATEGORIES:Entry,Standard
COLOR:darkgreen
DESCRIPTION:Predmet: Matematika v družbi (APM-1)\, Predavanja (P)\nLetnik
 i: 1. letnik (APM)\nIzvajalci: Pino Koc\nProstor: P.02
LOCATION:P.02
ORGANIZER:Pino Koc
RELATED-TO:fmf-AFLABS-URNIK:srecanje:6426
X-WR-TIMEZONE:Europe/Ljubljana
END:VEVENT
BEGIN:VEVENT
SUMMARY:Matematika v družbi (APM-1)\, Predavanja (P)
DTSTART;TZID=Europe/Ljubljana:20211122T100000
DTEND;TZID=Europe/Ljubljana:20211122T120000
DTSTAMP:20260421T143013Z
UID:fmf-AFLABS-URNIK:premaknjeno-srecanje:67550
ATTENDEE:1. letnik (APM)
CATEGORIES:Entry,Standard
COLOR:darkgreen
DESCRIPTION:Predmet: Matematika v družbi (APM-1)\, Predavanja (P)\nLetnik
 i: 1. letnik (APM)\nIzvajalci: Pino Koc\nProstor: P.02
LOCATION:P.02
ORGANIZER:Pino Koc
RELATED-TO:fmf-AFLABS-URNIK:srecanje:6426
X-WR-TIMEZONE:Europe/Ljubljana
END:VEVENT
BEGIN:VEVENT
SUMMARY:Matematika v družbi (APM-1)\, Predavanja (P)
DTSTART;TZID=Europe/Ljubljana:20211129T100000
DTEND;TZID=Europe/Ljubljana:20211129T120000
DTSTAMP:20260421T143013Z
UID:fmf-AFLABS-URNIK:premaknjeno-srecanje:67551
ATTENDEE:1. letnik (APM)
CATEGORIES:Entry,Standard
COLOR:darkgreen
DESCRIPTION:Predmet: Matematika v družbi (APM-1)\, Predavanja (P)\nLetnik
 i: 1. letnik (APM)\nIzvajalci: Pino Koc\nProstor: P.02
LOCATION:P.02
ORGANIZER:Pino Koc
RELATED-TO:fmf-AFLABS-URNIK:srecanje:6426
X-WR-TIMEZONE:Europe/Ljubljana
END:VEVENT
BEGIN:VEVENT
SUMMARY:Matematika v družbi (APM-1)\, Predavanja (P)
DTSTART;TZID=Europe/Ljubljana:20211206T100000
DTEND;TZID=Europe/Ljubljana:20211206T120000
DTSTAMP:20260421T143013Z
UID:fmf-AFLABS-URNIK:premaknjeno-srecanje:67552
ATTENDEE:1. letnik (APM)
CATEGORIES:Entry,Standard
COLOR:darkgreen
DESCRIPTION:Predmet: Matematika v družbi (APM-1)\, Predavanja (P)\nLetnik
 i: 1. letnik (APM)\nIzvajalci: Pino Koc\nProstor: P.02
LOCATION:P.02
ORGANIZER:Pino Koc
RELATED-TO:fmf-AFLABS-URNIK:srecanje:6426
X-WR-TIMEZONE:Europe/Ljubljana
END:VEVENT
BEGIN:VEVENT
SUMMARY:Matematika v družbi (APM-1)\, Predavanja (P)
DTSTART;TZID=Europe/Ljubljana:20211213T100000
DTEND;TZID=Europe/Ljubljana:20211213T120000
DTSTAMP:20260421T143013Z
UID:fmf-AFLABS-URNIK:premaknjeno-srecanje:67553
ATTENDEE:1. letnik (APM)
CATEGORIES:Entry,Standard
COLOR:darkgreen
DESCRIPTION:Predmet: Matematika v družbi (APM-1)\, Predavanja (P)\nLetnik
 i: 1. letnik (APM)\nIzvajalci: Pino Koc\nProstor: P.02
LOCATION:P.02
ORGANIZER:Pino Koc
RELATED-TO:fmf-AFLABS-URNIK:srecanje:6426
X-WR-TIMEZONE:Europe/Ljubljana
END:VEVENT
BEGIN:VEVENT
SUMMARY:Matematika v družbi (APM-1)\, Predavanja (P)
DTSTART;TZID=Europe/Ljubljana:20211220T100000
DTEND;TZID=Europe/Ljubljana:20211220T120000
DTSTAMP:20260421T143013Z
UID:fmf-AFLABS-URNIK:premaknjeno-srecanje:67554
ATTENDEE:1. letnik (APM)
CATEGORIES:Entry,Standard
COLOR:darkgreen
DESCRIPTION:Predmet: Matematika v družbi (APM-1)\, Predavanja (P)\nLetnik
 i: 1. letnik (APM)\nIzvajalci: Pino Koc\nProstor: P.02
LOCATION:P.02
ORGANIZER:Pino Koc
RELATED-TO:fmf-AFLABS-URNIK:srecanje:6426
X-WR-TIMEZONE:Europe/Ljubljana
END:VEVENT
BEGIN:VEVENT
SUMMARY:Matematika v družbi (APM-1)\, Predavanja (P)
DTSTART;TZID=Europe/Ljubljana:20211227T100000
DTEND;TZID=Europe/Ljubljana:20211227T120000
DTSTAMP:20260421T143013Z
UID:fmf-AFLABS-URNIK:premaknjeno-srecanje:67555
ATTENDEE:1. letnik (APM)
CATEGORIES:Entry,Standard
COLOR:darkgreen
DESCRIPTION:Predmet: Matematika v družbi (APM-1)\, Predavanja (P)\nLetnik
 i: 1. letnik (APM)\nIzvajalci: Pino Koc\nProstor: P.02
LOCATION:P.02
ORGANIZER:Pino Koc
RELATED-TO:fmf-AFLABS-URNIK:srecanje:6426
X-WR-TIMEZONE:Europe/Ljubljana
END:VEVENT
BEGIN:VEVENT
SUMMARY:Matematika v družbi (APM-1)\, Predavanja (P)
DTSTART;TZID=Europe/Ljubljana:20220103T100000
DTEND;TZID=Europe/Ljubljana:20220103T120000
DTSTAMP:20260421T143013Z
UID:fmf-AFLABS-URNIK:premaknjeno-srecanje:67556
ATTENDEE:1. letnik (APM)
CATEGORIES:Entry,Standard
COLOR:darkgreen
DESCRIPTION:Predmet: Matematika v družbi (APM-1)\, Predavanja (P)\nLetnik
 i: 1. letnik (APM)\nIzvajalci: Pino Koc\nProstor: P.02
LOCATION:P.02
ORGANIZER:Pino Koc
RELATED-TO:fmf-AFLABS-URNIK:srecanje:6426
X-WR-TIMEZONE:Europe/Ljubljana
END:VEVENT
BEGIN:VEVENT
SUMMARY:Matematika v družbi (APM-1)\, Predavanja (P)
DTSTART;TZID=Europe/Ljubljana:20220110T100000
DTEND;TZID=Europe/Ljubljana:20220110T120000
DTSTAMP:20260421T143013Z
UID:fmf-AFLABS-URNIK:premaknjeno-srecanje:67557
ATTENDEE:1. letnik (APM)
CATEGORIES:Entry,Standard
COLOR:darkgreen
DESCRIPTION:Predmet: Matematika v družbi (APM-1)\, Predavanja (P)\nLetnik
 i: 1. letnik (APM)\nIzvajalci: Pino Koc\nProstor: P.02
LOCATION:P.02
ORGANIZER:Pino Koc
RELATED-TO:fmf-AFLABS-URNIK:srecanje:6426
X-WR-TIMEZONE:Europe/Ljubljana
END:VEVENT
BEGIN:VEVENT
SUMMARY:Matematika v družbi (APM-1)\, Vaje (V)
DTSTART;TZID=Europe/Ljubljana:20211007T080000
DTEND;TZID=Europe/Ljubljana:20211007T100000
DTSTAMP:20260421T143013Z
UID:fmf-AFLABS-URNIK:premaknjeno-srecanje:67655
ATTENDEE:1. letnik (APM)
CATEGORIES:Entry,Standard
COLOR:darkgreen
DESCRIPTION:Predmet: Matematika v družbi (APM-1)\, Vaje (V)\nLetniki: 1. 
 letnik (APM)\nIzvajalci: Pino Koc\nProstor: P.02
LOCATION:P.02
ORGANIZER:Pino Koc
RELATED-TO:fmf-AFLABS-URNIK:srecanje:6427
X-WR-TIMEZONE:Europe/Ljubljana
END:VEVENT
BEGIN:VEVENT
SUMMARY:Matematika v družbi (APM-1)\, Vaje (V)
DTSTART;TZID=Europe/Ljubljana:20211014T080000
DTEND;TZID=Europe/Ljubljana:20211014T100000
DTSTAMP:20260421T143013Z
UID:fmf-AFLABS-URNIK:premaknjeno-srecanje:67656
ATTENDEE:1. letnik (APM)
CATEGORIES:Entry,Standard
COLOR:darkgreen
DESCRIPTION:Predmet: Matematika v družbi (APM-1)\, Vaje (V)\nLetniki: 1. 
 letnik (APM)\nIzvajalci: Pino Koc\nProstor: P.02
LOCATION:P.02
ORGANIZER:Pino Koc
RELATED-TO:fmf-AFLABS-URNIK:srecanje:6427
X-WR-TIMEZONE:Europe/Ljubljana
END:VEVENT
BEGIN:VEVENT
SUMMARY:Matematika v družbi (APM-1)\, Vaje (V)
DTSTART;TZID=Europe/Ljubljana:20211021T080000
DTEND;TZID=Europe/Ljubljana:20211021T100000
DTSTAMP:20260421T143013Z
UID:fmf-AFLABS-URNIK:premaknjeno-srecanje:67657
ATTENDEE:1. letnik (APM)
CATEGORIES:Entry,Standard
COLOR:darkgreen
DESCRIPTION:Predmet: Matematika v družbi (APM-1)\, Vaje (V)\nLetniki: 1. 
 letnik (APM)\nIzvajalci: Pino Koc\nProstor: P.02
LOCATION:P.02
ORGANIZER:Pino Koc
RELATED-TO:fmf-AFLABS-URNIK:srecanje:6427
X-WR-TIMEZONE:Europe/Ljubljana
END:VEVENT
BEGIN:VEVENT
SUMMARY:Matematika v družbi (APM-1)\, Vaje (V)
DTSTART;TZID=Europe/Ljubljana:20211028T080000
DTEND;TZID=Europe/Ljubljana:20211028T100000
DTSTAMP:20260421T143013Z
UID:fmf-AFLABS-URNIK:premaknjeno-srecanje:67658
ATTENDEE:1. letnik (APM)
CATEGORIES:Entry,Standard
COLOR:darkgreen
DESCRIPTION:Predmet: Matematika v družbi (APM-1)\, Vaje (V)\nLetniki: 1. 
 letnik (APM)\nIzvajalci: Pino Koc\nProstor: P.02
LOCATION:P.02
ORGANIZER:Pino Koc
RELATED-TO:fmf-AFLABS-URNIK:srecanje:6427
X-WR-TIMEZONE:Europe/Ljubljana
END:VEVENT
BEGIN:VEVENT
SUMMARY:Matematika v družbi (APM-1)\, Vaje (V)
DTSTART;TZID=Europe/Ljubljana:20211104T080000
DTEND;TZID=Europe/Ljubljana:20211104T100000
DTSTAMP:20260421T143013Z
UID:fmf-AFLABS-URNIK:premaknjeno-srecanje:67659
ATTENDEE:1. letnik (APM)
CATEGORIES:Entry,Standard
COLOR:darkgreen
DESCRIPTION:Predmet: Matematika v družbi (APM-1)\, Vaje (V)\nLetniki: 1. 
 letnik (APM)\nIzvajalci: Pino Koc\nProstor: P.02
LOCATION:P.02
ORGANIZER:Pino Koc
RELATED-TO:fmf-AFLABS-URNIK:srecanje:6427
X-WR-TIMEZONE:Europe/Ljubljana
END:VEVENT
BEGIN:VEVENT
SUMMARY:Matematika v družbi (APM-1)\, Vaje (V)
DTSTART;TZID=Europe/Ljubljana:20211111T080000
DTEND;TZID=Europe/Ljubljana:20211111T100000
DTSTAMP:20260421T143013Z
UID:fmf-AFLABS-URNIK:premaknjeno-srecanje:67660
ATTENDEE:1. letnik (APM)
CATEGORIES:Entry,Standard
COLOR:darkgreen
DESCRIPTION:Predmet: Matematika v družbi (APM-1)\, Vaje (V)\nLetniki: 1. 
 letnik (APM)\nIzvajalci: Pino Koc\nProstor: P.02
LOCATION:P.02
ORGANIZER:Pino Koc
RELATED-TO:fmf-AFLABS-URNIK:srecanje:6427
X-WR-TIMEZONE:Europe/Ljubljana
END:VEVENT
BEGIN:VEVENT
SUMMARY:Matematika v družbi (APM-1)\, Vaje (V)
DTSTART;TZID=Europe/Ljubljana:20211118T080000
DTEND;TZID=Europe/Ljubljana:20211118T100000
DTSTAMP:20260421T143013Z
UID:fmf-AFLABS-URNIK:premaknjeno-srecanje:67661
ATTENDEE:1. letnik (APM)
CATEGORIES:Entry,Standard
COLOR:darkgreen
DESCRIPTION:Predmet: Matematika v družbi (APM-1)\, Vaje (V)\nLetniki: 1. 
 letnik (APM)\nIzvajalci: Pino Koc\nProstor: P.02
LOCATION:P.02
ORGANIZER:Pino Koc
RELATED-TO:fmf-AFLABS-URNIK:srecanje:6427
X-WR-TIMEZONE:Europe/Ljubljana
END:VEVENT
BEGIN:VEVENT
SUMMARY:Matematika v družbi (APM-1)\, Vaje (V)
DTSTART;TZID=Europe/Ljubljana:20211125T080000
DTEND;TZID=Europe/Ljubljana:20211125T100000
DTSTAMP:20260421T143013Z
UID:fmf-AFLABS-URNIK:premaknjeno-srecanje:67662
ATTENDEE:1. letnik (APM)
CATEGORIES:Entry,Standard
COLOR:darkgreen
DESCRIPTION:Predmet: Matematika v družbi (APM-1)\, Vaje (V)\nLetniki: 1. 
 letnik (APM)\nIzvajalci: Pino Koc\nProstor: P.02
LOCATION:P.02
ORGANIZER:Pino Koc
RELATED-TO:fmf-AFLABS-URNIK:srecanje:6427
X-WR-TIMEZONE:Europe/Ljubljana
END:VEVENT
BEGIN:VEVENT
SUMMARY:Matematika v družbi (APM-1)\, Vaje (V)
DTSTART;TZID=Europe/Ljubljana:20211202T080000
DTEND;TZID=Europe/Ljubljana:20211202T100000
DTSTAMP:20260421T143013Z
UID:fmf-AFLABS-URNIK:premaknjeno-srecanje:67663
ATTENDEE:1. letnik (APM)
CATEGORIES:Entry,Standard
COLOR:darkgreen
DESCRIPTION:Predmet: Matematika v družbi (APM-1)\, Vaje (V)\nLetniki: 1. 
 letnik (APM)\nIzvajalci: Pino Koc\nProstor: P.02
LOCATION:P.02
ORGANIZER:Pino Koc
RELATED-TO:fmf-AFLABS-URNIK:srecanje:6427
X-WR-TIMEZONE:Europe/Ljubljana
END:VEVENT
BEGIN:VEVENT
SUMMARY:Matematika v družbi (APM-1)\, Vaje (V)
DTSTART;TZID=Europe/Ljubljana:20211209T080000
DTEND;TZID=Europe/Ljubljana:20211209T100000
DTSTAMP:20260421T143013Z
UID:fmf-AFLABS-URNIK:premaknjeno-srecanje:67664
ATTENDEE:1. letnik (APM)
CATEGORIES:Entry,Standard
COLOR:darkgreen
DESCRIPTION:Predmet: Matematika v družbi (APM-1)\, Vaje (V)\nLetniki: 1. 
 letnik (APM)\nIzvajalci: Pino Koc\nProstor: P.02
LOCATION:P.02
ORGANIZER:Pino Koc
RELATED-TO:fmf-AFLABS-URNIK:srecanje:6427
X-WR-TIMEZONE:Europe/Ljubljana
END:VEVENT
BEGIN:VEVENT
SUMMARY:Matematika v družbi (APM-1)\, Vaje (V)
DTSTART;TZID=Europe/Ljubljana:20211216T080000
DTEND;TZID=Europe/Ljubljana:20211216T100000
DTSTAMP:20260421T143013Z
UID:fmf-AFLABS-URNIK:premaknjeno-srecanje:67665
ATTENDEE:1. letnik (APM)
CATEGORIES:Entry,Standard
COLOR:darkgreen
DESCRIPTION:Predmet: Matematika v družbi (APM-1)\, Vaje (V)\nLetniki: 1. 
 letnik (APM)\nIzvajalci: Pino Koc\nProstor: P.02
LOCATION:P.02
ORGANIZER:Pino Koc
RELATED-TO:fmf-AFLABS-URNIK:srecanje:6427
X-WR-TIMEZONE:Europe/Ljubljana
END:VEVENT
BEGIN:VEVENT
SUMMARY:Matematika v družbi (APM-1)\, Vaje (V)
DTSTART;TZID=Europe/Ljubljana:20211223T080000
DTEND;TZID=Europe/Ljubljana:20211223T100000
DTSTAMP:20260421T143013Z
UID:fmf-AFLABS-URNIK:premaknjeno-srecanje:67666
ATTENDEE:1. letnik (APM)
CATEGORIES:Entry,Standard
COLOR:darkgreen
DESCRIPTION:Predmet: Matematika v družbi (APM-1)\, Vaje (V)\nLetniki: 1. 
 letnik (APM)\nIzvajalci: Pino Koc\nProstor: P.02
LOCATION:P.02
ORGANIZER:Pino Koc
RELATED-TO:fmf-AFLABS-URNIK:srecanje:6427
X-WR-TIMEZONE:Europe/Ljubljana
END:VEVENT
BEGIN:VEVENT
SUMMARY:Matematika v družbi (APM-1)\, Vaje (V)
DTSTART;TZID=Europe/Ljubljana:20211230T080000
DTEND;TZID=Europe/Ljubljana:20211230T100000
DTSTAMP:20260421T143013Z
UID:fmf-AFLABS-URNIK:premaknjeno-srecanje:67667
ATTENDEE:1. letnik (APM)
CATEGORIES:Entry,Standard
COLOR:darkgreen
DESCRIPTION:Predmet: Matematika v družbi (APM-1)\, Vaje (V)\nLetniki: 1. 
 letnik (APM)\nIzvajalci: Pino Koc\nProstor: P.02
LOCATION:P.02
ORGANIZER:Pino Koc
RELATED-TO:fmf-AFLABS-URNIK:srecanje:6427
X-WR-TIMEZONE:Europe/Ljubljana
END:VEVENT
BEGIN:VEVENT
SUMMARY:Matematika v družbi (APM-1)\, Vaje (V)
DTSTART;TZID=Europe/Ljubljana:20220106T080000
DTEND;TZID=Europe/Ljubljana:20220106T100000
DTSTAMP:20260421T143013Z
UID:fmf-AFLABS-URNIK:premaknjeno-srecanje:67668
ATTENDEE:1. letnik (APM)
CATEGORIES:Entry,Standard
COLOR:darkgreen
DESCRIPTION:Predmet: Matematika v družbi (APM-1)\, Vaje (V)\nLetniki: 1. 
 letnik (APM)\nIzvajalci: Pino Koc\nProstor: P.02
LOCATION:P.02
ORGANIZER:Pino Koc
RELATED-TO:fmf-AFLABS-URNIK:srecanje:6427
X-WR-TIMEZONE:Europe/Ljubljana
END:VEVENT
BEGIN:VEVENT
SUMMARY:Matematika v družbi (APM-1)\, Vaje (V)
DTSTART;TZID=Europe/Ljubljana:20220113T080000
DTEND;TZID=Europe/Ljubljana:20220113T100000
DTSTAMP:20260421T143013Z
UID:fmf-AFLABS-URNIK:premaknjeno-srecanje:67669
ATTENDEE:1. letnik (APM)
CATEGORIES:Entry,Standard
COLOR:darkgreen
DESCRIPTION:Predmet: Matematika v družbi (APM-1)\, Vaje (V)\nLetniki: 1. 
 letnik (APM)\nIzvajalci: Pino Koc\nProstor: P.02
LOCATION:P.02
ORGANIZER:Pino Koc
RELATED-TO:fmf-AFLABS-URNIK:srecanje:6427
X-WR-TIMEZONE:Europe/Ljubljana
END:VEVENT
BEGIN:VEVENT
SUMMARY:Mehanika (BTFoL LesUni) ()\, Predavanja (P)
DTSTART;TZID=Europe/Ljubljana:20220214T100000
DTEND;TZID=Europe/Ljubljana:20220214T130000
DTSTAMP:20260421T143013Z
UID:fmf-AFLABS-URNIK:premaknjeno-srecanje:70853
CATEGORIES:Entry,Standard
COLOR:darkgreen
DESCRIPTION:Predmet: Mehanika (BTFoL LesUni) ()\, Predavanja (P)\nLetniki:
  \nIzvajalci: Pino Koc\nProstor: L1
LOCATION:L1
ORGANIZER:Pino Koc
RELATED-TO:fmf-AFLABS-URNIK:srecanje:7121
X-WR-TIMEZONE:Europe/Ljubljana
END:VEVENT
BEGIN:VEVENT
SUMMARY:Rezervacija
DTSTART;TZID=Europe/Ljubljana:20211206T180000
DTEND;TZID=Europe/Ljubljana:20211206T200000
DTSTAMP:20260421T143013Z
UID:fmf-AFLABS-URNIK:rezervacija:8079
ATTENDEE:1. letnik (APM)
CATEGORIES:Reservation
COLOR:royalblue
DESCRIPTION:Predmeti: Matematika v družbi (APM-1)\nLetniki: 1. letnik (AP
 M)\nIzvajalci: Pino Koc\nProstori: 2.05
LOCATION:2.05
ORGANIZER:Pino Koc
X-WR-TIMEZONE:Europe/Ljubljana
END:VEVENT
BEGIN:VEVENT
SUMMARY:Rezervacija
DTSTART;TZID=Europe/Ljubljana:20211215T140000
DTEND;TZID=Europe/Ljubljana:20211215T160000
DTSTAMP:20260421T143013Z
UID:fmf-AFLABS-URNIK:rezervacija:8127
ATTENDEE:1. letnik (APM)
CATEGORIES:Reservation
COLOR:royalblue
DESCRIPTION:Predmeti: Matematika v družbi (APM-1)\nLetniki: 1. letnik (AP
 M)\nIzvajalci: Pino Koc\nProstori: 3.04
LOCATION:3.04
ORGANIZER:Pino Koc
X-WR-TIMEZONE:Europe/Ljubljana
END:VEVENT
BEGIN:VEVENT
SUMMARY:Rezervacija
DTSTART;TZID=Europe/Ljubljana:20211222T140000
DTEND;TZID=Europe/Ljubljana:20211222T160000
DTSTAMP:20260421T143013Z
UID:fmf-AFLABS-URNIK:rezervacija:8159
ATTENDEE:1. letnik (APM)
CATEGORIES:Reservation
COLOR:royalblue
DESCRIPTION:Predmeti: Matematika v družbi (APM-1)\nLetniki: 1. letnik (AP
 M)\nIzvajalci: Pino Koc\nProstori: 3.04
LOCATION:3.04
ORGANIZER:Pino Koc
X-WR-TIMEZONE:Europe/Ljubljana
END:VEVENT
BEGIN:VEVENT
SUMMARY:Rezervacija
DTSTART;TZID=Europe/Ljubljana:20220117T090000
DTEND;TZID=Europe/Ljubljana:20220117T110000
DTSTAMP:20260421T143013Z
UID:fmf-AFLABS-URNIK:rezervacija:8259
ATTENDEE:1. letnik (APM)
CATEGORIES:Reservation
COLOR:royalblue
DESCRIPTION:Predmeti: Matematika v družbi (APM-1)\nLetniki: 1. letnik (AP
 M)\nIzvajalci: Pino Koc\nProstori: P.01
LOCATION:P.01
ORGANIZER:Pino Koc
X-WR-TIMEZONE:Europe/Ljubljana
END:VEVENT
BEGIN:VEVENT
SUMMARY:Rezervacija
DTSTART;TZID=Europe/Ljubljana:20220119T090000
DTEND;TZID=Europe/Ljubljana:20220119T110000
DTSTAMP:20260421T143013Z
UID:fmf-AFLABS-URNIK:rezervacija:8292
ATTENDEE:1. letnik (APM)
CATEGORIES:Reservation
COLOR:royalblue
DESCRIPTION:Predmeti: Matematika v družbi (APM-1)\nLetniki: 1. letnik (AP
 M)\nIzvajalci: Pino Koc\nProstori: P.02
LOCATION:P.02
ORGANIZER:Pino Koc
X-WR-TIMEZONE:Europe/Ljubljana
END:VEVENT
END:VCALENDAR
