BEGIN:VCALENDAR
VERSION:2.0
PRODID:-//AFLabs urnik izvoz - fmf//aflabs.si//SI
DTSTAMP:20260421T040826Z
NAME:UL FMF urnik
REFRESH-INTERVAL:PT1H
SOURCE:https://urnik.fmf.uni-lj.si/teacher/236?day=2025-01-27&export=1
URL:https://urnik.fmf.uni-lj.si/teacher/236?day=2025-01-27&export=1
X-PUBLISHED-TTL:PT1H
X-WR-CALNAME:UL FMF urnik
X-WR-TIMEZONE:Europe/Ljubljana
BEGIN:VTIMEZONE
TZID:Europe/Ljubljana
BEGIN:DAYLIGHT
DTSTART:20260329T020000
RDATE:20260329T020000
RDATE:20270328T020000
TZNAME:CEST
TZOFFSETFROM:+0100
TZOFFSETTO:+0200
END:DAYLIGHT
BEGIN:STANDARD
DTSTART:20261025T030000
RDATE:20261025T030000
RDATE:20271031T030000
TZNAME:CET
TZOFFSETFROM:+0200
TZOFFSETTO:+0100
END:STANDARD
END:VTIMEZONE
BEGIN:VEVENT
SUMMARY:Mehanika (BTFoL LesUni) ()\, Predavanja (P)
DTSTART;TZID=Europe/Ljubljana:20250217T100000
DTEND;TZID=Europe/Ljubljana:20250217T130000
DTSTAMP:20260421T040826Z
UID:fmf-AFLABS-URNIK:premaknjeno-srecanje:203224
CATEGORIES:Entry,Standard
COLOR:darkgreen
DESCRIPTION:Predmet: Mehanika (BTFoL LesUni) ()\, Predavanja (P)\nLetniki:
  \nIzvajalci: Pino Koc\nProstor: L1
LOCATION:L1
ORGANIZER:Pino Koc
RELATED-TO:fmf-AFLABS-URNIK:srecanje:15014
X-WR-TIMEZONE:Europe/Ljubljana
END:VEVENT
BEGIN:VEVENT
SUMMARY:Mehanika (BTFoL LesUni) ()\, Predavanja (P)
DTSTART;TZID=Europe/Ljubljana:20250224T100000
DTEND;TZID=Europe/Ljubljana:20250224T130000
DTSTAMP:20260421T040826Z
UID:fmf-AFLABS-URNIK:premaknjeno-srecanje:203225
CATEGORIES:Entry,Standard
COLOR:darkgreen
DESCRIPTION:Predmet: Mehanika (BTFoL LesUni) ()\, Predavanja (P)\nLetniki:
  \nIzvajalci: Pino Koc\nProstor: L1
LOCATION:L1
ORGANIZER:Pino Koc
RELATED-TO:fmf-AFLABS-URNIK:srecanje:15014
X-WR-TIMEZONE:Europe/Ljubljana
END:VEVENT
BEGIN:VEVENT
SUMMARY:Mehanika (BTFoL LesUni) ()\, Predavanja (P)
DTSTART;TZID=Europe/Ljubljana:20250303T100000
DTEND;TZID=Europe/Ljubljana:20250303T130000
DTSTAMP:20260421T040826Z
UID:fmf-AFLABS-URNIK:premaknjeno-srecanje:203226
CATEGORIES:Entry,Standard
COLOR:darkgreen
DESCRIPTION:Predmet: Mehanika (BTFoL LesUni) ()\, Predavanja (P)\nLetniki:
  \nIzvajalci: Pino Koc\nProstor: L1
LOCATION:L1
ORGANIZER:Pino Koc
RELATED-TO:fmf-AFLABS-URNIK:srecanje:15014
X-WR-TIMEZONE:Europe/Ljubljana
END:VEVENT
BEGIN:VEVENT
SUMMARY:Mehanika (BTFoL LesUni) ()\, Predavanja (P)
DTSTART;TZID=Europe/Ljubljana:20250218T110000
DTEND;TZID=Europe/Ljubljana:20250218T140000
DTSTAMP:20260421T040826Z
UID:fmf-AFLABS-URNIK:premaknjeno-srecanje:203240
CATEGORIES:Entry,Standard
COLOR:darkgreen
DESCRIPTION:Predmet: Mehanika (BTFoL LesUni) ()\, Predavanja (P)\nLetniki:
  \nIzvajalci: Pino Koc\nProstor: L1
LOCATION:L1
ORGANIZER:Pino Koc
RELATED-TO:fmf-AFLABS-URNIK:srecanje:15015
X-WR-TIMEZONE:Europe/Ljubljana
END:VEVENT
BEGIN:VEVENT
SUMMARY:Mehanika (BTFoL LesUni) ()\, Predavanja (P)
DTSTART;TZID=Europe/Ljubljana:20250225T110000
DTEND;TZID=Europe/Ljubljana:20250225T140000
DTSTAMP:20260421T040826Z
UID:fmf-AFLABS-URNIK:premaknjeno-srecanje:203241
CATEGORIES:Entry,Standard
COLOR:darkgreen
DESCRIPTION:Predmet: Mehanika (BTFoL LesUni) ()\, Predavanja (P)\nLetniki:
  \nIzvajalci: Pino Koc\nProstor: L1
LOCATION:L1
ORGANIZER:Pino Koc
RELATED-TO:fmf-AFLABS-URNIK:srecanje:15015
X-WR-TIMEZONE:Europe/Ljubljana
END:VEVENT
BEGIN:VEVENT
SUMMARY:Mehanika 2 NTF ()\, Predavanja (P)
DTSTART;TZID=Europe/Ljubljana:20250220T100000
DTEND;TZID=Europe/Ljubljana:20250220T120000
DTSTAMP:20260421T040826Z
UID:fmf-AFLABS-URNIK:premaknjeno-srecanje:203208
CATEGORIES:Entry,Standard
COLOR:darkgreen
DESCRIPTION:Predmet: Mehanika 2 NTF ()\, Predavanja (P)\nLetniki: \nIzvaja
 lci: Pino Koc\nProstor: P25 (NTF)
LOCATION:P25 (NTF)
ORGANIZER:Pino Koc
RELATED-TO:fmf-AFLABS-URNIK:srecanje:15013
X-WR-TIMEZONE:Europe/Ljubljana
END:VEVENT
BEGIN:VEVENT
SUMMARY:Mehanika 2 NTF ()\, Predavanja (P)
DTSTART;TZID=Europe/Ljubljana:20250227T100000
DTEND;TZID=Europe/Ljubljana:20250227T120000
DTSTAMP:20260421T040826Z
UID:fmf-AFLABS-URNIK:premaknjeno-srecanje:203209
CATEGORIES:Entry,Standard
COLOR:darkgreen
DESCRIPTION:Predmet: Mehanika 2 NTF ()\, Predavanja (P)\nLetniki: \nIzvaja
 lci: Pino Koc\nProstor: P25 (NTF)
LOCATION:P25 (NTF)
ORGANIZER:Pino Koc
RELATED-TO:fmf-AFLABS-URNIK:srecanje:15013
X-WR-TIMEZONE:Europe/Ljubljana
END:VEVENT
BEGIN:VEVENT
SUMMARY:Izpit MVD
DTSTART;TZID=Europe/Ljubljana:20250122T140000
DTEND;TZID=Europe/Ljubljana:20250122T160000
DTSTAMP:20260421T040826Z
UID:fmf-AFLABS-URNIK:rezervacija:20487
ATTENDEE:1. letnik (APM)
CATEGORIES:Reservation
COLOR:royalblue
DESCRIPTION:Predmeti: Matematika v družbi (APM-1)\nLetniki: 1. letnik (AP
 M)\nIzvajalci: Pino Koc\nProstori: P.02
LOCATION:P.02
ORGANIZER:Pino Koc
X-WR-TIMEZONE:Europe/Ljubljana
END:VEVENT
BEGIN:VEVENT
SUMMARY:Sestanek skupine za prenovo AM
DTSTART;TZID=Europe/Ljubljana:20250121T090000
DTEND;TZID=Europe/Ljubljana:20250121T100000
DTSTAMP:20260421T040826Z
UID:fmf-AFLABS-URNIK:rezervacija:20566
CATEGORIES:Reservation
COLOR:royalblue
DESCRIPTION:Predmeti: \nLetniki: \nIzvajalci: Pino Koc\nProstori: 1.02
LOCATION:1.02
ORGANIZER:Pino Koc
X-WR-TIMEZONE:Europe/Ljubljana
END:VEVENT
END:VCALENDAR
