BEGIN:VCALENDAR
VERSION:2.0
PRODID:-//AFLabs urnik izvoz - fmf//aflabs.si//SI
DTSTAMP:20260421T130924Z
NAME:UL FMF urnik
REFRESH-INTERVAL:PT1H
SOURCE:https://urnik.fmf.uni-lj.si/teacher/23?day=2022-01-24&export=1
URL:https://urnik.fmf.uni-lj.si/teacher/23?day=2022-01-24&export=1
X-PUBLISHED-TTL:PT1H
X-WR-CALNAME:UL FMF urnik
X-WR-TIMEZONE:Europe/Ljubljana
BEGIN:VTIMEZONE
TZID:Europe/Ljubljana
BEGIN:DAYLIGHT
DTSTART:20260329T020000
RDATE:20260329T020000
RDATE:20270328T020000
TZNAME:CEST
TZOFFSETFROM:+0100
TZOFFSETTO:+0200
END:DAYLIGHT
BEGIN:STANDARD
DTSTART:20261025T030000
RDATE:20261025T030000
RDATE:20271031T030000
TZNAME:CET
TZOFFSETFROM:+0200
TZOFFSETTO:+0100
END:STANDARD
END:VTIMEZONE
BEGIN:VEVENT
SUMMARY:Matematika s statistiko (FFA) ()\, Predavanja (P)
DTSTART;TZID=Europe/Ljubljana:20211220T080000
DTEND;TZID=Europe/Ljubljana:20211220T110000
DTSTAMP:20260421T130924Z
UID:fmf-AFLABS-URNIK:premaknjeno-srecanje:67237
CATEGORIES:Entry,Standard
COLOR:darkgreen
DESCRIPTION:Predmet: Matematika s statistiko (FFA) ()\, Predavanja (P)\nLe
 tniki: \nIzvajalci: Roman Drnovšek\nProstor: FFA
LOCATION:FFA
ORGANIZER:Roman Drnovšek
RELATED-TO:fmf-AFLABS-URNIK:srecanje:6425
X-WR-TIMEZONE:Europe/Ljubljana
END:VEVENT
BEGIN:VEVENT
SUMMARY:Matematika s statistiko (FFA) ()\, Predavanja (P)
DTSTART;TZID=Europe/Ljubljana:20211227T080000
DTEND;TZID=Europe/Ljubljana:20211227T110000
DTSTAMP:20260421T130924Z
UID:fmf-AFLABS-URNIK:premaknjeno-srecanje:67238
CATEGORIES:Entry,Standard
COLOR:darkgreen
DESCRIPTION:Predmet: Matematika s statistiko (FFA) ()\, Predavanja (P)\nLe
 tniki: \nIzvajalci: Roman Drnovšek\nProstor: FFA
LOCATION:FFA
ORGANIZER:Roman Drnovšek
RELATED-TO:fmf-AFLABS-URNIK:srecanje:6425
X-WR-TIMEZONE:Europe/Ljubljana
END:VEVENT
BEGIN:VEVENT
SUMMARY:Matematika s statistiko (FFA) ()\, Predavanja (P)
DTSTART;TZID=Europe/Ljubljana:20220103T080000
DTEND;TZID=Europe/Ljubljana:20220103T110000
DTSTAMP:20260421T130924Z
UID:fmf-AFLABS-URNIK:premaknjeno-srecanje:67239
CATEGORIES:Entry,Standard
COLOR:darkgreen
DESCRIPTION:Predmet: Matematika s statistiko (FFA) ()\, Predavanja (P)\nLe
 tniki: \nIzvajalci: Roman Drnovšek\nProstor: FFA
LOCATION:FFA
ORGANIZER:Roman Drnovšek
RELATED-TO:fmf-AFLABS-URNIK:srecanje:6425
X-WR-TIMEZONE:Europe/Ljubljana
END:VEVENT
BEGIN:VEVENT
SUMMARY:Matematika s statistiko (FFA) ()\, Predavanja (P)
DTSTART;TZID=Europe/Ljubljana:20220110T080000
DTEND;TZID=Europe/Ljubljana:20220110T110000
DTSTAMP:20260421T130924Z
UID:fmf-AFLABS-URNIK:premaknjeno-srecanje:67240
CATEGORIES:Entry,Standard
COLOR:darkgreen
DESCRIPTION:Predmet: Matematika s statistiko (FFA) ()\, Predavanja (P)\nLe
 tniki: \nIzvajalci: Roman Drnovšek\nProstor: FFA
LOCATION:FFA
ORGANIZER:Roman Drnovšek
RELATED-TO:fmf-AFLABS-URNIK:srecanje:6425
X-WR-TIMEZONE:Europe/Ljubljana
END:VEVENT
BEGIN:VEVENT
SUMMARY:Verjetnost 1 (FM-2)\, Predavanja (P)
DTSTART;TZID=Europe/Ljubljana:20211221T090000
DTEND;TZID=Europe/Ljubljana:20211221T110000
DTSTAMP:20260421T130924Z
UID:fmf-AFLABS-URNIK:premaknjeno-srecanje:118725
ATTENDEE:2. letnik (FM)
CATEGORIES:Entry,Standard
COLOR:darkgreen
DESCRIPTION:Predmet: Verjetnost 1 (FM-2)\, Predavanja (P)\nLetniki: 2. let
 nik (FM)\nIzvajalci: Roman Drnovšek\nProstor: P.02
LOCATION:P.02
ORGANIZER:Roman Drnovšek
RELATED-TO:fmf-AFLABS-URNIK:srecanje:6678
X-WR-TIMEZONE:Europe/Ljubljana
END:VEVENT
BEGIN:VEVENT
SUMMARY:Verjetnost 1 (FM-2)\, Predavanja (P)
DTSTART;TZID=Europe/Ljubljana:20211228T090000
DTEND;TZID=Europe/Ljubljana:20211228T110000
DTSTAMP:20260421T130924Z
UID:fmf-AFLABS-URNIK:premaknjeno-srecanje:118726
ATTENDEE:2. letnik (FM)
CATEGORIES:Entry,Standard
COLOR:darkgreen
DESCRIPTION:Predmet: Verjetnost 1 (FM-2)\, Predavanja (P)\nLetniki: 2. let
 nik (FM)\nIzvajalci: Roman Drnovšek\nProstor: P.02
LOCATION:P.02
ORGANIZER:Roman Drnovšek
RELATED-TO:fmf-AFLABS-URNIK:srecanje:6678
X-WR-TIMEZONE:Europe/Ljubljana
END:VEVENT
BEGIN:VEVENT
SUMMARY:Verjetnost 1 (FM-2)\, Predavanja (P)
DTSTART;TZID=Europe/Ljubljana:20220104T090000
DTEND;TZID=Europe/Ljubljana:20220104T110000
DTSTAMP:20260421T130924Z
UID:fmf-AFLABS-URNIK:premaknjeno-srecanje:118727
ATTENDEE:2. letnik (FM)
CATEGORIES:Entry,Standard
COLOR:darkgreen
DESCRIPTION:Predmet: Verjetnost 1 (FM-2)\, Predavanja (P)\nLetniki: 2. let
 nik (FM)\nIzvajalci: Roman Drnovšek\nProstor: P.02
LOCATION:P.02
ORGANIZER:Roman Drnovšek
RELATED-TO:fmf-AFLABS-URNIK:srecanje:6678
X-WR-TIMEZONE:Europe/Ljubljana
END:VEVENT
BEGIN:VEVENT
SUMMARY:Verjetnost 1 (FM-2)\, Predavanja (P)
DTSTART;TZID=Europe/Ljubljana:20220111T090000
DTEND;TZID=Europe/Ljubljana:20220111T110000
DTSTAMP:20260421T130924Z
UID:fmf-AFLABS-URNIK:premaknjeno-srecanje:118728
ATTENDEE:2. letnik (FM)
CATEGORIES:Entry,Standard
COLOR:darkgreen
DESCRIPTION:Predmet: Verjetnost 1 (FM-2)\, Predavanja (P)\nLetniki: 2. let
 nik (FM)\nIzvajalci: Roman Drnovšek\nProstor: P.02
LOCATION:P.02
ORGANIZER:Roman Drnovšek
RELATED-TO:fmf-AFLABS-URNIK:srecanje:6678
X-WR-TIMEZONE:Europe/Ljubljana
END:VEVENT
BEGIN:VEVENT
SUMMARY:SAFA SEM (MAT-D)\, Seminar (S)
DTSTART;TZID=Europe/Ljubljana:20211223T120000
DTEND;TZID=Europe/Ljubljana:20211223T140000
DTSTAMP:20260421T130924Z
UID:fmf-AFLABS-URNIK:premaknjeno-srecanje:99188
ATTENDEE:doktorski študij (M)
CATEGORIES:Entry,Standard
COLOR:darkgreen
DESCRIPTION:Predmet: SAFA SEM (MAT-D)\, Seminar (S)\nLetniki: doktorski š
 tudij (M)\nIzvajalci:  Drnovšek\, Moravec\nProstor: 2.03
LOCATION:2.03
ORGANIZER: Drnovšek, Moravec
RELATED-TO:fmf-AFLABS-URNIK:srecanje:6771
X-WR-TIMEZONE:Europe/Ljubljana
END:VEVENT
BEGIN:VEVENT
SUMMARY:SAFA SEM (MAT-D)\, Seminar (S)
DTSTART;TZID=Europe/Ljubljana:20211230T120000
DTEND;TZID=Europe/Ljubljana:20211230T140000
DTSTAMP:20260421T130924Z
UID:fmf-AFLABS-URNIK:premaknjeno-srecanje:99189
ATTENDEE:doktorski študij (M)
CATEGORIES:Entry,Standard
COLOR:darkgreen
DESCRIPTION:Predmet: SAFA SEM (MAT-D)\, Seminar (S)\nLetniki: doktorski š
 tudij (M)\nIzvajalci:  Drnovšek\, Moravec\nProstor: 2.03
LOCATION:2.03
ORGANIZER: Drnovšek, Moravec
RELATED-TO:fmf-AFLABS-URNIK:srecanje:6771
X-WR-TIMEZONE:Europe/Ljubljana
END:VEVENT
BEGIN:VEVENT
SUMMARY:SAFA SEM (MAT-D)\, Seminar (S)
DTSTART;TZID=Europe/Ljubljana:20220106T120000
DTEND;TZID=Europe/Ljubljana:20220106T140000
DTSTAMP:20260421T130924Z
UID:fmf-AFLABS-URNIK:premaknjeno-srecanje:99190
ATTENDEE:doktorski študij (M)
CATEGORIES:Entry,Standard
COLOR:darkgreen
DESCRIPTION:Predmet: SAFA SEM (MAT-D)\, Seminar (S)\nLetniki: doktorski š
 tudij (M)\nIzvajalci:  Drnovšek\, Moravec\nProstor: 2.03
LOCATION:2.03
ORGANIZER: Drnovšek, Moravec
RELATED-TO:fmf-AFLABS-URNIK:srecanje:6771
X-WR-TIMEZONE:Europe/Ljubljana
END:VEVENT
BEGIN:VEVENT
SUMMARY:SAFA SEM (MAT-D)\, Seminar (S)
DTSTART;TZID=Europe/Ljubljana:20220113T120000
DTEND;TZID=Europe/Ljubljana:20220113T140000
DTSTAMP:20260421T130924Z
UID:fmf-AFLABS-URNIK:premaknjeno-srecanje:99191
ATTENDEE:doktorski študij (M)
CATEGORIES:Entry,Standard
COLOR:darkgreen
DESCRIPTION:Predmet: SAFA SEM (MAT-D)\, Seminar (S)\nLetniki: doktorski š
 tudij (M)\nIzvajalci:  Drnovšek\, Moravec\nProstor: 2.03
LOCATION:2.03
ORGANIZER: Drnovšek, Moravec
RELATED-TO:fmf-AFLABS-URNIK:srecanje:6771
X-WR-TIMEZONE:Europe/Ljubljana
END:VEVENT
BEGIN:VEVENT
SUMMARY:Verjetnostni račun in statistika (IŠRM-3)\, Predavanja (P)
DTSTART;TZID=Europe/Ljubljana:20211224T080000
DTEND;TZID=Europe/Ljubljana:20211224T100000
DTSTAMP:20260421T130924Z
UID:fmf-AFLABS-URNIK:premaknjeno-srecanje:119930
ATTENDEE:3. letnik (IŠRM)
CATEGORIES:Entry,Standard
COLOR:darkgreen
DESCRIPTION:Predmet: Verjetnostni račun in statistika (IŠRM-3)\, Predava
 nja (P)\nLetniki: 3. letnik (IŠRM)\nIzvajalci: Roman Drnovšek\nProstor: 
 3.05
LOCATION:3.05
ORGANIZER:Roman Drnovšek
RELATED-TO:fmf-AFLABS-URNIK:srecanje:6686
X-WR-TIMEZONE:Europe/Ljubljana
END:VEVENT
BEGIN:VEVENT
SUMMARY:Verjetnostni račun in statistika (IŠRM-3)\, Predavanja (P)
DTSTART;TZID=Europe/Ljubljana:20211231T080000
DTEND;TZID=Europe/Ljubljana:20211231T100000
DTSTAMP:20260421T130924Z
UID:fmf-AFLABS-URNIK:premaknjeno-srecanje:119931
ATTENDEE:3. letnik (IŠRM)
CATEGORIES:Entry,Standard
COLOR:darkgreen
DESCRIPTION:Predmet: Verjetnostni račun in statistika (IŠRM-3)\, Predava
 nja (P)\nLetniki: 3. letnik (IŠRM)\nIzvajalci: Roman Drnovšek\nProstor: 
 3.05
LOCATION:3.05
ORGANIZER:Roman Drnovšek
RELATED-TO:fmf-AFLABS-URNIK:srecanje:6686
X-WR-TIMEZONE:Europe/Ljubljana
END:VEVENT
BEGIN:VEVENT
SUMMARY:Verjetnostni račun in statistika (IŠRM-3)\, Predavanja (P)
DTSTART;TZID=Europe/Ljubljana:20220107T080000
DTEND;TZID=Europe/Ljubljana:20220107T100000
DTSTAMP:20260421T130924Z
UID:fmf-AFLABS-URNIK:premaknjeno-srecanje:119932
ATTENDEE:3. letnik (IŠRM)
CATEGORIES:Entry,Standard
COLOR:darkgreen
DESCRIPTION:Predmet: Verjetnostni račun in statistika (IŠRM-3)\, Predava
 nja (P)\nLetniki: 3. letnik (IŠRM)\nIzvajalci: Roman Drnovšek\nProstor: 
 3.05
LOCATION:3.05
ORGANIZER:Roman Drnovšek
RELATED-TO:fmf-AFLABS-URNIK:srecanje:6686
X-WR-TIMEZONE:Europe/Ljubljana
END:VEVENT
BEGIN:VEVENT
SUMMARY:Verjetnostni račun in statistika (IŠRM-3)\, Predavanja (P)
DTSTART;TZID=Europe/Ljubljana:20220114T080000
DTEND;TZID=Europe/Ljubljana:20220114T100000
DTSTAMP:20260421T130924Z
UID:fmf-AFLABS-URNIK:premaknjeno-srecanje:119933
ATTENDEE:3. letnik (IŠRM)
CATEGORIES:Entry,Standard
COLOR:darkgreen
DESCRIPTION:Predmet: Verjetnostni račun in statistika (IŠRM-3)\, Predava
 nja (P)\nLetniki: 3. letnik (IŠRM)\nIzvajalci: Roman Drnovšek\nProstor: 
 3.05
LOCATION:3.05
ORGANIZER:Roman Drnovšek
RELATED-TO:fmf-AFLABS-URNIK:srecanje:6686
X-WR-TIMEZONE:Europe/Ljubljana
END:VEVENT
BEGIN:VEVENT
SUMMARY:Analiza 2 (FM-1)\, Predavanja (P)
DTSTART;TZID=Europe/Ljubljana:20220216T100000
DTEND;TZID=Europe/Ljubljana:20220216T120000
DTSTAMP:20260421T130924Z
UID:fmf-AFLABS-URNIK:premaknjeno-srecanje:6543
ATTENDEE:1. letnik (FM)
CATEGORIES:Entry,Standard
COLOR:darkgreen
DESCRIPTION:Predmet: Analiza 2 (FM-1)\, Predavanja (P)\nLetniki: 1. letnik
  (FM)\nIzvajalci: Roman Drnovšek\nProstor: 2.01
LOCATION:2.01
ORGANIZER:Roman Drnovšek
RELATED-TO:fmf-AFLABS-URNIK:srecanje:6842
X-WR-TIMEZONE:Europe/Ljubljana
END:VEVENT
BEGIN:VEVENT
SUMMARY:Analiza 2 (FM-1)\, Predavanja (P)
DTSTART;TZID=Europe/Ljubljana:20220223T100000
DTEND;TZID=Europe/Ljubljana:20220223T120000
DTSTAMP:20260421T130924Z
UID:fmf-AFLABS-URNIK:premaknjeno-srecanje:6544
ATTENDEE:1. letnik (FM)
CATEGORIES:Entry,Standard
COLOR:darkgreen
DESCRIPTION:Predmet: Analiza 2 (FM-1)\, Predavanja (P)\nLetniki: 1. letnik
  (FM)\nIzvajalci: Roman Drnovšek\nProstor: 2.01
LOCATION:2.01
ORGANIZER:Roman Drnovšek
RELATED-TO:fmf-AFLABS-URNIK:srecanje:6842
X-WR-TIMEZONE:Europe/Ljubljana
END:VEVENT
BEGIN:VEVENT
SUMMARY:Verjetnostni račun in statistika (IŠRM-3)\, Predavanja (P)
DTSTART;TZID=Europe/Ljubljana:20220217T080000
DTEND;TZID=Europe/Ljubljana:20220217T100000
DTSTAMP:20260421T130924Z
UID:fmf-AFLABS-URNIK:premaknjeno-srecanje:119839
ATTENDEE:3. letnik (IŠRM)
CATEGORIES:Entry,Standard
COLOR:darkgreen
DESCRIPTION:Predmet: Verjetnostni račun in statistika (IŠRM-3)\, Predava
 nja (P)\nLetniki: 3. letnik (IŠRM)\nIzvajalci: Roman Drnovšek\nProstor: 
 3.04
LOCATION:3.04
ORGANIZER:Roman Drnovšek
RELATED-TO:fmf-AFLABS-URNIK:srecanje:7354
X-WR-TIMEZONE:Europe/Ljubljana
END:VEVENT
BEGIN:VEVENT
SUMMARY:Verjetnostni račun in statistika (IŠRM-3)\, Predavanja (P)
DTSTART;TZID=Europe/Ljubljana:20220224T080000
DTEND;TZID=Europe/Ljubljana:20220224T100000
DTSTAMP:20260421T130924Z
UID:fmf-AFLABS-URNIK:premaknjeno-srecanje:119840
ATTENDEE:3. letnik (IŠRM)
CATEGORIES:Entry,Standard
COLOR:darkgreen
DESCRIPTION:Predmet: Verjetnostni račun in statistika (IŠRM-3)\, Predava
 nja (P)\nLetniki: 3. letnik (IŠRM)\nIzvajalci: Roman Drnovšek\nProstor: 
 3.04
LOCATION:3.04
ORGANIZER:Roman Drnovšek
RELATED-TO:fmf-AFLABS-URNIK:srecanje:7354
X-WR-TIMEZONE:Europe/Ljubljana
END:VEVENT
BEGIN:VEVENT
SUMMARY:Analiza 2 (FM-1)\, Predavanja (P)
DTSTART;TZID=Europe/Ljubljana:20220218T080000
DTEND;TZID=Europe/Ljubljana:20220218T100000
DTSTAMP:20260421T130924Z
UID:fmf-AFLABS-URNIK:premaknjeno-srecanje:6665
ATTENDEE:1. letnik (FM)
CATEGORIES:Entry,Standard
COLOR:darkgreen
DESCRIPTION:Predmet: Analiza 2 (FM-1)\, Predavanja (P)\nLetniki: 1. letnik
  (FM)\nIzvajalci: Roman Drnovšek\nProstor: 2.01
LOCATION:2.01
ORGANIZER:Roman Drnovšek
RELATED-TO:fmf-AFLABS-URNIK:srecanje:6843
X-WR-TIMEZONE:Europe/Ljubljana
END:VEVENT
BEGIN:VEVENT
SUMMARY:Analiza 2 (FM-1)\, Predavanja (P)
DTSTART;TZID=Europe/Ljubljana:20220225T080000
DTEND;TZID=Europe/Ljubljana:20220225T100000
DTSTAMP:20260421T130924Z
UID:fmf-AFLABS-URNIK:premaknjeno-srecanje:6666
ATTENDEE:1. letnik (FM)
CATEGORIES:Entry,Standard
COLOR:darkgreen
DESCRIPTION:Predmet: Analiza 2 (FM-1)\, Predavanja (P)\nLetniki: 1. letnik
  (FM)\nIzvajalci: Roman Drnovšek\nProstor: 2.01
LOCATION:2.01
ORGANIZER:Roman Drnovšek
RELATED-TO:fmf-AFLABS-URNIK:srecanje:6843
X-WR-TIMEZONE:Europe/Ljubljana
END:VEVENT
BEGIN:VEVENT
SUMMARY:Rezervacija
DTSTART;TZID=Europe/Ljubljana:20220201T120000
DTEND;TZID=Europe/Ljubljana:20220201T140000
DTSTAMP:20260421T130924Z
UID:fmf-AFLABS-URNIK:rezervacija:8439
ATTENDEE:2. letnik (FM)
CATEGORIES:Reservation
COLOR:royalblue
DESCRIPTION:Predmeti: Verjetnost 1 (FM-2)\nLetniki: 2. letnik (FM)\nIzvaja
 lci: Roman Drnovšek\nProstori: 2.01
LOCATION:2.01
ORGANIZER:Roman Drnovšek
X-WR-TIMEZONE:Europe/Ljubljana
END:VEVENT
BEGIN:VEVENT
SUMMARY:Rezervacija
DTSTART;TZID=Europe/Ljubljana:20220210T100000
DTEND;TZID=Europe/Ljubljana:20220210T120000
DTSTAMP:20260421T130924Z
UID:fmf-AFLABS-URNIK:rezervacija:8542
ATTENDEE:2. letnik (FM)
CATEGORIES:Reservation
COLOR:royalblue
DESCRIPTION:Predmeti: Verjetnost 1 (FM-2)\nLetniki: 2. letnik (FM)\nIzvaja
 lci: Roman Drnovšek\nProstori: 2.01
LOCATION:2.01
ORGANIZER:Roman Drnovšek
X-WR-TIMEZONE:Europe/Ljubljana
END:VEVENT
END:VCALENDAR
