BEGIN:VCALENDAR
VERSION:2.0
PRODID:-//AFLabs urnik izvoz - fmf//aflabs.si//SI
DTSTAMP:20260419T213719Z
NAME:UL FMF urnik
REFRESH-INTERVAL:PT1H
SOURCE:https://urnik.fmf.uni-lj.si/teacher/23?day=2022-04-04&export=1
URL:https://urnik.fmf.uni-lj.si/teacher/23?day=2022-04-04&export=1
X-PUBLISHED-TTL:PT1H
X-WR-CALNAME:UL FMF urnik
X-WR-TIMEZONE:Europe/Ljubljana
BEGIN:VTIMEZONE
TZID:Europe/Ljubljana
BEGIN:DAYLIGHT
DTSTART:20260329T020000
RDATE:20260329T020000
RDATE:20270328T020000
TZNAME:CEST
TZOFFSETFROM:+0100
TZOFFSETTO:+0200
END:DAYLIGHT
BEGIN:STANDARD
DTSTART:20261025T030000
RDATE:20261025T030000
RDATE:20271031T030000
TZNAME:CET
TZOFFSETFROM:+0200
TZOFFSETTO:+0100
END:STANDARD
END:VTIMEZONE
BEGIN:VEVENT
SUMMARY:Analiza 2 (FM-1)\, Predavanja (P)
DTSTART;TZID=Europe/Ljubljana:20220216T100000
DTEND;TZID=Europe/Ljubljana:20220216T120000
DTSTAMP:20260419T213719Z
UID:fmf-AFLABS-URNIK:premaknjeno-srecanje:6543
ATTENDEE:1. letnik (FM)
CATEGORIES:Entry,Standard
COLOR:darkgreen
DESCRIPTION:Predmet: Analiza 2 (FM-1)\, Predavanja (P)\nLetniki: 1. letnik
  (FM)\nIzvajalci: Roman Drnovšek\nProstor: 2.01
LOCATION:2.01
ORGANIZER:Roman Drnovšek
RELATED-TO:fmf-AFLABS-URNIK:srecanje:6842
X-WR-TIMEZONE:Europe/Ljubljana
END:VEVENT
BEGIN:VEVENT
SUMMARY:Analiza 2 (FM-1)\, Predavanja (P)
DTSTART;TZID=Europe/Ljubljana:20220223T100000
DTEND;TZID=Europe/Ljubljana:20220223T120000
DTSTAMP:20260419T213719Z
UID:fmf-AFLABS-URNIK:premaknjeno-srecanje:6544
ATTENDEE:1. letnik (FM)
CATEGORIES:Entry,Standard
COLOR:darkgreen
DESCRIPTION:Predmet: Analiza 2 (FM-1)\, Predavanja (P)\nLetniki: 1. letnik
  (FM)\nIzvajalci: Roman Drnovšek\nProstor: 2.01
LOCATION:2.01
ORGANIZER:Roman Drnovšek
RELATED-TO:fmf-AFLABS-URNIK:srecanje:6842
X-WR-TIMEZONE:Europe/Ljubljana
END:VEVENT
BEGIN:VEVENT
SUMMARY:Analiza 2 (FM-1)\, Predavanja (P)
DTSTART;TZID=Europe/Ljubljana:20220302T100000
DTEND;TZID=Europe/Ljubljana:20220302T120000
DTSTAMP:20260419T213719Z
UID:fmf-AFLABS-URNIK:premaknjeno-srecanje:6545
ATTENDEE:1. letnik (FM)
CATEGORIES:Entry,Standard
COLOR:darkgreen
DESCRIPTION:Predmet: Analiza 2 (FM-1)\, Predavanja (P)\nLetniki: 1. letnik
  (FM)\nIzvajalci: Roman Drnovšek\nProstor: 2.01
LOCATION:2.01
ORGANIZER:Roman Drnovšek
RELATED-TO:fmf-AFLABS-URNIK:srecanje:6842
X-WR-TIMEZONE:Europe/Ljubljana
END:VEVENT
BEGIN:VEVENT
SUMMARY:Analiza 2 (FM-1)\, Predavanja (P)
DTSTART;TZID=Europe/Ljubljana:20220309T100000
DTEND;TZID=Europe/Ljubljana:20220309T120000
DTSTAMP:20260419T213719Z
UID:fmf-AFLABS-URNIK:premaknjeno-srecanje:6546
ATTENDEE:1. letnik (FM)
CATEGORIES:Entry,Standard
COLOR:darkgreen
DESCRIPTION:Predmet: Analiza 2 (FM-1)\, Predavanja (P)\nLetniki: 1. letnik
  (FM)\nIzvajalci: Roman Drnovšek\nProstor: 2.01
LOCATION:2.01
ORGANIZER:Roman Drnovšek
RELATED-TO:fmf-AFLABS-URNIK:srecanje:6842
X-WR-TIMEZONE:Europe/Ljubljana
END:VEVENT
BEGIN:VEVENT
SUMMARY:Analiza 2 (FM-1)\, Predavanja (P)
DTSTART;TZID=Europe/Ljubljana:20220316T100000
DTEND;TZID=Europe/Ljubljana:20220316T120000
DTSTAMP:20260419T213719Z
UID:fmf-AFLABS-URNIK:premaknjeno-srecanje:6547
ATTENDEE:1. letnik (FM)
CATEGORIES:Entry,Standard
COLOR:darkgreen
DESCRIPTION:Predmet: Analiza 2 (FM-1)\, Predavanja (P)\nLetniki: 1. letnik
  (FM)\nIzvajalci: Roman Drnovšek\nProstor: 2.01
LOCATION:2.01
ORGANIZER:Roman Drnovšek
RELATED-TO:fmf-AFLABS-URNIK:srecanje:6842
X-WR-TIMEZONE:Europe/Ljubljana
END:VEVENT
BEGIN:VEVENT
SUMMARY:Analiza 2 (FM-1)\, Predavanja (P)
DTSTART;TZID=Europe/Ljubljana:20220323T100000
DTEND;TZID=Europe/Ljubljana:20220323T120000
DTSTAMP:20260419T213719Z
UID:fmf-AFLABS-URNIK:premaknjeno-srecanje:6548
ATTENDEE:1. letnik (FM)
CATEGORIES:Entry,Standard
COLOR:darkgreen
DESCRIPTION:Predmet: Analiza 2 (FM-1)\, Predavanja (P)\nLetniki: 1. letnik
  (FM)\nIzvajalci: Roman Drnovšek\nProstor: 2.01
LOCATION:2.01
ORGANIZER:Roman Drnovšek
RELATED-TO:fmf-AFLABS-URNIK:srecanje:6842
X-WR-TIMEZONE:Europe/Ljubljana
END:VEVENT
BEGIN:VEVENT
SUMMARY:Analiza 2 (FM-1)\, Predavanja (P)
DTSTART;TZID=Europe/Ljubljana:20220330T100000
DTEND;TZID=Europe/Ljubljana:20220330T120000
DTSTAMP:20260419T213719Z
UID:fmf-AFLABS-URNIK:premaknjeno-srecanje:6549
ATTENDEE:1. letnik (FM)
CATEGORIES:Entry,Standard
COLOR:darkgreen
DESCRIPTION:Predmet: Analiza 2 (FM-1)\, Predavanja (P)\nLetniki: 1. letnik
  (FM)\nIzvajalci: Roman Drnovšek\nProstor: 2.01
LOCATION:2.01
ORGANIZER:Roman Drnovšek
RELATED-TO:fmf-AFLABS-URNIK:srecanje:6842
X-WR-TIMEZONE:Europe/Ljubljana
END:VEVENT
BEGIN:VEVENT
SUMMARY:Analiza 2 (FM-1)\, Predavanja (P)
DTSTART;TZID=Europe/Ljubljana:20220406T100000
DTEND;TZID=Europe/Ljubljana:20220406T120000
DTSTAMP:20260419T213719Z
UID:fmf-AFLABS-URNIK:premaknjeno-srecanje:6550
ATTENDEE:1. letnik (FM)
CATEGORIES:Entry,Standard
COLOR:darkgreen
DESCRIPTION:Predmet: Analiza 2 (FM-1)\, Predavanja (P)\nLetniki: 1. letnik
  (FM)\nIzvajalci: Roman Drnovšek\nProstor: 2.01
LOCATION:2.01
ORGANIZER:Roman Drnovšek
RELATED-TO:fmf-AFLABS-URNIK:srecanje:6842
X-WR-TIMEZONE:Europe/Ljubljana
END:VEVENT
BEGIN:VEVENT
SUMMARY:Analiza 2 (FM-1)\, Predavanja (P)
DTSTART;TZID=Europe/Ljubljana:20220413T100000
DTEND;TZID=Europe/Ljubljana:20220413T120000
DTSTAMP:20260419T213719Z
UID:fmf-AFLABS-URNIK:premaknjeno-srecanje:6551
ATTENDEE:1. letnik (FM)
CATEGORIES:Entry,Standard
COLOR:darkgreen
DESCRIPTION:Predmet: Analiza 2 (FM-1)\, Predavanja (P)\nLetniki: 1. letnik
  (FM)\nIzvajalci: Roman Drnovšek\nProstor: 2.01
LOCATION:2.01
ORGANIZER:Roman Drnovšek
RELATED-TO:fmf-AFLABS-URNIK:srecanje:6842
X-WR-TIMEZONE:Europe/Ljubljana
END:VEVENT
BEGIN:VEVENT
SUMMARY:Analiza 2 (FM-1)\, Predavanja (P)
DTSTART;TZID=Europe/Ljubljana:20220420T100000
DTEND;TZID=Europe/Ljubljana:20220420T120000
DTSTAMP:20260419T213719Z
UID:fmf-AFLABS-URNIK:premaknjeno-srecanje:6552
ATTENDEE:1. letnik (FM)
CATEGORIES:Entry,Standard
COLOR:darkgreen
DESCRIPTION:Predmet: Analiza 2 (FM-1)\, Predavanja (P)\nLetniki: 1. letnik
  (FM)\nIzvajalci: Roman Drnovšek\nProstor: 2.01
LOCATION:2.01
ORGANIZER:Roman Drnovšek
RELATED-TO:fmf-AFLABS-URNIK:srecanje:6842
X-WR-TIMEZONE:Europe/Ljubljana
END:VEVENT
BEGIN:VEVENT
SUMMARY:Analiza 2 (FM-1)\, Predavanja (P)
DTSTART;TZID=Europe/Ljubljana:20220427T100000
DTEND;TZID=Europe/Ljubljana:20220427T120000
DTSTAMP:20260419T213719Z
UID:fmf-AFLABS-URNIK:premaknjeno-srecanje:6553
ATTENDEE:1. letnik (FM)
CATEGORIES:Entry,Standard
COLOR:darkgreen
DESCRIPTION:Predmet: Analiza 2 (FM-1)\, Predavanja (P)\nLetniki: 1. letnik
  (FM)\nIzvajalci: Roman Drnovšek\nProstor: 2.01
LOCATION:2.01
ORGANIZER:Roman Drnovšek
RELATED-TO:fmf-AFLABS-URNIK:srecanje:6842
X-WR-TIMEZONE:Europe/Ljubljana
END:VEVENT
BEGIN:VEVENT
SUMMARY:Analiza 2 (FM-1)\, Predavanja (P)
DTSTART;TZID=Europe/Ljubljana:20220504T100000
DTEND;TZID=Europe/Ljubljana:20220504T120000
DTSTAMP:20260419T213719Z
UID:fmf-AFLABS-URNIK:premaknjeno-srecanje:6554
ATTENDEE:1. letnik (FM)
CATEGORIES:Entry,Standard
COLOR:darkgreen
DESCRIPTION:Predmet: Analiza 2 (FM-1)\, Predavanja (P)\nLetniki: 1. letnik
  (FM)\nIzvajalci: Roman Drnovšek\nProstor: 2.01
LOCATION:2.01
ORGANIZER:Roman Drnovšek
RELATED-TO:fmf-AFLABS-URNIK:srecanje:6842
X-WR-TIMEZONE:Europe/Ljubljana
END:VEVENT
BEGIN:VEVENT
SUMMARY:Analiza 2 (FM-1)\, Predavanja (P)
DTSTART;TZID=Europe/Ljubljana:20220511T100000
DTEND;TZID=Europe/Ljubljana:20220511T120000
DTSTAMP:20260419T213719Z
UID:fmf-AFLABS-URNIK:premaknjeno-srecanje:6555
ATTENDEE:1. letnik (FM)
CATEGORIES:Entry,Standard
COLOR:darkgreen
DESCRIPTION:Predmet: Analiza 2 (FM-1)\, Predavanja (P)\nLetniki: 1. letnik
  (FM)\nIzvajalci: Roman Drnovšek\nProstor: 2.01
LOCATION:2.01
ORGANIZER:Roman Drnovšek
RELATED-TO:fmf-AFLABS-URNIK:srecanje:6842
X-WR-TIMEZONE:Europe/Ljubljana
END:VEVENT
BEGIN:VEVENT
SUMMARY:Analiza 2 (FM-1)\, Predavanja (P)
DTSTART;TZID=Europe/Ljubljana:20220518T100000
DTEND;TZID=Europe/Ljubljana:20220518T120000
DTSTAMP:20260419T213719Z
UID:fmf-AFLABS-URNIK:premaknjeno-srecanje:6556
ATTENDEE:1. letnik (FM)
CATEGORIES:Entry,Standard
COLOR:darkgreen
DESCRIPTION:Predmet: Analiza 2 (FM-1)\, Predavanja (P)\nLetniki: 1. letnik
  (FM)\nIzvajalci: Roman Drnovšek\nProstor: 2.01
LOCATION:2.01
ORGANIZER:Roman Drnovšek
RELATED-TO:fmf-AFLABS-URNIK:srecanje:6842
X-WR-TIMEZONE:Europe/Ljubljana
END:VEVENT
BEGIN:VEVENT
SUMMARY:Analiza 2 (FM-1)\, Predavanja (P)
DTSTART;TZID=Europe/Ljubljana:20220525T100000
DTEND;TZID=Europe/Ljubljana:20220525T120000
DTSTAMP:20260419T213719Z
UID:fmf-AFLABS-URNIK:premaknjeno-srecanje:6557
ATTENDEE:1. letnik (FM)
CATEGORIES:Entry,Standard
COLOR:darkgreen
DESCRIPTION:Predmet: Analiza 2 (FM-1)\, Predavanja (P)\nLetniki: 1. letnik
  (FM)\nIzvajalci: Roman Drnovšek\nProstor: 2.01
LOCATION:2.01
ORGANIZER:Roman Drnovšek
RELATED-TO:fmf-AFLABS-URNIK:srecanje:6842
X-WR-TIMEZONE:Europe/Ljubljana
END:VEVENT
BEGIN:VEVENT
SUMMARY:Verjetnostni račun in statistika (IŠRM-3)\, Predavanja (P)
DTSTART;TZID=Europe/Ljubljana:20220217T080000
DTEND;TZID=Europe/Ljubljana:20220217T100000
DTSTAMP:20260419T213719Z
UID:fmf-AFLABS-URNIK:premaknjeno-srecanje:119839
ATTENDEE:3. letnik (IŠRM)
CATEGORIES:Entry,Standard
COLOR:darkgreen
DESCRIPTION:Predmet: Verjetnostni račun in statistika (IŠRM-3)\, Predava
 nja (P)\nLetniki: 3. letnik (IŠRM)\nIzvajalci: Roman Drnovšek\nProstor: 
 3.04
LOCATION:3.04
ORGANIZER:Roman Drnovšek
RELATED-TO:fmf-AFLABS-URNIK:srecanje:7354
X-WR-TIMEZONE:Europe/Ljubljana
END:VEVENT
BEGIN:VEVENT
SUMMARY:Verjetnostni račun in statistika (IŠRM-3)\, Predavanja (P)
DTSTART;TZID=Europe/Ljubljana:20220224T080000
DTEND;TZID=Europe/Ljubljana:20220224T100000
DTSTAMP:20260419T213719Z
UID:fmf-AFLABS-URNIK:premaknjeno-srecanje:119840
ATTENDEE:3. letnik (IŠRM)
CATEGORIES:Entry,Standard
COLOR:darkgreen
DESCRIPTION:Predmet: Verjetnostni račun in statistika (IŠRM-3)\, Predava
 nja (P)\nLetniki: 3. letnik (IŠRM)\nIzvajalci: Roman Drnovšek\nProstor: 
 3.04
LOCATION:3.04
ORGANIZER:Roman Drnovšek
RELATED-TO:fmf-AFLABS-URNIK:srecanje:7354
X-WR-TIMEZONE:Europe/Ljubljana
END:VEVENT
BEGIN:VEVENT
SUMMARY:Verjetnostni račun in statistika (IŠRM-3)\, Predavanja (P)
DTSTART;TZID=Europe/Ljubljana:20220303T080000
DTEND;TZID=Europe/Ljubljana:20220303T100000
DTSTAMP:20260419T213719Z
UID:fmf-AFLABS-URNIK:premaknjeno-srecanje:119841
ATTENDEE:3. letnik (IŠRM)
CATEGORIES:Entry,Standard
COLOR:darkgreen
DESCRIPTION:Predmet: Verjetnostni račun in statistika (IŠRM-3)\, Predava
 nja (P)\nLetniki: 3. letnik (IŠRM)\nIzvajalci: Roman Drnovšek\nProstor: 
 3.04
LOCATION:3.04
ORGANIZER:Roman Drnovšek
RELATED-TO:fmf-AFLABS-URNIK:srecanje:7354
X-WR-TIMEZONE:Europe/Ljubljana
END:VEVENT
BEGIN:VEVENT
SUMMARY:Verjetnostni račun in statistika (IŠRM-3)\, Predavanja (P)
DTSTART;TZID=Europe/Ljubljana:20220310T080000
DTEND;TZID=Europe/Ljubljana:20220310T100000
DTSTAMP:20260419T213719Z
UID:fmf-AFLABS-URNIK:premaknjeno-srecanje:119842
ATTENDEE:3. letnik (IŠRM)
CATEGORIES:Entry,Standard
COLOR:darkgreen
DESCRIPTION:Predmet: Verjetnostni račun in statistika (IŠRM-3)\, Predava
 nja (P)\nLetniki: 3. letnik (IŠRM)\nIzvajalci: Roman Drnovšek\nProstor: 
 3.04
LOCATION:3.04
ORGANIZER:Roman Drnovšek
RELATED-TO:fmf-AFLABS-URNIK:srecanje:7354
X-WR-TIMEZONE:Europe/Ljubljana
END:VEVENT
BEGIN:VEVENT
SUMMARY:Verjetnostni račun in statistika (IŠRM-3)\, Predavanja (P)
DTSTART;TZID=Europe/Ljubljana:20220317T080000
DTEND;TZID=Europe/Ljubljana:20220317T100000
DTSTAMP:20260419T213719Z
UID:fmf-AFLABS-URNIK:premaknjeno-srecanje:119843
ATTENDEE:3. letnik (IŠRM)
CATEGORIES:Entry,Standard
COLOR:darkgreen
DESCRIPTION:Predmet: Verjetnostni račun in statistika (IŠRM-3)\, Predava
 nja (P)\nLetniki: 3. letnik (IŠRM)\nIzvajalci: Roman Drnovšek\nProstor: 
 3.04
LOCATION:3.04
ORGANIZER:Roman Drnovšek
RELATED-TO:fmf-AFLABS-URNIK:srecanje:7354
X-WR-TIMEZONE:Europe/Ljubljana
END:VEVENT
BEGIN:VEVENT
SUMMARY:Verjetnostni račun in statistika (IŠRM-3)\, Predavanja (P)
DTSTART;TZID=Europe/Ljubljana:20220324T080000
DTEND;TZID=Europe/Ljubljana:20220324T100000
DTSTAMP:20260419T213719Z
UID:fmf-AFLABS-URNIK:premaknjeno-srecanje:119844
ATTENDEE:3. letnik (IŠRM)
CATEGORIES:Entry,Standard
COLOR:darkgreen
DESCRIPTION:Predmet: Verjetnostni račun in statistika (IŠRM-3)\, Predava
 nja (P)\nLetniki: 3. letnik (IŠRM)\nIzvajalci: Roman Drnovšek\nProstor: 
 3.04
LOCATION:3.04
ORGANIZER:Roman Drnovšek
RELATED-TO:fmf-AFLABS-URNIK:srecanje:7354
X-WR-TIMEZONE:Europe/Ljubljana
END:VEVENT
BEGIN:VEVENT
SUMMARY:Verjetnostni račun in statistika (IŠRM-3)\, Predavanja (P)
DTSTART;TZID=Europe/Ljubljana:20220331T080000
DTEND;TZID=Europe/Ljubljana:20220331T100000
DTSTAMP:20260419T213719Z
UID:fmf-AFLABS-URNIK:premaknjeno-srecanje:119845
ATTENDEE:3. letnik (IŠRM)
CATEGORIES:Entry,Standard
COLOR:darkgreen
DESCRIPTION:Predmet: Verjetnostni račun in statistika (IŠRM-3)\, Predava
 nja (P)\nLetniki: 3. letnik (IŠRM)\nIzvajalci: Roman Drnovšek\nProstor: 
 3.04
LOCATION:3.04
ORGANIZER:Roman Drnovšek
RELATED-TO:fmf-AFLABS-URNIK:srecanje:7354
X-WR-TIMEZONE:Europe/Ljubljana
END:VEVENT
BEGIN:VEVENT
SUMMARY:Verjetnostni račun in statistika (IŠRM-3)\, Predavanja (P)
DTSTART;TZID=Europe/Ljubljana:20220407T080000
DTEND;TZID=Europe/Ljubljana:20220407T100000
DTSTAMP:20260419T213719Z
UID:fmf-AFLABS-URNIK:premaknjeno-srecanje:119846
ATTENDEE:3. letnik (IŠRM)
CATEGORIES:Entry,Standard
COLOR:darkgreen
DESCRIPTION:Predmet: Verjetnostni račun in statistika (IŠRM-3)\, Predava
 nja (P)\nLetniki: 3. letnik (IŠRM)\nIzvajalci: Roman Drnovšek\nProstor: 
 3.04
LOCATION:3.04
ORGANIZER:Roman Drnovšek
RELATED-TO:fmf-AFLABS-URNIK:srecanje:7354
X-WR-TIMEZONE:Europe/Ljubljana
END:VEVENT
BEGIN:VEVENT
SUMMARY:Verjetnostni račun in statistika (IŠRM-3)\, Predavanja (P)
DTSTART;TZID=Europe/Ljubljana:20220414T080000
DTEND;TZID=Europe/Ljubljana:20220414T100000
DTSTAMP:20260419T213719Z
UID:fmf-AFLABS-URNIK:premaknjeno-srecanje:119847
ATTENDEE:3. letnik (IŠRM)
CATEGORIES:Entry,Standard
COLOR:darkgreen
DESCRIPTION:Predmet: Verjetnostni račun in statistika (IŠRM-3)\, Predava
 nja (P)\nLetniki: 3. letnik (IŠRM)\nIzvajalci: Roman Drnovšek\nProstor: 
 3.04
LOCATION:3.04
ORGANIZER:Roman Drnovšek
RELATED-TO:fmf-AFLABS-URNIK:srecanje:7354
X-WR-TIMEZONE:Europe/Ljubljana
END:VEVENT
BEGIN:VEVENT
SUMMARY:Verjetnostni račun in statistika (IŠRM-3)\, Predavanja (P)
DTSTART;TZID=Europe/Ljubljana:20220421T080000
DTEND;TZID=Europe/Ljubljana:20220421T100000
DTSTAMP:20260419T213719Z
UID:fmf-AFLABS-URNIK:premaknjeno-srecanje:119848
ATTENDEE:3. letnik (IŠRM)
CATEGORIES:Entry,Standard
COLOR:darkgreen
DESCRIPTION:Predmet: Verjetnostni račun in statistika (IŠRM-3)\, Predava
 nja (P)\nLetniki: 3. letnik (IŠRM)\nIzvajalci: Roman Drnovšek\nProstor: 
 3.04
LOCATION:3.04
ORGANIZER:Roman Drnovšek
RELATED-TO:fmf-AFLABS-URNIK:srecanje:7354
X-WR-TIMEZONE:Europe/Ljubljana
END:VEVENT
BEGIN:VEVENT
SUMMARY:Verjetnostni račun in statistika (IŠRM-3)\, Predavanja (P)
DTSTART;TZID=Europe/Ljubljana:20220428T080000
DTEND;TZID=Europe/Ljubljana:20220428T100000
DTSTAMP:20260419T213719Z
UID:fmf-AFLABS-URNIK:premaknjeno-srecanje:119849
ATTENDEE:3. letnik (IŠRM)
CATEGORIES:Entry,Standard
COLOR:darkgreen
DESCRIPTION:Predmet: Verjetnostni račun in statistika (IŠRM-3)\, Predava
 nja (P)\nLetniki: 3. letnik (IŠRM)\nIzvajalci: Roman Drnovšek\nProstor: 
 3.04
LOCATION:3.04
ORGANIZER:Roman Drnovšek
RELATED-TO:fmf-AFLABS-URNIK:srecanje:7354
X-WR-TIMEZONE:Europe/Ljubljana
END:VEVENT
BEGIN:VEVENT
SUMMARY:Verjetnostni račun in statistika (IŠRM-3)\, Predavanja (P)
DTSTART;TZID=Europe/Ljubljana:20220505T080000
DTEND;TZID=Europe/Ljubljana:20220505T100000
DTSTAMP:20260419T213719Z
UID:fmf-AFLABS-URNIK:premaknjeno-srecanje:119850
ATTENDEE:3. letnik (IŠRM)
CATEGORIES:Entry,Standard
COLOR:darkgreen
DESCRIPTION:Predmet: Verjetnostni račun in statistika (IŠRM-3)\, Predava
 nja (P)\nLetniki: 3. letnik (IŠRM)\nIzvajalci: Roman Drnovšek\nProstor: 
 3.04
LOCATION:3.04
ORGANIZER:Roman Drnovšek
RELATED-TO:fmf-AFLABS-URNIK:srecanje:7354
X-WR-TIMEZONE:Europe/Ljubljana
END:VEVENT
BEGIN:VEVENT
SUMMARY:Verjetnostni račun in statistika (IŠRM-3)\, Predavanja (P)
DTSTART;TZID=Europe/Ljubljana:20220512T080000
DTEND;TZID=Europe/Ljubljana:20220512T100000
DTSTAMP:20260419T213719Z
UID:fmf-AFLABS-URNIK:premaknjeno-srecanje:119851
ATTENDEE:3. letnik (IŠRM)
CATEGORIES:Entry,Standard
COLOR:darkgreen
DESCRIPTION:Predmet: Verjetnostni račun in statistika (IŠRM-3)\, Predava
 nja (P)\nLetniki: 3. letnik (IŠRM)\nIzvajalci: Roman Drnovšek\nProstor: 
 3.04
LOCATION:3.04
ORGANIZER:Roman Drnovšek
RELATED-TO:fmf-AFLABS-URNIK:srecanje:7354
X-WR-TIMEZONE:Europe/Ljubljana
END:VEVENT
BEGIN:VEVENT
SUMMARY:Verjetnostni račun in statistika (IŠRM-3)\, Predavanja (P)
DTSTART;TZID=Europe/Ljubljana:20220519T080000
DTEND;TZID=Europe/Ljubljana:20220519T100000
DTSTAMP:20260419T213719Z
UID:fmf-AFLABS-URNIK:premaknjeno-srecanje:119852
ATTENDEE:3. letnik (IŠRM)
CATEGORIES:Entry,Standard
COLOR:darkgreen
DESCRIPTION:Predmet: Verjetnostni račun in statistika (IŠRM-3)\, Predava
 nja (P)\nLetniki: 3. letnik (IŠRM)\nIzvajalci: Roman Drnovšek\nProstor: 
 3.04
LOCATION:3.04
ORGANIZER:Roman Drnovšek
RELATED-TO:fmf-AFLABS-URNIK:srecanje:7354
X-WR-TIMEZONE:Europe/Ljubljana
END:VEVENT
BEGIN:VEVENT
SUMMARY:Verjetnostni račun in statistika (IŠRM-3)\, Predavanja (P)
DTSTART;TZID=Europe/Ljubljana:20220526T080000
DTEND;TZID=Europe/Ljubljana:20220526T100000
DTSTAMP:20260419T213719Z
UID:fmf-AFLABS-URNIK:premaknjeno-srecanje:119853
ATTENDEE:3. letnik (IŠRM)
CATEGORIES:Entry,Standard
COLOR:darkgreen
DESCRIPTION:Predmet: Verjetnostni račun in statistika (IŠRM-3)\, Predava
 nja (P)\nLetniki: 3. letnik (IŠRM)\nIzvajalci: Roman Drnovšek\nProstor: 
 3.04
LOCATION:3.04
ORGANIZER:Roman Drnovšek
RELATED-TO:fmf-AFLABS-URNIK:srecanje:7354
X-WR-TIMEZONE:Europe/Ljubljana
END:VEVENT
BEGIN:VEVENT
SUMMARY:Analiza 2 (FM-1)\, Predavanja (P)
DTSTART;TZID=Europe/Ljubljana:20220218T080000
DTEND;TZID=Europe/Ljubljana:20220218T100000
DTSTAMP:20260419T213719Z
UID:fmf-AFLABS-URNIK:premaknjeno-srecanje:6665
ATTENDEE:1. letnik (FM)
CATEGORIES:Entry,Standard
COLOR:darkgreen
DESCRIPTION:Predmet: Analiza 2 (FM-1)\, Predavanja (P)\nLetniki: 1. letnik
  (FM)\nIzvajalci: Roman Drnovšek\nProstor: 2.01
LOCATION:2.01
ORGANIZER:Roman Drnovšek
RELATED-TO:fmf-AFLABS-URNIK:srecanje:6843
X-WR-TIMEZONE:Europe/Ljubljana
END:VEVENT
BEGIN:VEVENT
SUMMARY:Analiza 2 (FM-1)\, Predavanja (P)
DTSTART;TZID=Europe/Ljubljana:20220225T080000
DTEND;TZID=Europe/Ljubljana:20220225T100000
DTSTAMP:20260419T213719Z
UID:fmf-AFLABS-URNIK:premaknjeno-srecanje:6666
ATTENDEE:1. letnik (FM)
CATEGORIES:Entry,Standard
COLOR:darkgreen
DESCRIPTION:Predmet: Analiza 2 (FM-1)\, Predavanja (P)\nLetniki: 1. letnik
  (FM)\nIzvajalci: Roman Drnovšek\nProstor: 2.01
LOCATION:2.01
ORGANIZER:Roman Drnovšek
RELATED-TO:fmf-AFLABS-URNIK:srecanje:6843
X-WR-TIMEZONE:Europe/Ljubljana
END:VEVENT
BEGIN:VEVENT
SUMMARY:Analiza 2 (FM-1)\, Predavanja (P)
DTSTART;TZID=Europe/Ljubljana:20220304T080000
DTEND;TZID=Europe/Ljubljana:20220304T100000
DTSTAMP:20260419T213719Z
UID:fmf-AFLABS-URNIK:premaknjeno-srecanje:6667
ATTENDEE:1. letnik (FM)
CATEGORIES:Entry,Standard
COLOR:darkgreen
DESCRIPTION:Predmet: Analiza 2 (FM-1)\, Predavanja (P)\nLetniki: 1. letnik
  (FM)\nIzvajalci: Roman Drnovšek\nProstor: 2.01
LOCATION:2.01
ORGANIZER:Roman Drnovšek
RELATED-TO:fmf-AFLABS-URNIK:srecanje:6843
X-WR-TIMEZONE:Europe/Ljubljana
END:VEVENT
BEGIN:VEVENT
SUMMARY:Analiza 2 (FM-1)\, Predavanja (P)
DTSTART;TZID=Europe/Ljubljana:20220311T080000
DTEND;TZID=Europe/Ljubljana:20220311T100000
DTSTAMP:20260419T213719Z
UID:fmf-AFLABS-URNIK:premaknjeno-srecanje:6668
ATTENDEE:1. letnik (FM)
CATEGORIES:Entry,Standard
COLOR:darkgreen
DESCRIPTION:Predmet: Analiza 2 (FM-1)\, Predavanja (P)\nLetniki: 1. letnik
  (FM)\nIzvajalci: Roman Drnovšek\nProstor: 2.01
LOCATION:2.01
ORGANIZER:Roman Drnovšek
RELATED-TO:fmf-AFLABS-URNIK:srecanje:6843
X-WR-TIMEZONE:Europe/Ljubljana
END:VEVENT
BEGIN:VEVENT
SUMMARY:Analiza 2 (FM-1)\, Predavanja (P)
DTSTART;TZID=Europe/Ljubljana:20220318T080000
DTEND;TZID=Europe/Ljubljana:20220318T100000
DTSTAMP:20260419T213719Z
UID:fmf-AFLABS-URNIK:premaknjeno-srecanje:6669
ATTENDEE:1. letnik (FM)
CATEGORIES:Entry,Standard
COLOR:darkgreen
DESCRIPTION:Predmet: Analiza 2 (FM-1)\, Predavanja (P)\nLetniki: 1. letnik
  (FM)\nIzvajalci: Roman Drnovšek\nProstor: 2.01
LOCATION:2.01
ORGANIZER:Roman Drnovšek
RELATED-TO:fmf-AFLABS-URNIK:srecanje:6843
X-WR-TIMEZONE:Europe/Ljubljana
END:VEVENT
BEGIN:VEVENT
SUMMARY:Analiza 2 (FM-1)\, Predavanja (P)
DTSTART;TZID=Europe/Ljubljana:20220325T080000
DTEND;TZID=Europe/Ljubljana:20220325T100000
DTSTAMP:20260419T213719Z
UID:fmf-AFLABS-URNIK:premaknjeno-srecanje:6670
ATTENDEE:1. letnik (FM)
CATEGORIES:Entry,Standard
COLOR:darkgreen
DESCRIPTION:Predmet: Analiza 2 (FM-1)\, Predavanja (P)\nLetniki: 1. letnik
  (FM)\nIzvajalci: Roman Drnovšek\nProstor: 2.01
LOCATION:2.01
ORGANIZER:Roman Drnovšek
RELATED-TO:fmf-AFLABS-URNIK:srecanje:6843
X-WR-TIMEZONE:Europe/Ljubljana
END:VEVENT
BEGIN:VEVENT
SUMMARY:Analiza 2 (FM-1)\, Predavanja (P)
DTSTART;TZID=Europe/Ljubljana:20220401T080000
DTEND;TZID=Europe/Ljubljana:20220401T100000
DTSTAMP:20260419T213719Z
UID:fmf-AFLABS-URNIK:premaknjeno-srecanje:6671
ATTENDEE:1. letnik (FM)
CATEGORIES:Entry,Standard
COLOR:darkgreen
DESCRIPTION:Predmet: Analiza 2 (FM-1)\, Predavanja (P)\nLetniki: 1. letnik
  (FM)\nIzvajalci: Roman Drnovšek\nProstor: 2.01
LOCATION:2.01
ORGANIZER:Roman Drnovšek
RELATED-TO:fmf-AFLABS-URNIK:srecanje:6843
X-WR-TIMEZONE:Europe/Ljubljana
END:VEVENT
BEGIN:VEVENT
SUMMARY:Analiza 2 (FM-1)\, Predavanja (P)
DTSTART;TZID=Europe/Ljubljana:20220408T080000
DTEND;TZID=Europe/Ljubljana:20220408T100000
DTSTAMP:20260419T213719Z
UID:fmf-AFLABS-URNIK:premaknjeno-srecanje:6672
ATTENDEE:1. letnik (FM)
CATEGORIES:Entry,Standard
COLOR:darkgreen
DESCRIPTION:Predmet: Analiza 2 (FM-1)\, Predavanja (P)\nLetniki: 1. letnik
  (FM)\nIzvajalci: Roman Drnovšek\nProstor: 2.01
LOCATION:2.01
ORGANIZER:Roman Drnovšek
RELATED-TO:fmf-AFLABS-URNIK:srecanje:6843
X-WR-TIMEZONE:Europe/Ljubljana
END:VEVENT
BEGIN:VEVENT
SUMMARY:Analiza 2 (FM-1)\, Predavanja (P)
DTSTART;TZID=Europe/Ljubljana:20220415T080000
DTEND;TZID=Europe/Ljubljana:20220415T100000
DTSTAMP:20260419T213719Z
UID:fmf-AFLABS-URNIK:premaknjeno-srecanje:6673
ATTENDEE:1. letnik (FM)
CATEGORIES:Entry,Standard
COLOR:darkgreen
DESCRIPTION:Predmet: Analiza 2 (FM-1)\, Predavanja (P)\nLetniki: 1. letnik
  (FM)\nIzvajalci: Roman Drnovšek\nProstor: 2.01
LOCATION:2.01
ORGANIZER:Roman Drnovšek
RELATED-TO:fmf-AFLABS-URNIK:srecanje:6843
X-WR-TIMEZONE:Europe/Ljubljana
END:VEVENT
BEGIN:VEVENT
SUMMARY:Analiza 2 (FM-1)\, Predavanja (P)
DTSTART;TZID=Europe/Ljubljana:20220422T080000
DTEND;TZID=Europe/Ljubljana:20220422T100000
DTSTAMP:20260419T213719Z
UID:fmf-AFLABS-URNIK:premaknjeno-srecanje:6674
ATTENDEE:1. letnik (FM)
CATEGORIES:Entry,Standard
COLOR:darkgreen
DESCRIPTION:Predmet: Analiza 2 (FM-1)\, Predavanja (P)\nLetniki: 1. letnik
  (FM)\nIzvajalci: Roman Drnovšek\nProstor: 2.01
LOCATION:2.01
ORGANIZER:Roman Drnovšek
RELATED-TO:fmf-AFLABS-URNIK:srecanje:6843
X-WR-TIMEZONE:Europe/Ljubljana
END:VEVENT
BEGIN:VEVENT
SUMMARY:Analiza 2 (FM-1)\, Predavanja (P)
DTSTART;TZID=Europe/Ljubljana:20220429T080000
DTEND;TZID=Europe/Ljubljana:20220429T100000
DTSTAMP:20260419T213719Z
UID:fmf-AFLABS-URNIK:premaknjeno-srecanje:6675
ATTENDEE:1. letnik (FM)
CATEGORIES:Entry,Standard
COLOR:darkgreen
DESCRIPTION:Predmet: Analiza 2 (FM-1)\, Predavanja (P)\nLetniki: 1. letnik
  (FM)\nIzvajalci: Roman Drnovšek\nProstor: 2.01
LOCATION:2.01
ORGANIZER:Roman Drnovšek
RELATED-TO:fmf-AFLABS-URNIK:srecanje:6843
X-WR-TIMEZONE:Europe/Ljubljana
END:VEVENT
BEGIN:VEVENT
SUMMARY:Analiza 2 (FM-1)\, Predavanja (P)
DTSTART;TZID=Europe/Ljubljana:20220506T080000
DTEND;TZID=Europe/Ljubljana:20220506T100000
DTSTAMP:20260419T213719Z
UID:fmf-AFLABS-URNIK:premaknjeno-srecanje:6676
ATTENDEE:1. letnik (FM)
CATEGORIES:Entry,Standard
COLOR:darkgreen
DESCRIPTION:Predmet: Analiza 2 (FM-1)\, Predavanja (P)\nLetniki: 1. letnik
  (FM)\nIzvajalci: Roman Drnovšek\nProstor: 2.01
LOCATION:2.01
ORGANIZER:Roman Drnovšek
RELATED-TO:fmf-AFLABS-URNIK:srecanje:6843
X-WR-TIMEZONE:Europe/Ljubljana
END:VEVENT
BEGIN:VEVENT
SUMMARY:Analiza 2 (FM-1)\, Predavanja (P)
DTSTART;TZID=Europe/Ljubljana:20220513T080000
DTEND;TZID=Europe/Ljubljana:20220513T100000
DTSTAMP:20260419T213719Z
UID:fmf-AFLABS-URNIK:premaknjeno-srecanje:6677
ATTENDEE:1. letnik (FM)
CATEGORIES:Entry,Standard
COLOR:darkgreen
DESCRIPTION:Predmet: Analiza 2 (FM-1)\, Predavanja (P)\nLetniki: 1. letnik
  (FM)\nIzvajalci: Roman Drnovšek\nProstor: 2.01
LOCATION:2.01
ORGANIZER:Roman Drnovšek
RELATED-TO:fmf-AFLABS-URNIK:srecanje:6843
X-WR-TIMEZONE:Europe/Ljubljana
END:VEVENT
BEGIN:VEVENT
SUMMARY:Analiza 2 (FM-1)\, Predavanja (P)
DTSTART;TZID=Europe/Ljubljana:20220520T080000
DTEND;TZID=Europe/Ljubljana:20220520T100000
DTSTAMP:20260419T213719Z
UID:fmf-AFLABS-URNIK:premaknjeno-srecanje:6678
ATTENDEE:1. letnik (FM)
CATEGORIES:Entry,Standard
COLOR:darkgreen
DESCRIPTION:Predmet: Analiza 2 (FM-1)\, Predavanja (P)\nLetniki: 1. letnik
  (FM)\nIzvajalci: Roman Drnovšek\nProstor: 2.01
LOCATION:2.01
ORGANIZER:Roman Drnovšek
RELATED-TO:fmf-AFLABS-URNIK:srecanje:6843
X-WR-TIMEZONE:Europe/Ljubljana
END:VEVENT
BEGIN:VEVENT
SUMMARY:Analiza 2 (FM-1)\, Predavanja (P)
DTSTART;TZID=Europe/Ljubljana:20220527T080000
DTEND;TZID=Europe/Ljubljana:20220527T100000
DTSTAMP:20260419T213719Z
UID:fmf-AFLABS-URNIK:premaknjeno-srecanje:6679
ATTENDEE:1. letnik (FM)
CATEGORIES:Entry,Standard
COLOR:darkgreen
DESCRIPTION:Predmet: Analiza 2 (FM-1)\, Predavanja (P)\nLetniki: 1. letnik
  (FM)\nIzvajalci: Roman Drnovšek\nProstor: 2.01
LOCATION:2.01
ORGANIZER:Roman Drnovšek
RELATED-TO:fmf-AFLABS-URNIK:srecanje:6843
X-WR-TIMEZONE:Europe/Ljubljana
END:VEVENT
END:VCALENDAR
