BEGIN:VCALENDAR
VERSION:2.0
PRODID:-//AFLabs urnik izvoz - fmf//aflabs.si//SI
DTSTAMP:20260426T004956Z
NAME:UL FMF urnik
REFRESH-INTERVAL:PT1H
SOURCE:https://urnik.fmf.uni-lj.si/teacher/241?day=2020-05-11&export=1
URL:https://urnik.fmf.uni-lj.si/teacher/241?day=2020-05-11&export=1
X-PUBLISHED-TTL:PT1H
X-WR-CALNAME:UL FMF urnik
X-WR-TIMEZONE:Europe/Ljubljana
BEGIN:VTIMEZONE
TZID:Europe/Ljubljana
BEGIN:DAYLIGHT
DTSTART:20260329T020000
RDATE:20260329T020000
RDATE:20270328T020000
TZNAME:CEST
TZOFFSETFROM:+0100
TZOFFSETTO:+0200
END:DAYLIGHT
BEGIN:STANDARD
DTSTART:20261025T030000
RDATE:20261025T030000
RDATE:20271031T030000
TZNAME:CET
TZOFFSETFROM:+0200
TZOFFSETTO:+0100
END:STANDARD
END:VTIMEZONE
BEGIN:VEVENT
SUMMARY:Matematika IV (FIZ-2)\, Vaje (V)\, [1]
DTSTART;TZID=Europe/Ljubljana:20200219T130000
DTEND;TZID=Europe/Ljubljana:20200219T150000
DTSTAMP:20260426T004956Z
UID:fmf-AFLABS-URNIK:premaknjeno-srecanje:66774
ATTENDEE:2. letnik (Fizika, 1. stopnja)
CATEGORIES:Entry,Standard
COLOR:darkgreen
DESCRIPTION:Predmet: Matematika IV (FIZ-2)\, Vaje (V)\, [1]\nLetniki: 2. l
 etnik (Fizika\, 1. stopnja)\nIzvajalci: Janez Šter\nProstor: F1
LOCATION:F1
ORGANIZER:Janez Šter
RELATED-TO:fmf-AFLABS-URNIK:srecanje:4270
X-WR-TIMEZONE:Europe/Ljubljana
END:VEVENT
BEGIN:VEVENT
SUMMARY:Matematika IV (FIZ-2)\, Vaje (V)\, [1]
DTSTART;TZID=Europe/Ljubljana:20200226T130000
DTEND;TZID=Europe/Ljubljana:20200226T150000
DTSTAMP:20260426T004956Z
UID:fmf-AFLABS-URNIK:premaknjeno-srecanje:66775
ATTENDEE:2. letnik (Fizika, 1. stopnja)
CATEGORIES:Entry,Standard
COLOR:darkgreen
DESCRIPTION:Predmet: Matematika IV (FIZ-2)\, Vaje (V)\, [1]\nLetniki: 2. l
 etnik (Fizika\, 1. stopnja)\nIzvajalci: Janez Šter\nProstor: F1
LOCATION:F1
ORGANIZER:Janez Šter
RELATED-TO:fmf-AFLABS-URNIK:srecanje:4270
X-WR-TIMEZONE:Europe/Ljubljana
END:VEVENT
BEGIN:VEVENT
SUMMARY:Matematika IV (FIZ-2)\, Vaje (V)\, [1]
DTSTART;TZID=Europe/Ljubljana:20200304T130000
DTEND;TZID=Europe/Ljubljana:20200304T150000
DTSTAMP:20260426T004956Z
UID:fmf-AFLABS-URNIK:premaknjeno-srecanje:66776
ATTENDEE:2. letnik (Fizika, 1. stopnja)
CATEGORIES:Entry,Standard
COLOR:darkgreen
DESCRIPTION:Predmet: Matematika IV (FIZ-2)\, Vaje (V)\, [1]\nLetniki: 2. l
 etnik (Fizika\, 1. stopnja)\nIzvajalci: Janez Šter\nProstor: F1
LOCATION:F1
ORGANIZER:Janez Šter
RELATED-TO:fmf-AFLABS-URNIK:srecanje:4270
X-WR-TIMEZONE:Europe/Ljubljana
END:VEVENT
BEGIN:VEVENT
SUMMARY:Matematika IV (FIZ-2)\, Vaje (V)\, [1]
DTSTART;TZID=Europe/Ljubljana:20200311T130000
DTEND;TZID=Europe/Ljubljana:20200311T150000
DTSTAMP:20260426T004956Z
UID:fmf-AFLABS-URNIK:premaknjeno-srecanje:66777
ATTENDEE:2. letnik (Fizika, 1. stopnja)
CATEGORIES:Entry,Standard
COLOR:darkgreen
DESCRIPTION:Predmet: Matematika IV (FIZ-2)\, Vaje (V)\, [1]\nLetniki: 2. l
 etnik (Fizika\, 1. stopnja)\nIzvajalci: Janez Šter\nProstor: F1
LOCATION:F1
ORGANIZER:Janez Šter
RELATED-TO:fmf-AFLABS-URNIK:srecanje:4270
X-WR-TIMEZONE:Europe/Ljubljana
END:VEVENT
BEGIN:VEVENT
SUMMARY:Matematika IV (FIZ-2)\, Vaje (V)\, [1]
DTSTART;TZID=Europe/Ljubljana:20200318T130000
DTEND;TZID=Europe/Ljubljana:20200318T150000
DTSTAMP:20260426T004956Z
UID:fmf-AFLABS-URNIK:premaknjeno-srecanje:66778
ATTENDEE:2. letnik (Fizika, 1. stopnja)
CATEGORIES:Entry,Standard
COLOR:darkgreen
DESCRIPTION:Predmet: Matematika IV (FIZ-2)\, Vaje (V)\, [1]\nLetniki: 2. l
 etnik (Fizika\, 1. stopnja)\nIzvajalci: Janez Šter\nProstor: F1
LOCATION:F1
ORGANIZER:Janez Šter
RELATED-TO:fmf-AFLABS-URNIK:srecanje:4270
X-WR-TIMEZONE:Europe/Ljubljana
END:VEVENT
BEGIN:VEVENT
SUMMARY:Matematika IV (FIZ-2)\, Vaje (V)\, [1]
DTSTART;TZID=Europe/Ljubljana:20200325T130000
DTEND;TZID=Europe/Ljubljana:20200325T150000
DTSTAMP:20260426T004956Z
UID:fmf-AFLABS-URNIK:premaknjeno-srecanje:66779
ATTENDEE:2. letnik (Fizika, 1. stopnja)
CATEGORIES:Entry,Standard
COLOR:darkgreen
DESCRIPTION:Predmet: Matematika IV (FIZ-2)\, Vaje (V)\, [1]\nLetniki: 2. l
 etnik (Fizika\, 1. stopnja)\nIzvajalci: Janez Šter\nProstor: F1
LOCATION:F1
ORGANIZER:Janez Šter
RELATED-TO:fmf-AFLABS-URNIK:srecanje:4270
X-WR-TIMEZONE:Europe/Ljubljana
END:VEVENT
BEGIN:VEVENT
SUMMARY:Matematika IV (FIZ-2)\, Vaje (V)\, [1]
DTSTART;TZID=Europe/Ljubljana:20200401T130000
DTEND;TZID=Europe/Ljubljana:20200401T150000
DTSTAMP:20260426T004956Z
UID:fmf-AFLABS-URNIK:premaknjeno-srecanje:66780
ATTENDEE:2. letnik (Fizika, 1. stopnja)
CATEGORIES:Entry,Standard
COLOR:darkgreen
DESCRIPTION:Predmet: Matematika IV (FIZ-2)\, Vaje (V)\, [1]\nLetniki: 2. l
 etnik (Fizika\, 1. stopnja)\nIzvajalci: Janez Šter\nProstor: F1
LOCATION:F1
ORGANIZER:Janez Šter
RELATED-TO:fmf-AFLABS-URNIK:srecanje:4270
X-WR-TIMEZONE:Europe/Ljubljana
END:VEVENT
BEGIN:VEVENT
SUMMARY:Matematika IV (FIZ-2)\, Vaje (V)\, [1]
DTSTART;TZID=Europe/Ljubljana:20200408T130000
DTEND;TZID=Europe/Ljubljana:20200408T150000
DTSTAMP:20260426T004956Z
UID:fmf-AFLABS-URNIK:premaknjeno-srecanje:66781
ATTENDEE:2. letnik (Fizika, 1. stopnja)
CATEGORIES:Entry,Standard
COLOR:darkgreen
DESCRIPTION:Predmet: Matematika IV (FIZ-2)\, Vaje (V)\, [1]\nLetniki: 2. l
 etnik (Fizika\, 1. stopnja)\nIzvajalci: Janez Šter\nProstor: F1
LOCATION:F1
ORGANIZER:Janez Šter
RELATED-TO:fmf-AFLABS-URNIK:srecanje:4270
X-WR-TIMEZONE:Europe/Ljubljana
END:VEVENT
BEGIN:VEVENT
SUMMARY:Matematika IV (FIZ-2)\, Vaje (V)\, [1]
DTSTART;TZID=Europe/Ljubljana:20200415T130000
DTEND;TZID=Europe/Ljubljana:20200415T150000
DTSTAMP:20260426T004956Z
UID:fmf-AFLABS-URNIK:premaknjeno-srecanje:66782
ATTENDEE:2. letnik (Fizika, 1. stopnja)
CATEGORIES:Entry,Standard
COLOR:darkgreen
DESCRIPTION:Predmet: Matematika IV (FIZ-2)\, Vaje (V)\, [1]\nLetniki: 2. l
 etnik (Fizika\, 1. stopnja)\nIzvajalci: Janez Šter\nProstor: F1
LOCATION:F1
ORGANIZER:Janez Šter
RELATED-TO:fmf-AFLABS-URNIK:srecanje:4270
X-WR-TIMEZONE:Europe/Ljubljana
END:VEVENT
BEGIN:VEVENT
SUMMARY:Matematika IV (FIZ-2)\, Vaje (V)\, [1]
DTSTART;TZID=Europe/Ljubljana:20200422T130000
DTEND;TZID=Europe/Ljubljana:20200422T150000
DTSTAMP:20260426T004956Z
UID:fmf-AFLABS-URNIK:premaknjeno-srecanje:66783
ATTENDEE:2. letnik (Fizika, 1. stopnja)
CATEGORIES:Entry,Standard
COLOR:darkgreen
DESCRIPTION:Predmet: Matematika IV (FIZ-2)\, Vaje (V)\, [1]\nLetniki: 2. l
 etnik (Fizika\, 1. stopnja)\nIzvajalci: Janez Šter\nProstor: F1
LOCATION:F1
ORGANIZER:Janez Šter
RELATED-TO:fmf-AFLABS-URNIK:srecanje:4270
X-WR-TIMEZONE:Europe/Ljubljana
END:VEVENT
BEGIN:VEVENT
SUMMARY:Matematika IV (FIZ-2)\, Vaje (V)\, [1]
DTSTART;TZID=Europe/Ljubljana:20200429T130000
DTEND;TZID=Europe/Ljubljana:20200429T150000
DTSTAMP:20260426T004956Z
UID:fmf-AFLABS-URNIK:premaknjeno-srecanje:66784
ATTENDEE:2. letnik (Fizika, 1. stopnja)
CATEGORIES:Entry,Standard
COLOR:darkgreen
DESCRIPTION:Predmet: Matematika IV (FIZ-2)\, Vaje (V)\, [1]\nLetniki: 2. l
 etnik (Fizika\, 1. stopnja)\nIzvajalci: Janez Šter\nProstor: F1
LOCATION:F1
ORGANIZER:Janez Šter
RELATED-TO:fmf-AFLABS-URNIK:srecanje:4270
X-WR-TIMEZONE:Europe/Ljubljana
END:VEVENT
BEGIN:VEVENT
SUMMARY:Matematika IV (FIZ-2)\, Vaje (V)\, [1]
DTSTART;TZID=Europe/Ljubljana:20200506T130000
DTEND;TZID=Europe/Ljubljana:20200506T150000
DTSTAMP:20260426T004956Z
UID:fmf-AFLABS-URNIK:premaknjeno-srecanje:66785
ATTENDEE:2. letnik (Fizika, 1. stopnja)
CATEGORIES:Entry,Standard
COLOR:darkgreen
DESCRIPTION:Predmet: Matematika IV (FIZ-2)\, Vaje (V)\, [1]\nLetniki: 2. l
 etnik (Fizika\, 1. stopnja)\nIzvajalci: Janez Šter\nProstor: F1
LOCATION:F1
ORGANIZER:Janez Šter
RELATED-TO:fmf-AFLABS-URNIK:srecanje:4270
X-WR-TIMEZONE:Europe/Ljubljana
END:VEVENT
BEGIN:VEVENT
SUMMARY:Matematika IV (FIZ-2)\, Vaje (V)\, [1]
DTSTART;TZID=Europe/Ljubljana:20200513T130000
DTEND;TZID=Europe/Ljubljana:20200513T150000
DTSTAMP:20260426T004956Z
UID:fmf-AFLABS-URNIK:premaknjeno-srecanje:66786
ATTENDEE:2. letnik (Fizika, 1. stopnja)
CATEGORIES:Entry,Standard
COLOR:darkgreen
DESCRIPTION:Predmet: Matematika IV (FIZ-2)\, Vaje (V)\, [1]\nLetniki: 2. l
 etnik (Fizika\, 1. stopnja)\nIzvajalci: Janez Šter\nProstor: F1
LOCATION:F1
ORGANIZER:Janez Šter
RELATED-TO:fmf-AFLABS-URNIK:srecanje:4270
X-WR-TIMEZONE:Europe/Ljubljana
END:VEVENT
BEGIN:VEVENT
SUMMARY:Matematika IV (FIZ-2)\, Vaje (V)\, [1]
DTSTART;TZID=Europe/Ljubljana:20200520T130000
DTEND;TZID=Europe/Ljubljana:20200520T150000
DTSTAMP:20260426T004956Z
UID:fmf-AFLABS-URNIK:premaknjeno-srecanje:66787
ATTENDEE:2. letnik (Fizika, 1. stopnja)
CATEGORIES:Entry,Standard
COLOR:darkgreen
DESCRIPTION:Predmet: Matematika IV (FIZ-2)\, Vaje (V)\, [1]\nLetniki: 2. l
 etnik (Fizika\, 1. stopnja)\nIzvajalci: Janez Šter\nProstor: F1
LOCATION:F1
ORGANIZER:Janez Šter
RELATED-TO:fmf-AFLABS-URNIK:srecanje:4270
X-WR-TIMEZONE:Europe/Ljubljana
END:VEVENT
BEGIN:VEVENT
SUMMARY:Matematika IV (FIZ-2)\, Vaje (V)\, [1]
DTSTART;TZID=Europe/Ljubljana:20200527T130000
DTEND;TZID=Europe/Ljubljana:20200527T150000
DTSTAMP:20260426T004956Z
UID:fmf-AFLABS-URNIK:premaknjeno-srecanje:66788
ATTENDEE:2. letnik (Fizika, 1. stopnja)
CATEGORIES:Entry,Standard
COLOR:darkgreen
DESCRIPTION:Predmet: Matematika IV (FIZ-2)\, Vaje (V)\, [1]\nLetniki: 2. l
 etnik (Fizika\, 1. stopnja)\nIzvajalci: Janez Šter\nProstor: F1
LOCATION:F1
ORGANIZER:Janez Šter
RELATED-TO:fmf-AFLABS-URNIK:srecanje:4270
X-WR-TIMEZONE:Europe/Ljubljana
END:VEVENT
BEGIN:VEVENT
SUMMARY:Matematika IV (FIZ-2)\, Vaje (V)\, [2]
DTSTART;TZID=Europe/Ljubljana:20200220T080000
DTEND;TZID=Europe/Ljubljana:20200220T100000
DTSTAMP:20260426T004956Z
UID:fmf-AFLABS-URNIK:premaknjeno-srecanje:66867
ATTENDEE:2. letnik (Fizika, 1. stopnja)
CATEGORIES:Entry,Standard
COLOR:darkgreen
DESCRIPTION:Predmet: Matematika IV (FIZ-2)\, Vaje (V)\, [2]\nLetniki: 2. l
 etnik (Fizika\, 1. stopnja)\nIzvajalci: Janez Šter\nProstor: F1
LOCATION:F1
ORGANIZER:Janez Šter
RELATED-TO:fmf-AFLABS-URNIK:srecanje:4271
X-WR-TIMEZONE:Europe/Ljubljana
END:VEVENT
BEGIN:VEVENT
SUMMARY:Matematika IV (FIZ-2)\, Vaje (V)\, [2]
DTSTART;TZID=Europe/Ljubljana:20200227T080000
DTEND;TZID=Europe/Ljubljana:20200227T100000
DTSTAMP:20260426T004956Z
UID:fmf-AFLABS-URNIK:premaknjeno-srecanje:66868
ATTENDEE:2. letnik (Fizika, 1. stopnja)
CATEGORIES:Entry,Standard
COLOR:darkgreen
DESCRIPTION:Predmet: Matematika IV (FIZ-2)\, Vaje (V)\, [2]\nLetniki: 2. l
 etnik (Fizika\, 1. stopnja)\nIzvajalci: Janez Šter\nProstor: F1
LOCATION:F1
ORGANIZER:Janez Šter
RELATED-TO:fmf-AFLABS-URNIK:srecanje:4271
X-WR-TIMEZONE:Europe/Ljubljana
END:VEVENT
BEGIN:VEVENT
SUMMARY:Matematika IV (FIZ-2)\, Vaje (V)\, [2]
DTSTART;TZID=Europe/Ljubljana:20200305T080000
DTEND;TZID=Europe/Ljubljana:20200305T100000
DTSTAMP:20260426T004956Z
UID:fmf-AFLABS-URNIK:premaknjeno-srecanje:66869
ATTENDEE:2. letnik (Fizika, 1. stopnja)
CATEGORIES:Entry,Standard
COLOR:darkgreen
DESCRIPTION:Predmet: Matematika IV (FIZ-2)\, Vaje (V)\, [2]\nLetniki: 2. l
 etnik (Fizika\, 1. stopnja)\nIzvajalci: Janez Šter\nProstor: F1
LOCATION:F1
ORGANIZER:Janez Šter
RELATED-TO:fmf-AFLABS-URNIK:srecanje:4271
X-WR-TIMEZONE:Europe/Ljubljana
END:VEVENT
BEGIN:VEVENT
SUMMARY:Matematika IV (FIZ-2)\, Vaje (V)\, [2]
DTSTART;TZID=Europe/Ljubljana:20200312T080000
DTEND;TZID=Europe/Ljubljana:20200312T100000
DTSTAMP:20260426T004956Z
UID:fmf-AFLABS-URNIK:premaknjeno-srecanje:66870
ATTENDEE:2. letnik (Fizika, 1. stopnja)
CATEGORIES:Entry,Standard
COLOR:darkgreen
DESCRIPTION:Predmet: Matematika IV (FIZ-2)\, Vaje (V)\, [2]\nLetniki: 2. l
 etnik (Fizika\, 1. stopnja)\nIzvajalci: Janez Šter\nProstor: F1
LOCATION:F1
ORGANIZER:Janez Šter
RELATED-TO:fmf-AFLABS-URNIK:srecanje:4271
X-WR-TIMEZONE:Europe/Ljubljana
END:VEVENT
BEGIN:VEVENT
SUMMARY:Matematika IV (FIZ-2)\, Vaje (V)\, [2]
DTSTART;TZID=Europe/Ljubljana:20200319T080000
DTEND;TZID=Europe/Ljubljana:20200319T100000
DTSTAMP:20260426T004956Z
UID:fmf-AFLABS-URNIK:premaknjeno-srecanje:66871
ATTENDEE:2. letnik (Fizika, 1. stopnja)
CATEGORIES:Entry,Standard
COLOR:darkgreen
DESCRIPTION:Predmet: Matematika IV (FIZ-2)\, Vaje (V)\, [2]\nLetniki: 2. l
 etnik (Fizika\, 1. stopnja)\nIzvajalci: Janez Šter\nProstor: F1
LOCATION:F1
ORGANIZER:Janez Šter
RELATED-TO:fmf-AFLABS-URNIK:srecanje:4271
X-WR-TIMEZONE:Europe/Ljubljana
END:VEVENT
BEGIN:VEVENT
SUMMARY:Matematika IV (FIZ-2)\, Vaje (V)\, [2]
DTSTART;TZID=Europe/Ljubljana:20200326T080000
DTEND;TZID=Europe/Ljubljana:20200326T100000
DTSTAMP:20260426T004956Z
UID:fmf-AFLABS-URNIK:premaknjeno-srecanje:66872
ATTENDEE:2. letnik (Fizika, 1. stopnja)
CATEGORIES:Entry,Standard
COLOR:darkgreen
DESCRIPTION:Predmet: Matematika IV (FIZ-2)\, Vaje (V)\, [2]\nLetniki: 2. l
 etnik (Fizika\, 1. stopnja)\nIzvajalci: Janez Šter\nProstor: F1
LOCATION:F1
ORGANIZER:Janez Šter
RELATED-TO:fmf-AFLABS-URNIK:srecanje:4271
X-WR-TIMEZONE:Europe/Ljubljana
END:VEVENT
BEGIN:VEVENT
SUMMARY:Matematika IV (FIZ-2)\, Vaje (V)\, [2]
DTSTART;TZID=Europe/Ljubljana:20200402T080000
DTEND;TZID=Europe/Ljubljana:20200402T100000
DTSTAMP:20260426T004956Z
UID:fmf-AFLABS-URNIK:premaknjeno-srecanje:66873
ATTENDEE:2. letnik (Fizika, 1. stopnja)
CATEGORIES:Entry,Standard
COLOR:darkgreen
DESCRIPTION:Predmet: Matematika IV (FIZ-2)\, Vaje (V)\, [2]\nLetniki: 2. l
 etnik (Fizika\, 1. stopnja)\nIzvajalci: Janez Šter\nProstor: F1
LOCATION:F1
ORGANIZER:Janez Šter
RELATED-TO:fmf-AFLABS-URNIK:srecanje:4271
X-WR-TIMEZONE:Europe/Ljubljana
END:VEVENT
BEGIN:VEVENT
SUMMARY:Matematika IV (FIZ-2)\, Vaje (V)\, [2]
DTSTART;TZID=Europe/Ljubljana:20200409T080000
DTEND;TZID=Europe/Ljubljana:20200409T100000
DTSTAMP:20260426T004956Z
UID:fmf-AFLABS-URNIK:premaknjeno-srecanje:66874
ATTENDEE:2. letnik (Fizika, 1. stopnja)
CATEGORIES:Entry,Standard
COLOR:darkgreen
DESCRIPTION:Predmet: Matematika IV (FIZ-2)\, Vaje (V)\, [2]\nLetniki: 2. l
 etnik (Fizika\, 1. stopnja)\nIzvajalci: Janez Šter\nProstor: F1
LOCATION:F1
ORGANIZER:Janez Šter
RELATED-TO:fmf-AFLABS-URNIK:srecanje:4271
X-WR-TIMEZONE:Europe/Ljubljana
END:VEVENT
BEGIN:VEVENT
SUMMARY:Matematika IV (FIZ-2)\, Vaje (V)\, [2]
DTSTART;TZID=Europe/Ljubljana:20200416T080000
DTEND;TZID=Europe/Ljubljana:20200416T100000
DTSTAMP:20260426T004956Z
UID:fmf-AFLABS-URNIK:premaknjeno-srecanje:66875
ATTENDEE:2. letnik (Fizika, 1. stopnja)
CATEGORIES:Entry,Standard
COLOR:darkgreen
DESCRIPTION:Predmet: Matematika IV (FIZ-2)\, Vaje (V)\, [2]\nLetniki: 2. l
 etnik (Fizika\, 1. stopnja)\nIzvajalci: Janez Šter\nProstor: F1
LOCATION:F1
ORGANIZER:Janez Šter
RELATED-TO:fmf-AFLABS-URNIK:srecanje:4271
X-WR-TIMEZONE:Europe/Ljubljana
END:VEVENT
BEGIN:VEVENT
SUMMARY:Matematika IV (FIZ-2)\, Vaje (V)\, [2]
DTSTART;TZID=Europe/Ljubljana:20200423T080000
DTEND;TZID=Europe/Ljubljana:20200423T100000
DTSTAMP:20260426T004956Z
UID:fmf-AFLABS-URNIK:premaknjeno-srecanje:66876
ATTENDEE:2. letnik (Fizika, 1. stopnja)
CATEGORIES:Entry,Standard
COLOR:darkgreen
DESCRIPTION:Predmet: Matematika IV (FIZ-2)\, Vaje (V)\, [2]\nLetniki: 2. l
 etnik (Fizika\, 1. stopnja)\nIzvajalci: Janez Šter\nProstor: F1
LOCATION:F1
ORGANIZER:Janez Šter
RELATED-TO:fmf-AFLABS-URNIK:srecanje:4271
X-WR-TIMEZONE:Europe/Ljubljana
END:VEVENT
BEGIN:VEVENT
SUMMARY:Matematika IV (FIZ-2)\, Vaje (V)\, [2]
DTSTART;TZID=Europe/Ljubljana:20200430T080000
DTEND;TZID=Europe/Ljubljana:20200430T100000
DTSTAMP:20260426T004956Z
UID:fmf-AFLABS-URNIK:premaknjeno-srecanje:66877
ATTENDEE:2. letnik (Fizika, 1. stopnja)
CATEGORIES:Entry,Standard
COLOR:darkgreen
DESCRIPTION:Predmet: Matematika IV (FIZ-2)\, Vaje (V)\, [2]\nLetniki: 2. l
 etnik (Fizika\, 1. stopnja)\nIzvajalci: Janez Šter\nProstor: F1
LOCATION:F1
ORGANIZER:Janez Šter
RELATED-TO:fmf-AFLABS-URNIK:srecanje:4271
X-WR-TIMEZONE:Europe/Ljubljana
END:VEVENT
BEGIN:VEVENT
SUMMARY:Matematika IV (FIZ-2)\, Vaje (V)\, [2]
DTSTART;TZID=Europe/Ljubljana:20200507T080000
DTEND;TZID=Europe/Ljubljana:20200507T100000
DTSTAMP:20260426T004956Z
UID:fmf-AFLABS-URNIK:premaknjeno-srecanje:66878
ATTENDEE:2. letnik (Fizika, 1. stopnja)
CATEGORIES:Entry,Standard
COLOR:darkgreen
DESCRIPTION:Predmet: Matematika IV (FIZ-2)\, Vaje (V)\, [2]\nLetniki: 2. l
 etnik (Fizika\, 1. stopnja)\nIzvajalci: Janez Šter\nProstor: F1
LOCATION:F1
ORGANIZER:Janez Šter
RELATED-TO:fmf-AFLABS-URNIK:srecanje:4271
X-WR-TIMEZONE:Europe/Ljubljana
END:VEVENT
BEGIN:VEVENT
SUMMARY:Matematika IV (FIZ-2)\, Vaje (V)\, [2]
DTSTART;TZID=Europe/Ljubljana:20200514T080000
DTEND;TZID=Europe/Ljubljana:20200514T100000
DTSTAMP:20260426T004956Z
UID:fmf-AFLABS-URNIK:premaknjeno-srecanje:66879
ATTENDEE:2. letnik (Fizika, 1. stopnja)
CATEGORIES:Entry,Standard
COLOR:darkgreen
DESCRIPTION:Predmet: Matematika IV (FIZ-2)\, Vaje (V)\, [2]\nLetniki: 2. l
 etnik (Fizika\, 1. stopnja)\nIzvajalci: Janez Šter\nProstor: F1
LOCATION:F1
ORGANIZER:Janez Šter
RELATED-TO:fmf-AFLABS-URNIK:srecanje:4271
X-WR-TIMEZONE:Europe/Ljubljana
END:VEVENT
BEGIN:VEVENT
SUMMARY:Matematika IV (FIZ-2)\, Vaje (V)\, [2]
DTSTART;TZID=Europe/Ljubljana:20200521T080000
DTEND;TZID=Europe/Ljubljana:20200521T100000
DTSTAMP:20260426T004956Z
UID:fmf-AFLABS-URNIK:premaknjeno-srecanje:66880
ATTENDEE:2. letnik (Fizika, 1. stopnja)
CATEGORIES:Entry,Standard
COLOR:darkgreen
DESCRIPTION:Predmet: Matematika IV (FIZ-2)\, Vaje (V)\, [2]\nLetniki: 2. l
 etnik (Fizika\, 1. stopnja)\nIzvajalci: Janez Šter\nProstor: F1
LOCATION:F1
ORGANIZER:Janez Šter
RELATED-TO:fmf-AFLABS-URNIK:srecanje:4271
X-WR-TIMEZONE:Europe/Ljubljana
END:VEVENT
BEGIN:VEVENT
SUMMARY:Matematika IV (FIZ-2)\, Vaje (V)\, [2]
DTSTART;TZID=Europe/Ljubljana:20200528T080000
DTEND;TZID=Europe/Ljubljana:20200528T100000
DTSTAMP:20260426T004956Z
UID:fmf-AFLABS-URNIK:premaknjeno-srecanje:66881
ATTENDEE:2. letnik (Fizika, 1. stopnja)
CATEGORIES:Entry,Standard
COLOR:darkgreen
DESCRIPTION:Predmet: Matematika IV (FIZ-2)\, Vaje (V)\, [2]\nLetniki: 2. l
 etnik (Fizika\, 1. stopnja)\nIzvajalci: Janez Šter\nProstor: F1
LOCATION:F1
ORGANIZER:Janez Šter
RELATED-TO:fmf-AFLABS-URNIK:srecanje:4271
X-WR-TIMEZONE:Europe/Ljubljana
END:VEVENT
END:VCALENDAR
