BEGIN:VCALENDAR
VERSION:2.0
PRODID:-//AFLabs urnik izvoz - fmf//aflabs.si//SI
DTSTAMP:20260423T001042Z
NAME:UL FMF urnik
REFRESH-INTERVAL:PT1H
SOURCE:https://urnik.fmf.uni-lj.si/teacher/241?day=2022-01-24&export=1
URL:https://urnik.fmf.uni-lj.si/teacher/241?day=2022-01-24&export=1
X-PUBLISHED-TTL:PT1H
X-WR-CALNAME:UL FMF urnik
X-WR-TIMEZONE:Europe/Ljubljana
BEGIN:VTIMEZONE
TZID:Europe/Ljubljana
BEGIN:DAYLIGHT
DTSTART:20260329T020000
RDATE:20260329T020000
RDATE:20270328T020000
TZNAME:CEST
TZOFFSETFROM:+0100
TZOFFSETTO:+0200
END:DAYLIGHT
BEGIN:STANDARD
DTSTART:20261025T030000
RDATE:20261025T030000
RDATE:20271031T030000
TZNAME:CET
TZOFFSETFROM:+0200
TZOFFSETTO:+0100
END:STANDARD
END:VTIMEZONE
BEGIN:VEVENT
SUMMARY:Matematika (FFA) ()\, Vaje (V)
DTSTART;TZID=Europe/Ljubljana:20211220T160000
DTEND;TZID=Europe/Ljubljana:20211220T180000
DTSTAMP:20260423T001042Z
UID:fmf-AFLABS-URNIK:premaknjeno-srecanje:61380
CATEGORIES:Entry,Standard
COLOR:darkgreen
DESCRIPTION:Predmet: Matematika (FFA) ()\, Vaje (V)\nLetniki: \nIzvajalci:
  Janez Šter\nProstor: FFA
LOCATION:FFA
ORGANIZER:Janez Šter
RELATED-TO:fmf-AFLABS-URNIK:srecanje:6397
X-WR-TIMEZONE:Europe/Ljubljana
END:VEVENT
BEGIN:VEVENT
SUMMARY:Matematika (FFA) ()\, Vaje (V)
DTSTART;TZID=Europe/Ljubljana:20211227T160000
DTEND;TZID=Europe/Ljubljana:20211227T180000
DTSTAMP:20260423T001042Z
UID:fmf-AFLABS-URNIK:premaknjeno-srecanje:61381
CATEGORIES:Entry,Standard
COLOR:darkgreen
DESCRIPTION:Predmet: Matematika (FFA) ()\, Vaje (V)\nLetniki: \nIzvajalci:
  Janez Šter\nProstor: FFA
LOCATION:FFA
ORGANIZER:Janez Šter
RELATED-TO:fmf-AFLABS-URNIK:srecanje:6397
X-WR-TIMEZONE:Europe/Ljubljana
END:VEVENT
BEGIN:VEVENT
SUMMARY:Matematika (FFA) ()\, Vaje (V)
DTSTART;TZID=Europe/Ljubljana:20220103T160000
DTEND;TZID=Europe/Ljubljana:20220103T180000
DTSTAMP:20260423T001042Z
UID:fmf-AFLABS-URNIK:premaknjeno-srecanje:61382
CATEGORIES:Entry,Standard
COLOR:darkgreen
DESCRIPTION:Predmet: Matematika (FFA) ()\, Vaje (V)\nLetniki: \nIzvajalci:
  Janez Šter\nProstor: FFA
LOCATION:FFA
ORGANIZER:Janez Šter
RELATED-TO:fmf-AFLABS-URNIK:srecanje:6397
X-WR-TIMEZONE:Europe/Ljubljana
END:VEVENT
BEGIN:VEVENT
SUMMARY:Matematika (FFA) ()\, Vaje (V)
DTSTART;TZID=Europe/Ljubljana:20220110T160000
DTEND;TZID=Europe/Ljubljana:20220110T180000
DTSTAMP:20260423T001042Z
UID:fmf-AFLABS-URNIK:premaknjeno-srecanje:61383
CATEGORIES:Entry,Standard
COLOR:darkgreen
DESCRIPTION:Predmet: Matematika (FFA) ()\, Vaje (V)\nLetniki: \nIzvajalci:
  Janez Šter\nProstor: FFA
LOCATION:FFA
ORGANIZER:Janez Šter
RELATED-TO:fmf-AFLABS-URNIK:srecanje:6397
X-WR-TIMEZONE:Europe/Ljubljana
END:VEVENT
BEGIN:VEVENT
SUMMARY:Matematika 2 (KI) ()\, Predavanja (P)
DTSTART;TZID=Europe/Ljubljana:20211220T130000
DTEND;TZID=Europe/Ljubljana:20211220T160000
DTSTAMP:20260423T001042Z
UID:fmf-AFLABS-URNIK:premaknjeno-srecanje:63544
CATEGORIES:Entry,Standard
COLOR:darkgreen
DESCRIPTION:Predmet: Matematika 2 (KI) ()\, Predavanja (P)\nLetniki: \nIzv
 ajalci: Janez Šter\nProstor: FKKT
LOCATION:FKKT
ORGANIZER:Janez Šter
RELATED-TO:fmf-AFLABS-URNIK:srecanje:6402
X-WR-TIMEZONE:Europe/Ljubljana
END:VEVENT
BEGIN:VEVENT
SUMMARY:Matematika 2 (KI) ()\, Predavanja (P)
DTSTART;TZID=Europe/Ljubljana:20211227T130000
DTEND;TZID=Europe/Ljubljana:20211227T160000
DTSTAMP:20260423T001042Z
UID:fmf-AFLABS-URNIK:premaknjeno-srecanje:63545
CATEGORIES:Entry,Standard
COLOR:darkgreen
DESCRIPTION:Predmet: Matematika 2 (KI) ()\, Predavanja (P)\nLetniki: \nIzv
 ajalci: Janez Šter\nProstor: FKKT
LOCATION:FKKT
ORGANIZER:Janez Šter
RELATED-TO:fmf-AFLABS-URNIK:srecanje:6402
X-WR-TIMEZONE:Europe/Ljubljana
END:VEVENT
BEGIN:VEVENT
SUMMARY:Matematika 2 (KI) ()\, Predavanja (P)
DTSTART;TZID=Europe/Ljubljana:20220103T130000
DTEND;TZID=Europe/Ljubljana:20220103T160000
DTSTAMP:20260423T001042Z
UID:fmf-AFLABS-URNIK:premaknjeno-srecanje:63546
CATEGORIES:Entry,Standard
COLOR:darkgreen
DESCRIPTION:Predmet: Matematika 2 (KI) ()\, Predavanja (P)\nLetniki: \nIzv
 ajalci: Janez Šter\nProstor: FKKT
LOCATION:FKKT
ORGANIZER:Janez Šter
RELATED-TO:fmf-AFLABS-URNIK:srecanje:6402
X-WR-TIMEZONE:Europe/Ljubljana
END:VEVENT
BEGIN:VEVENT
SUMMARY:Matematika 2 (KI) ()\, Predavanja (P)
DTSTART;TZID=Europe/Ljubljana:20220110T130000
DTEND;TZID=Europe/Ljubljana:20220110T160000
DTSTAMP:20260423T001042Z
UID:fmf-AFLABS-URNIK:premaknjeno-srecanje:63547
CATEGORIES:Entry,Standard
COLOR:darkgreen
DESCRIPTION:Predmet: Matematika 2 (KI) ()\, Predavanja (P)\nLetniki: \nIzv
 ajalci: Janez Šter\nProstor: FKKT
LOCATION:FKKT
ORGANIZER:Janez Šter
RELATED-TO:fmf-AFLABS-URNIK:srecanje:6402
X-WR-TIMEZONE:Europe/Ljubljana
END:VEVENT
BEGIN:VEVENT
SUMMARY:Algebra 2 (FM-3\, MAT-2\, PM-2)\, Vaje (V)\, [2]
DTSTART;TZID=Europe/Ljubljana:20211223T120000
DTEND;TZID=Europe/Ljubljana:20211223T140000
DTSTAMP:20260423T001042Z
UID:fmf-AFLABS-URNIK:premaknjeno-srecanje:3182
ATTENDEE:2. letnik (M)
ATTENDEE:2. letnik (PM)
ATTENDEE:3. letnik (FM)
CATEGORIES:Entry,Standard
COLOR:darkgreen
DESCRIPTION:Predmet: Algebra 2 (FM-3\, MAT-2\, PM-2)\, Vaje (V)\, [2]\nLet
 niki: 3. letnik (FM)\, 2. letnik (M)\, 2. letnik (PM)\nIzvajalci: Janez Š
 ter\nProstor: 3.05
LOCATION:3.05
ORGANIZER:Janez Šter
RELATED-TO:fmf-AFLABS-URNIK:srecanje:6703
X-WR-TIMEZONE:Europe/Ljubljana
END:VEVENT
BEGIN:VEVENT
SUMMARY:Algebra 2 (FM-3\, MAT-2\, PM-2)\, Vaje (V)\, [2]
DTSTART;TZID=Europe/Ljubljana:20211230T120000
DTEND;TZID=Europe/Ljubljana:20211230T140000
DTSTAMP:20260423T001042Z
UID:fmf-AFLABS-URNIK:premaknjeno-srecanje:3183
ATTENDEE:2. letnik (M)
ATTENDEE:2. letnik (PM)
ATTENDEE:3. letnik (FM)
CATEGORIES:Entry,Standard
COLOR:darkgreen
DESCRIPTION:Predmet: Algebra 2 (FM-3\, MAT-2\, PM-2)\, Vaje (V)\, [2]\nLet
 niki: 3. letnik (FM)\, 2. letnik (M)\, 2. letnik (PM)\nIzvajalci: Janez Š
 ter\nProstor: 3.05
LOCATION:3.05
ORGANIZER:Janez Šter
RELATED-TO:fmf-AFLABS-URNIK:srecanje:6703
X-WR-TIMEZONE:Europe/Ljubljana
END:VEVENT
BEGIN:VEVENT
SUMMARY:Algebra 2 (FM-3\, MAT-2\, PM-2)\, Vaje (V)\, [2]
DTSTART;TZID=Europe/Ljubljana:20220106T120000
DTEND;TZID=Europe/Ljubljana:20220106T140000
DTSTAMP:20260423T001042Z
UID:fmf-AFLABS-URNIK:premaknjeno-srecanje:3184
ATTENDEE:2. letnik (M)
ATTENDEE:2. letnik (PM)
ATTENDEE:3. letnik (FM)
CATEGORIES:Entry,Standard
COLOR:darkgreen
DESCRIPTION:Predmet: Algebra 2 (FM-3\, MAT-2\, PM-2)\, Vaje (V)\, [2]\nLet
 niki: 3. letnik (FM)\, 2. letnik (M)\, 2. letnik (PM)\nIzvajalci: Janez Š
 ter\nProstor: 3.05
LOCATION:3.05
ORGANIZER:Janez Šter
RELATED-TO:fmf-AFLABS-URNIK:srecanje:6703
X-WR-TIMEZONE:Europe/Ljubljana
END:VEVENT
BEGIN:VEVENT
SUMMARY:Algebra 2 (FM-3\, MAT-2\, PM-2)\, Vaje (V)\, [2]
DTSTART;TZID=Europe/Ljubljana:20220113T120000
DTEND;TZID=Europe/Ljubljana:20220113T140000
DTSTAMP:20260423T001042Z
UID:fmf-AFLABS-URNIK:premaknjeno-srecanje:3185
ATTENDEE:2. letnik (M)
ATTENDEE:2. letnik (PM)
ATTENDEE:3. letnik (FM)
CATEGORIES:Entry,Standard
COLOR:darkgreen
DESCRIPTION:Predmet: Algebra 2 (FM-3\, MAT-2\, PM-2)\, Vaje (V)\, [2]\nLet
 niki: 3. letnik (FM)\, 2. letnik (M)\, 2. letnik (PM)\nIzvajalci: Janez Š
 ter\nProstor: 3.05
LOCATION:3.05
ORGANIZER:Janez Šter
RELATED-TO:fmf-AFLABS-URNIK:srecanje:6703
X-WR-TIMEZONE:Europe/Ljubljana
END:VEVENT
BEGIN:VEVENT
SUMMARY:Algebra 2 (FM-3\, MAT-2\, PM-2)\, Vaje (V)\, [1]
DTSTART;TZID=Europe/Ljubljana:20211224T120000
DTEND;TZID=Europe/Ljubljana:20211224T140000
DTSTAMP:20260423T001042Z
UID:fmf-AFLABS-URNIK:premaknjeno-srecanje:3167
ATTENDEE:2. letnik (M)
ATTENDEE:2. letnik (PM)
ATTENDEE:3. letnik (FM)
CATEGORIES:Entry,Standard
COLOR:darkgreen
DESCRIPTION:Predmet: Algebra 2 (FM-3\, MAT-2\, PM-2)\, Vaje (V)\, [1]\nLet
 niki: 3. letnik (FM)\, 2. letnik (M)\, 2. letnik (PM)\nIzvajalci: Janez Š
 ter\nProstor: P.01
LOCATION:P.01
ORGANIZER:Janez Šter
RELATED-TO:fmf-AFLABS-URNIK:srecanje:6099
X-WR-TIMEZONE:Europe/Ljubljana
END:VEVENT
BEGIN:VEVENT
SUMMARY:Algebra 2 (FM-3\, MAT-2\, PM-2)\, Vaje (V)\, [1]
DTSTART;TZID=Europe/Ljubljana:20211231T120000
DTEND;TZID=Europe/Ljubljana:20211231T140000
DTSTAMP:20260423T001042Z
UID:fmf-AFLABS-URNIK:premaknjeno-srecanje:3168
ATTENDEE:2. letnik (M)
ATTENDEE:2. letnik (PM)
ATTENDEE:3. letnik (FM)
CATEGORIES:Entry,Standard
COLOR:darkgreen
DESCRIPTION:Predmet: Algebra 2 (FM-3\, MAT-2\, PM-2)\, Vaje (V)\, [1]\nLet
 niki: 3. letnik (FM)\, 2. letnik (M)\, 2. letnik (PM)\nIzvajalci: Janez Š
 ter\nProstor: P.01
LOCATION:P.01
ORGANIZER:Janez Šter
RELATED-TO:fmf-AFLABS-URNIK:srecanje:6099
X-WR-TIMEZONE:Europe/Ljubljana
END:VEVENT
BEGIN:VEVENT
SUMMARY:Algebra 2 (FM-3\, MAT-2\, PM-2)\, Vaje (V)\, [1]
DTSTART;TZID=Europe/Ljubljana:20220107T120000
DTEND;TZID=Europe/Ljubljana:20220107T140000
DTSTAMP:20260423T001042Z
UID:fmf-AFLABS-URNIK:premaknjeno-srecanje:3169
ATTENDEE:2. letnik (M)
ATTENDEE:2. letnik (PM)
ATTENDEE:3. letnik (FM)
CATEGORIES:Entry,Standard
COLOR:darkgreen
DESCRIPTION:Predmet: Algebra 2 (FM-3\, MAT-2\, PM-2)\, Vaje (V)\, [1]\nLet
 niki: 3. letnik (FM)\, 2. letnik (M)\, 2. letnik (PM)\nIzvajalci: Janez Š
 ter\nProstor: P.01
LOCATION:P.01
ORGANIZER:Janez Šter
RELATED-TO:fmf-AFLABS-URNIK:srecanje:6099
X-WR-TIMEZONE:Europe/Ljubljana
END:VEVENT
BEGIN:VEVENT
SUMMARY:Algebra 2 (FM-3\, MAT-2\, PM-2)\, Vaje (V)\, [1]
DTSTART;TZID=Europe/Ljubljana:20220114T120000
DTEND;TZID=Europe/Ljubljana:20220114T140000
DTSTAMP:20260423T001042Z
UID:fmf-AFLABS-URNIK:premaknjeno-srecanje:3170
ATTENDEE:2. letnik (M)
ATTENDEE:2. letnik (PM)
ATTENDEE:3. letnik (FM)
CATEGORIES:Entry,Standard
COLOR:darkgreen
DESCRIPTION:Predmet: Algebra 2 (FM-3\, MAT-2\, PM-2)\, Vaje (V)\, [1]\nLet
 niki: 3. letnik (FM)\, 2. letnik (M)\, 2. letnik (PM)\nIzvajalci: Janez Š
 ter\nProstor: P.01
LOCATION:P.01
ORGANIZER:Janez Šter
RELATED-TO:fmf-AFLABS-URNIK:srecanje:6099
X-WR-TIMEZONE:Europe/Ljubljana
END:VEVENT
BEGIN:VEVENT
SUMMARY:Algebra 2 (FM-3\, MAT-2\, PM-2)\, Vaje (V)\, [1]
DTSTART;TZID=Europe/Ljubljana:20220214T140000
DTEND;TZID=Europe/Ljubljana:20220214T160000
DTSTAMP:20260423T001042Z
UID:fmf-AFLABS-URNIK:premaknjeno-srecanje:3139
ATTENDEE:2. letnik (M)
ATTENDEE:2. letnik (PM)
ATTENDEE:3. letnik (FM)
CATEGORIES:Entry,Standard
COLOR:darkgreen
DESCRIPTION:Predmet: Algebra 2 (FM-3\, MAT-2\, PM-2)\, Vaje (V)\, [1]\nLet
 niki: 3. letnik (FM)\, 2. letnik (M)\, 2. letnik (PM)\nIzvajalci: Janez Š
 ter\nProstor: 2.04
LOCATION:2.04
ORGANIZER:Janez Šter
RELATED-TO:fmf-AFLABS-URNIK:srecanje:6826
X-WR-TIMEZONE:Europe/Ljubljana
END:VEVENT
BEGIN:VEVENT
SUMMARY:Algebra 2 (FM-3\, MAT-2\, PM-2)\, Vaje (V)\, [1]
DTSTART;TZID=Europe/Ljubljana:20220221T140000
DTEND;TZID=Europe/Ljubljana:20220221T160000
DTSTAMP:20260423T001042Z
UID:fmf-AFLABS-URNIK:premaknjeno-srecanje:3140
ATTENDEE:2. letnik (M)
ATTENDEE:2. letnik (PM)
ATTENDEE:3. letnik (FM)
CATEGORIES:Entry,Standard
COLOR:darkgreen
DESCRIPTION:Predmet: Algebra 2 (FM-3\, MAT-2\, PM-2)\, Vaje (V)\, [1]\nLet
 niki: 3. letnik (FM)\, 2. letnik (M)\, 2. letnik (PM)\nIzvajalci: Janez Š
 ter\nProstor: 2.04
LOCATION:2.04
ORGANIZER:Janez Šter
RELATED-TO:fmf-AFLABS-URNIK:srecanje:6826
X-WR-TIMEZONE:Europe/Ljubljana
END:VEVENT
BEGIN:VEVENT
SUMMARY:Algebra 2 (FM-3\, MAT-2\, PM-2)\, Vaje (V)\, [1]
DTSTART;TZID=Europe/Ljubljana:20220228T140000
DTEND;TZID=Europe/Ljubljana:20220228T160000
DTSTAMP:20260423T001042Z
UID:fmf-AFLABS-URNIK:premaknjeno-srecanje:3141
ATTENDEE:2. letnik (M)
ATTENDEE:2. letnik (PM)
ATTENDEE:3. letnik (FM)
CATEGORIES:Entry,Standard
COLOR:darkgreen
DESCRIPTION:Predmet: Algebra 2 (FM-3\, MAT-2\, PM-2)\, Vaje (V)\, [1]\nLet
 niki: 3. letnik (FM)\, 2. letnik (M)\, 2. letnik (PM)\nIzvajalci: Janez Š
 ter\nProstor: 2.04
LOCATION:2.04
ORGANIZER:Janez Šter
RELATED-TO:fmf-AFLABS-URNIK:srecanje:6826
X-WR-TIMEZONE:Europe/Ljubljana
END:VEVENT
BEGIN:VEVENT
SUMMARY:Algebra 2 (FM-3\, MAT-2\, PM-2)\, Vaje (V)\, [2]
DTSTART;TZID=Europe/Ljubljana:20220218T120000
DTEND;TZID=Europe/Ljubljana:20220218T140000
DTSTAMP:20260423T001042Z
UID:fmf-AFLABS-URNIK:premaknjeno-srecanje:3186
ATTENDEE:2. letnik (M)
ATTENDEE:2. letnik (PM)
ATTENDEE:3. letnik (FM)
CATEGORIES:Entry,Standard
COLOR:darkgreen
DESCRIPTION:Predmet: Algebra 2 (FM-3\, MAT-2\, PM-2)\, Vaje (V)\, [2]\nLet
 niki: 3. letnik (FM)\, 2. letnik (M)\, 2. letnik (PM)\nIzvajalci: Janez Š
 ter\nProstor: P.01
LOCATION:P.01
ORGANIZER:Janez Šter
RELATED-TO:fmf-AFLABS-URNIK:srecanje:7366
X-WR-TIMEZONE:Europe/Ljubljana
END:VEVENT
BEGIN:VEVENT
SUMMARY:Algebra 2 (FM-3\, MAT-2\, PM-2)\, Vaje (V)\, [2]
DTSTART;TZID=Europe/Ljubljana:20220225T120000
DTEND;TZID=Europe/Ljubljana:20220225T140000
DTSTAMP:20260423T001042Z
UID:fmf-AFLABS-URNIK:premaknjeno-srecanje:3187
ATTENDEE:2. letnik (M)
ATTENDEE:2. letnik (PM)
ATTENDEE:3. letnik (FM)
CATEGORIES:Entry,Standard
COLOR:darkgreen
DESCRIPTION:Predmet: Algebra 2 (FM-3\, MAT-2\, PM-2)\, Vaje (V)\, [2]\nLet
 niki: 3. letnik (FM)\, 2. letnik (M)\, 2. letnik (PM)\nIzvajalci: Janez Š
 ter\nProstor: P.01
LOCATION:P.01
ORGANIZER:Janez Šter
RELATED-TO:fmf-AFLABS-URNIK:srecanje:7366
X-WR-TIMEZONE:Europe/Ljubljana
END:VEVENT
BEGIN:VEVENT
SUMMARY:Rezervacija
DTSTART;TZID=Europe/Ljubljana:20211221T180000
DTEND;TZID=Europe/Ljubljana:20211221T200000
DTSTAMP:20260423T001042Z
UID:fmf-AFLABS-URNIK:rezervacija:8151
ATTENDEE:2. letnik (M)
ATTENDEE:2. letnik (PM)
ATTENDEE:3. letnik (FM)
CATEGORIES:Reservation
COLOR:royalblue
DESCRIPTION:Predmeti: Algebra 2 (FM-3\, MAT-2\, PM-2)\nLetniki: 3. letnik 
 (FM)\, 2. letnik (M)\, 2. letnik (PM)\nIzvajalci: Janez Šter\nProstori: V
 FP
LOCATION:VFP
ORGANIZER:Janez Šter
X-WR-TIMEZONE:Europe/Ljubljana
END:VEVENT
BEGIN:VEVENT
SUMMARY:Rezervacija
DTSTART;TZID=Europe/Ljubljana:20220203T140000
DTEND;TZID=Europe/Ljubljana:20220203T170000
DTSTAMP:20260423T001042Z
UID:fmf-AFLABS-URNIK:rezervacija:8472
CATEGORIES:Reservation
COLOR:royalblue
DESCRIPTION:Predmeti: \nLetniki: \nIzvajalci: Janez Šter\nProstori: VFP
LOCATION:VFP
ORGANIZER:Janez Šter
X-WR-TIMEZONE:Europe/Ljubljana
END:VEVENT
END:VCALENDAR
