BEGIN:VCALENDAR
VERSION:2.0
PRODID:-//AFLabs urnik izvoz - fmf//aflabs.si//SI
DTSTAMP:20260425T155430Z
NAME:UL FMF urnik
REFRESH-INTERVAL:PT1H
SOURCE:https://urnik.fmf.uni-lj.si/teacher/24?day=2020-05-18&export=1
URL:https://urnik.fmf.uni-lj.si/teacher/24?day=2020-05-18&export=1
X-PUBLISHED-TTL:PT1H
X-WR-CALNAME:UL FMF urnik
X-WR-TIMEZONE:Europe/Ljubljana
BEGIN:VTIMEZONE
TZID:Europe/Ljubljana
BEGIN:DAYLIGHT
DTSTART:20260329T020000
RDATE:20260329T020000
RDATE:20270328T020000
TZNAME:CEST
TZOFFSETFROM:+0100
TZOFFSETTO:+0200
END:DAYLIGHT
BEGIN:STANDARD
DTSTART:20261025T030000
RDATE:20261025T030000
RDATE:20271031T030000
TZNAME:CET
TZOFFSETFROM:+0200
TZOFFSETTO:+0100
END:STANDARD
END:VTIMEZONE
BEGIN:VEVENT
SUMMARY:MAT (GOVEKAR-LEBAN) ()\, Vaje (V)
DTSTART;TZID=Europe/Ljubljana:20200218T100000
DTEND;TZID=Europe/Ljubljana:20200218T120000
DTSTAMP:20260425T155430Z
UID:fmf-AFLABS-URNIK:premaknjeno-srecanje:59017
CATEGORIES:Entry,Standard
COLOR:darkgreen
DESCRIPTION:Predmet: MAT (GOVEKAR-LEBAN) ()\, Vaje (V)\nLetniki: \nIzvajal
 ci: Darja Govekar-Leban\nProstor: NTF
LOCATION:NTF
ORGANIZER:Darja Govekar-Leban
RELATED-TO:fmf-AFLABS-URNIK:srecanje:4245
X-WR-TIMEZONE:Europe/Ljubljana
END:VEVENT
BEGIN:VEVENT
SUMMARY:MAT (GOVEKAR-LEBAN) ()\, Vaje (V)
DTSTART;TZID=Europe/Ljubljana:20200225T100000
DTEND;TZID=Europe/Ljubljana:20200225T120000
DTSTAMP:20260425T155430Z
UID:fmf-AFLABS-URNIK:premaknjeno-srecanje:59018
CATEGORIES:Entry,Standard
COLOR:darkgreen
DESCRIPTION:Predmet: MAT (GOVEKAR-LEBAN) ()\, Vaje (V)\nLetniki: \nIzvajal
 ci: Darja Govekar-Leban\nProstor: NTF
LOCATION:NTF
ORGANIZER:Darja Govekar-Leban
RELATED-TO:fmf-AFLABS-URNIK:srecanje:4245
X-WR-TIMEZONE:Europe/Ljubljana
END:VEVENT
BEGIN:VEVENT
SUMMARY:MAT (GOVEKAR-LEBAN) ()\, Vaje (V)
DTSTART;TZID=Europe/Ljubljana:20200303T100000
DTEND;TZID=Europe/Ljubljana:20200303T120000
DTSTAMP:20260425T155430Z
UID:fmf-AFLABS-URNIK:premaknjeno-srecanje:59019
CATEGORIES:Entry,Standard
COLOR:darkgreen
DESCRIPTION:Predmet: MAT (GOVEKAR-LEBAN) ()\, Vaje (V)\nLetniki: \nIzvajal
 ci: Darja Govekar-Leban\nProstor: NTF
LOCATION:NTF
ORGANIZER:Darja Govekar-Leban
RELATED-TO:fmf-AFLABS-URNIK:srecanje:4245
X-WR-TIMEZONE:Europe/Ljubljana
END:VEVENT
BEGIN:VEVENT
SUMMARY:MAT (GOVEKAR-LEBAN) ()\, Vaje (V)
DTSTART;TZID=Europe/Ljubljana:20200310T100000
DTEND;TZID=Europe/Ljubljana:20200310T120000
DTSTAMP:20260425T155430Z
UID:fmf-AFLABS-URNIK:premaknjeno-srecanje:59020
CATEGORIES:Entry,Standard
COLOR:darkgreen
DESCRIPTION:Predmet: MAT (GOVEKAR-LEBAN) ()\, Vaje (V)\nLetniki: \nIzvajal
 ci: Darja Govekar-Leban\nProstor: NTF
LOCATION:NTF
ORGANIZER:Darja Govekar-Leban
RELATED-TO:fmf-AFLABS-URNIK:srecanje:4245
X-WR-TIMEZONE:Europe/Ljubljana
END:VEVENT
BEGIN:VEVENT
SUMMARY:MAT (GOVEKAR-LEBAN) ()\, Vaje (V)
DTSTART;TZID=Europe/Ljubljana:20200317T100000
DTEND;TZID=Europe/Ljubljana:20200317T120000
DTSTAMP:20260425T155430Z
UID:fmf-AFLABS-URNIK:premaknjeno-srecanje:59021
CATEGORIES:Entry,Standard
COLOR:darkgreen
DESCRIPTION:Predmet: MAT (GOVEKAR-LEBAN) ()\, Vaje (V)\nLetniki: \nIzvajal
 ci: Darja Govekar-Leban\nProstor: NTF
LOCATION:NTF
ORGANIZER:Darja Govekar-Leban
RELATED-TO:fmf-AFLABS-URNIK:srecanje:4245
X-WR-TIMEZONE:Europe/Ljubljana
END:VEVENT
BEGIN:VEVENT
SUMMARY:MAT (GOVEKAR-LEBAN) ()\, Vaje (V)
DTSTART;TZID=Europe/Ljubljana:20200324T100000
DTEND;TZID=Europe/Ljubljana:20200324T120000
DTSTAMP:20260425T155430Z
UID:fmf-AFLABS-URNIK:premaknjeno-srecanje:59022
CATEGORIES:Entry,Standard
COLOR:darkgreen
DESCRIPTION:Predmet: MAT (GOVEKAR-LEBAN) ()\, Vaje (V)\nLetniki: \nIzvajal
 ci: Darja Govekar-Leban\nProstor: NTF
LOCATION:NTF
ORGANIZER:Darja Govekar-Leban
RELATED-TO:fmf-AFLABS-URNIK:srecanje:4245
X-WR-TIMEZONE:Europe/Ljubljana
END:VEVENT
BEGIN:VEVENT
SUMMARY:MAT (GOVEKAR-LEBAN) ()\, Vaje (V)
DTSTART;TZID=Europe/Ljubljana:20200331T100000
DTEND;TZID=Europe/Ljubljana:20200331T120000
DTSTAMP:20260425T155430Z
UID:fmf-AFLABS-URNIK:premaknjeno-srecanje:59023
CATEGORIES:Entry,Standard
COLOR:darkgreen
DESCRIPTION:Predmet: MAT (GOVEKAR-LEBAN) ()\, Vaje (V)\nLetniki: \nIzvajal
 ci: Darja Govekar-Leban\nProstor: NTF
LOCATION:NTF
ORGANIZER:Darja Govekar-Leban
RELATED-TO:fmf-AFLABS-URNIK:srecanje:4245
X-WR-TIMEZONE:Europe/Ljubljana
END:VEVENT
BEGIN:VEVENT
SUMMARY:MAT (GOVEKAR-LEBAN) ()\, Vaje (V)
DTSTART;TZID=Europe/Ljubljana:20200407T100000
DTEND;TZID=Europe/Ljubljana:20200407T120000
DTSTAMP:20260425T155430Z
UID:fmf-AFLABS-URNIK:premaknjeno-srecanje:59024
CATEGORIES:Entry,Standard
COLOR:darkgreen
DESCRIPTION:Predmet: MAT (GOVEKAR-LEBAN) ()\, Vaje (V)\nLetniki: \nIzvajal
 ci: Darja Govekar-Leban\nProstor: NTF
LOCATION:NTF
ORGANIZER:Darja Govekar-Leban
RELATED-TO:fmf-AFLABS-URNIK:srecanje:4245
X-WR-TIMEZONE:Europe/Ljubljana
END:VEVENT
BEGIN:VEVENT
SUMMARY:MAT (GOVEKAR-LEBAN) ()\, Vaje (V)
DTSTART;TZID=Europe/Ljubljana:20200414T100000
DTEND;TZID=Europe/Ljubljana:20200414T120000
DTSTAMP:20260425T155430Z
UID:fmf-AFLABS-URNIK:premaknjeno-srecanje:59025
CATEGORIES:Entry,Standard
COLOR:darkgreen
DESCRIPTION:Predmet: MAT (GOVEKAR-LEBAN) ()\, Vaje (V)\nLetniki: \nIzvajal
 ci: Darja Govekar-Leban\nProstor: NTF
LOCATION:NTF
ORGANIZER:Darja Govekar-Leban
RELATED-TO:fmf-AFLABS-URNIK:srecanje:4245
X-WR-TIMEZONE:Europe/Ljubljana
END:VEVENT
BEGIN:VEVENT
SUMMARY:MAT (GOVEKAR-LEBAN) ()\, Vaje (V)
DTSTART;TZID=Europe/Ljubljana:20200421T100000
DTEND;TZID=Europe/Ljubljana:20200421T120000
DTSTAMP:20260425T155430Z
UID:fmf-AFLABS-URNIK:premaknjeno-srecanje:59026
CATEGORIES:Entry,Standard
COLOR:darkgreen
DESCRIPTION:Predmet: MAT (GOVEKAR-LEBAN) ()\, Vaje (V)\nLetniki: \nIzvajal
 ci: Darja Govekar-Leban\nProstor: NTF
LOCATION:NTF
ORGANIZER:Darja Govekar-Leban
RELATED-TO:fmf-AFLABS-URNIK:srecanje:4245
X-WR-TIMEZONE:Europe/Ljubljana
END:VEVENT
BEGIN:VEVENT
SUMMARY:MAT (GOVEKAR-LEBAN) ()\, Vaje (V)
DTSTART;TZID=Europe/Ljubljana:20200428T100000
DTEND;TZID=Europe/Ljubljana:20200428T120000
DTSTAMP:20260425T155430Z
UID:fmf-AFLABS-URNIK:premaknjeno-srecanje:59027
CATEGORIES:Entry,Standard
COLOR:darkgreen
DESCRIPTION:Predmet: MAT (GOVEKAR-LEBAN) ()\, Vaje (V)\nLetniki: \nIzvajal
 ci: Darja Govekar-Leban\nProstor: NTF
LOCATION:NTF
ORGANIZER:Darja Govekar-Leban
RELATED-TO:fmf-AFLABS-URNIK:srecanje:4245
X-WR-TIMEZONE:Europe/Ljubljana
END:VEVENT
BEGIN:VEVENT
SUMMARY:MAT (GOVEKAR-LEBAN) ()\, Vaje (V)
DTSTART;TZID=Europe/Ljubljana:20200505T100000
DTEND;TZID=Europe/Ljubljana:20200505T120000
DTSTAMP:20260425T155430Z
UID:fmf-AFLABS-URNIK:premaknjeno-srecanje:59028
CATEGORIES:Entry,Standard
COLOR:darkgreen
DESCRIPTION:Predmet: MAT (GOVEKAR-LEBAN) ()\, Vaje (V)\nLetniki: \nIzvajal
 ci: Darja Govekar-Leban\nProstor: NTF
LOCATION:NTF
ORGANIZER:Darja Govekar-Leban
RELATED-TO:fmf-AFLABS-URNIK:srecanje:4245
X-WR-TIMEZONE:Europe/Ljubljana
END:VEVENT
BEGIN:VEVENT
SUMMARY:MAT (GOVEKAR-LEBAN) ()\, Vaje (V)
DTSTART;TZID=Europe/Ljubljana:20200512T100000
DTEND;TZID=Europe/Ljubljana:20200512T120000
DTSTAMP:20260425T155430Z
UID:fmf-AFLABS-URNIK:premaknjeno-srecanje:59029
CATEGORIES:Entry,Standard
COLOR:darkgreen
DESCRIPTION:Predmet: MAT (GOVEKAR-LEBAN) ()\, Vaje (V)\nLetniki: \nIzvajal
 ci: Darja Govekar-Leban\nProstor: NTF
LOCATION:NTF
ORGANIZER:Darja Govekar-Leban
RELATED-TO:fmf-AFLABS-URNIK:srecanje:4245
X-WR-TIMEZONE:Europe/Ljubljana
END:VEVENT
BEGIN:VEVENT
SUMMARY:MAT (GOVEKAR-LEBAN) ()\, Vaje (V)
DTSTART;TZID=Europe/Ljubljana:20200519T100000
DTEND;TZID=Europe/Ljubljana:20200519T120000
DTSTAMP:20260425T155430Z
UID:fmf-AFLABS-URNIK:premaknjeno-srecanje:59030
CATEGORIES:Entry,Standard
COLOR:darkgreen
DESCRIPTION:Predmet: MAT (GOVEKAR-LEBAN) ()\, Vaje (V)\nLetniki: \nIzvajal
 ci: Darja Govekar-Leban\nProstor: NTF
LOCATION:NTF
ORGANIZER:Darja Govekar-Leban
RELATED-TO:fmf-AFLABS-URNIK:srecanje:4245
X-WR-TIMEZONE:Europe/Ljubljana
END:VEVENT
BEGIN:VEVENT
SUMMARY:MAT (GOVEKAR-LEBAN) ()\, Vaje (V)
DTSTART;TZID=Europe/Ljubljana:20200526T100000
DTEND;TZID=Europe/Ljubljana:20200526T120000
DTSTAMP:20260425T155430Z
UID:fmf-AFLABS-URNIK:premaknjeno-srecanje:59031
CATEGORIES:Entry,Standard
COLOR:darkgreen
DESCRIPTION:Predmet: MAT (GOVEKAR-LEBAN) ()\, Vaje (V)\nLetniki: \nIzvajal
 ci: Darja Govekar-Leban\nProstor: NTF
LOCATION:NTF
ORGANIZER:Darja Govekar-Leban
RELATED-TO:fmf-AFLABS-URNIK:srecanje:4245
X-WR-TIMEZONE:Europe/Ljubljana
END:VEVENT
BEGIN:VEVENT
SUMMARY:MAT (GOVEKAR-LEBAN) ()\, Vaje (V)
DTSTART;TZID=Europe/Ljubljana:20200219T100000
DTEND;TZID=Europe/Ljubljana:20200219T120000
DTSTAMP:20260425T155430Z
UID:fmf-AFLABS-URNIK:premaknjeno-srecanje:59064
CATEGORIES:Entry,Standard
COLOR:darkgreen
DESCRIPTION:Predmet: MAT (GOVEKAR-LEBAN) ()\, Vaje (V)\nLetniki: \nIzvajal
 ci: Darja Govekar-Leban\nProstor: NTF
LOCATION:NTF
ORGANIZER:Darja Govekar-Leban
RELATED-TO:fmf-AFLABS-URNIK:srecanje:4246
X-WR-TIMEZONE:Europe/Ljubljana
END:VEVENT
BEGIN:VEVENT
SUMMARY:MAT (GOVEKAR-LEBAN) ()\, Vaje (V)
DTSTART;TZID=Europe/Ljubljana:20200226T100000
DTEND;TZID=Europe/Ljubljana:20200226T120000
DTSTAMP:20260425T155430Z
UID:fmf-AFLABS-URNIK:premaknjeno-srecanje:59065
CATEGORIES:Entry,Standard
COLOR:darkgreen
DESCRIPTION:Predmet: MAT (GOVEKAR-LEBAN) ()\, Vaje (V)\nLetniki: \nIzvajal
 ci: Darja Govekar-Leban\nProstor: NTF
LOCATION:NTF
ORGANIZER:Darja Govekar-Leban
RELATED-TO:fmf-AFLABS-URNIK:srecanje:4246
X-WR-TIMEZONE:Europe/Ljubljana
END:VEVENT
BEGIN:VEVENT
SUMMARY:MAT (GOVEKAR-LEBAN) ()\, Vaje (V)
DTSTART;TZID=Europe/Ljubljana:20200304T100000
DTEND;TZID=Europe/Ljubljana:20200304T120000
DTSTAMP:20260425T155430Z
UID:fmf-AFLABS-URNIK:premaknjeno-srecanje:59066
CATEGORIES:Entry,Standard
COLOR:darkgreen
DESCRIPTION:Predmet: MAT (GOVEKAR-LEBAN) ()\, Vaje (V)\nLetniki: \nIzvajal
 ci: Darja Govekar-Leban\nProstor: NTF
LOCATION:NTF
ORGANIZER:Darja Govekar-Leban
RELATED-TO:fmf-AFLABS-URNIK:srecanje:4246
X-WR-TIMEZONE:Europe/Ljubljana
END:VEVENT
BEGIN:VEVENT
SUMMARY:MAT (GOVEKAR-LEBAN) ()\, Vaje (V)
DTSTART;TZID=Europe/Ljubljana:20200311T100000
DTEND;TZID=Europe/Ljubljana:20200311T120000
DTSTAMP:20260425T155430Z
UID:fmf-AFLABS-URNIK:premaknjeno-srecanje:59067
CATEGORIES:Entry,Standard
COLOR:darkgreen
DESCRIPTION:Predmet: MAT (GOVEKAR-LEBAN) ()\, Vaje (V)\nLetniki: \nIzvajal
 ci: Darja Govekar-Leban\nProstor: NTF
LOCATION:NTF
ORGANIZER:Darja Govekar-Leban
RELATED-TO:fmf-AFLABS-URNIK:srecanje:4246
X-WR-TIMEZONE:Europe/Ljubljana
END:VEVENT
BEGIN:VEVENT
SUMMARY:MAT (GOVEKAR-LEBAN) ()\, Vaje (V)
DTSTART;TZID=Europe/Ljubljana:20200318T100000
DTEND;TZID=Europe/Ljubljana:20200318T120000
DTSTAMP:20260425T155430Z
UID:fmf-AFLABS-URNIK:premaknjeno-srecanje:59068
CATEGORIES:Entry,Standard
COLOR:darkgreen
DESCRIPTION:Predmet: MAT (GOVEKAR-LEBAN) ()\, Vaje (V)\nLetniki: \nIzvajal
 ci: Darja Govekar-Leban\nProstor: NTF
LOCATION:NTF
ORGANIZER:Darja Govekar-Leban
RELATED-TO:fmf-AFLABS-URNIK:srecanje:4246
X-WR-TIMEZONE:Europe/Ljubljana
END:VEVENT
BEGIN:VEVENT
SUMMARY:MAT (GOVEKAR-LEBAN) ()\, Vaje (V)
DTSTART;TZID=Europe/Ljubljana:20200325T100000
DTEND;TZID=Europe/Ljubljana:20200325T120000
DTSTAMP:20260425T155430Z
UID:fmf-AFLABS-URNIK:premaknjeno-srecanje:59069
CATEGORIES:Entry,Standard
COLOR:darkgreen
DESCRIPTION:Predmet: MAT (GOVEKAR-LEBAN) ()\, Vaje (V)\nLetniki: \nIzvajal
 ci: Darja Govekar-Leban\nProstor: NTF
LOCATION:NTF
ORGANIZER:Darja Govekar-Leban
RELATED-TO:fmf-AFLABS-URNIK:srecanje:4246
X-WR-TIMEZONE:Europe/Ljubljana
END:VEVENT
BEGIN:VEVENT
SUMMARY:MAT (GOVEKAR-LEBAN) ()\, Vaje (V)
DTSTART;TZID=Europe/Ljubljana:20200401T100000
DTEND;TZID=Europe/Ljubljana:20200401T120000
DTSTAMP:20260425T155430Z
UID:fmf-AFLABS-URNIK:premaknjeno-srecanje:59070
CATEGORIES:Entry,Standard
COLOR:darkgreen
DESCRIPTION:Predmet: MAT (GOVEKAR-LEBAN) ()\, Vaje (V)\nLetniki: \nIzvajal
 ci: Darja Govekar-Leban\nProstor: NTF
LOCATION:NTF
ORGANIZER:Darja Govekar-Leban
RELATED-TO:fmf-AFLABS-URNIK:srecanje:4246
X-WR-TIMEZONE:Europe/Ljubljana
END:VEVENT
BEGIN:VEVENT
SUMMARY:MAT (GOVEKAR-LEBAN) ()\, Vaje (V)
DTSTART;TZID=Europe/Ljubljana:20200408T100000
DTEND;TZID=Europe/Ljubljana:20200408T120000
DTSTAMP:20260425T155430Z
UID:fmf-AFLABS-URNIK:premaknjeno-srecanje:59071
CATEGORIES:Entry,Standard
COLOR:darkgreen
DESCRIPTION:Predmet: MAT (GOVEKAR-LEBAN) ()\, Vaje (V)\nLetniki: \nIzvajal
 ci: Darja Govekar-Leban\nProstor: NTF
LOCATION:NTF
ORGANIZER:Darja Govekar-Leban
RELATED-TO:fmf-AFLABS-URNIK:srecanje:4246
X-WR-TIMEZONE:Europe/Ljubljana
END:VEVENT
BEGIN:VEVENT
SUMMARY:MAT (GOVEKAR-LEBAN) ()\, Vaje (V)
DTSTART;TZID=Europe/Ljubljana:20200415T100000
DTEND;TZID=Europe/Ljubljana:20200415T120000
DTSTAMP:20260425T155430Z
UID:fmf-AFLABS-URNIK:premaknjeno-srecanje:59072
CATEGORIES:Entry,Standard
COLOR:darkgreen
DESCRIPTION:Predmet: MAT (GOVEKAR-LEBAN) ()\, Vaje (V)\nLetniki: \nIzvajal
 ci: Darja Govekar-Leban\nProstor: NTF
LOCATION:NTF
ORGANIZER:Darja Govekar-Leban
RELATED-TO:fmf-AFLABS-URNIK:srecanje:4246
X-WR-TIMEZONE:Europe/Ljubljana
END:VEVENT
BEGIN:VEVENT
SUMMARY:MAT (GOVEKAR-LEBAN) ()\, Vaje (V)
DTSTART;TZID=Europe/Ljubljana:20200422T100000
DTEND;TZID=Europe/Ljubljana:20200422T120000
DTSTAMP:20260425T155430Z
UID:fmf-AFLABS-URNIK:premaknjeno-srecanje:59073
CATEGORIES:Entry,Standard
COLOR:darkgreen
DESCRIPTION:Predmet: MAT (GOVEKAR-LEBAN) ()\, Vaje (V)\nLetniki: \nIzvajal
 ci: Darja Govekar-Leban\nProstor: NTF
LOCATION:NTF
ORGANIZER:Darja Govekar-Leban
RELATED-TO:fmf-AFLABS-URNIK:srecanje:4246
X-WR-TIMEZONE:Europe/Ljubljana
END:VEVENT
BEGIN:VEVENT
SUMMARY:MAT (GOVEKAR-LEBAN) ()\, Vaje (V)
DTSTART;TZID=Europe/Ljubljana:20200429T100000
DTEND;TZID=Europe/Ljubljana:20200429T120000
DTSTAMP:20260425T155430Z
UID:fmf-AFLABS-URNIK:premaknjeno-srecanje:59074
CATEGORIES:Entry,Standard
COLOR:darkgreen
DESCRIPTION:Predmet: MAT (GOVEKAR-LEBAN) ()\, Vaje (V)\nLetniki: \nIzvajal
 ci: Darja Govekar-Leban\nProstor: NTF
LOCATION:NTF
ORGANIZER:Darja Govekar-Leban
RELATED-TO:fmf-AFLABS-URNIK:srecanje:4246
X-WR-TIMEZONE:Europe/Ljubljana
END:VEVENT
BEGIN:VEVENT
SUMMARY:MAT (GOVEKAR-LEBAN) ()\, Vaje (V)
DTSTART;TZID=Europe/Ljubljana:20200506T100000
DTEND;TZID=Europe/Ljubljana:20200506T120000
DTSTAMP:20260425T155430Z
UID:fmf-AFLABS-URNIK:premaknjeno-srecanje:59075
CATEGORIES:Entry,Standard
COLOR:darkgreen
DESCRIPTION:Predmet: MAT (GOVEKAR-LEBAN) ()\, Vaje (V)\nLetniki: \nIzvajal
 ci: Darja Govekar-Leban\nProstor: NTF
LOCATION:NTF
ORGANIZER:Darja Govekar-Leban
RELATED-TO:fmf-AFLABS-URNIK:srecanje:4246
X-WR-TIMEZONE:Europe/Ljubljana
END:VEVENT
BEGIN:VEVENT
SUMMARY:MAT (GOVEKAR-LEBAN) ()\, Vaje (V)
DTSTART;TZID=Europe/Ljubljana:20200513T100000
DTEND;TZID=Europe/Ljubljana:20200513T120000
DTSTAMP:20260425T155430Z
UID:fmf-AFLABS-URNIK:premaknjeno-srecanje:59076
CATEGORIES:Entry,Standard
COLOR:darkgreen
DESCRIPTION:Predmet: MAT (GOVEKAR-LEBAN) ()\, Vaje (V)\nLetniki: \nIzvajal
 ci: Darja Govekar-Leban\nProstor: NTF
LOCATION:NTF
ORGANIZER:Darja Govekar-Leban
RELATED-TO:fmf-AFLABS-URNIK:srecanje:4246
X-WR-TIMEZONE:Europe/Ljubljana
END:VEVENT
BEGIN:VEVENT
SUMMARY:MAT (GOVEKAR-LEBAN) ()\, Vaje (V)
DTSTART;TZID=Europe/Ljubljana:20200520T100000
DTEND;TZID=Europe/Ljubljana:20200520T120000
DTSTAMP:20260425T155430Z
UID:fmf-AFLABS-URNIK:premaknjeno-srecanje:59077
CATEGORIES:Entry,Standard
COLOR:darkgreen
DESCRIPTION:Predmet: MAT (GOVEKAR-LEBAN) ()\, Vaje (V)\nLetniki: \nIzvajal
 ci: Darja Govekar-Leban\nProstor: NTF
LOCATION:NTF
ORGANIZER:Darja Govekar-Leban
RELATED-TO:fmf-AFLABS-URNIK:srecanje:4246
X-WR-TIMEZONE:Europe/Ljubljana
END:VEVENT
BEGIN:VEVENT
SUMMARY:MAT (GOVEKAR-LEBAN) ()\, Vaje (V)
DTSTART;TZID=Europe/Ljubljana:20200527T100000
DTEND;TZID=Europe/Ljubljana:20200527T120000
DTSTAMP:20260425T155430Z
UID:fmf-AFLABS-URNIK:premaknjeno-srecanje:59078
CATEGORIES:Entry,Standard
COLOR:darkgreen
DESCRIPTION:Predmet: MAT (GOVEKAR-LEBAN) ()\, Vaje (V)\nLetniki: \nIzvajal
 ci: Darja Govekar-Leban\nProstor: NTF
LOCATION:NTF
ORGANIZER:Darja Govekar-Leban
RELATED-TO:fmf-AFLABS-URNIK:srecanje:4246
X-WR-TIMEZONE:Europe/Ljubljana
END:VEVENT
BEGIN:VEVENT
SUMMARY:Parcialne diferencialne enačbe (APM-3)\, Vaje (V)
DTSTART;TZID=Europe/Ljubljana:20200219T070000
DTEND;TZID=Europe/Ljubljana:20200219T100000
DTSTAMP:20260425T155430Z
UID:fmf-AFLABS-URNIK:premaknjeno-srecanje:82211
ATTENDEE:3. letnik (APM)
CATEGORIES:Entry,Standard
COLOR:darkgreen
DESCRIPTION:Predmet: Parcialne diferencialne enačbe (APM-3)\, Vaje (V)\nL
 etniki: 3. letnik (APM)\nIzvajalci: Darja Govekar-Leban\nProstor: 3.07
LOCATION:3.07
ORGANIZER:Darja Govekar-Leban
RELATED-TO:fmf-AFLABS-URNIK:srecanje:4357
X-WR-TIMEZONE:Europe/Ljubljana
END:VEVENT
BEGIN:VEVENT
SUMMARY:Parcialne diferencialne enačbe (APM-3)\, Vaje (V)
DTSTART;TZID=Europe/Ljubljana:20200226T070000
DTEND;TZID=Europe/Ljubljana:20200226T100000
DTSTAMP:20260425T155430Z
UID:fmf-AFLABS-URNIK:premaknjeno-srecanje:82212
ATTENDEE:3. letnik (APM)
CATEGORIES:Entry,Standard
COLOR:darkgreen
DESCRIPTION:Predmet: Parcialne diferencialne enačbe (APM-3)\, Vaje (V)\nL
 etniki: 3. letnik (APM)\nIzvajalci: Darja Govekar-Leban\nProstor: 3.07
LOCATION:3.07
ORGANIZER:Darja Govekar-Leban
RELATED-TO:fmf-AFLABS-URNIK:srecanje:4357
X-WR-TIMEZONE:Europe/Ljubljana
END:VEVENT
BEGIN:VEVENT
SUMMARY:Parcialne diferencialne enačbe (APM-3)\, Vaje (V)
DTSTART;TZID=Europe/Ljubljana:20200304T070000
DTEND;TZID=Europe/Ljubljana:20200304T100000
DTSTAMP:20260425T155430Z
UID:fmf-AFLABS-URNIK:premaknjeno-srecanje:82213
ATTENDEE:3. letnik (APM)
CATEGORIES:Entry,Standard
COLOR:darkgreen
DESCRIPTION:Predmet: Parcialne diferencialne enačbe (APM-3)\, Vaje (V)\nL
 etniki: 3. letnik (APM)\nIzvajalci: Darja Govekar-Leban\nProstor: 3.07
LOCATION:3.07
ORGANIZER:Darja Govekar-Leban
RELATED-TO:fmf-AFLABS-URNIK:srecanje:4357
X-WR-TIMEZONE:Europe/Ljubljana
END:VEVENT
BEGIN:VEVENT
SUMMARY:Parcialne diferencialne enačbe (APM-3)\, Vaje (V)
DTSTART;TZID=Europe/Ljubljana:20200311T070000
DTEND;TZID=Europe/Ljubljana:20200311T100000
DTSTAMP:20260425T155430Z
UID:fmf-AFLABS-URNIK:premaknjeno-srecanje:82214
ATTENDEE:3. letnik (APM)
CATEGORIES:Entry,Standard
COLOR:darkgreen
DESCRIPTION:Predmet: Parcialne diferencialne enačbe (APM-3)\, Vaje (V)\nL
 etniki: 3. letnik (APM)\nIzvajalci: Darja Govekar-Leban\nProstor: 3.07
LOCATION:3.07
ORGANIZER:Darja Govekar-Leban
RELATED-TO:fmf-AFLABS-URNIK:srecanje:4357
X-WR-TIMEZONE:Europe/Ljubljana
END:VEVENT
BEGIN:VEVENT
SUMMARY:Parcialne diferencialne enačbe (APM-3)\, Vaje (V)
DTSTART;TZID=Europe/Ljubljana:20200318T070000
DTEND;TZID=Europe/Ljubljana:20200318T100000
DTSTAMP:20260425T155430Z
UID:fmf-AFLABS-URNIK:premaknjeno-srecanje:82215
ATTENDEE:3. letnik (APM)
CATEGORIES:Entry,Standard
COLOR:darkgreen
DESCRIPTION:Predmet: Parcialne diferencialne enačbe (APM-3)\, Vaje (V)\nL
 etniki: 3. letnik (APM)\nIzvajalci: Darja Govekar-Leban\nProstor: 3.07
LOCATION:3.07
ORGANIZER:Darja Govekar-Leban
RELATED-TO:fmf-AFLABS-URNIK:srecanje:4357
X-WR-TIMEZONE:Europe/Ljubljana
END:VEVENT
BEGIN:VEVENT
SUMMARY:Parcialne diferencialne enačbe (APM-3)\, Vaje (V)
DTSTART;TZID=Europe/Ljubljana:20200325T070000
DTEND;TZID=Europe/Ljubljana:20200325T100000
DTSTAMP:20260425T155430Z
UID:fmf-AFLABS-URNIK:premaknjeno-srecanje:82216
ATTENDEE:3. letnik (APM)
CATEGORIES:Entry,Standard
COLOR:darkgreen
DESCRIPTION:Predmet: Parcialne diferencialne enačbe (APM-3)\, Vaje (V)\nL
 etniki: 3. letnik (APM)\nIzvajalci: Darja Govekar-Leban\nProstor: 3.07
LOCATION:3.07
ORGANIZER:Darja Govekar-Leban
RELATED-TO:fmf-AFLABS-URNIK:srecanje:4357
X-WR-TIMEZONE:Europe/Ljubljana
END:VEVENT
BEGIN:VEVENT
SUMMARY:Parcialne diferencialne enačbe (APM-3)\, Vaje (V)
DTSTART;TZID=Europe/Ljubljana:20200401T070000
DTEND;TZID=Europe/Ljubljana:20200401T100000
DTSTAMP:20260425T155430Z
UID:fmf-AFLABS-URNIK:premaknjeno-srecanje:82217
ATTENDEE:3. letnik (APM)
CATEGORIES:Entry,Standard
COLOR:darkgreen
DESCRIPTION:Predmet: Parcialne diferencialne enačbe (APM-3)\, Vaje (V)\nL
 etniki: 3. letnik (APM)\nIzvajalci: Darja Govekar-Leban\nProstor: 3.07
LOCATION:3.07
ORGANIZER:Darja Govekar-Leban
RELATED-TO:fmf-AFLABS-URNIK:srecanje:4357
X-WR-TIMEZONE:Europe/Ljubljana
END:VEVENT
BEGIN:VEVENT
SUMMARY:Parcialne diferencialne enačbe (APM-3)\, Vaje (V)
DTSTART;TZID=Europe/Ljubljana:20200408T070000
DTEND;TZID=Europe/Ljubljana:20200408T100000
DTSTAMP:20260425T155430Z
UID:fmf-AFLABS-URNIK:premaknjeno-srecanje:82218
ATTENDEE:3. letnik (APM)
CATEGORIES:Entry,Standard
COLOR:darkgreen
DESCRIPTION:Predmet: Parcialne diferencialne enačbe (APM-3)\, Vaje (V)\nL
 etniki: 3. letnik (APM)\nIzvajalci: Darja Govekar-Leban\nProstor: 3.07
LOCATION:3.07
ORGANIZER:Darja Govekar-Leban
RELATED-TO:fmf-AFLABS-URNIK:srecanje:4357
X-WR-TIMEZONE:Europe/Ljubljana
END:VEVENT
BEGIN:VEVENT
SUMMARY:Parcialne diferencialne enačbe (APM-3)\, Vaje (V)
DTSTART;TZID=Europe/Ljubljana:20200415T070000
DTEND;TZID=Europe/Ljubljana:20200415T100000
DTSTAMP:20260425T155430Z
UID:fmf-AFLABS-URNIK:premaknjeno-srecanje:82219
ATTENDEE:3. letnik (APM)
CATEGORIES:Entry,Standard
COLOR:darkgreen
DESCRIPTION:Predmet: Parcialne diferencialne enačbe (APM-3)\, Vaje (V)\nL
 etniki: 3. letnik (APM)\nIzvajalci: Darja Govekar-Leban\nProstor: 3.07
LOCATION:3.07
ORGANIZER:Darja Govekar-Leban
RELATED-TO:fmf-AFLABS-URNIK:srecanje:4357
X-WR-TIMEZONE:Europe/Ljubljana
END:VEVENT
BEGIN:VEVENT
SUMMARY:Parcialne diferencialne enačbe (APM-3)\, Vaje (V)
DTSTART;TZID=Europe/Ljubljana:20200422T070000
DTEND;TZID=Europe/Ljubljana:20200422T100000
DTSTAMP:20260425T155430Z
UID:fmf-AFLABS-URNIK:premaknjeno-srecanje:82220
ATTENDEE:3. letnik (APM)
CATEGORIES:Entry,Standard
COLOR:darkgreen
DESCRIPTION:Predmet: Parcialne diferencialne enačbe (APM-3)\, Vaje (V)\nL
 etniki: 3. letnik (APM)\nIzvajalci: Darja Govekar-Leban\nProstor: 3.07
LOCATION:3.07
ORGANIZER:Darja Govekar-Leban
RELATED-TO:fmf-AFLABS-URNIK:srecanje:4357
X-WR-TIMEZONE:Europe/Ljubljana
END:VEVENT
BEGIN:VEVENT
SUMMARY:Parcialne diferencialne enačbe (APM-3)\, Vaje (V)
DTSTART;TZID=Europe/Ljubljana:20200429T070000
DTEND;TZID=Europe/Ljubljana:20200429T100000
DTSTAMP:20260425T155430Z
UID:fmf-AFLABS-URNIK:premaknjeno-srecanje:82221
ATTENDEE:3. letnik (APM)
CATEGORIES:Entry,Standard
COLOR:darkgreen
DESCRIPTION:Predmet: Parcialne diferencialne enačbe (APM-3)\, Vaje (V)\nL
 etniki: 3. letnik (APM)\nIzvajalci: Darja Govekar-Leban\nProstor: 3.07
LOCATION:3.07
ORGANIZER:Darja Govekar-Leban
RELATED-TO:fmf-AFLABS-URNIK:srecanje:4357
X-WR-TIMEZONE:Europe/Ljubljana
END:VEVENT
BEGIN:VEVENT
SUMMARY:Parcialne diferencialne enačbe (APM-3)\, Vaje (V)
DTSTART;TZID=Europe/Ljubljana:20200506T070000
DTEND;TZID=Europe/Ljubljana:20200506T100000
DTSTAMP:20260425T155430Z
UID:fmf-AFLABS-URNIK:premaknjeno-srecanje:82222
ATTENDEE:3. letnik (APM)
CATEGORIES:Entry,Standard
COLOR:darkgreen
DESCRIPTION:Predmet: Parcialne diferencialne enačbe (APM-3)\, Vaje (V)\nL
 etniki: 3. letnik (APM)\nIzvajalci: Darja Govekar-Leban\nProstor: 3.07
LOCATION:3.07
ORGANIZER:Darja Govekar-Leban
RELATED-TO:fmf-AFLABS-URNIK:srecanje:4357
X-WR-TIMEZONE:Europe/Ljubljana
END:VEVENT
BEGIN:VEVENT
SUMMARY:Parcialne diferencialne enačbe (APM-3)\, Vaje (V)
DTSTART;TZID=Europe/Ljubljana:20200513T070000
DTEND;TZID=Europe/Ljubljana:20200513T100000
DTSTAMP:20260425T155430Z
UID:fmf-AFLABS-URNIK:premaknjeno-srecanje:82223
ATTENDEE:3. letnik (APM)
CATEGORIES:Entry,Standard
COLOR:darkgreen
DESCRIPTION:Predmet: Parcialne diferencialne enačbe (APM-3)\, Vaje (V)\nL
 etniki: 3. letnik (APM)\nIzvajalci: Darja Govekar-Leban\nProstor: 3.07
LOCATION:3.07
ORGANIZER:Darja Govekar-Leban
RELATED-TO:fmf-AFLABS-URNIK:srecanje:4357
X-WR-TIMEZONE:Europe/Ljubljana
END:VEVENT
BEGIN:VEVENT
SUMMARY:Parcialne diferencialne enačbe (APM-3)\, Vaje (V)
DTSTART;TZID=Europe/Ljubljana:20200520T070000
DTEND;TZID=Europe/Ljubljana:20200520T100000
DTSTAMP:20260425T155430Z
UID:fmf-AFLABS-URNIK:premaknjeno-srecanje:82224
ATTENDEE:3. letnik (APM)
CATEGORIES:Entry,Standard
COLOR:darkgreen
DESCRIPTION:Predmet: Parcialne diferencialne enačbe (APM-3)\, Vaje (V)\nL
 etniki: 3. letnik (APM)\nIzvajalci: Darja Govekar-Leban\nProstor: 3.07
LOCATION:3.07
ORGANIZER:Darja Govekar-Leban
RELATED-TO:fmf-AFLABS-URNIK:srecanje:4357
X-WR-TIMEZONE:Europe/Ljubljana
END:VEVENT
BEGIN:VEVENT
SUMMARY:Parcialne diferencialne enačbe (APM-3)\, Vaje (V)
DTSTART;TZID=Europe/Ljubljana:20200527T070000
DTEND;TZID=Europe/Ljubljana:20200527T100000
DTSTAMP:20260425T155430Z
UID:fmf-AFLABS-URNIK:premaknjeno-srecanje:82225
ATTENDEE:3. letnik (APM)
CATEGORIES:Entry,Standard
COLOR:darkgreen
DESCRIPTION:Predmet: Parcialne diferencialne enačbe (APM-3)\, Vaje (V)\nL
 etniki: 3. letnik (APM)\nIzvajalci: Darja Govekar-Leban\nProstor: 3.07
LOCATION:3.07
ORGANIZER:Darja Govekar-Leban
RELATED-TO:fmf-AFLABS-URNIK:srecanje:4357
X-WR-TIMEZONE:Europe/Ljubljana
END:VEVENT
BEGIN:VEVENT
SUMMARY:Rezervacija
DTSTART;TZID=Europe/Ljubljana:20200601T150000
DTEND;TZID=Europe/Ljubljana:20200601T180000
DTSTAMP:20260425T155430Z
UID:fmf-AFLABS-URNIK:rezervacija:5385
CATEGORIES:Reservation
COLOR:royalblue
DESCRIPTION:Predmeti: \nLetniki: \nIzvajalci: Jakob Cimprič\, Darja Govek
 ar-Leban\nProstori: 2.02
LOCATION:2.02
ORGANIZER:Jakob Cimprič, Darja Govekar-Leban
X-WR-TIMEZONE:Europe/Ljubljana
END:VEVENT
END:VCALENDAR
