BEGIN:VCALENDAR
VERSION:2.0
PRODID:-//AFLabs urnik izvoz - fmf//aflabs.si//SI
DTSTAMP:20260423T223403Z
NAME:UL FMF urnik
REFRESH-INTERVAL:PT1H
SOURCE:https://urnik.fmf.uni-lj.si/teacher/24?day=2021-01-04&export=1
URL:https://urnik.fmf.uni-lj.si/teacher/24?day=2021-01-04&export=1
X-PUBLISHED-TTL:PT1H
X-WR-CALNAME:UL FMF urnik
X-WR-TIMEZONE:Europe/Ljubljana
BEGIN:VTIMEZONE
TZID:Europe/Ljubljana
BEGIN:DAYLIGHT
DTSTART:20260329T020000
RDATE:20260329T020000
RDATE:20270328T020000
TZNAME:CEST
TZOFFSETFROM:+0100
TZOFFSETTO:+0200
END:DAYLIGHT
BEGIN:STANDARD
DTSTART:20261025T030000
RDATE:20261025T030000
RDATE:20271031T030000
TZNAME:CET
TZOFFSETFROM:+0200
TZOFFSETTO:+0100
END:STANDARD
END:VTIMEZONE
BEGIN:VEVENT
SUMMARY:KE ()\, Vaje (V)
DTSTART;TZID=Europe/Ljubljana:20201006T140000
DTEND;TZID=Europe/Ljubljana:20201006T160000
DTSTAMP:20260423T223403Z
UID:fmf-AFLABS-URNIK:premaknjeno-srecanje:45994
CATEGORIES:Entry,Standard
COLOR:darkgreen
DESCRIPTION:Predmet: KE ()\, Vaje (V)\nLetniki: \nIzvajalci: Darja Govekar
 -Leban\nProstor: FKKT
LOCATION:FKKT
ORGANIZER:Darja Govekar-Leban
RELATED-TO:fmf-AFLABS-URNIK:srecanje:4882
X-WR-TIMEZONE:Europe/Ljubljana
END:VEVENT
BEGIN:VEVENT
SUMMARY:KE ()\, Vaje (V)
DTSTART;TZID=Europe/Ljubljana:20201013T140000
DTEND;TZID=Europe/Ljubljana:20201013T160000
DTSTAMP:20260423T223403Z
UID:fmf-AFLABS-URNIK:premaknjeno-srecanje:45995
CATEGORIES:Entry,Standard
COLOR:darkgreen
DESCRIPTION:Predmet: KE ()\, Vaje (V)\nLetniki: \nIzvajalci: Darja Govekar
 -Leban\nProstor: FKKT
LOCATION:FKKT
ORGANIZER:Darja Govekar-Leban
RELATED-TO:fmf-AFLABS-URNIK:srecanje:4882
X-WR-TIMEZONE:Europe/Ljubljana
END:VEVENT
BEGIN:VEVENT
SUMMARY:KE ()\, Vaje (V)
DTSTART;TZID=Europe/Ljubljana:20201020T140000
DTEND;TZID=Europe/Ljubljana:20201020T160000
DTSTAMP:20260423T223403Z
UID:fmf-AFLABS-URNIK:premaknjeno-srecanje:45996
CATEGORIES:Entry,Standard
COLOR:darkgreen
DESCRIPTION:Predmet: KE ()\, Vaje (V)\nLetniki: \nIzvajalci: Darja Govekar
 -Leban\nProstor: FKKT
LOCATION:FKKT
ORGANIZER:Darja Govekar-Leban
RELATED-TO:fmf-AFLABS-URNIK:srecanje:4882
X-WR-TIMEZONE:Europe/Ljubljana
END:VEVENT
BEGIN:VEVENT
SUMMARY:KE ()\, Vaje (V)
DTSTART;TZID=Europe/Ljubljana:20201027T140000
DTEND;TZID=Europe/Ljubljana:20201027T160000
DTSTAMP:20260423T223403Z
UID:fmf-AFLABS-URNIK:premaknjeno-srecanje:45997
CATEGORIES:Entry,Standard
COLOR:darkgreen
DESCRIPTION:Predmet: KE ()\, Vaje (V)\nLetniki: \nIzvajalci: Darja Govekar
 -Leban\nProstor: FKKT
LOCATION:FKKT
ORGANIZER:Darja Govekar-Leban
RELATED-TO:fmf-AFLABS-URNIK:srecanje:4882
X-WR-TIMEZONE:Europe/Ljubljana
END:VEVENT
BEGIN:VEVENT
SUMMARY:KE ()\, Vaje (V)
DTSTART;TZID=Europe/Ljubljana:20201103T140000
DTEND;TZID=Europe/Ljubljana:20201103T160000
DTSTAMP:20260423T223403Z
UID:fmf-AFLABS-URNIK:premaknjeno-srecanje:45998
CATEGORIES:Entry,Standard
COLOR:darkgreen
DESCRIPTION:Predmet: KE ()\, Vaje (V)\nLetniki: \nIzvajalci: Darja Govekar
 -Leban\nProstor: FKKT
LOCATION:FKKT
ORGANIZER:Darja Govekar-Leban
RELATED-TO:fmf-AFLABS-URNIK:srecanje:4882
X-WR-TIMEZONE:Europe/Ljubljana
END:VEVENT
BEGIN:VEVENT
SUMMARY:KE ()\, Vaje (V)
DTSTART;TZID=Europe/Ljubljana:20201110T140000
DTEND;TZID=Europe/Ljubljana:20201110T160000
DTSTAMP:20260423T223403Z
UID:fmf-AFLABS-URNIK:premaknjeno-srecanje:45999
CATEGORIES:Entry,Standard
COLOR:darkgreen
DESCRIPTION:Predmet: KE ()\, Vaje (V)\nLetniki: \nIzvajalci: Darja Govekar
 -Leban\nProstor: FKKT
LOCATION:FKKT
ORGANIZER:Darja Govekar-Leban
RELATED-TO:fmf-AFLABS-URNIK:srecanje:4882
X-WR-TIMEZONE:Europe/Ljubljana
END:VEVENT
BEGIN:VEVENT
SUMMARY:KE ()\, Vaje (V)
DTSTART;TZID=Europe/Ljubljana:20201117T140000
DTEND;TZID=Europe/Ljubljana:20201117T160000
DTSTAMP:20260423T223403Z
UID:fmf-AFLABS-URNIK:premaknjeno-srecanje:46000
CATEGORIES:Entry,Standard
COLOR:darkgreen
DESCRIPTION:Predmet: KE ()\, Vaje (V)\nLetniki: \nIzvajalci: Darja Govekar
 -Leban\nProstor: FKKT
LOCATION:FKKT
ORGANIZER:Darja Govekar-Leban
RELATED-TO:fmf-AFLABS-URNIK:srecanje:4882
X-WR-TIMEZONE:Europe/Ljubljana
END:VEVENT
BEGIN:VEVENT
SUMMARY:KE ()\, Vaje (V)
DTSTART;TZID=Europe/Ljubljana:20201124T140000
DTEND;TZID=Europe/Ljubljana:20201124T160000
DTSTAMP:20260423T223403Z
UID:fmf-AFLABS-URNIK:premaknjeno-srecanje:46001
CATEGORIES:Entry,Standard
COLOR:darkgreen
DESCRIPTION:Predmet: KE ()\, Vaje (V)\nLetniki: \nIzvajalci: Darja Govekar
 -Leban\nProstor: FKKT
LOCATION:FKKT
ORGANIZER:Darja Govekar-Leban
RELATED-TO:fmf-AFLABS-URNIK:srecanje:4882
X-WR-TIMEZONE:Europe/Ljubljana
END:VEVENT
BEGIN:VEVENT
SUMMARY:KE ()\, Vaje (V)
DTSTART;TZID=Europe/Ljubljana:20201201T140000
DTEND;TZID=Europe/Ljubljana:20201201T160000
DTSTAMP:20260423T223403Z
UID:fmf-AFLABS-URNIK:premaknjeno-srecanje:46002
CATEGORIES:Entry,Standard
COLOR:darkgreen
DESCRIPTION:Predmet: KE ()\, Vaje (V)\nLetniki: \nIzvajalci: Darja Govekar
 -Leban\nProstor: FKKT
LOCATION:FKKT
ORGANIZER:Darja Govekar-Leban
RELATED-TO:fmf-AFLABS-URNIK:srecanje:4882
X-WR-TIMEZONE:Europe/Ljubljana
END:VEVENT
BEGIN:VEVENT
SUMMARY:KE ()\, Vaje (V)
DTSTART;TZID=Europe/Ljubljana:20201208T140000
DTEND;TZID=Europe/Ljubljana:20201208T160000
DTSTAMP:20260423T223403Z
UID:fmf-AFLABS-URNIK:premaknjeno-srecanje:46003
CATEGORIES:Entry,Standard
COLOR:darkgreen
DESCRIPTION:Predmet: KE ()\, Vaje (V)\nLetniki: \nIzvajalci: Darja Govekar
 -Leban\nProstor: FKKT
LOCATION:FKKT
ORGANIZER:Darja Govekar-Leban
RELATED-TO:fmf-AFLABS-URNIK:srecanje:4882
X-WR-TIMEZONE:Europe/Ljubljana
END:VEVENT
BEGIN:VEVENT
SUMMARY:KE ()\, Vaje (V)
DTSTART;TZID=Europe/Ljubljana:20201215T140000
DTEND;TZID=Europe/Ljubljana:20201215T160000
DTSTAMP:20260423T223403Z
UID:fmf-AFLABS-URNIK:premaknjeno-srecanje:46004
CATEGORIES:Entry,Standard
COLOR:darkgreen
DESCRIPTION:Predmet: KE ()\, Vaje (V)\nLetniki: \nIzvajalci: Darja Govekar
 -Leban\nProstor: FKKT
LOCATION:FKKT
ORGANIZER:Darja Govekar-Leban
RELATED-TO:fmf-AFLABS-URNIK:srecanje:4882
X-WR-TIMEZONE:Europe/Ljubljana
END:VEVENT
BEGIN:VEVENT
SUMMARY:KE ()\, Vaje (V)
DTSTART;TZID=Europe/Ljubljana:20201222T140000
DTEND;TZID=Europe/Ljubljana:20201222T160000
DTSTAMP:20260423T223403Z
UID:fmf-AFLABS-URNIK:premaknjeno-srecanje:46005
CATEGORIES:Entry,Standard
COLOR:darkgreen
DESCRIPTION:Predmet: KE ()\, Vaje (V)\nLetniki: \nIzvajalci: Darja Govekar
 -Leban\nProstor: FKKT
LOCATION:FKKT
ORGANIZER:Darja Govekar-Leban
RELATED-TO:fmf-AFLABS-URNIK:srecanje:4882
X-WR-TIMEZONE:Europe/Ljubljana
END:VEVENT
BEGIN:VEVENT
SUMMARY:KE ()\, Vaje (V)
DTSTART;TZID=Europe/Ljubljana:20201229T140000
DTEND;TZID=Europe/Ljubljana:20201229T160000
DTSTAMP:20260423T223403Z
UID:fmf-AFLABS-URNIK:premaknjeno-srecanje:46006
CATEGORIES:Entry,Standard
COLOR:darkgreen
DESCRIPTION:Predmet: KE ()\, Vaje (V)\nLetniki: \nIzvajalci: Darja Govekar
 -Leban\nProstor: FKKT
LOCATION:FKKT
ORGANIZER:Darja Govekar-Leban
RELATED-TO:fmf-AFLABS-URNIK:srecanje:4882
X-WR-TIMEZONE:Europe/Ljubljana
END:VEVENT
BEGIN:VEVENT
SUMMARY:KE ()\, Vaje (V)
DTSTART;TZID=Europe/Ljubljana:20210105T140000
DTEND;TZID=Europe/Ljubljana:20210105T160000
DTSTAMP:20260423T223403Z
UID:fmf-AFLABS-URNIK:premaknjeno-srecanje:46007
CATEGORIES:Entry,Standard
COLOR:darkgreen
DESCRIPTION:Predmet: KE ()\, Vaje (V)\nLetniki: \nIzvajalci: Darja Govekar
 -Leban\nProstor: FKKT
LOCATION:FKKT
ORGANIZER:Darja Govekar-Leban
RELATED-TO:fmf-AFLABS-URNIK:srecanje:4882
X-WR-TIMEZONE:Europe/Ljubljana
END:VEVENT
BEGIN:VEVENT
SUMMARY:KE ()\, Vaje (V)
DTSTART;TZID=Europe/Ljubljana:20210112T140000
DTEND;TZID=Europe/Ljubljana:20210112T160000
DTSTAMP:20260423T223403Z
UID:fmf-AFLABS-URNIK:premaknjeno-srecanje:46008
CATEGORIES:Entry,Standard
COLOR:darkgreen
DESCRIPTION:Predmet: KE ()\, Vaje (V)\nLetniki: \nIzvajalci: Darja Govekar
 -Leban\nProstor: FKKT
LOCATION:FKKT
ORGANIZER:Darja Govekar-Leban
RELATED-TO:fmf-AFLABS-URNIK:srecanje:4882
X-WR-TIMEZONE:Europe/Ljubljana
END:VEVENT
BEGIN:VEVENT
SUMMARY:MAT (FKKT) ()\, Vaje (V)
DTSTART;TZID=Europe/Ljubljana:20201006T090000
DTEND;TZID=Europe/Ljubljana:20201006T110000
DTSTAMP:20260423T223403Z
UID:fmf-AFLABS-URNIK:premaknjeno-srecanje:58456
CATEGORIES:Entry,Standard
COLOR:darkgreen
DESCRIPTION:Predmet: MAT (FKKT) ()\, Vaje (V)\nLetniki: \nIzvajalci: Darja
  Govekar-Leban\nProstor: FKKT
LOCATION:FKKT
ORGANIZER:Darja Govekar-Leban
RELATED-TO:fmf-AFLABS-URNIK:srecanje:4938
X-WR-TIMEZONE:Europe/Ljubljana
END:VEVENT
BEGIN:VEVENT
SUMMARY:MAT (FKKT) ()\, Vaje (V)
DTSTART;TZID=Europe/Ljubljana:20201013T090000
DTEND;TZID=Europe/Ljubljana:20201013T110000
DTSTAMP:20260423T223403Z
UID:fmf-AFLABS-URNIK:premaknjeno-srecanje:58457
CATEGORIES:Entry,Standard
COLOR:darkgreen
DESCRIPTION:Predmet: MAT (FKKT) ()\, Vaje (V)\nLetniki: \nIzvajalci: Darja
  Govekar-Leban\nProstor: FKKT
LOCATION:FKKT
ORGANIZER:Darja Govekar-Leban
RELATED-TO:fmf-AFLABS-URNIK:srecanje:4938
X-WR-TIMEZONE:Europe/Ljubljana
END:VEVENT
BEGIN:VEVENT
SUMMARY:MAT (FKKT) ()\, Vaje (V)
DTSTART;TZID=Europe/Ljubljana:20201020T090000
DTEND;TZID=Europe/Ljubljana:20201020T110000
DTSTAMP:20260423T223403Z
UID:fmf-AFLABS-URNIK:premaknjeno-srecanje:58458
CATEGORIES:Entry,Standard
COLOR:darkgreen
DESCRIPTION:Predmet: MAT (FKKT) ()\, Vaje (V)\nLetniki: \nIzvajalci: Darja
  Govekar-Leban\nProstor: FKKT
LOCATION:FKKT
ORGANIZER:Darja Govekar-Leban
RELATED-TO:fmf-AFLABS-URNIK:srecanje:4938
X-WR-TIMEZONE:Europe/Ljubljana
END:VEVENT
BEGIN:VEVENT
SUMMARY:MAT (FKKT) ()\, Vaje (V)
DTSTART;TZID=Europe/Ljubljana:20201027T090000
DTEND;TZID=Europe/Ljubljana:20201027T110000
DTSTAMP:20260423T223403Z
UID:fmf-AFLABS-URNIK:premaknjeno-srecanje:58459
CATEGORIES:Entry,Standard
COLOR:darkgreen
DESCRIPTION:Predmet: MAT (FKKT) ()\, Vaje (V)\nLetniki: \nIzvajalci: Darja
  Govekar-Leban\nProstor: FKKT
LOCATION:FKKT
ORGANIZER:Darja Govekar-Leban
RELATED-TO:fmf-AFLABS-URNIK:srecanje:4938
X-WR-TIMEZONE:Europe/Ljubljana
END:VEVENT
BEGIN:VEVENT
SUMMARY:MAT (FKKT) ()\, Vaje (V)
DTSTART;TZID=Europe/Ljubljana:20201103T090000
DTEND;TZID=Europe/Ljubljana:20201103T110000
DTSTAMP:20260423T223403Z
UID:fmf-AFLABS-URNIK:premaknjeno-srecanje:58460
CATEGORIES:Entry,Standard
COLOR:darkgreen
DESCRIPTION:Predmet: MAT (FKKT) ()\, Vaje (V)\nLetniki: \nIzvajalci: Darja
  Govekar-Leban\nProstor: FKKT
LOCATION:FKKT
ORGANIZER:Darja Govekar-Leban
RELATED-TO:fmf-AFLABS-URNIK:srecanje:4938
X-WR-TIMEZONE:Europe/Ljubljana
END:VEVENT
BEGIN:VEVENT
SUMMARY:MAT (FKKT) ()\, Vaje (V)
DTSTART;TZID=Europe/Ljubljana:20201110T090000
DTEND;TZID=Europe/Ljubljana:20201110T110000
DTSTAMP:20260423T223403Z
UID:fmf-AFLABS-URNIK:premaknjeno-srecanje:58461
CATEGORIES:Entry,Standard
COLOR:darkgreen
DESCRIPTION:Predmet: MAT (FKKT) ()\, Vaje (V)\nLetniki: \nIzvajalci: Darja
  Govekar-Leban\nProstor: FKKT
LOCATION:FKKT
ORGANIZER:Darja Govekar-Leban
RELATED-TO:fmf-AFLABS-URNIK:srecanje:4938
X-WR-TIMEZONE:Europe/Ljubljana
END:VEVENT
BEGIN:VEVENT
SUMMARY:MAT (FKKT) ()\, Vaje (V)
DTSTART;TZID=Europe/Ljubljana:20201117T090000
DTEND;TZID=Europe/Ljubljana:20201117T110000
DTSTAMP:20260423T223403Z
UID:fmf-AFLABS-URNIK:premaknjeno-srecanje:58462
CATEGORIES:Entry,Standard
COLOR:darkgreen
DESCRIPTION:Predmet: MAT (FKKT) ()\, Vaje (V)\nLetniki: \nIzvajalci: Darja
  Govekar-Leban\nProstor: FKKT
LOCATION:FKKT
ORGANIZER:Darja Govekar-Leban
RELATED-TO:fmf-AFLABS-URNIK:srecanje:4938
X-WR-TIMEZONE:Europe/Ljubljana
END:VEVENT
BEGIN:VEVENT
SUMMARY:MAT (FKKT) ()\, Vaje (V)
DTSTART;TZID=Europe/Ljubljana:20201124T090000
DTEND;TZID=Europe/Ljubljana:20201124T110000
DTSTAMP:20260423T223403Z
UID:fmf-AFLABS-URNIK:premaknjeno-srecanje:58463
CATEGORIES:Entry,Standard
COLOR:darkgreen
DESCRIPTION:Predmet: MAT (FKKT) ()\, Vaje (V)\nLetniki: \nIzvajalci: Darja
  Govekar-Leban\nProstor: FKKT
LOCATION:FKKT
ORGANIZER:Darja Govekar-Leban
RELATED-TO:fmf-AFLABS-URNIK:srecanje:4938
X-WR-TIMEZONE:Europe/Ljubljana
END:VEVENT
BEGIN:VEVENT
SUMMARY:MAT (FKKT) ()\, Vaje (V)
DTSTART;TZID=Europe/Ljubljana:20201201T090000
DTEND;TZID=Europe/Ljubljana:20201201T110000
DTSTAMP:20260423T223403Z
UID:fmf-AFLABS-URNIK:premaknjeno-srecanje:58464
CATEGORIES:Entry,Standard
COLOR:darkgreen
DESCRIPTION:Predmet: MAT (FKKT) ()\, Vaje (V)\nLetniki: \nIzvajalci: Darja
  Govekar-Leban\nProstor: FKKT
LOCATION:FKKT
ORGANIZER:Darja Govekar-Leban
RELATED-TO:fmf-AFLABS-URNIK:srecanje:4938
X-WR-TIMEZONE:Europe/Ljubljana
END:VEVENT
BEGIN:VEVENT
SUMMARY:MAT (FKKT) ()\, Vaje (V)
DTSTART;TZID=Europe/Ljubljana:20201208T090000
DTEND;TZID=Europe/Ljubljana:20201208T110000
DTSTAMP:20260423T223403Z
UID:fmf-AFLABS-URNIK:premaknjeno-srecanje:58465
CATEGORIES:Entry,Standard
COLOR:darkgreen
DESCRIPTION:Predmet: MAT (FKKT) ()\, Vaje (V)\nLetniki: \nIzvajalci: Darja
  Govekar-Leban\nProstor: FKKT
LOCATION:FKKT
ORGANIZER:Darja Govekar-Leban
RELATED-TO:fmf-AFLABS-URNIK:srecanje:4938
X-WR-TIMEZONE:Europe/Ljubljana
END:VEVENT
BEGIN:VEVENT
SUMMARY:MAT (FKKT) ()\, Vaje (V)
DTSTART;TZID=Europe/Ljubljana:20201215T090000
DTEND;TZID=Europe/Ljubljana:20201215T110000
DTSTAMP:20260423T223403Z
UID:fmf-AFLABS-URNIK:premaknjeno-srecanje:58466
CATEGORIES:Entry,Standard
COLOR:darkgreen
DESCRIPTION:Predmet: MAT (FKKT) ()\, Vaje (V)\nLetniki: \nIzvajalci: Darja
  Govekar-Leban\nProstor: FKKT
LOCATION:FKKT
ORGANIZER:Darja Govekar-Leban
RELATED-TO:fmf-AFLABS-URNIK:srecanje:4938
X-WR-TIMEZONE:Europe/Ljubljana
END:VEVENT
BEGIN:VEVENT
SUMMARY:MAT (FKKT) ()\, Vaje (V)
DTSTART;TZID=Europe/Ljubljana:20201222T090000
DTEND;TZID=Europe/Ljubljana:20201222T110000
DTSTAMP:20260423T223403Z
UID:fmf-AFLABS-URNIK:premaknjeno-srecanje:58467
CATEGORIES:Entry,Standard
COLOR:darkgreen
DESCRIPTION:Predmet: MAT (FKKT) ()\, Vaje (V)\nLetniki: \nIzvajalci: Darja
  Govekar-Leban\nProstor: FKKT
LOCATION:FKKT
ORGANIZER:Darja Govekar-Leban
RELATED-TO:fmf-AFLABS-URNIK:srecanje:4938
X-WR-TIMEZONE:Europe/Ljubljana
END:VEVENT
BEGIN:VEVENT
SUMMARY:MAT (FKKT) ()\, Vaje (V)
DTSTART;TZID=Europe/Ljubljana:20201229T090000
DTEND;TZID=Europe/Ljubljana:20201229T110000
DTSTAMP:20260423T223403Z
UID:fmf-AFLABS-URNIK:premaknjeno-srecanje:58468
CATEGORIES:Entry,Standard
COLOR:darkgreen
DESCRIPTION:Predmet: MAT (FKKT) ()\, Vaje (V)\nLetniki: \nIzvajalci: Darja
  Govekar-Leban\nProstor: FKKT
LOCATION:FKKT
ORGANIZER:Darja Govekar-Leban
RELATED-TO:fmf-AFLABS-URNIK:srecanje:4938
X-WR-TIMEZONE:Europe/Ljubljana
END:VEVENT
BEGIN:VEVENT
SUMMARY:MAT (FKKT) ()\, Vaje (V)
DTSTART;TZID=Europe/Ljubljana:20210105T090000
DTEND;TZID=Europe/Ljubljana:20210105T110000
DTSTAMP:20260423T223403Z
UID:fmf-AFLABS-URNIK:premaknjeno-srecanje:58469
CATEGORIES:Entry,Standard
COLOR:darkgreen
DESCRIPTION:Predmet: MAT (FKKT) ()\, Vaje (V)\nLetniki: \nIzvajalci: Darja
  Govekar-Leban\nProstor: FKKT
LOCATION:FKKT
ORGANIZER:Darja Govekar-Leban
RELATED-TO:fmf-AFLABS-URNIK:srecanje:4938
X-WR-TIMEZONE:Europe/Ljubljana
END:VEVENT
BEGIN:VEVENT
SUMMARY:MAT (FKKT) ()\, Vaje (V)
DTSTART;TZID=Europe/Ljubljana:20210112T090000
DTEND;TZID=Europe/Ljubljana:20210112T110000
DTSTAMP:20260423T223403Z
UID:fmf-AFLABS-URNIK:premaknjeno-srecanje:58470
CATEGORIES:Entry,Standard
COLOR:darkgreen
DESCRIPTION:Predmet: MAT (FKKT) ()\, Vaje (V)\nLetniki: \nIzvajalci: Darja
  Govekar-Leban\nProstor: FKKT
LOCATION:FKKT
ORGANIZER:Darja Govekar-Leban
RELATED-TO:fmf-AFLABS-URNIK:srecanje:4938
X-WR-TIMEZONE:Europe/Ljubljana
END:VEVENT
END:VCALENDAR
