BEGIN:VCALENDAR
VERSION:2.0
PRODID:-//AFLabs urnik izvoz - fmf//aflabs.si//SI
DTSTAMP:20260423T005947Z
NAME:UL FMF urnik
REFRESH-INTERVAL:PT1H
SOURCE:https://urnik.fmf.uni-lj.si/teacher/24?day=2021-06-14&export=1
URL:https://urnik.fmf.uni-lj.si/teacher/24?day=2021-06-14&export=1
X-PUBLISHED-TTL:PT1H
X-WR-CALNAME:UL FMF urnik
X-WR-TIMEZONE:Europe/Ljubljana
BEGIN:VTIMEZONE
TZID:Europe/Ljubljana
BEGIN:DAYLIGHT
DTSTART:20260329T020000
RDATE:20260329T020000
RDATE:20270328T020000
TZNAME:CEST
TZOFFSETFROM:+0100
TZOFFSETTO:+0200
END:DAYLIGHT
BEGIN:STANDARD
DTSTART:20261025T030000
RDATE:20261025T030000
RDATE:20271031T030000
TZNAME:CET
TZOFFSETFROM:+0200
TZOFFSETTO:+0100
END:STANDARD
END:VTIMEZONE
BEGIN:VEVENT
SUMMARY:Govorilna ura ()\, Ostalo (O)
DTSTART;TZID=Europe/Ljubljana:20210511T110000
DTEND;TZID=Europe/Ljubljana:20210511T120000
DTSTAMP:20260423T005947Z
UID:fmf-AFLABS-URNIK:premaknjeno-srecanje:39415
CATEGORIES:Entry,Standard
COLOR:darkgreen
DESCRIPTION:Predmet: Govorilna ura ()\, Ostalo (O)\nLetniki: \nIzvajalci: 
 Darja Govekar-Leban\nProstor: 5.19
LOCATION:5.19
ORGANIZER:Darja Govekar-Leban
RELATED-TO:fmf-AFLABS-URNIK:srecanje:5585
X-WR-TIMEZONE:Europe/Ljubljana
END:VEVENT
BEGIN:VEVENT
SUMMARY:Govorilna ura ()\, Ostalo (O)
DTSTART;TZID=Europe/Ljubljana:20210518T110000
DTEND;TZID=Europe/Ljubljana:20210518T120000
DTSTAMP:20260423T005947Z
UID:fmf-AFLABS-URNIK:premaknjeno-srecanje:39416
CATEGORIES:Entry,Standard
COLOR:darkgreen
DESCRIPTION:Predmet: Govorilna ura ()\, Ostalo (O)\nLetniki: \nIzvajalci: 
 Darja Govekar-Leban\nProstor: 5.19
LOCATION:5.19
ORGANIZER:Darja Govekar-Leban
RELATED-TO:fmf-AFLABS-URNIK:srecanje:5585
X-WR-TIMEZONE:Europe/Ljubljana
END:VEVENT
BEGIN:VEVENT
SUMMARY:Govorilna ura ()\, Ostalo (O)
DTSTART;TZID=Europe/Ljubljana:20210525T110000
DTEND;TZID=Europe/Ljubljana:20210525T120000
DTSTAMP:20260423T005947Z
UID:fmf-AFLABS-URNIK:premaknjeno-srecanje:39417
CATEGORIES:Entry,Standard
COLOR:darkgreen
DESCRIPTION:Predmet: Govorilna ura ()\, Ostalo (O)\nLetniki: \nIzvajalci: 
 Darja Govekar-Leban\nProstor: 5.19
LOCATION:5.19
ORGANIZER:Darja Govekar-Leban
RELATED-TO:fmf-AFLABS-URNIK:srecanje:5585
X-WR-TIMEZONE:Europe/Ljubljana
END:VEVENT
BEGIN:VEVENT
SUMMARY:Parcialne diferencialne enačbe (APM-3)\, Vaje (V)
DTSTART;TZID=Europe/Ljubljana:20210512T070000
DTEND;TZID=Europe/Ljubljana:20210512T100000
DTSTAMP:20260423T005947Z
UID:fmf-AFLABS-URNIK:premaknjeno-srecanje:82238
ATTENDEE:3. letnik (APM)
CATEGORIES:Entry,Standard
COLOR:darkgreen
DESCRIPTION:Predmet: Parcialne diferencialne enačbe (APM-3)\, Vaje (V)\nL
 etniki: 3. letnik (APM)\nIzvajalci: Darja Govekar-Leban\nProstor: 3.07
LOCATION:3.07
ORGANIZER:Darja Govekar-Leban
RELATED-TO:fmf-AFLABS-URNIK:srecanje:5808
X-WR-TIMEZONE:Europe/Ljubljana
END:VEVENT
BEGIN:VEVENT
SUMMARY:Parcialne diferencialne enačbe (APM-3)\, Vaje (V)
DTSTART;TZID=Europe/Ljubljana:20210519T070000
DTEND;TZID=Europe/Ljubljana:20210519T100000
DTSTAMP:20260423T005947Z
UID:fmf-AFLABS-URNIK:premaknjeno-srecanje:82239
ATTENDEE:3. letnik (APM)
CATEGORIES:Entry,Standard
COLOR:darkgreen
DESCRIPTION:Predmet: Parcialne diferencialne enačbe (APM-3)\, Vaje (V)\nL
 etniki: 3. letnik (APM)\nIzvajalci: Darja Govekar-Leban\nProstor: 3.07
LOCATION:3.07
ORGANIZER:Darja Govekar-Leban
RELATED-TO:fmf-AFLABS-URNIK:srecanje:5808
X-WR-TIMEZONE:Europe/Ljubljana
END:VEVENT
BEGIN:VEVENT
SUMMARY:Parcialne diferencialne enačbe (APM-3)\, Vaje (V)
DTSTART;TZID=Europe/Ljubljana:20210526T070000
DTEND;TZID=Europe/Ljubljana:20210526T100000
DTSTAMP:20260423T005947Z
UID:fmf-AFLABS-URNIK:premaknjeno-srecanje:82240
ATTENDEE:3. letnik (APM)
CATEGORIES:Entry,Standard
COLOR:darkgreen
DESCRIPTION:Predmet: Parcialne diferencialne enačbe (APM-3)\, Vaje (V)\nL
 etniki: 3. letnik (APM)\nIzvajalci: Darja Govekar-Leban\nProstor: 3.07
LOCATION:3.07
ORGANIZER:Darja Govekar-Leban
RELATED-TO:fmf-AFLABS-URNIK:srecanje:5808
X-WR-TIMEZONE:Europe/Ljubljana
END:VEVENT
BEGIN:VEVENT
SUMMARY:Matematika 1 (TV FKKT) ()\, Vaje (V)
DTSTART;TZID=Europe/Ljubljana:20210513T080000
DTEND;TZID=Europe/Ljubljana:20210513T100000
DTSTAMP:20260423T005947Z
UID:fmf-AFLABS-URNIK:premaknjeno-srecanje:63079
CATEGORIES:Entry,Standard
COLOR:darkgreen
DESCRIPTION:Predmet: Matematika 1 (TV FKKT) ()\, Vaje (V)\nLetniki: \nIzva
 jalci: Darja Govekar-Leban\nProstor: FKKT
LOCATION:FKKT
ORGANIZER:Darja Govekar-Leban
RELATED-TO:fmf-AFLABS-URNIK:srecanje:5707
X-WR-TIMEZONE:Europe/Ljubljana
END:VEVENT
BEGIN:VEVENT
SUMMARY:Matematika 1 (TV FKKT) ()\, Vaje (V)
DTSTART;TZID=Europe/Ljubljana:20210520T080000
DTEND;TZID=Europe/Ljubljana:20210520T100000
DTSTAMP:20260423T005947Z
UID:fmf-AFLABS-URNIK:premaknjeno-srecanje:63080
CATEGORIES:Entry,Standard
COLOR:darkgreen
DESCRIPTION:Predmet: Matematika 1 (TV FKKT) ()\, Vaje (V)\nLetniki: \nIzva
 jalci: Darja Govekar-Leban\nProstor: FKKT
LOCATION:FKKT
ORGANIZER:Darja Govekar-Leban
RELATED-TO:fmf-AFLABS-URNIK:srecanje:5707
X-WR-TIMEZONE:Europe/Ljubljana
END:VEVENT
BEGIN:VEVENT
SUMMARY:Matematika 1 (TV FKKT) ()\, Vaje (V)
DTSTART;TZID=Europe/Ljubljana:20210527T080000
DTEND;TZID=Europe/Ljubljana:20210527T100000
DTSTAMP:20260423T005947Z
UID:fmf-AFLABS-URNIK:premaknjeno-srecanje:63081
CATEGORIES:Entry,Standard
COLOR:darkgreen
DESCRIPTION:Predmet: Matematika 1 (TV FKKT) ()\, Vaje (V)\nLetniki: \nIzva
 jalci: Darja Govekar-Leban\nProstor: FKKT
LOCATION:FKKT
ORGANIZER:Darja Govekar-Leban
RELATED-TO:fmf-AFLABS-URNIK:srecanje:5707
X-WR-TIMEZONE:Europe/Ljubljana
END:VEVENT
BEGIN:VEVENT
SUMMARY:Rezervacija
DTSTART;TZID=Europe/Ljubljana:20210601T100000
DTEND;TZID=Europe/Ljubljana:20210601T120000
DTSTAMP:20260423T005947Z
UID:fmf-AFLABS-URNIK:rezervacija:6702
CATEGORIES:Reservation
COLOR:royalblue
DESCRIPTION:Predmeti: \nLetniki: \nIzvajalci: David Dolžan\, Darja Goveka
 r-Leban\nProstori: VFP
LOCATION:VFP
ORGANIZER:David Dolžan, Darja Govekar-Leban
X-WR-TIMEZONE:Europe/Ljubljana
END:VEVENT
BEGIN:VEVENT
SUMMARY:Rezervacija
DTSTART;TZID=Europe/Ljubljana:20210607T100000
DTEND;TZID=Europe/Ljubljana:20210607T120000
DTSTAMP:20260423T005947Z
UID:fmf-AFLABS-URNIK:rezervacija:6759
CATEGORIES:Reservation
COLOR:royalblue
DESCRIPTION:Predmeti: \nLetniki: \nIzvajalci: Darja Govekar-Leban\nProstor
 i: VFP
LOCATION:VFP
ORGANIZER:Darja Govekar-Leban
X-WR-TIMEZONE:Europe/Ljubljana
END:VEVENT
BEGIN:VEVENT
SUMMARY:Rezervacija
DTSTART;TZID=Europe/Ljubljana:20210629T120000
DTEND;TZID=Europe/Ljubljana:20210629T150000
DTSTAMP:20260423T005947Z
UID:fmf-AFLABS-URNIK:rezervacija:7116
CATEGORIES:Reservation
COLOR:royalblue
DESCRIPTION:Predmeti: \nLetniki: \nIzvajalci: David Dolžan\, Darja Goveka
 r-Leban\nProstori: 2.05
LOCATION:2.05
ORGANIZER:David Dolžan, Darja Govekar-Leban
X-WR-TIMEZONE:Europe/Ljubljana
END:VEVENT
BEGIN:VEVENT
SUMMARY:Rezervacija
DTSTART;TZID=Europe/Ljubljana:20210629T150000
DTEND;TZID=Europe/Ljubljana:20210629T160000
DTSTAMP:20260423T005947Z
UID:fmf-AFLABS-URNIK:rezervacija:7120
CATEGORIES:Reservation
COLOR:royalblue
DESCRIPTION:Predmeti: FKKT ()\nLetniki: \nIzvajalci: Darja Govekar-Leban\n
 Prostori: 2.05
LOCATION:2.05
ORGANIZER:Darja Govekar-Leban
X-WR-TIMEZONE:Europe/Ljubljana
END:VEVENT
END:VCALENDAR
