BEGIN:VCALENDAR
VERSION:2.0
PRODID:-//AFLabs urnik izvoz - fmf//aflabs.si//SI
DTSTAMP:20260423T041635Z
NAME:UL FMF urnik
REFRESH-INTERVAL:PT1H
SOURCE:https://urnik.fmf.uni-lj.si/teacher/24?day=2022-03-21&export=1
URL:https://urnik.fmf.uni-lj.si/teacher/24?day=2022-03-21&export=1
X-PUBLISHED-TTL:PT1H
X-WR-CALNAME:UL FMF urnik
X-WR-TIMEZONE:Europe/Ljubljana
BEGIN:VTIMEZONE
TZID:Europe/Ljubljana
BEGIN:DAYLIGHT
DTSTART:20260329T020000
RDATE:20260329T020000
RDATE:20270328T020000
TZNAME:CEST
TZOFFSETFROM:+0100
TZOFFSETTO:+0200
END:DAYLIGHT
BEGIN:STANDARD
DTSTART:20261025T030000
RDATE:20261025T030000
RDATE:20271031T030000
TZNAME:CET
TZOFFSETFROM:+0200
TZOFFSETTO:+0100
END:STANDARD
END:VTIMEZONE
BEGIN:VEVENT
SUMMARY:MAT (GOVEKAR-LEBAN) ()\, Vaje (V)
DTSTART;TZID=Europe/Ljubljana:20220215T100000
DTEND;TZID=Europe/Ljubljana:20220215T120000
DTSTAMP:20260423T041635Z
UID:fmf-AFLABS-URNIK:premaknjeno-srecanje:59032
CATEGORIES:Entry,Standard
COLOR:darkgreen
DESCRIPTION:Predmet: MAT (GOVEKAR-LEBAN) ()\, Vaje (V)\nLetniki: \nIzvajal
 ci: Darja Govekar-Leban\nProstor: NTF
LOCATION:NTF
ORGANIZER:Darja Govekar-Leban
RELATED-TO:fmf-AFLABS-URNIK:srecanje:7077
X-WR-TIMEZONE:Europe/Ljubljana
END:VEVENT
BEGIN:VEVENT
SUMMARY:MAT (GOVEKAR-LEBAN) ()\, Vaje (V)
DTSTART;TZID=Europe/Ljubljana:20220222T100000
DTEND;TZID=Europe/Ljubljana:20220222T120000
DTSTAMP:20260423T041635Z
UID:fmf-AFLABS-URNIK:premaknjeno-srecanje:59033
CATEGORIES:Entry,Standard
COLOR:darkgreen
DESCRIPTION:Predmet: MAT (GOVEKAR-LEBAN) ()\, Vaje (V)\nLetniki: \nIzvajal
 ci: Darja Govekar-Leban\nProstor: NTF
LOCATION:NTF
ORGANIZER:Darja Govekar-Leban
RELATED-TO:fmf-AFLABS-URNIK:srecanje:7077
X-WR-TIMEZONE:Europe/Ljubljana
END:VEVENT
BEGIN:VEVENT
SUMMARY:MAT (GOVEKAR-LEBAN) ()\, Vaje (V)
DTSTART;TZID=Europe/Ljubljana:20220301T100000
DTEND;TZID=Europe/Ljubljana:20220301T120000
DTSTAMP:20260423T041635Z
UID:fmf-AFLABS-URNIK:premaknjeno-srecanje:59034
CATEGORIES:Entry,Standard
COLOR:darkgreen
DESCRIPTION:Predmet: MAT (GOVEKAR-LEBAN) ()\, Vaje (V)\nLetniki: \nIzvajal
 ci: Darja Govekar-Leban\nProstor: NTF
LOCATION:NTF
ORGANIZER:Darja Govekar-Leban
RELATED-TO:fmf-AFLABS-URNIK:srecanje:7077
X-WR-TIMEZONE:Europe/Ljubljana
END:VEVENT
BEGIN:VEVENT
SUMMARY:MAT (GOVEKAR-LEBAN) ()\, Vaje (V)
DTSTART;TZID=Europe/Ljubljana:20220308T100000
DTEND;TZID=Europe/Ljubljana:20220308T120000
DTSTAMP:20260423T041635Z
UID:fmf-AFLABS-URNIK:premaknjeno-srecanje:59035
CATEGORIES:Entry,Standard
COLOR:darkgreen
DESCRIPTION:Predmet: MAT (GOVEKAR-LEBAN) ()\, Vaje (V)\nLetniki: \nIzvajal
 ci: Darja Govekar-Leban\nProstor: NTF
LOCATION:NTF
ORGANIZER:Darja Govekar-Leban
RELATED-TO:fmf-AFLABS-URNIK:srecanje:7077
X-WR-TIMEZONE:Europe/Ljubljana
END:VEVENT
BEGIN:VEVENT
SUMMARY:MAT (GOVEKAR-LEBAN) ()\, Vaje (V)
DTSTART;TZID=Europe/Ljubljana:20220315T100000
DTEND;TZID=Europe/Ljubljana:20220315T120000
DTSTAMP:20260423T041635Z
UID:fmf-AFLABS-URNIK:premaknjeno-srecanje:59036
CATEGORIES:Entry,Standard
COLOR:darkgreen
DESCRIPTION:Predmet: MAT (GOVEKAR-LEBAN) ()\, Vaje (V)\nLetniki: \nIzvajal
 ci: Darja Govekar-Leban\nProstor: NTF
LOCATION:NTF
ORGANIZER:Darja Govekar-Leban
RELATED-TO:fmf-AFLABS-URNIK:srecanje:7077
X-WR-TIMEZONE:Europe/Ljubljana
END:VEVENT
BEGIN:VEVENT
SUMMARY:MAT (GOVEKAR-LEBAN) ()\, Vaje (V)
DTSTART;TZID=Europe/Ljubljana:20220322T100000
DTEND;TZID=Europe/Ljubljana:20220322T120000
DTSTAMP:20260423T041635Z
UID:fmf-AFLABS-URNIK:premaknjeno-srecanje:59037
CATEGORIES:Entry,Standard
COLOR:darkgreen
DESCRIPTION:Predmet: MAT (GOVEKAR-LEBAN) ()\, Vaje (V)\nLetniki: \nIzvajal
 ci: Darja Govekar-Leban\nProstor: NTF
LOCATION:NTF
ORGANIZER:Darja Govekar-Leban
RELATED-TO:fmf-AFLABS-URNIK:srecanje:7077
X-WR-TIMEZONE:Europe/Ljubljana
END:VEVENT
BEGIN:VEVENT
SUMMARY:MAT (GOVEKAR-LEBAN) ()\, Vaje (V)
DTSTART;TZID=Europe/Ljubljana:20220329T100000
DTEND;TZID=Europe/Ljubljana:20220329T120000
DTSTAMP:20260423T041635Z
UID:fmf-AFLABS-URNIK:premaknjeno-srecanje:59038
CATEGORIES:Entry,Standard
COLOR:darkgreen
DESCRIPTION:Predmet: MAT (GOVEKAR-LEBAN) ()\, Vaje (V)\nLetniki: \nIzvajal
 ci: Darja Govekar-Leban\nProstor: NTF
LOCATION:NTF
ORGANIZER:Darja Govekar-Leban
RELATED-TO:fmf-AFLABS-URNIK:srecanje:7077
X-WR-TIMEZONE:Europe/Ljubljana
END:VEVENT
BEGIN:VEVENT
SUMMARY:MAT (GOVEKAR-LEBAN) ()\, Vaje (V)
DTSTART;TZID=Europe/Ljubljana:20220405T100000
DTEND;TZID=Europe/Ljubljana:20220405T120000
DTSTAMP:20260423T041635Z
UID:fmf-AFLABS-URNIK:premaknjeno-srecanje:59039
CATEGORIES:Entry,Standard
COLOR:darkgreen
DESCRIPTION:Predmet: MAT (GOVEKAR-LEBAN) ()\, Vaje (V)\nLetniki: \nIzvajal
 ci: Darja Govekar-Leban\nProstor: NTF
LOCATION:NTF
ORGANIZER:Darja Govekar-Leban
RELATED-TO:fmf-AFLABS-URNIK:srecanje:7077
X-WR-TIMEZONE:Europe/Ljubljana
END:VEVENT
BEGIN:VEVENT
SUMMARY:MAT (GOVEKAR-LEBAN) ()\, Vaje (V)
DTSTART;TZID=Europe/Ljubljana:20220412T100000
DTEND;TZID=Europe/Ljubljana:20220412T120000
DTSTAMP:20260423T041635Z
UID:fmf-AFLABS-URNIK:premaknjeno-srecanje:59040
CATEGORIES:Entry,Standard
COLOR:darkgreen
DESCRIPTION:Predmet: MAT (GOVEKAR-LEBAN) ()\, Vaje (V)\nLetniki: \nIzvajal
 ci: Darja Govekar-Leban\nProstor: NTF
LOCATION:NTF
ORGANIZER:Darja Govekar-Leban
RELATED-TO:fmf-AFLABS-URNIK:srecanje:7077
X-WR-TIMEZONE:Europe/Ljubljana
END:VEVENT
BEGIN:VEVENT
SUMMARY:MAT (GOVEKAR-LEBAN) ()\, Vaje (V)
DTSTART;TZID=Europe/Ljubljana:20220419T100000
DTEND;TZID=Europe/Ljubljana:20220419T120000
DTSTAMP:20260423T041635Z
UID:fmf-AFLABS-URNIK:premaknjeno-srecanje:59041
CATEGORIES:Entry,Standard
COLOR:darkgreen
DESCRIPTION:Predmet: MAT (GOVEKAR-LEBAN) ()\, Vaje (V)\nLetniki: \nIzvajal
 ci: Darja Govekar-Leban\nProstor: NTF
LOCATION:NTF
ORGANIZER:Darja Govekar-Leban
RELATED-TO:fmf-AFLABS-URNIK:srecanje:7077
X-WR-TIMEZONE:Europe/Ljubljana
END:VEVENT
BEGIN:VEVENT
SUMMARY:MAT (GOVEKAR-LEBAN) ()\, Vaje (V)
DTSTART;TZID=Europe/Ljubljana:20220426T100000
DTEND;TZID=Europe/Ljubljana:20220426T120000
DTSTAMP:20260423T041635Z
UID:fmf-AFLABS-URNIK:premaknjeno-srecanje:59042
CATEGORIES:Entry,Standard
COLOR:darkgreen
DESCRIPTION:Predmet: MAT (GOVEKAR-LEBAN) ()\, Vaje (V)\nLetniki: \nIzvajal
 ci: Darja Govekar-Leban\nProstor: NTF
LOCATION:NTF
ORGANIZER:Darja Govekar-Leban
RELATED-TO:fmf-AFLABS-URNIK:srecanje:7077
X-WR-TIMEZONE:Europe/Ljubljana
END:VEVENT
BEGIN:VEVENT
SUMMARY:MAT (GOVEKAR-LEBAN) ()\, Vaje (V)
DTSTART;TZID=Europe/Ljubljana:20220503T100000
DTEND;TZID=Europe/Ljubljana:20220503T120000
DTSTAMP:20260423T041635Z
UID:fmf-AFLABS-URNIK:premaknjeno-srecanje:59043
CATEGORIES:Entry,Standard
COLOR:darkgreen
DESCRIPTION:Predmet: MAT (GOVEKAR-LEBAN) ()\, Vaje (V)\nLetniki: \nIzvajal
 ci: Darja Govekar-Leban\nProstor: NTF
LOCATION:NTF
ORGANIZER:Darja Govekar-Leban
RELATED-TO:fmf-AFLABS-URNIK:srecanje:7077
X-WR-TIMEZONE:Europe/Ljubljana
END:VEVENT
BEGIN:VEVENT
SUMMARY:MAT (GOVEKAR-LEBAN) ()\, Vaje (V)
DTSTART;TZID=Europe/Ljubljana:20220510T100000
DTEND;TZID=Europe/Ljubljana:20220510T120000
DTSTAMP:20260423T041635Z
UID:fmf-AFLABS-URNIK:premaknjeno-srecanje:59044
CATEGORIES:Entry,Standard
COLOR:darkgreen
DESCRIPTION:Predmet: MAT (GOVEKAR-LEBAN) ()\, Vaje (V)\nLetniki: \nIzvajal
 ci: Darja Govekar-Leban\nProstor: NTF
LOCATION:NTF
ORGANIZER:Darja Govekar-Leban
RELATED-TO:fmf-AFLABS-URNIK:srecanje:7077
X-WR-TIMEZONE:Europe/Ljubljana
END:VEVENT
BEGIN:VEVENT
SUMMARY:MAT (GOVEKAR-LEBAN) ()\, Vaje (V)
DTSTART;TZID=Europe/Ljubljana:20220517T100000
DTEND;TZID=Europe/Ljubljana:20220517T120000
DTSTAMP:20260423T041635Z
UID:fmf-AFLABS-URNIK:premaknjeno-srecanje:59045
CATEGORIES:Entry,Standard
COLOR:darkgreen
DESCRIPTION:Predmet: MAT (GOVEKAR-LEBAN) ()\, Vaje (V)\nLetniki: \nIzvajal
 ci: Darja Govekar-Leban\nProstor: NTF
LOCATION:NTF
ORGANIZER:Darja Govekar-Leban
RELATED-TO:fmf-AFLABS-URNIK:srecanje:7077
X-WR-TIMEZONE:Europe/Ljubljana
END:VEVENT
BEGIN:VEVENT
SUMMARY:MAT (GOVEKAR-LEBAN) ()\, Vaje (V)
DTSTART;TZID=Europe/Ljubljana:20220524T100000
DTEND;TZID=Europe/Ljubljana:20220524T120000
DTSTAMP:20260423T041635Z
UID:fmf-AFLABS-URNIK:premaknjeno-srecanje:59046
CATEGORIES:Entry,Standard
COLOR:darkgreen
DESCRIPTION:Predmet: MAT (GOVEKAR-LEBAN) ()\, Vaje (V)\nLetniki: \nIzvajal
 ci: Darja Govekar-Leban\nProstor: NTF
LOCATION:NTF
ORGANIZER:Darja Govekar-Leban
RELATED-TO:fmf-AFLABS-URNIK:srecanje:7077
X-WR-TIMEZONE:Europe/Ljubljana
END:VEVENT
BEGIN:VEVENT
SUMMARY:MAT (GOVEKAR-LEBAN) ()\, Vaje (V)
DTSTART;TZID=Europe/Ljubljana:20220531T100000
DTEND;TZID=Europe/Ljubljana:20220531T120000
DTSTAMP:20260423T041635Z
UID:fmf-AFLABS-URNIK:premaknjeno-srecanje:59047
CATEGORIES:Entry,Standard
COLOR:darkgreen
DESCRIPTION:Predmet: MAT (GOVEKAR-LEBAN) ()\, Vaje (V)\nLetniki: \nIzvajal
 ci: Darja Govekar-Leban\nProstor: NTF
LOCATION:NTF
ORGANIZER:Darja Govekar-Leban
RELATED-TO:fmf-AFLABS-URNIK:srecanje:7077
X-WR-TIMEZONE:Europe/Ljubljana
END:VEVENT
BEGIN:VEVENT
SUMMARY:Parcialne diferencialne enačbe (APM-3)\, Vaje (V)
DTSTART;TZID=Europe/Ljubljana:20220216T110000
DTEND;TZID=Europe/Ljubljana:20220216T140000
DTSTAMP:20260423T041635Z
UID:fmf-AFLABS-URNIK:premaknjeno-srecanje:82273
ATTENDEE:3. letnik (APM)
CATEGORIES:Entry,Standard
COLOR:darkgreen
DESCRIPTION:Predmet: Parcialne diferencialne enačbe (APM-3)\, Vaje (V)\nL
 etniki: 3. letnik (APM)\nIzvajalci: Darja Govekar-Leban\nProstor: 3.04
LOCATION:3.04
ORGANIZER:Darja Govekar-Leban
RELATED-TO:fmf-AFLABS-URNIK:srecanje:7190
X-WR-TIMEZONE:Europe/Ljubljana
END:VEVENT
BEGIN:VEVENT
SUMMARY:Parcialne diferencialne enačbe (APM-3)\, Vaje (V)
DTSTART;TZID=Europe/Ljubljana:20220223T110000
DTEND;TZID=Europe/Ljubljana:20220223T140000
DTSTAMP:20260423T041635Z
UID:fmf-AFLABS-URNIK:premaknjeno-srecanje:82274
ATTENDEE:3. letnik (APM)
CATEGORIES:Entry,Standard
COLOR:darkgreen
DESCRIPTION:Predmet: Parcialne diferencialne enačbe (APM-3)\, Vaje (V)\nL
 etniki: 3. letnik (APM)\nIzvajalci: Darja Govekar-Leban\nProstor: 3.04
LOCATION:3.04
ORGANIZER:Darja Govekar-Leban
RELATED-TO:fmf-AFLABS-URNIK:srecanje:7190
X-WR-TIMEZONE:Europe/Ljubljana
END:VEVENT
BEGIN:VEVENT
SUMMARY:Parcialne diferencialne enačbe (APM-3)\, Vaje (V)
DTSTART;TZID=Europe/Ljubljana:20220302T110000
DTEND;TZID=Europe/Ljubljana:20220302T140000
DTSTAMP:20260423T041635Z
UID:fmf-AFLABS-URNIK:premaknjeno-srecanje:82275
ATTENDEE:3. letnik (APM)
CATEGORIES:Entry,Standard
COLOR:darkgreen
DESCRIPTION:Predmet: Parcialne diferencialne enačbe (APM-3)\, Vaje (V)\nL
 etniki: 3. letnik (APM)\nIzvajalci: Darja Govekar-Leban\nProstor: 3.04
LOCATION:3.04
ORGANIZER:Darja Govekar-Leban
RELATED-TO:fmf-AFLABS-URNIK:srecanje:7190
X-WR-TIMEZONE:Europe/Ljubljana
END:VEVENT
BEGIN:VEVENT
SUMMARY:Parcialne diferencialne enačbe (APM-3)\, Vaje (V)
DTSTART;TZID=Europe/Ljubljana:20220309T110000
DTEND;TZID=Europe/Ljubljana:20220309T140000
DTSTAMP:20260423T041635Z
UID:fmf-AFLABS-URNIK:premaknjeno-srecanje:82276
ATTENDEE:3. letnik (APM)
CATEGORIES:Entry,Standard
COLOR:darkgreen
DESCRIPTION:Predmet: Parcialne diferencialne enačbe (APM-3)\, Vaje (V)\nL
 etniki: 3. letnik (APM)\nIzvajalci: Darja Govekar-Leban\nProstor: 3.04
LOCATION:3.04
ORGANIZER:Darja Govekar-Leban
RELATED-TO:fmf-AFLABS-URNIK:srecanje:7190
X-WR-TIMEZONE:Europe/Ljubljana
END:VEVENT
BEGIN:VEVENT
SUMMARY:Parcialne diferencialne enačbe (APM-3)\, Vaje (V)
DTSTART;TZID=Europe/Ljubljana:20220316T110000
DTEND;TZID=Europe/Ljubljana:20220316T140000
DTSTAMP:20260423T041635Z
UID:fmf-AFLABS-URNIK:premaknjeno-srecanje:82277
ATTENDEE:3. letnik (APM)
CATEGORIES:Entry,Standard
COLOR:darkgreen
DESCRIPTION:Predmet: Parcialne diferencialne enačbe (APM-3)\, Vaje (V)\nL
 etniki: 3. letnik (APM)\nIzvajalci: Darja Govekar-Leban\nProstor: 3.04
LOCATION:3.04
ORGANIZER:Darja Govekar-Leban
RELATED-TO:fmf-AFLABS-URNIK:srecanje:7190
X-WR-TIMEZONE:Europe/Ljubljana
END:VEVENT
BEGIN:VEVENT
SUMMARY:Parcialne diferencialne enačbe (APM-3)\, Vaje (V)
DTSTART;TZID=Europe/Ljubljana:20220323T110000
DTEND;TZID=Europe/Ljubljana:20220323T140000
DTSTAMP:20260423T041635Z
UID:fmf-AFLABS-URNIK:premaknjeno-srecanje:82278
ATTENDEE:3. letnik (APM)
CATEGORIES:Entry,Standard
COLOR:darkgreen
DESCRIPTION:Predmet: Parcialne diferencialne enačbe (APM-3)\, Vaje (V)\nL
 etniki: 3. letnik (APM)\nIzvajalci: Darja Govekar-Leban\nProstor: 3.04
LOCATION:3.04
ORGANIZER:Darja Govekar-Leban
RELATED-TO:fmf-AFLABS-URNIK:srecanje:7190
X-WR-TIMEZONE:Europe/Ljubljana
END:VEVENT
BEGIN:VEVENT
SUMMARY:Parcialne diferencialne enačbe (APM-3)\, Vaje (V)
DTSTART;TZID=Europe/Ljubljana:20220330T110000
DTEND;TZID=Europe/Ljubljana:20220330T140000
DTSTAMP:20260423T041635Z
UID:fmf-AFLABS-URNIK:premaknjeno-srecanje:82279
ATTENDEE:3. letnik (APM)
CATEGORIES:Entry,Standard
COLOR:darkgreen
DESCRIPTION:Predmet: Parcialne diferencialne enačbe (APM-3)\, Vaje (V)\nL
 etniki: 3. letnik (APM)\nIzvajalci: Darja Govekar-Leban\nProstor: 3.04
LOCATION:3.04
ORGANIZER:Darja Govekar-Leban
RELATED-TO:fmf-AFLABS-URNIK:srecanje:7190
X-WR-TIMEZONE:Europe/Ljubljana
END:VEVENT
BEGIN:VEVENT
SUMMARY:Parcialne diferencialne enačbe (APM-3)\, Vaje (V)
DTSTART;TZID=Europe/Ljubljana:20220406T110000
DTEND;TZID=Europe/Ljubljana:20220406T140000
DTSTAMP:20260423T041635Z
UID:fmf-AFLABS-URNIK:premaknjeno-srecanje:82280
ATTENDEE:3. letnik (APM)
CATEGORIES:Entry,Standard
COLOR:darkgreen
DESCRIPTION:Predmet: Parcialne diferencialne enačbe (APM-3)\, Vaje (V)\nL
 etniki: 3. letnik (APM)\nIzvajalci: Darja Govekar-Leban\nProstor: 3.04
LOCATION:3.04
ORGANIZER:Darja Govekar-Leban
RELATED-TO:fmf-AFLABS-URNIK:srecanje:7190
X-WR-TIMEZONE:Europe/Ljubljana
END:VEVENT
BEGIN:VEVENT
SUMMARY:Parcialne diferencialne enačbe (APM-3)\, Vaje (V)
DTSTART;TZID=Europe/Ljubljana:20220413T110000
DTEND;TZID=Europe/Ljubljana:20220413T140000
DTSTAMP:20260423T041635Z
UID:fmf-AFLABS-URNIK:premaknjeno-srecanje:82281
ATTENDEE:3. letnik (APM)
CATEGORIES:Entry,Standard
COLOR:darkgreen
DESCRIPTION:Predmet: Parcialne diferencialne enačbe (APM-3)\, Vaje (V)\nL
 etniki: 3. letnik (APM)\nIzvajalci: Darja Govekar-Leban\nProstor: 3.04
LOCATION:3.04
ORGANIZER:Darja Govekar-Leban
RELATED-TO:fmf-AFLABS-URNIK:srecanje:7190
X-WR-TIMEZONE:Europe/Ljubljana
END:VEVENT
BEGIN:VEVENT
SUMMARY:Parcialne diferencialne enačbe (APM-3)\, Vaje (V)
DTSTART;TZID=Europe/Ljubljana:20220420T110000
DTEND;TZID=Europe/Ljubljana:20220420T140000
DTSTAMP:20260423T041635Z
UID:fmf-AFLABS-URNIK:premaknjeno-srecanje:82282
ATTENDEE:3. letnik (APM)
CATEGORIES:Entry,Standard
COLOR:darkgreen
DESCRIPTION:Predmet: Parcialne diferencialne enačbe (APM-3)\, Vaje (V)\nL
 etniki: 3. letnik (APM)\nIzvajalci: Darja Govekar-Leban\nProstor: 3.04
LOCATION:3.04
ORGANIZER:Darja Govekar-Leban
RELATED-TO:fmf-AFLABS-URNIK:srecanje:7190
X-WR-TIMEZONE:Europe/Ljubljana
END:VEVENT
BEGIN:VEVENT
SUMMARY:Parcialne diferencialne enačbe (APM-3)\, Vaje (V)
DTSTART;TZID=Europe/Ljubljana:20220427T110000
DTEND;TZID=Europe/Ljubljana:20220427T140000
DTSTAMP:20260423T041635Z
UID:fmf-AFLABS-URNIK:premaknjeno-srecanje:82283
ATTENDEE:3. letnik (APM)
CATEGORIES:Entry,Standard
COLOR:darkgreen
DESCRIPTION:Predmet: Parcialne diferencialne enačbe (APM-3)\, Vaje (V)\nL
 etniki: 3. letnik (APM)\nIzvajalci: Darja Govekar-Leban\nProstor: 3.04
LOCATION:3.04
ORGANIZER:Darja Govekar-Leban
RELATED-TO:fmf-AFLABS-URNIK:srecanje:7190
X-WR-TIMEZONE:Europe/Ljubljana
END:VEVENT
BEGIN:VEVENT
SUMMARY:Parcialne diferencialne enačbe (APM-3)\, Vaje (V)
DTSTART;TZID=Europe/Ljubljana:20220504T110000
DTEND;TZID=Europe/Ljubljana:20220504T140000
DTSTAMP:20260423T041635Z
UID:fmf-AFLABS-URNIK:premaknjeno-srecanje:82284
ATTENDEE:3. letnik (APM)
CATEGORIES:Entry,Standard
COLOR:darkgreen
DESCRIPTION:Predmet: Parcialne diferencialne enačbe (APM-3)\, Vaje (V)\nL
 etniki: 3. letnik (APM)\nIzvajalci: Darja Govekar-Leban\nProstor: 3.04
LOCATION:3.04
ORGANIZER:Darja Govekar-Leban
RELATED-TO:fmf-AFLABS-URNIK:srecanje:7190
X-WR-TIMEZONE:Europe/Ljubljana
END:VEVENT
BEGIN:VEVENT
SUMMARY:Parcialne diferencialne enačbe (APM-3)\, Vaje (V)
DTSTART;TZID=Europe/Ljubljana:20220511T110000
DTEND;TZID=Europe/Ljubljana:20220511T140000
DTSTAMP:20260423T041635Z
UID:fmf-AFLABS-URNIK:premaknjeno-srecanje:82285
ATTENDEE:3. letnik (APM)
CATEGORIES:Entry,Standard
COLOR:darkgreen
DESCRIPTION:Predmet: Parcialne diferencialne enačbe (APM-3)\, Vaje (V)\nL
 etniki: 3. letnik (APM)\nIzvajalci: Darja Govekar-Leban\nProstor: 3.04
LOCATION:3.04
ORGANIZER:Darja Govekar-Leban
RELATED-TO:fmf-AFLABS-URNIK:srecanje:7190
X-WR-TIMEZONE:Europe/Ljubljana
END:VEVENT
BEGIN:VEVENT
SUMMARY:Parcialne diferencialne enačbe (APM-3)\, Vaje (V)
DTSTART;TZID=Europe/Ljubljana:20220518T110000
DTEND;TZID=Europe/Ljubljana:20220518T140000
DTSTAMP:20260423T041635Z
UID:fmf-AFLABS-URNIK:premaknjeno-srecanje:82286
ATTENDEE:3. letnik (APM)
CATEGORIES:Entry,Standard
COLOR:darkgreen
DESCRIPTION:Predmet: Parcialne diferencialne enačbe (APM-3)\, Vaje (V)\nL
 etniki: 3. letnik (APM)\nIzvajalci: Darja Govekar-Leban\nProstor: 3.04
LOCATION:3.04
ORGANIZER:Darja Govekar-Leban
RELATED-TO:fmf-AFLABS-URNIK:srecanje:7190
X-WR-TIMEZONE:Europe/Ljubljana
END:VEVENT
BEGIN:VEVENT
SUMMARY:Parcialne diferencialne enačbe (APM-3)\, Vaje (V)
DTSTART;TZID=Europe/Ljubljana:20220525T110000
DTEND;TZID=Europe/Ljubljana:20220525T140000
DTSTAMP:20260423T041635Z
UID:fmf-AFLABS-URNIK:premaknjeno-srecanje:82287
ATTENDEE:3. letnik (APM)
CATEGORIES:Entry,Standard
COLOR:darkgreen
DESCRIPTION:Predmet: Parcialne diferencialne enačbe (APM-3)\, Vaje (V)\nL
 etniki: 3. letnik (APM)\nIzvajalci: Darja Govekar-Leban\nProstor: 3.04
LOCATION:3.04
ORGANIZER:Darja Govekar-Leban
RELATED-TO:fmf-AFLABS-URNIK:srecanje:7190
X-WR-TIMEZONE:Europe/Ljubljana
END:VEVENT
BEGIN:VEVENT
SUMMARY:REZ FM ()\, Vaje (V)
DTSTART;TZID=Europe/Ljubljana:20220217T080000
DTEND;TZID=Europe/Ljubljana:20220217T100000
DTSTAMP:20260423T041635Z
UID:fmf-AFLABS-URNIK:premaknjeno-srecanje:90374
CATEGORIES:Entry,Standard
COLOR:darkgreen
DESCRIPTION:Predmet: REZ FM ()\, Vaje (V)\nLetniki: \nIzvajalci: Darja Gov
 ekar-Leban\nProstor: P.01
LOCATION:P.01
ORGANIZER:Darja Govekar-Leban
RELATED-TO:fmf-AFLABS-URNIK:srecanje:7413
X-WR-TIMEZONE:Europe/Ljubljana
END:VEVENT
BEGIN:VEVENT
SUMMARY:REZ FM ()\, Vaje (V)
DTSTART;TZID=Europe/Ljubljana:20220224T080000
DTEND;TZID=Europe/Ljubljana:20220224T100000
DTSTAMP:20260423T041635Z
UID:fmf-AFLABS-URNIK:premaknjeno-srecanje:90375
CATEGORIES:Entry,Standard
COLOR:darkgreen
DESCRIPTION:Predmet: REZ FM ()\, Vaje (V)\nLetniki: \nIzvajalci: Darja Gov
 ekar-Leban\nProstor: P.01
LOCATION:P.01
ORGANIZER:Darja Govekar-Leban
RELATED-TO:fmf-AFLABS-URNIK:srecanje:7413
X-WR-TIMEZONE:Europe/Ljubljana
END:VEVENT
BEGIN:VEVENT
SUMMARY:REZ FM ()\, Vaje (V)
DTSTART;TZID=Europe/Ljubljana:20220303T080000
DTEND;TZID=Europe/Ljubljana:20220303T100000
DTSTAMP:20260423T041635Z
UID:fmf-AFLABS-URNIK:premaknjeno-srecanje:90376
CATEGORIES:Entry,Standard
COLOR:darkgreen
DESCRIPTION:Predmet: REZ FM ()\, Vaje (V)\nLetniki: \nIzvajalci: Darja Gov
 ekar-Leban\nProstor: P.01
LOCATION:P.01
ORGANIZER:Darja Govekar-Leban
RELATED-TO:fmf-AFLABS-URNIK:srecanje:7413
X-WR-TIMEZONE:Europe/Ljubljana
END:VEVENT
BEGIN:VEVENT
SUMMARY:REZ FM ()\, Vaje (V)
DTSTART;TZID=Europe/Ljubljana:20220310T080000
DTEND;TZID=Europe/Ljubljana:20220310T100000
DTSTAMP:20260423T041635Z
UID:fmf-AFLABS-URNIK:premaknjeno-srecanje:90377
CATEGORIES:Entry,Standard
COLOR:darkgreen
DESCRIPTION:Predmet: REZ FM ()\, Vaje (V)\nLetniki: \nIzvajalci: Darja Gov
 ekar-Leban\nProstor: P.01
LOCATION:P.01
ORGANIZER:Darja Govekar-Leban
RELATED-TO:fmf-AFLABS-URNIK:srecanje:7413
X-WR-TIMEZONE:Europe/Ljubljana
END:VEVENT
BEGIN:VEVENT
SUMMARY:REZ FM ()\, Vaje (V)
DTSTART;TZID=Europe/Ljubljana:20220317T080000
DTEND;TZID=Europe/Ljubljana:20220317T100000
DTSTAMP:20260423T041635Z
UID:fmf-AFLABS-URNIK:premaknjeno-srecanje:90378
CATEGORIES:Entry,Standard
COLOR:darkgreen
DESCRIPTION:Predmet: REZ FM ()\, Vaje (V)\nLetniki: \nIzvajalci: Darja Gov
 ekar-Leban\nProstor: P.01
LOCATION:P.01
ORGANIZER:Darja Govekar-Leban
RELATED-TO:fmf-AFLABS-URNIK:srecanje:7413
X-WR-TIMEZONE:Europe/Ljubljana
END:VEVENT
BEGIN:VEVENT
SUMMARY:REZ FM ()\, Vaje (V)
DTSTART;TZID=Europe/Ljubljana:20220324T080000
DTEND;TZID=Europe/Ljubljana:20220324T100000
DTSTAMP:20260423T041635Z
UID:fmf-AFLABS-URNIK:premaknjeno-srecanje:90379
CATEGORIES:Entry,Standard
COLOR:darkgreen
DESCRIPTION:Predmet: REZ FM ()\, Vaje (V)\nLetniki: \nIzvajalci: Darja Gov
 ekar-Leban\nProstor: P.01
LOCATION:P.01
ORGANIZER:Darja Govekar-Leban
RELATED-TO:fmf-AFLABS-URNIK:srecanje:7413
X-WR-TIMEZONE:Europe/Ljubljana
END:VEVENT
BEGIN:VEVENT
SUMMARY:REZ FM ()\, Vaje (V)
DTSTART;TZID=Europe/Ljubljana:20220331T080000
DTEND;TZID=Europe/Ljubljana:20220331T100000
DTSTAMP:20260423T041635Z
UID:fmf-AFLABS-URNIK:premaknjeno-srecanje:90380
CATEGORIES:Entry,Standard
COLOR:darkgreen
DESCRIPTION:Predmet: REZ FM ()\, Vaje (V)\nLetniki: \nIzvajalci: Darja Gov
 ekar-Leban\nProstor: P.01
LOCATION:P.01
ORGANIZER:Darja Govekar-Leban
RELATED-TO:fmf-AFLABS-URNIK:srecanje:7413
X-WR-TIMEZONE:Europe/Ljubljana
END:VEVENT
BEGIN:VEVENT
SUMMARY:REZ FM ()\, Vaje (V)
DTSTART;TZID=Europe/Ljubljana:20220407T080000
DTEND;TZID=Europe/Ljubljana:20220407T100000
DTSTAMP:20260423T041635Z
UID:fmf-AFLABS-URNIK:premaknjeno-srecanje:90381
CATEGORIES:Entry,Standard
COLOR:darkgreen
DESCRIPTION:Predmet: REZ FM ()\, Vaje (V)\nLetniki: \nIzvajalci: Darja Gov
 ekar-Leban\nProstor: P.01
LOCATION:P.01
ORGANIZER:Darja Govekar-Leban
RELATED-TO:fmf-AFLABS-URNIK:srecanje:7413
X-WR-TIMEZONE:Europe/Ljubljana
END:VEVENT
BEGIN:VEVENT
SUMMARY:REZ FM ()\, Vaje (V)
DTSTART;TZID=Europe/Ljubljana:20220414T080000
DTEND;TZID=Europe/Ljubljana:20220414T100000
DTSTAMP:20260423T041635Z
UID:fmf-AFLABS-URNIK:premaknjeno-srecanje:90382
CATEGORIES:Entry,Standard
COLOR:darkgreen
DESCRIPTION:Predmet: REZ FM ()\, Vaje (V)\nLetniki: \nIzvajalci: Darja Gov
 ekar-Leban\nProstor: P.01
LOCATION:P.01
ORGANIZER:Darja Govekar-Leban
RELATED-TO:fmf-AFLABS-URNIK:srecanje:7413
X-WR-TIMEZONE:Europe/Ljubljana
END:VEVENT
BEGIN:VEVENT
SUMMARY:REZ FM ()\, Vaje (V)
DTSTART;TZID=Europe/Ljubljana:20220421T080000
DTEND;TZID=Europe/Ljubljana:20220421T100000
DTSTAMP:20260423T041635Z
UID:fmf-AFLABS-URNIK:premaknjeno-srecanje:90383
CATEGORIES:Entry,Standard
COLOR:darkgreen
DESCRIPTION:Predmet: REZ FM ()\, Vaje (V)\nLetniki: \nIzvajalci: Darja Gov
 ekar-Leban\nProstor: P.01
LOCATION:P.01
ORGANIZER:Darja Govekar-Leban
RELATED-TO:fmf-AFLABS-URNIK:srecanje:7413
X-WR-TIMEZONE:Europe/Ljubljana
END:VEVENT
BEGIN:VEVENT
SUMMARY:REZ FM ()\, Vaje (V)
DTSTART;TZID=Europe/Ljubljana:20220428T080000
DTEND;TZID=Europe/Ljubljana:20220428T100000
DTSTAMP:20260423T041635Z
UID:fmf-AFLABS-URNIK:premaknjeno-srecanje:90384
CATEGORIES:Entry,Standard
COLOR:darkgreen
DESCRIPTION:Predmet: REZ FM ()\, Vaje (V)\nLetniki: \nIzvajalci: Darja Gov
 ekar-Leban\nProstor: P.01
LOCATION:P.01
ORGANIZER:Darja Govekar-Leban
RELATED-TO:fmf-AFLABS-URNIK:srecanje:7413
X-WR-TIMEZONE:Europe/Ljubljana
END:VEVENT
BEGIN:VEVENT
SUMMARY:REZ FM ()\, Vaje (V)
DTSTART;TZID=Europe/Ljubljana:20220505T080000
DTEND;TZID=Europe/Ljubljana:20220505T100000
DTSTAMP:20260423T041635Z
UID:fmf-AFLABS-URNIK:premaknjeno-srecanje:90385
CATEGORIES:Entry,Standard
COLOR:darkgreen
DESCRIPTION:Predmet: REZ FM ()\, Vaje (V)\nLetniki: \nIzvajalci: Darja Gov
 ekar-Leban\nProstor: P.01
LOCATION:P.01
ORGANIZER:Darja Govekar-Leban
RELATED-TO:fmf-AFLABS-URNIK:srecanje:7413
X-WR-TIMEZONE:Europe/Ljubljana
END:VEVENT
BEGIN:VEVENT
SUMMARY:REZ FM ()\, Vaje (V)
DTSTART;TZID=Europe/Ljubljana:20220512T080000
DTEND;TZID=Europe/Ljubljana:20220512T100000
DTSTAMP:20260423T041635Z
UID:fmf-AFLABS-URNIK:premaknjeno-srecanje:90386
CATEGORIES:Entry,Standard
COLOR:darkgreen
DESCRIPTION:Predmet: REZ FM ()\, Vaje (V)\nLetniki: \nIzvajalci: Darja Gov
 ekar-Leban\nProstor: P.01
LOCATION:P.01
ORGANIZER:Darja Govekar-Leban
RELATED-TO:fmf-AFLABS-URNIK:srecanje:7413
X-WR-TIMEZONE:Europe/Ljubljana
END:VEVENT
BEGIN:VEVENT
SUMMARY:REZ FM ()\, Vaje (V)
DTSTART;TZID=Europe/Ljubljana:20220519T080000
DTEND;TZID=Europe/Ljubljana:20220519T100000
DTSTAMP:20260423T041635Z
UID:fmf-AFLABS-URNIK:premaknjeno-srecanje:90387
CATEGORIES:Entry,Standard
COLOR:darkgreen
DESCRIPTION:Predmet: REZ FM ()\, Vaje (V)\nLetniki: \nIzvajalci: Darja Gov
 ekar-Leban\nProstor: P.01
LOCATION:P.01
ORGANIZER:Darja Govekar-Leban
RELATED-TO:fmf-AFLABS-URNIK:srecanje:7413
X-WR-TIMEZONE:Europe/Ljubljana
END:VEVENT
BEGIN:VEVENT
SUMMARY:REZ FM ()\, Vaje (V)
DTSTART;TZID=Europe/Ljubljana:20220526T080000
DTEND;TZID=Europe/Ljubljana:20220526T100000
DTSTAMP:20260423T041635Z
UID:fmf-AFLABS-URNIK:premaknjeno-srecanje:90388
CATEGORIES:Entry,Standard
COLOR:darkgreen
DESCRIPTION:Predmet: REZ FM ()\, Vaje (V)\nLetniki: \nIzvajalci: Darja Gov
 ekar-Leban\nProstor: P.01
LOCATION:P.01
ORGANIZER:Darja Govekar-Leban
RELATED-TO:fmf-AFLABS-URNIK:srecanje:7413
X-WR-TIMEZONE:Europe/Ljubljana
END:VEVENT
BEGIN:VEVENT
SUMMARY:Rezervacija
DTSTART;TZID=Europe/Ljubljana:20220217T120000
DTEND;TZID=Europe/Ljubljana:20220217T140000
DTSTAMP:20260423T041635Z
UID:fmf-AFLABS-URNIK:rezervacija:8601
CATEGORIES:Reservation
COLOR:royalblue
DESCRIPTION:Predmeti: \nLetniki: \nIzvajalci: Darja Govekar-Leban\nProstor
 i: F7
LOCATION:F7
ORGANIZER:Darja Govekar-Leban
X-WR-TIMEZONE:Europe/Ljubljana
END:VEVENT
BEGIN:VEVENT
SUMMARY:Rezervacija
DTSTART;TZID=Europe/Ljubljana:20220303T140000
DTEND;TZID=Europe/Ljubljana:20220303T160000
DTSTAMP:20260423T041635Z
UID:fmf-AFLABS-URNIK:rezervacija:8667
CATEGORIES:Reservation
COLOR:royalblue
DESCRIPTION:Predmeti: \nLetniki: \nIzvajalci: Darja Govekar-Leban\nProstor
 i: MFP
LOCATION:MFP
ORGANIZER:Darja Govekar-Leban
X-WR-TIMEZONE:Europe/Ljubljana
END:VEVENT
BEGIN:VEVENT
SUMMARY:Rezervacija
DTSTART;TZID=Europe/Ljubljana:20220316T080000
DTEND;TZID=Europe/Ljubljana:20220316T110000
DTSTAMP:20260423T041635Z
UID:fmf-AFLABS-URNIK:rezervacija:8722
CATEGORIES:Reservation
COLOR:royalblue
DESCRIPTION:Predmeti: \nLetniki: \nIzvajalci: Darja Govekar-Leban\nProstor
 i: P.01
LOCATION:P.01
ORGANIZER:Darja Govekar-Leban
X-WR-TIMEZONE:Europe/Ljubljana
END:VEVENT
BEGIN:VEVENT
SUMMARY:Rezervacija
DTSTART;TZID=Europe/Ljubljana:20220323T140000
DTEND;TZID=Europe/Ljubljana:20220323T150000
DTSTAMP:20260423T041635Z
UID:fmf-AFLABS-URNIK:rezervacija:8749
CATEGORIES:Reservation
COLOR:royalblue
DESCRIPTION:Predmeti: \nLetniki: \nIzvajalci: Darja Govekar-Leban\nProstor
 i: VFP
LOCATION:VFP
ORGANIZER:Darja Govekar-Leban
X-WR-TIMEZONE:Europe/Ljubljana
END:VEVENT
BEGIN:VEVENT
SUMMARY:Rezervacija
DTSTART;TZID=Europe/Ljubljana:20220331T140000
DTEND;TZID=Europe/Ljubljana:20220331T160000
DTSTAMP:20260423T041635Z
UID:fmf-AFLABS-URNIK:rezervacija:8792
CATEGORIES:Reservation
COLOR:royalblue
DESCRIPTION:Predmeti: \nLetniki: \nIzvajalci: Darja Govekar-Leban\nProstor
 i: MFP
LOCATION:MFP
ORGANIZER:Darja Govekar-Leban
X-WR-TIMEZONE:Europe/Ljubljana
END:VEVENT
BEGIN:VEVENT
SUMMARY:Rezervacija
DTSTART;TZID=Europe/Ljubljana:20220425T130000
DTEND;TZID=Europe/Ljubljana:20220425T150000
DTSTAMP:20260423T041635Z
UID:fmf-AFLABS-URNIK:rezervacija:8951
CATEGORIES:Reservation
COLOR:royalblue
DESCRIPTION:Predmeti: \nLetniki: \nIzvajalci: Darja Govekar-Leban\nProstor
 i: VFP
LOCATION:VFP
ORGANIZER:Darja Govekar-Leban
X-WR-TIMEZONE:Europe/Ljubljana
END:VEVENT
BEGIN:VEVENT
SUMMARY:Rezervacija
DTSTART;TZID=Europe/Ljubljana:20220505T140000
DTEND;TZID=Europe/Ljubljana:20220505T160000
DTSTAMP:20260423T041635Z
UID:fmf-AFLABS-URNIK:rezervacija:8972
CATEGORIES:Reservation
COLOR:royalblue
DESCRIPTION:Predmeti: \nLetniki: \nIzvajalci: Darja Govekar-Leban\nProstor
 i: MFP
LOCATION:MFP
ORGANIZER:Darja Govekar-Leban
X-WR-TIMEZONE:Europe/Ljubljana
END:VEVENT
BEGIN:VEVENT
SUMMARY:Rezervacija
DTSTART;TZID=Europe/Ljubljana:20220526T140000
DTEND;TZID=Europe/Ljubljana:20220526T160000
DTSTAMP:20260423T041635Z
UID:fmf-AFLABS-URNIK:rezervacija:9083
CATEGORIES:Reservation
COLOR:royalblue
DESCRIPTION:Predmeti: \nLetniki: \nIzvajalci: Darja Govekar-Leban\nProstor
 i: MFP
LOCATION:MFP
ORGANIZER:Darja Govekar-Leban
X-WR-TIMEZONE:Europe/Ljubljana
END:VEVENT
END:VCALENDAR
