BEGIN:VCALENDAR
VERSION:2.0
PRODID:-//AFLabs urnik izvoz - fmf//aflabs.si//SI
DTSTAMP:20260423T194220Z
NAME:UL FMF urnik
REFRESH-INTERVAL:PT1H
SOURCE:https://urnik.fmf.uni-lj.si/teacher/24?day=2022-10-31&export=1
URL:https://urnik.fmf.uni-lj.si/teacher/24?day=2022-10-31&export=1
X-PUBLISHED-TTL:PT1H
X-WR-CALNAME:UL FMF urnik
X-WR-TIMEZONE:Europe/Ljubljana
BEGIN:VTIMEZONE
TZID:Europe/Ljubljana
BEGIN:DAYLIGHT
DTSTART:20260329T020000
RDATE:20260329T020000
RDATE:20270328T020000
TZNAME:CEST
TZOFFSETFROM:+0100
TZOFFSETTO:+0200
END:DAYLIGHT
BEGIN:STANDARD
DTSTART:20261025T030000
RDATE:20261025T030000
RDATE:20271031T030000
TZNAME:CET
TZOFFSETFROM:+0200
TZOFFSETTO:+0100
END:STANDARD
END:VTIMEZONE
BEGIN:VEVENT
SUMMARY:KE ()\, Vaje (V)
DTSTART;TZID=Europe/Ljubljana:20221004T140000
DTEND;TZID=Europe/Ljubljana:20221004T160000
DTSTAMP:20260423T194220Z
UID:fmf-AFLABS-URNIK:premaknjeno-srecanje:46009
CATEGORIES:Entry,Standard
COLOR:darkgreen
DESCRIPTION:Predmet: KE ()\, Vaje (V)\nLetniki: \nIzvajalci: Darja Govekar
 -Leban\nProstor: FKKT
LOCATION:FKKT
ORGANIZER:Darja Govekar-Leban
RELATED-TO:fmf-AFLABS-URNIK:srecanje:7691
X-WR-TIMEZONE:Europe/Ljubljana
END:VEVENT
BEGIN:VEVENT
SUMMARY:KE ()\, Vaje (V)
DTSTART;TZID=Europe/Ljubljana:20221011T140000
DTEND;TZID=Europe/Ljubljana:20221011T160000
DTSTAMP:20260423T194220Z
UID:fmf-AFLABS-URNIK:premaknjeno-srecanje:46010
CATEGORIES:Entry,Standard
COLOR:darkgreen
DESCRIPTION:Predmet: KE ()\, Vaje (V)\nLetniki: \nIzvajalci: Darja Govekar
 -Leban\nProstor: FKKT
LOCATION:FKKT
ORGANIZER:Darja Govekar-Leban
RELATED-TO:fmf-AFLABS-URNIK:srecanje:7691
X-WR-TIMEZONE:Europe/Ljubljana
END:VEVENT
BEGIN:VEVENT
SUMMARY:KE ()\, Vaje (V)
DTSTART;TZID=Europe/Ljubljana:20221018T140000
DTEND;TZID=Europe/Ljubljana:20221018T160000
DTSTAMP:20260423T194220Z
UID:fmf-AFLABS-URNIK:premaknjeno-srecanje:46011
CATEGORIES:Entry,Standard
COLOR:darkgreen
DESCRIPTION:Predmet: KE ()\, Vaje (V)\nLetniki: \nIzvajalci: Darja Govekar
 -Leban\nProstor: FKKT
LOCATION:FKKT
ORGANIZER:Darja Govekar-Leban
RELATED-TO:fmf-AFLABS-URNIK:srecanje:7691
X-WR-TIMEZONE:Europe/Ljubljana
END:VEVENT
BEGIN:VEVENT
SUMMARY:KE ()\, Vaje (V)
DTSTART;TZID=Europe/Ljubljana:20221025T140000
DTEND;TZID=Europe/Ljubljana:20221025T160000
DTSTAMP:20260423T194220Z
UID:fmf-AFLABS-URNIK:premaknjeno-srecanje:46012
CATEGORIES:Entry,Standard
COLOR:darkgreen
DESCRIPTION:Predmet: KE ()\, Vaje (V)\nLetniki: \nIzvajalci: Darja Govekar
 -Leban\nProstor: FKKT
LOCATION:FKKT
ORGANIZER:Darja Govekar-Leban
RELATED-TO:fmf-AFLABS-URNIK:srecanje:7691
X-WR-TIMEZONE:Europe/Ljubljana
END:VEVENT
BEGIN:VEVENT
SUMMARY:KE ()\, Vaje (V)
DTSTART;TZID=Europe/Ljubljana:20221101T140000
DTEND;TZID=Europe/Ljubljana:20221101T160000
DTSTAMP:20260423T194220Z
UID:fmf-AFLABS-URNIK:premaknjeno-srecanje:46013
CATEGORIES:Entry,Standard
COLOR:darkgreen
DESCRIPTION:Predmet: KE ()\, Vaje (V)\nLetniki: \nIzvajalci: Darja Govekar
 -Leban\nProstor: FKKT
LOCATION:FKKT
ORGANIZER:Darja Govekar-Leban
RELATED-TO:fmf-AFLABS-URNIK:srecanje:7691
X-WR-TIMEZONE:Europe/Ljubljana
END:VEVENT
BEGIN:VEVENT
SUMMARY:KE ()\, Vaje (V)
DTSTART;TZID=Europe/Ljubljana:20221108T140000
DTEND;TZID=Europe/Ljubljana:20221108T160000
DTSTAMP:20260423T194220Z
UID:fmf-AFLABS-URNIK:premaknjeno-srecanje:46014
CATEGORIES:Entry,Standard
COLOR:darkgreen
DESCRIPTION:Predmet: KE ()\, Vaje (V)\nLetniki: \nIzvajalci: Darja Govekar
 -Leban\nProstor: FKKT
LOCATION:FKKT
ORGANIZER:Darja Govekar-Leban
RELATED-TO:fmf-AFLABS-URNIK:srecanje:7691
X-WR-TIMEZONE:Europe/Ljubljana
END:VEVENT
BEGIN:VEVENT
SUMMARY:KE ()\, Vaje (V)
DTSTART;TZID=Europe/Ljubljana:20221115T140000
DTEND;TZID=Europe/Ljubljana:20221115T160000
DTSTAMP:20260423T194220Z
UID:fmf-AFLABS-URNIK:premaknjeno-srecanje:46015
CATEGORIES:Entry,Standard
COLOR:darkgreen
DESCRIPTION:Predmet: KE ()\, Vaje (V)\nLetniki: \nIzvajalci: Darja Govekar
 -Leban\nProstor: FKKT
LOCATION:FKKT
ORGANIZER:Darja Govekar-Leban
RELATED-TO:fmf-AFLABS-URNIK:srecanje:7691
X-WR-TIMEZONE:Europe/Ljubljana
END:VEVENT
BEGIN:VEVENT
SUMMARY:KE ()\, Vaje (V)
DTSTART;TZID=Europe/Ljubljana:20221122T140000
DTEND;TZID=Europe/Ljubljana:20221122T160000
DTSTAMP:20260423T194220Z
UID:fmf-AFLABS-URNIK:premaknjeno-srecanje:46016
CATEGORIES:Entry,Standard
COLOR:darkgreen
DESCRIPTION:Predmet: KE ()\, Vaje (V)\nLetniki: \nIzvajalci: Darja Govekar
 -Leban\nProstor: FKKT
LOCATION:FKKT
ORGANIZER:Darja Govekar-Leban
RELATED-TO:fmf-AFLABS-URNIK:srecanje:7691
X-WR-TIMEZONE:Europe/Ljubljana
END:VEVENT
BEGIN:VEVENT
SUMMARY:KE ()\, Vaje (V)
DTSTART;TZID=Europe/Ljubljana:20221129T140000
DTEND;TZID=Europe/Ljubljana:20221129T160000
DTSTAMP:20260423T194220Z
UID:fmf-AFLABS-URNIK:premaknjeno-srecanje:46017
CATEGORIES:Entry,Standard
COLOR:darkgreen
DESCRIPTION:Predmet: KE ()\, Vaje (V)\nLetniki: \nIzvajalci: Darja Govekar
 -Leban\nProstor: FKKT
LOCATION:FKKT
ORGANIZER:Darja Govekar-Leban
RELATED-TO:fmf-AFLABS-URNIK:srecanje:7691
X-WR-TIMEZONE:Europe/Ljubljana
END:VEVENT
BEGIN:VEVENT
SUMMARY:KE ()\, Vaje (V)
DTSTART;TZID=Europe/Ljubljana:20221206T140000
DTEND;TZID=Europe/Ljubljana:20221206T160000
DTSTAMP:20260423T194220Z
UID:fmf-AFLABS-URNIK:premaknjeno-srecanje:46018
CATEGORIES:Entry,Standard
COLOR:darkgreen
DESCRIPTION:Predmet: KE ()\, Vaje (V)\nLetniki: \nIzvajalci: Darja Govekar
 -Leban\nProstor: FKKT
LOCATION:FKKT
ORGANIZER:Darja Govekar-Leban
RELATED-TO:fmf-AFLABS-URNIK:srecanje:7691
X-WR-TIMEZONE:Europe/Ljubljana
END:VEVENT
BEGIN:VEVENT
SUMMARY:KE ()\, Vaje (V)
DTSTART;TZID=Europe/Ljubljana:20221213T140000
DTEND;TZID=Europe/Ljubljana:20221213T160000
DTSTAMP:20260423T194220Z
UID:fmf-AFLABS-URNIK:premaknjeno-srecanje:46019
CATEGORIES:Entry,Standard
COLOR:darkgreen
DESCRIPTION:Predmet: KE ()\, Vaje (V)\nLetniki: \nIzvajalci: Darja Govekar
 -Leban\nProstor: FKKT
LOCATION:FKKT
ORGANIZER:Darja Govekar-Leban
RELATED-TO:fmf-AFLABS-URNIK:srecanje:7691
X-WR-TIMEZONE:Europe/Ljubljana
END:VEVENT
BEGIN:VEVENT
SUMMARY:KE ()\, Vaje (V)
DTSTART;TZID=Europe/Ljubljana:20221220T140000
DTEND;TZID=Europe/Ljubljana:20221220T160000
DTSTAMP:20260423T194220Z
UID:fmf-AFLABS-URNIK:premaknjeno-srecanje:46020
CATEGORIES:Entry,Standard
COLOR:darkgreen
DESCRIPTION:Predmet: KE ()\, Vaje (V)\nLetniki: \nIzvajalci: Darja Govekar
 -Leban\nProstor: FKKT
LOCATION:FKKT
ORGANIZER:Darja Govekar-Leban
RELATED-TO:fmf-AFLABS-URNIK:srecanje:7691
X-WR-TIMEZONE:Europe/Ljubljana
END:VEVENT
BEGIN:VEVENT
SUMMARY:KE ()\, Vaje (V)
DTSTART;TZID=Europe/Ljubljana:20221227T140000
DTEND;TZID=Europe/Ljubljana:20221227T160000
DTSTAMP:20260423T194220Z
UID:fmf-AFLABS-URNIK:premaknjeno-srecanje:46021
CATEGORIES:Entry,Standard
COLOR:darkgreen
DESCRIPTION:Predmet: KE ()\, Vaje (V)\nLetniki: \nIzvajalci: Darja Govekar
 -Leban\nProstor: FKKT
LOCATION:FKKT
ORGANIZER:Darja Govekar-Leban
RELATED-TO:fmf-AFLABS-URNIK:srecanje:7691
X-WR-TIMEZONE:Europe/Ljubljana
END:VEVENT
BEGIN:VEVENT
SUMMARY:KE ()\, Vaje (V)
DTSTART;TZID=Europe/Ljubljana:20230103T140000
DTEND;TZID=Europe/Ljubljana:20230103T160000
DTSTAMP:20260423T194220Z
UID:fmf-AFLABS-URNIK:premaknjeno-srecanje:46022
CATEGORIES:Entry,Standard
COLOR:darkgreen
DESCRIPTION:Predmet: KE ()\, Vaje (V)\nLetniki: \nIzvajalci: Darja Govekar
 -Leban\nProstor: FKKT
LOCATION:FKKT
ORGANIZER:Darja Govekar-Leban
RELATED-TO:fmf-AFLABS-URNIK:srecanje:7691
X-WR-TIMEZONE:Europe/Ljubljana
END:VEVENT
BEGIN:VEVENT
SUMMARY:KE ()\, Vaje (V)
DTSTART;TZID=Europe/Ljubljana:20230110T140000
DTEND;TZID=Europe/Ljubljana:20230110T160000
DTSTAMP:20260423T194220Z
UID:fmf-AFLABS-URNIK:premaknjeno-srecanje:46023
CATEGORIES:Entry,Standard
COLOR:darkgreen
DESCRIPTION:Predmet: KE ()\, Vaje (V)\nLetniki: \nIzvajalci: Darja Govekar
 -Leban\nProstor: FKKT
LOCATION:FKKT
ORGANIZER:Darja Govekar-Leban
RELATED-TO:fmf-AFLABS-URNIK:srecanje:7691
X-WR-TIMEZONE:Europe/Ljubljana
END:VEVENT
BEGIN:VEVENT
SUMMARY:MAT (FKKT) ()\, Vaje (V)
DTSTART;TZID=Europe/Ljubljana:20221004T090000
DTEND;TZID=Europe/Ljubljana:20221004T110000
DTSTAMP:20260423T194220Z
UID:fmf-AFLABS-URNIK:premaknjeno-srecanje:58471
CATEGORIES:Entry,Standard
COLOR:darkgreen
DESCRIPTION:Predmet: MAT (FKKT) ()\, Vaje (V)\nLetniki: \nIzvajalci: Darja
  Govekar-Leban\nProstor: FKKT
LOCATION:FKKT
ORGANIZER:Darja Govekar-Leban
RELATED-TO:fmf-AFLABS-URNIK:srecanje:7750
X-WR-TIMEZONE:Europe/Ljubljana
END:VEVENT
BEGIN:VEVENT
SUMMARY:MAT (FKKT) ()\, Vaje (V)
DTSTART;TZID=Europe/Ljubljana:20221011T090000
DTEND;TZID=Europe/Ljubljana:20221011T110000
DTSTAMP:20260423T194220Z
UID:fmf-AFLABS-URNIK:premaknjeno-srecanje:58472
CATEGORIES:Entry,Standard
COLOR:darkgreen
DESCRIPTION:Predmet: MAT (FKKT) ()\, Vaje (V)\nLetniki: \nIzvajalci: Darja
  Govekar-Leban\nProstor: FKKT
LOCATION:FKKT
ORGANIZER:Darja Govekar-Leban
RELATED-TO:fmf-AFLABS-URNIK:srecanje:7750
X-WR-TIMEZONE:Europe/Ljubljana
END:VEVENT
BEGIN:VEVENT
SUMMARY:MAT (FKKT) ()\, Vaje (V)
DTSTART;TZID=Europe/Ljubljana:20221018T090000
DTEND;TZID=Europe/Ljubljana:20221018T110000
DTSTAMP:20260423T194220Z
UID:fmf-AFLABS-URNIK:premaknjeno-srecanje:58473
CATEGORIES:Entry,Standard
COLOR:darkgreen
DESCRIPTION:Predmet: MAT (FKKT) ()\, Vaje (V)\nLetniki: \nIzvajalci: Darja
  Govekar-Leban\nProstor: FKKT
LOCATION:FKKT
ORGANIZER:Darja Govekar-Leban
RELATED-TO:fmf-AFLABS-URNIK:srecanje:7750
X-WR-TIMEZONE:Europe/Ljubljana
END:VEVENT
BEGIN:VEVENT
SUMMARY:MAT (FKKT) ()\, Vaje (V)
DTSTART;TZID=Europe/Ljubljana:20221025T090000
DTEND;TZID=Europe/Ljubljana:20221025T110000
DTSTAMP:20260423T194220Z
UID:fmf-AFLABS-URNIK:premaknjeno-srecanje:58474
CATEGORIES:Entry,Standard
COLOR:darkgreen
DESCRIPTION:Predmet: MAT (FKKT) ()\, Vaje (V)\nLetniki: \nIzvajalci: Darja
  Govekar-Leban\nProstor: FKKT
LOCATION:FKKT
ORGANIZER:Darja Govekar-Leban
RELATED-TO:fmf-AFLABS-URNIK:srecanje:7750
X-WR-TIMEZONE:Europe/Ljubljana
END:VEVENT
BEGIN:VEVENT
SUMMARY:MAT (FKKT) ()\, Vaje (V)
DTSTART;TZID=Europe/Ljubljana:20221101T090000
DTEND;TZID=Europe/Ljubljana:20221101T110000
DTSTAMP:20260423T194220Z
UID:fmf-AFLABS-URNIK:premaknjeno-srecanje:58475
CATEGORIES:Entry,Standard
COLOR:darkgreen
DESCRIPTION:Predmet: MAT (FKKT) ()\, Vaje (V)\nLetniki: \nIzvajalci: Darja
  Govekar-Leban\nProstor: FKKT
LOCATION:FKKT
ORGANIZER:Darja Govekar-Leban
RELATED-TO:fmf-AFLABS-URNIK:srecanje:7750
X-WR-TIMEZONE:Europe/Ljubljana
END:VEVENT
BEGIN:VEVENT
SUMMARY:MAT (FKKT) ()\, Vaje (V)
DTSTART;TZID=Europe/Ljubljana:20221108T090000
DTEND;TZID=Europe/Ljubljana:20221108T110000
DTSTAMP:20260423T194220Z
UID:fmf-AFLABS-URNIK:premaknjeno-srecanje:58476
CATEGORIES:Entry,Standard
COLOR:darkgreen
DESCRIPTION:Predmet: MAT (FKKT) ()\, Vaje (V)\nLetniki: \nIzvajalci: Darja
  Govekar-Leban\nProstor: FKKT
LOCATION:FKKT
ORGANIZER:Darja Govekar-Leban
RELATED-TO:fmf-AFLABS-URNIK:srecanje:7750
X-WR-TIMEZONE:Europe/Ljubljana
END:VEVENT
BEGIN:VEVENT
SUMMARY:MAT (FKKT) ()\, Vaje (V)
DTSTART;TZID=Europe/Ljubljana:20221115T090000
DTEND;TZID=Europe/Ljubljana:20221115T110000
DTSTAMP:20260423T194220Z
UID:fmf-AFLABS-URNIK:premaknjeno-srecanje:58477
CATEGORIES:Entry,Standard
COLOR:darkgreen
DESCRIPTION:Predmet: MAT (FKKT) ()\, Vaje (V)\nLetniki: \nIzvajalci: Darja
  Govekar-Leban\nProstor: FKKT
LOCATION:FKKT
ORGANIZER:Darja Govekar-Leban
RELATED-TO:fmf-AFLABS-URNIK:srecanje:7750
X-WR-TIMEZONE:Europe/Ljubljana
END:VEVENT
BEGIN:VEVENT
SUMMARY:MAT (FKKT) ()\, Vaje (V)
DTSTART;TZID=Europe/Ljubljana:20221122T090000
DTEND;TZID=Europe/Ljubljana:20221122T110000
DTSTAMP:20260423T194220Z
UID:fmf-AFLABS-URNIK:premaknjeno-srecanje:58478
CATEGORIES:Entry,Standard
COLOR:darkgreen
DESCRIPTION:Predmet: MAT (FKKT) ()\, Vaje (V)\nLetniki: \nIzvajalci: Darja
  Govekar-Leban\nProstor: FKKT
LOCATION:FKKT
ORGANIZER:Darja Govekar-Leban
RELATED-TO:fmf-AFLABS-URNIK:srecanje:7750
X-WR-TIMEZONE:Europe/Ljubljana
END:VEVENT
BEGIN:VEVENT
SUMMARY:MAT (FKKT) ()\, Vaje (V)
DTSTART;TZID=Europe/Ljubljana:20221129T090000
DTEND;TZID=Europe/Ljubljana:20221129T110000
DTSTAMP:20260423T194220Z
UID:fmf-AFLABS-URNIK:premaknjeno-srecanje:58479
CATEGORIES:Entry,Standard
COLOR:darkgreen
DESCRIPTION:Predmet: MAT (FKKT) ()\, Vaje (V)\nLetniki: \nIzvajalci: Darja
  Govekar-Leban\nProstor: FKKT
LOCATION:FKKT
ORGANIZER:Darja Govekar-Leban
RELATED-TO:fmf-AFLABS-URNIK:srecanje:7750
X-WR-TIMEZONE:Europe/Ljubljana
END:VEVENT
BEGIN:VEVENT
SUMMARY:MAT (FKKT) ()\, Vaje (V)
DTSTART;TZID=Europe/Ljubljana:20221206T090000
DTEND;TZID=Europe/Ljubljana:20221206T110000
DTSTAMP:20260423T194220Z
UID:fmf-AFLABS-URNIK:premaknjeno-srecanje:58480
CATEGORIES:Entry,Standard
COLOR:darkgreen
DESCRIPTION:Predmet: MAT (FKKT) ()\, Vaje (V)\nLetniki: \nIzvajalci: Darja
  Govekar-Leban\nProstor: FKKT
LOCATION:FKKT
ORGANIZER:Darja Govekar-Leban
RELATED-TO:fmf-AFLABS-URNIK:srecanje:7750
X-WR-TIMEZONE:Europe/Ljubljana
END:VEVENT
BEGIN:VEVENT
SUMMARY:MAT (FKKT) ()\, Vaje (V)
DTSTART;TZID=Europe/Ljubljana:20221213T090000
DTEND;TZID=Europe/Ljubljana:20221213T110000
DTSTAMP:20260423T194220Z
UID:fmf-AFLABS-URNIK:premaknjeno-srecanje:58481
CATEGORIES:Entry,Standard
COLOR:darkgreen
DESCRIPTION:Predmet: MAT (FKKT) ()\, Vaje (V)\nLetniki: \nIzvajalci: Darja
  Govekar-Leban\nProstor: FKKT
LOCATION:FKKT
ORGANIZER:Darja Govekar-Leban
RELATED-TO:fmf-AFLABS-URNIK:srecanje:7750
X-WR-TIMEZONE:Europe/Ljubljana
END:VEVENT
BEGIN:VEVENT
SUMMARY:MAT (FKKT) ()\, Vaje (V)
DTSTART;TZID=Europe/Ljubljana:20221220T090000
DTEND;TZID=Europe/Ljubljana:20221220T110000
DTSTAMP:20260423T194220Z
UID:fmf-AFLABS-URNIK:premaknjeno-srecanje:58482
CATEGORIES:Entry,Standard
COLOR:darkgreen
DESCRIPTION:Predmet: MAT (FKKT) ()\, Vaje (V)\nLetniki: \nIzvajalci: Darja
  Govekar-Leban\nProstor: FKKT
LOCATION:FKKT
ORGANIZER:Darja Govekar-Leban
RELATED-TO:fmf-AFLABS-URNIK:srecanje:7750
X-WR-TIMEZONE:Europe/Ljubljana
END:VEVENT
BEGIN:VEVENT
SUMMARY:MAT (FKKT) ()\, Vaje (V)
DTSTART;TZID=Europe/Ljubljana:20221227T090000
DTEND;TZID=Europe/Ljubljana:20221227T110000
DTSTAMP:20260423T194220Z
UID:fmf-AFLABS-URNIK:premaknjeno-srecanje:58483
CATEGORIES:Entry,Standard
COLOR:darkgreen
DESCRIPTION:Predmet: MAT (FKKT) ()\, Vaje (V)\nLetniki: \nIzvajalci: Darja
  Govekar-Leban\nProstor: FKKT
LOCATION:FKKT
ORGANIZER:Darja Govekar-Leban
RELATED-TO:fmf-AFLABS-URNIK:srecanje:7750
X-WR-TIMEZONE:Europe/Ljubljana
END:VEVENT
BEGIN:VEVENT
SUMMARY:MAT (FKKT) ()\, Vaje (V)
DTSTART;TZID=Europe/Ljubljana:20230103T090000
DTEND;TZID=Europe/Ljubljana:20230103T110000
DTSTAMP:20260423T194220Z
UID:fmf-AFLABS-URNIK:premaknjeno-srecanje:58484
CATEGORIES:Entry,Standard
COLOR:darkgreen
DESCRIPTION:Predmet: MAT (FKKT) ()\, Vaje (V)\nLetniki: \nIzvajalci: Darja
  Govekar-Leban\nProstor: FKKT
LOCATION:FKKT
ORGANIZER:Darja Govekar-Leban
RELATED-TO:fmf-AFLABS-URNIK:srecanje:7750
X-WR-TIMEZONE:Europe/Ljubljana
END:VEVENT
BEGIN:VEVENT
SUMMARY:MAT (FKKT) ()\, Vaje (V)
DTSTART;TZID=Europe/Ljubljana:20230110T090000
DTEND;TZID=Europe/Ljubljana:20230110T110000
DTSTAMP:20260423T194220Z
UID:fmf-AFLABS-URNIK:premaknjeno-srecanje:58485
CATEGORIES:Entry,Standard
COLOR:darkgreen
DESCRIPTION:Predmet: MAT (FKKT) ()\, Vaje (V)\nLetniki: \nIzvajalci: Darja
  Govekar-Leban\nProstor: FKKT
LOCATION:FKKT
ORGANIZER:Darja Govekar-Leban
RELATED-TO:fmf-AFLABS-URNIK:srecanje:7750
X-WR-TIMEZONE:Europe/Ljubljana
END:VEVENT
BEGIN:VEVENT
SUMMARY:Rezervacija
DTSTART;TZID=Europe/Ljubljana:20221121T100000
DTEND;TZID=Europe/Ljubljana:20221121T120000
DTSTAMP:20260423T194220Z
UID:fmf-AFLABS-URNIK:rezervacija:10521
CATEGORIES:Reservation
COLOR:royalblue
DESCRIPTION:Predmeti: \nLetniki: \nIzvajalci: Darja Govekar-Leban\nProstor
 i: F7
LOCATION:F7
ORGANIZER:Darja Govekar-Leban
X-WR-TIMEZONE:Europe/Ljubljana
END:VEVENT
BEGIN:VEVENT
SUMMARY:Rezervacija
DTSTART;TZID=Europe/Ljubljana:20221125T160000
DTEND;TZID=Europe/Ljubljana:20221125T180000
DTSTAMP:20260423T194220Z
UID:fmf-AFLABS-URNIK:rezervacija:10565
CATEGORIES:Reservation
COLOR:royalblue
DESCRIPTION:Predmeti: \nLetniki: \nIzvajalci: Darja Govekar-Leban\nProstor
 i: 2.02
LOCATION:2.02
ORGANIZER:Darja Govekar-Leban
X-WR-TIMEZONE:Europe/Ljubljana
END:VEVENT
BEGIN:VEVENT
SUMMARY:Rezervacija
DTSTART;TZID=Europe/Ljubljana:20230109T100000
DTEND;TZID=Europe/Ljubljana:20230109T120000
DTSTAMP:20260423T194220Z
UID:fmf-AFLABS-URNIK:rezervacija:10782
CATEGORIES:Reservation
COLOR:royalblue
DESCRIPTION:Predmeti: \nLetniki: \nIzvajalci: Darja Govekar-Leban\nProstor
 i: F7
LOCATION:F7
ORGANIZER:Darja Govekar-Leban
X-WR-TIMEZONE:Europe/Ljubljana
END:VEVENT
END:VCALENDAR
